{"text_format":"1","workbook":"xlsx","n_sheets":19,"sheets":["Overview","Flight Items","Consortium","MPP","ADV","Contact","FlightItem","ESA_fills","TableConsortium","TableMilestones","TableBreakdown","TableAdvance","rawdata","options","references","ESADirectory","ESAcst","InCubedMembers","template"],"not_rendered":{"charts":0,"images":5,"macros":1,"external_links":0,"defined_names":8,"comments":0,"pivot_tables":0},"unopened":[],"bounds":{"document_bytes":16777216,"sheet_cells":100000,"rows_first":2000,"rows_last":500,"rows_between":2000,"halvings":0,"cell_chars":16384,"cell_head_chars":4096},"cells_cut":0,"cells_raw":0,"read":"whole","date_system":"1900"}

{"sheet":"Overview","index":0,"n_rows":38,"n_cols":9,"rows_kept":38,"cut":false,"hidden":false,"merged":[]}
["GENERAL",null,"FILL IN THE CELLS WITH THE LIGHT BLUE BACKGROUND"]
["ActivityName","Our Awesome Project",null,null,null,null,"The buttons below are to be used by the bidder "]
["Total Price in Euro",{"$f":"IF(B7=2,SUM(Consortium!F3:F14)+SUM(Consortium!N3:N15),SUM(Consortium!F3:F14))","v":1315000},"Sum of Consortium Price - fill Consortium sheet"]
["Total Cost in Euro",{"$f":"IF(B7=2,SUM(Consortium!E3:E15)+SUM(Consortium!M3:M15),SUM(Consortium!E3:E15))","v":2430000},"Sum of Consortium Cost - fill Consortium sheet"]
["Prime Name",{"$f":"Consortium!B3","v":"Our company"},"From Consortium sheet"]
["Prime Country",{"$f":"Consortium!C3","v":"IT"},"From Consortium sheet"]
["Number of Phases",2,"If contract is not phased enter 1. Maximum 2 phases with this tool."]
["Number of Subcos in Phase 1",1,"Maximum 11 subcos with this tool"]
["Number of Subcos in Phase 2",1,"Maximum 11 subcos with this tool"]
[{"$f":"IF(B7=1,\"Number of Milestones\",\"Number of Milestones in Phase 1\")","v":"Number of Milestones in Phase 1"},1,"Maximum 8 milestones with this tool, maximum two milestones per year."]
[{"$f":"IF(B7=2,\"Number of Milestones in Phase 2\",\"\")","v":"Number of Milestones in Phase 2"},1,"Maximum 8 milestones with this tool, maximum two milestones per year."]
[{"$f":"IF(B7=1,\"Advance Foreseen\", \"Advance Foreseen in Phase 1\")","v":"Advance Foreseen in Phase 1"},{"$f":"IF(COUNTIF(Consortium!G3:G14,\"Yes\")>0,\"Yes\",\"No\")","v":"Yes"},"From Consortium sheet",null,null,null,"ALWAYS CLEAR THE EXAMPLE BEFORE"]
[{"$f":"IF(B7=2, \"Advance Foreseen in Phase 2\",\"\")","v":"Advance Foreseen in Phase 2"},{"$f":"IF(COUNTIF(Consortium!O3:O14,\"Yes\")>0,\"Yes\",\"No\")","v":"Yes"},"From Consortium sheet",null,null,null,"FILLING IN THE DATA!!"]
["Expected Contract Signature","2022-05-15","Use format dd/mm/yyyy. It should be later than today"]
["Final Delivery Date",{"$f":"B16 - 7*references!$C$46","v":"2023-12-18"},"4 weeks before final milestone - fill milestone sheet",null,null,null,"MAKE SURE NO WORD DOCUMENT IS OPEN "]
["End of Contract",{"$f":"IF(B7=1,MAX(MPP!C5:C12),MAX(MPP!C17:C24))","v":"2024-01-15"},"Latest milestone in the MPP - fill MPP sheet",null,null,null,"BEFORE CLICKING FILL CONTRACT!!"]
["Covid Pandemic On-Going","no","please check if conditions are still applicable","here"]
["Agree to use digital signatures","yes"]
[]
["PHASE(S)",null,"Date of achievement must consistent with last milestone of Phase 1"]
["Intermediate Phase","date of achievement","Draft report to be submitted 4 weeks before","deadline report",-4,"in weeks"]
[1,{"$f":"MAX(MPP!C5:C12)","v":"2022-09-30"},"In case of phased contract, this is last milestone of Phase 1",{"$f":" IF(B7>1,\"The draft Phase 1 Report, shall be submitted by email in electronic searchable, indexed and not encrypted PDF and original (WORD)\" & \"format for approval, to the Agency’s Technical Officer specified in Article 5, Clause 5, Sub-Clause 5.1 a) of the Contract, not later than \" & TEXT(B22 - 7*references!$C$46, \"dd mmmm yyyy\"),\"\")","v":"The draft Phase 1 Report, shall be submitted by email in electronic searchable, indexed and not encrypted PDF and original (WORD)format for approval, to the Agency’s Technical Officer specified in Article 5, Clause 5, Sub-Clause 5.1 a) of the Contract, not later than 02 September 2022"}]
[2,null,null,{"$f":" IF(B7>2,\"The draft Phase 2 Report, shall be submitted by email in electronic searchable, indexed and not encrypted PDF and original (WORD)\" & \"format for approval, to the Agency’s Technical Officer specified in Article 5, Clause 5, Sub-Clause 5.1 a) of the Contract, not later than \" & TEXT(B23 - 7*references!$C$46, \"dd mmmm yyyy\"),\"\")","v":""},null,null,"The buttons below are only to be used by ESA "]
[null,null,null,null,null,null,"They require a password"]
["Is Software Development Foreseen?","no"]
["Is Hardware Development Foreseen?","no"]
[]
["BACKGROUND INTELLECTUAL PROPERTY RIGHTS"]
["how many BIPR items ?",1,"maximum 4 items"]
[null,{"$f":" IF(B32<>\"\", B32 & IF(B33<>\"\", CHAR(10) & B33 & IF( B34<>\"\", CHAR(10) &B34 & IF(B35<>\"\", CHAR(10) &B35, \"\"),\"\"),\"\"),\"\")","v":"My Software"}]
["List them below :"]
[1,"My Software"]
[2]
[3]
[4,null,null,null,null,null,"how to download the directory ?"]
[null,null,null,null,null,null,"1. go here : ",null,"http://directory.sso.esa.int/"]
[null,null,null,null,null,null,"2. click on login : "]
[null,null,null,null,null,null,"3. click on export :"]

{"sheet":"Flight Items","index":1,"n_rows":11,"n_cols":5,"rows_kept":11,"cut":false,"hidden":true,"merged":[]}
["Are there any flight items foreseen ?",null,{"$f":" \"as defined in \"& ESAcst!C4","v":"as defined in Part III Chapter 9.4"}]
[null,"no"]
[]
["How many ?",2,"maximum 4 in this tool"]
[]
[]
["Item name","delivery date","alternative delivery + X months",null,"name of item is name of flight item/payload/spacecraft"]
[null,null,null,1,"delivery date is the date at which the item shall be delivered to the launch authority "]
[null,null,null,2,"alternative deadline : date of the deadline for proposing an alternative launch in case the first choice is not available"]
[null,null,null,3]
[null,null,null,4]

{"sheet":"Consortium","index":2,"n_rows":15,"n_cols":15,"rows_kept":15,"cut":false,"hidden":false,"merged":[]}
["# of Subcos","Phase 1",null,null,null,null,null,null,"# of Subcos","Phase 2"]
[{"$f":"Overview!B8","v":1},"Entity","Country\n(ISO Code)","Role","Cost in Euro","Price in Euro","Advance Requested",null,{"$f":"Overview!B9","v":1},"Entity","Country\n(ISO Code)","Role","Cost in Euro","Price in Euro","Advance Requested"]
[null,"Our company","IT","Prime",1000000,500000,"Yes",null,null,"Our company","IT","Prime",1000000,600000,"Yes"]
[1,"Subco 1","AT","Subco",50000,25000,"Yes",null,1,"Subco 1","AT","Subco",200000,100000,"No"]
[2,null,null,null,null,null,null,null,2,"Subco 2","DE","Subco",180000,90000,"No"]
[3,null,null,null,null,null,null,null,3,null,null,null,null,null,"No"]
[4,null,null,null,null,null,null,null,4,null,null,null,null,null,"No"]
[5,null,null,null,null,null,null,null,5,null,null,null,null,null,"No"]
[6,null,null,null,null,null,null,null,6,null,null,null,null,null,"No"]
[7,null,null,null,null,null,null,null,7,null,null,null,null,null,"No"]
[8,null,null,null,null,null,null,null,8,null,null,null,null,null,"No"]
[9,null,null,null,null,null,null,null,9,null,null,null,null,null,"No"]
[10,null,null,null,null,null,null,null,10,null,null,null,null,null,"No"]
[11,null,null,null,null,null,null,null,11,null,null,null,null,null,"No"]
[12,null,null,null,null,null,null,null,12]

{"sheet":"MPP","index":3,"n_rows":51,"n_cols":19,"rows_kept":51,"cut":false,"hidden":false,"merged":[]}
[null,null,"Total Phase 1 =",{"$f":"SUM(Consortium!F3:F14)","v":525000},null,null,null,null,null,null,null,null,null,null,null,null,null,"Total Phase 2 =",{"$f":"SUM(Consortium!N3:N14)","v":790000}]
[null,"Phase 1 - Milestone Payment Plan",null,null,null,"Scroll down to fill Prime/Subcos Payments Breakdown tables!"]
["# of Milestones"]
[{"$f":"Overview!B10","v":1},"Milestone Description","Schedule Date","Amount in EUR","Country \n(ISO Code)"]
[1,"Milestone Description","2022-06-16",225000,"IT"]
[2,"Milestone Description","2022-09-30",300000,"IT"]
[3]
[4]
[5]
[6]
[7]
[8]
[9,null,null,{"$f":"IF(A13>$A$4,0,$D$1/$A$4)","v":0}]
[null,"Phase 2 - Milestone Payment Plan"]
["# of Milestones"]
[{"$f":"Overview!B11","v":1},"Milestone Description","Schedule Date","Amount in EUR","Country \n(ISO Code)"]
[1,"Milestone Description","2022-10-30",200000,"IT"]
[2,"Milestone Description","2023-01-30",200000,"IT"]
[3,"Milestone Description","2023-06-15",150000,"IT"]
[4,"Milestone Description","2023-10-15",200000,"IT"]
[5,"Milestone Description","2024-01-15",40000,"IT"]
[6]
[7]
[8]
[9,null,null,{"$f":"IF(A25>$A$16,0,$S$1/$A$16)","v":0}]
[]
[null,"Phase 1 - Breakdown of Payments"]
[null,null,{"$f":"Overview!B8","v":1},1,2,3,4,5,6,7,8,9,10,11]
[null,"Milestone",{"$f":"Consortium!B3&CHAR(10)& \"(\"&Consortium!C3&\")\"","v":"Our company\n(IT)"},{"$f":"Consortium!B4&CHAR(10)& \"(\"&Consortium!C4&\")\"","v":"Subco 1\n(AT)"},{"$f":"Consortium!B5&CHAR(10)& \"(\"&Consortium!C5&\")\"","v":"\n()"},{"$f":"Consortium!B6&CHAR(10)& \"(\"&Consortium!C6&\")\"","v":"\n()"},{"$f":"Consortium!B7&CHAR(10)& \"(\"&Consortium!C7&\")\"","v":"\n()"},{"$f":"Consortium!B8&CHAR(10)& \"(\"&Consortium!C8&\")\"","v":"\n()"},{"$f":"Consortium!B9&CHAR(10)& \"(\"&Consortium!C9&\")\"","v":"\n()"},{"$f":"Consortium!B10&CHAR(10)& \"(\"&Consortium!C10&\")\"","v":"\n()"},{"$f":"Consortium!B11&CHAR(10)& \"(\"&Consortium!C11&\")\"","v":"\n()"},{"$f":"Consortium!B12&CHAR(10)& \"(\"&Consortium!C12&\")\"","v":"\n()"},{"$f":"Consortium!B13&CHAR(10)& \"(\"&Consortium!C13&\")\"","v":"\n()"},{"$f":"Consortium!B14&CHAR(10)& \"(\"&Consortium!C14&\")\"","v":"\n()"}]
[1,"Milestone Description",210000,15000]
[2,"Milestone Description",290000,10000]
[3]
[4]
[5]
[6]
[7]
[8]
[9]
[]
[null,"Phase 2 - Breakdown of Payments"]
[null,null,{"$f":"Overview!B9","v":1},{"$f":"D28","v":1},2,3,4,5,6,7,8,9,10,11]
[null,{"$f":"B29","v":"Milestone"},{"$f":"Consortium!J3&CHAR(10)&\"(\"&Consortium!K3&\")\"","v":"Our company\n(IT)"},{"$f":"Consortium!J4&CHAR(10)&\"(\"&Consortium!K4&\")\"","v":"Subco 1\n(AT)"},{"$f":"Consortium!J5&CHAR(10)&\"(\"&Consortium!K5&\")\"","v":"Subco 2\n(DE)"},{"$f":"Consortium!J6&CHAR(10)&\"(\"&Consortium!K6&\")\"","v":"\n()"},{"$f":"Consortium!J7&CHAR(10)&\"(\"&Consortium!K7&\")\"","v":"\n()"},{"$f":"Consortium!J8&CHAR(10)&\"(\"&Consortium!K8&\")\"","v":"\n()"},{"$f":"Consortium!J9&CHAR(10)&\"(\"&Consortium!K9&\")\"","v":"\n()"},{"$f":"Consortium!J10&CHAR(10)&\"(\"&Consortium!K10&\")\"","v":"\n()"},{"$f":"Consortium!J11&CHAR(10)&\"(\"&Consortium!K11&\")\"","v":"\n()"},{"$f":"Consortium!J12&CHAR(10)&\"(\"&Consortium!K12&\")\"","v":"\n()"},{"$f":"Consortium!J13&CHAR(10)&\"(\"&Consortium!K13&\")\"","v":"\n()"},{"$f":"Consortium!J14&CHAR(10)&\"(\"&Consortium!K14&\")\"","v":"\n()"}]
[1,"Milestone Description",140000,40000,20000]
[2,"Milestone Description",160000,20000,20000]
[3,"Milestone Description",110000,20000,20000]
[4,"Milestone Description",170000,10000,20000]
[5,"Milestone Description",20000,10000,10000]
[6]
[7]
[8]
[9]

{"sheet":"ADV","index":4,"n_rows":199,"n_cols":11,"rows_kept":199,"cut":false,"hidden":false,"merged":[[167,1,174,1],[175,1,182,1],[183,1,190,1],[191,1,198,1],[119,1,126,1],[127,1,134,1],[135,1,142,1],[143,1,150,1],[151,1,158,1],[159,1,166,1],[58,1,65,1],[66,1,73,1],[74,1,81,1],[82,1,89,1],[90,1,97,1],[111,1,118,1],[10,1,17,1],[18,1,25,1],[26,1,33,1],[34,1,41,1],[42,1,49,1],[50,1,57,1],[191,3,198,3],[191,4,198,4],[191,5,198,5],[191,6,198,6],[191,7,198,7],[191,10,198,10],[183,3,190,3],[183,4,190,4],[183,5,190,5],[183,6,190,6],[183,7,190,7],[183,10,190,10],[175,3,182,3],[175,4,182,4],[175,5,182,5],[175,6,182,6],[175,7,182,7],[175,10,182,10],[167,3,174,3],[167,4,174,4],[167,5,174,5],[167,6,174,6],[167,7,174,7],[167,10,174,10],[159,3,166,3],[159,4,166,4],[159,5,166,5],[159,6,166,6],[159,7,166,7],[159,10,166,10],[151,3,158,3],[151,4,158,4],[151,5,158,5],[151,6,158,6],[151,7,158,7],[151,10,158,10],[143,3,150,3],[143,4,150,4],[143,5,150,5],[143,6,150,6],[143,7,150,7],[143,10,150,10],[135,3,142,3],[135,4,142,4],[135,5,142,5],[135,6,142,6],[135,7,142,7],[135,10,142,10],[127,3,134,3],[127,4,134,4],[127,5,134,5],[127,6,134,6],[127,7,134,7],[127,10,134,10],[119,3,126,3],[119,4,126,4],[119,5,126,5],[119,6,126,6],[119,7,126,7],[119,10,126,10],[111,3,118,3],[111,4,118,4],[111,5,118,5],[111,6,118,6],[111,7,118,7],[111,10,118,10],[103,3,110,3],[103,4,110,4],[103,5,110,5],[103,6,110,6],[103,7,110,7],[103,10,110,10],[90,3,97,3],[90,4,97,4],[90,5,97,5],[90,6,97,6],[90,7,97,7],[90,10,97,10],[82,3,89,3],[82,4,89,4],[82,5,89,5],[82,6,89,6],[82,7,89,7],[82,10,89,10],[74,3,81,3],[74,4,81,4],[74,5,81,5],[74,6,81,6],[74,7,81,7],[74,10,81,10],[66,3,73,3],[66,4,73,4],[66,5,73,5],[66,6,73,6],[66,7,73,7],[66,10,73,10],[58,3,65,3],[58,4,65,4],[58,5,65,5],[58,6,65,6],[58,7,65,7],[58,10,65,10],[50,3,57,3],[50,4,57,4],[50,5,57,5],[50,6,57,6],[50,7,57,7],[50,10,57,10],[42,3,49,3],[42,4,49,4],[42,5,49,5],[42,6,49,6],[42,7,49,7],[42,10,49,10],[34,3,41,3],[34,4,41,4],[34,5,41,5],[34,6,41,6],[34,7,41,7],[34,10,41,10],[2,3,9,3],[2,4,9,4],[2,5,9,5],[2,6,9,6],[2,7,9,7],[2,10,9,10],[26,3,33,3],[26,4,33,4],[26,5,33,5],[26,6,33,6],[26,7,33,7],[26,10,33,10],[10,7,17,7],[10,10,17,10],[18,3,25,3],[18,4,25,4],[18,5,25,5],[18,6,25,6],[18,7,25,7],[18,10,25,10],[10,3,17,3],[10,4,17,4],[10,5,17,5],[10,6,17,6]]}
[null,null,"# of Subcos","Phase 1 - Advance Payments"]
[null,null,{"$f":"Overview!B8","v":1},"Prime (P) / Subco (SI)","Company Name","Entity Code","Country\n(ISO Code)","Advance Payment (in EUR)","Off-Set against","Off-set by (amount in EUR)","Condition for release of the Advance Payment (if applicable)"]
[{"$f":"Consortium!$G$3","v":"Yes"},null,null,"P","Our Company","100 xxx-xxx","IT",50000,"Milestone 1",25000,"After signature of the Contract by both Parties"]
[{"$f":"$A$3","v":"Yes"},null,null,null,null,null,null,null,"Milestone 2",25000]
["Yes"]
["Yes"]
["Yes"]
["Yes"]
["Yes"]
["Yes"]
[{"$f":"Consortium!$G$4","v":"Yes"},1,1,"SI","Subco 1","100 xxx-xxx","AT",4000,"Milestone 1",2000,"After signature of the Contract by both Parties"]
[{"$f":"Consortium!$G$4","v":"Yes"},null,1,null,null,null,null,null,"Milestone 2",2000]
[{"$f":"Consortium!$G$4","v":"Yes"},null,1]
[{"$f":"Consortium!$G$4","v":"Yes"},null,1]
[{"$f":"Consortium!$G$4","v":"Yes"},null,1]
[{"$f":"Consortium!$G$4","v":"Yes"},null,1]
[{"$f":"Consortium!$G$4","v":"Yes"},null,1]
[{"$f":"Consortium!$G$4","v":"Yes"},null,1]
[{"$f":"Consortium!$G$5","v":0},{"$f":"B11+1","v":2},2]
[{"$f":"Consortium!$G$5","v":0},null,2]
[{"$f":"Consortium!$G$5","v":0},null,2]
[{"$f":"Consortium!$G$5","v":0},null,2]
[{"$f":"Consortium!$G$5","v":0},null,2]
[{"$f":"Consortium!$G$5","v":0},null,2]
[{"$f":"Consortium!$G$5","v":0},null,2]
[{"$f":"Consortium!$G$5","v":0},null,2]
[{"$f":"Consortium!$G$6","v":0},{"$f":"B19+1","v":3},3]
[{"$f":"Consortium!$G$6","v":0},null,3]
[{"$f":"Consortium!$G$6","v":0},null,3]
[{"$f":"Consortium!$G$6","v":0},null,3]
[{"$f":"Consortium!$G$6","v":0},null,3]
[{"$f":"Consortium!$G$6","v":0},null,3]
[{"$f":"Consortium!$G$6","v":0},null,3]
[{"$f":"Consortium!$G$6","v":0},null,3]
[{"$f":"Consortium!$G$7","v":0},{"$f":"B27+1","v":4},4]
[{"$f":"Consortium!$G$7","v":0},null,4]
[{"$f":"Consortium!$G$7","v":0},null,4]
[{"$f":"Consortium!$G$7","v":0},null,4]
[{"$f":"Consortium!$G$7","v":0},null,4]
[{"$f":"Consortium!$G$7","v":0},null,4]
[{"$f":"Consortium!$G$7","v":0},null,4]
[{"$f":"Consortium!$G$7","v":0},null,4]
[{"$f":"Consortium!$G$8","v":0},{"$f":"B35+1","v":5},5]
[{"$f":"Consortium!$G$8","v":0},null,5]
[{"$f":"Consortium!$G$8","v":0},null,5]
[{"$f":"Consortium!$G$8","v":0},null,5]
[{"$f":"Consortium!$G$8","v":0},null,5]
[{"$f":"Consortium!$G$8","v":0},null,5]
[{"$f":"Consortium!$G$8","v":0},null,5]
[{"$f":"Consortium!$G$8","v":0},null,5]
[{"$f":"Consortium!$G$9","v":0},{"$f":"B43+1","v":6},6]
[{"$f":"Consortium!$G$9","v":0},null,6]
[{"$f":"Consortium!$G$9","v":0},null,6]
[{"$f":"Consortium!$G$9","v":0},null,6]
[{"$f":"Consortium!$G$9","v":0},null,6]
[{"$f":"Consortium!$G$9","v":0},null,6]
[{"$f":"Consortium!$G$9","v":0},null,6]
[{"$f":"Consortium!$G$9","v":0},null,6]
[{"$f":"Consortium!$G$10","v":0},{"$f":"B51+1","v":7},7]
[{"$f":"Consortium!$G$10","v":0},null,7]
[{"$f":"Consortium!$G$10","v":0},null,7]
[{"$f":"Consortium!$G$10","v":0},null,7]
[{"$f":"Consortium!$G$10","v":0},null,7]
[{"$f":"Consortium!$G$10","v":0},null,7]
[{"$f":"Consortium!$G$10","v":0},null,7]
[{"$f":"Consortium!$G$10","v":0},null,7]
[{"$f":"Consortium!$G$11","v":0},{"$f":"B59+1","v":8},8]
[{"$f":"Consortium!$G$11","v":0},null,8]
[{"$f":"Consortium!$G$11","v":0},null,8]
[{"$f":"Consortium!$G$11","v":0},null,8]
[{"$f":"Consortium!$G$11","v":0},null,8]
[{"$f":"Consortium!$G$11","v":0},null,8]
[{"$f":"Consortium!$G$11","v":0},null,8]
[{"$f":"Consortium!$G$11","v":0},null,8]
[{"$f":"Consortium!$G$12","v":0},{"$f":"B67+1","v":9},9]
[{"$f":"Consortium!$G$12","v":0},null,9]
[{"$f":"Consortium!$G$12","v":0},null,9]
[{"$f":"Consortium!$G$12","v":0},null,9]
[{"$f":"Consortium!$G$12","v":0},null,9]
[{"$f":"Consortium!$G$12","v":0},null,9]
[{"$f":"Consortium!$G$12","v":0},null,9]
[{"$f":"Consortium!$G$12","v":0},null,9]
[{"$f":"Consortium!$G$13","v":0},{"$f":"B75+1","v":10},10]
[{"$f":"Consortium!$G$13","v":0},null,10]
[{"$f":"Consortium!$G$13","v":0},null,10]
[{"$f":"Consortium!$G$13","v":0},null,10]
[{"$f":"Consortium!$G$13","v":0},null,10]
[{"$f":"Consortium!$G$13","v":0},null,10]
[{"$f":"Consortium!$G$13","v":0},null,10]
[{"$f":"Consortium!$G$13","v":0},null,10]
[{"$f":"Consortium!$G$14","v":0},{"$f":"B83+1","v":11},11]
[{"$f":"Consortium!$G$14","v":0},null,11]
[{"$f":"Consortium!$G$14","v":0},null,11]
[{"$f":"Consortium!$G$14","v":0},null,11]
[{"$f":"Consortium!$G$14","v":0},null,11]
[{"$f":"Consortium!$G$14","v":0},null,11]
[{"$f":"Consortium!$G$14","v":0},null,11]
[{"$f":"Consortium!$G$14","v":0},null,11]
[]
[]
[]
[null,null,"# of Subcos","Phase 2 - Advance Payments"]
[null,null,{"$f":"Overview!B9","v":1},"Prime (P) / Subco (SI)","Company Name","Entity Code","Country\n(ISO Code)","Advance Payment (in EUR)","Off-Set against","Off-set by (amount in EUR)","Condition for release of the Advance Payment (if applicable)"]
[{"$f":"Consortium!$O$3","v":"Yes"},null,null,"P","Our Company","100 xxx-xxx","IT",50000,"Milestone 1",10000,"After signature of the Contract by both Parties"]
[{"$f":"Consortium!$O$3","v":"Yes"},null,null,null,null,null,null,null,"Milestone 2",10000]
[{"$f":"Consortium!$O$3","v":"Yes"},null,null,null,null,null,null,null,"Milestone 3",10000]
[{"$f":"Consortium!$O$3","v":"Yes"},null,null,null,null,null,null,null,"Milestone 4",10000]
[{"$f":"Consortium!$O$3","v":"Yes"}]
[{"$f":"Consortium!$O$3","v":"Yes"}]
[{"$f":"Consortium!$O$3","v":"Yes"}]
[{"$f":"Consortium!$O$3","v":"Yes"}]
[{"$f":"Consortium!$O$4","v":"No"},1,1]
[{"$f":"Consortium!$O$4","v":"No"},null,1]
[{"$f":"Consortium!$O$4","v":"No"},null,1]
[{"$f":"Consortium!$O$4","v":"No"},null,1]
[{"$f":"Consortium!$O$4","v":"No"},null,1]
[{"$f":"Consortium!$O$4","v":"No"},null,1]
[{"$f":"Consortium!$O$4","v":"No"},null,1]
[{"$f":"Consortium!$O$4","v":"No"},null,1]
[{"$f":"Consortium!$O$5","v":"No"},{"$f":"B112+1","v":2},2]
[{"$f":"Consortium!$O$5","v":"No"},null,2]
[{"$f":"Consortium!$O$5","v":"No"},null,2]
[{"$f":"Consortium!$O$5","v":"No"},null,2]
[{"$f":"Consortium!$O$5","v":"No"},null,2]
[{"$f":"Consortium!$O$5","v":"No"},null,2]
[{"$f":"Consortium!$O$5","v":"No"},null,2]
[{"$f":"Consortium!$O$5","v":"No"},null,2]
[{"$f":"Consortium!$O$6","v":"No"},{"$f":"B120+1","v":3},3]
[{"$f":"Consortium!$O$6","v":"No"},null,3]
[{"$f":"Consortium!$O$6","v":"No"},null,3]
[{"$f":"Consortium!$O$6","v":"No"},null,3]
[{"$f":"Consortium!$O$6","v":"No"},null,3]
[{"$f":"Consortium!$O$6","v":"No"},null,3]
[{"$f":"Consortium!$O$6","v":"No"},null,3]
[{"$f":"Consortium!$O$6","v":"No"},null,3]
[{"$f":"Consortium!$O$7","v":"No"},{"$f":"B128+1","v":4},4]
[{"$f":"Consortium!$O$7","v":"No"},null,4]
[{"$f":"Consortium!$O$7","v":"No"},null,4]
[{"$f":"Consortium!$O$7","v":"No"},null,4]
[{"$f":"Consortium!$O$7","v":"No"},null,4]
[{"$f":"Consortium!$O$7","v":"No"},null,4]
[{"$f":"Consortium!$O$7","v":"No"},null,4]
[{"$f":"Consortium!$O$7","v":"No"},null,4]
[{"$f":"Consortium!$O$8","v":"No"},{"$f":"B136+1","v":5},5]
[{"$f":"Consortium!$O$8","v":"No"},null,5]
[{"$f":"Consortium!$O$8","v":"No"},null,5]
[{"$f":"Consortium!$O$8","v":"No"},null,5]
[{"$f":"Consortium!$O$8","v":"No"},null,5]
[{"$f":"Consortium!$O$8","v":"No"},null,5]
[{"$f":"Consortium!$O$8","v":"No"},null,5]
[{"$f":"Consortium!$O$8","v":"No"},null,5]
[{"$f":"Consortium!$O$9","v":"No"},{"$f":"B144+1","v":6},6]
[{"$f":"Consortium!$O$9","v":"No"},null,6]
[{"$f":"Consortium!$O$9","v":"No"},null,6]
[{"$f":"Consortium!$O$9","v":"No"},null,6]
[{"$f":"Consortium!$O$9","v":"No"},null,6]
[{"$f":"Consortium!$O$9","v":"No"},null,6]
[{"$f":"Consortium!$O$9","v":"No"},null,6]
[{"$f":"Consortium!$O$9","v":"No"},null,6]
[{"$f":"Consortium!$O$10","v":"No"},{"$f":"B152+1","v":7},7]
[{"$f":"Consortium!$O$10","v":"No"},null,7]
[{"$f":"Consortium!$O$10","v":"No"},null,7]
[{"$f":"Consortium!$O$10","v":"No"},null,7]
[{"$f":"Consortium!$O$10","v":"No"},null,7]
[{"$f":"Consortium!$O$10","v":"No"},null,7]
[{"$f":"Consortium!$O$10","v":"No"},null,7]
[{"$f":"Consortium!$O$10","v":"No"},null,7]
[{"$f":"Consortium!$O$11","v":"No"},{"$f":"B160+1","v":8},8]
[{"$f":"Consortium!$O$11","v":"No"},null,8]
[{"$f":"Consortium!$O$11","v":"No"},null,8]
[{"$f":"Consortium!$O$11","v":"No"},null,8]
[{"$f":"Consortium!$O$11","v":"No"},null,8]
[{"$f":"Consortium!$O$11","v":"No"},null,8]
[{"$f":"Consortium!$O$11","v":"No"},null,8]
[{"$f":"Consortium!$O$11","v":"No"},null,8]
[{"$f":"Consortium!$O$12","v":"No"},{"$f":"B168+1","v":9},9]
[{"$f":"Consortium!$O$12","v":"No"},null,9]
[{"$f":"Consortium!$O$12","v":"No"},null,9]
[{"$f":"Consortium!$O$12","v":"No"},null,9]
[{"$f":"Consortium!$O$12","v":"No"},null,9]
[{"$f":"Consortium!$O$12","v":"No"},null,9]
[{"$f":"Consortium!$O$12","v":"No"},null,9]
[{"$f":"Consortium!$O$12","v":"No"},null,9]
[{"$f":"Consortium!$O$13","v":"No"},{"$f":"B176+1","v":10},10]
[{"$f":"Consortium!$O$13","v":"No"},null,10]
[{"$f":"Consortium!$O$13","v":"No"},null,10]
[{"$f":"Consortium!$O$13","v":"No"},null,10]
[{"$f":"Consortium!$O$13","v":"No"},null,10]
[{"$f":"Consortium!$O$13","v":"No"},null,10]
[{"$f":"Consortium!$O$13","v":"No"},null,10]
[{"$f":"Consortium!$O$13","v":"No"},null,10]
[{"$f":"Consortium!$O$14","v":"No"},{"$f":"B184+1","v":11},11]
[{"$f":"Consortium!$O$14","v":"No"},null,11]
[{"$f":"Consortium!$O$14","v":"No"},null,11]
[{"$f":"Consortium!$O$14","v":"No"},null,11]
[{"$f":"Consortium!$O$14","v":"No"},null,11]
[{"$f":"Consortium!$O$14","v":"No"},null,11]
[{"$f":"Consortium!$O$14","v":"No"},null,11]
[{"$f":"Consortium!$O$14","v":"No"},null,11]

{"sheet":"Contact","index":5,"n_rows":38,"n_cols":3,"rows_kept":38,"cut":false,"hidden":false,"merged":[[0,0,0,1],[12,0,12,1],[21,0,21,1],[30,0,30,1]]}
["Main Contact Person"]
[]
[null,"Prefix (Ms/Mr/Dr/etc.)","Mr."]
[null,"First Name","John"]
[null,"Last Name","Doe"]
[null,"Job Title","Head of Programs"]
[null,"Physical Address","My Address, 123"]
[null,"postal code","123-456"]
[null,"City","My City"]
[null,"Country","My Country"]
[null,"Complete Physical Address","My Address, 123 123-456 My City, My Country"]
[]
["Technical Officer - Company Side"]
[]
[null,"Prefix (Ms/Mr/Dr/etc.)","Mr."]
[null,"First Name","John"]
[null,"Last Name","Doe"]
[null,"Complete Physical Address","My Address, 123 123-456 My City, My Country"]
[null,"Phone","(+XX) 123 456 789"]
[null,"Email","myemail@myawesomecompany.com"]
[]
["Contract Officer - Company Side"]
[]
[null,"Prefix (Ms/Mr/Dr/etc.)","Ms."]
[null,"First Name","Julianne"]
[null,"Last Name","Foo"]
[null,"Complete Physical Address","My Address, 123 123-456 My City, My Country"]
[null,"Phone","(+XX) 123 456 789"]
[null,"Email","myemail@myawesomecompany.com"]
[]
["Data Protection Officer - Company Side"]
[]
[null,"Prefix (Ms/Mr/Dr/etc.)","Mr."]
[null,"First Name","Mark"]
[null,"Last Name","Smith"]
[null,"Complete Physical Address","My Address, 123 123-456 My City, My Country"]
[null,"Phone","(+XX) 123 456 789"]
[null,"Email","myemail@myawesomecompany.com"]

{"sheet":"FlightItem","index":6,"n_rows":33,"n_cols":3,"rows_kept":33,"cut":false,"hidden":false,"merged":[]}
["existence of a flight item","Yes"]
["name of the flight item","some sub-system"]
["Deadline to deliver the hardware to the launch authority","2023-01-15"]
["Deadline for alternative flight opportunity","2023-06-15"]
["Is the satellite operator different from the prime contractor ?","No"]
[]
[]
[]
[]
[]
[]
[]
[]
[]
[]
[]
[]
[]
[]
[]
[]
[]
[]
[]
[]
[]
[]
[]
[]
[]
[]
[]
[null,null,"No"]

{"sheet":"ESA_fills","index":7,"n_rows":30,"n_cols":4,"rows_kept":30,"cut":false,"hidden":true,"merged":[[13,0,13,1],[22,0,22,1]]}
["GCC reference","ESA/REG/002 rev. 3"]
["ESA contract number","ESA Contract No. 4000xxxxxx/20/I-NS"]
[]
["KEY PERSONEL"]
["Applicable version in the ","nego MoM"]
[]
["REFERENCE DOCUMENTS"]
["step","date","reference"]
["Full Proposal Part 2","2020-01-01","AC-1999-123456","Reference in the proposal"]
["Response to Negotiation","2020-02-01","Re: AO/1-9090/17/NL/MO - a great proposal","subject of the email with the answers"]
["Negotiation Meeting","2020-03-01","MoM-1999-11-01","reference of the Minutes of the Meeting - Leave blank if no nego meeting"]
[]
[]
["Technical Officer - ESA Side",null,"Nathalie Schwarz"]
[null,null,{"$f":"MATCH(TRUE,INDEX(InCubedMembers[Name]=C14,0),0)","v":5}]
[null,"Prefix (Ms/Mr/Dr/etc.)",{"$f":"INDEX(InCubedMembers!$H$2:$M$368,$C$15,D16)","v":{"$error":"#N/A"}},2]
[null,"First Name",{"$f":"INDEX(InCubedMembers!$H$2:$M$368,$C$15,D17)","v":{"$error":"#N/A"}},3]
[null,"Last Name",{"$f":"INDEX(InCubedMembers!$H$2:$M$368,$C$15,D18)","v":{"$error":"#N/A"}},4]
[null,"Physical Address",{"$f":"INDEX(InCubedMembers!$H$2:$M$368,$C$15,D19)","v":{"$error":"#N/A"}},5]
[null,"Phone",{"$f":"INDEX(InCubedMembers!$H$2:$M$368,$C$15,D20)","v":{"$error":"#N/A"}},6]
[null,"Email",{"$f":"INDEX(InCubedMembers!$H$2:$M$368,$C$15,D21)","v":"nathalie.schwarz@esa.int"},1]
[]
["Contract Officer - ESA Side",null,"TBD"]
[null,null,{"$f":"MATCH(TRUE,INDEX(InCubedMembers[Name]=C23,0),0)","v":4}]
[null,"Prefix (Ms/Mr/Dr/etc.)",{"$f":"INDEX(InCubedMembers!$H$2:$M$368,$C$24,D25)","v":0},2]
[null,"First Name",{"$f":"INDEX(InCubedMembers!$H$2:$M$368,$C$24,D26)","v":0},3]
[null,"Last Name",{"$f":"INDEX(InCubedMembers!$H$2:$M$368,$C$24,D27)","v":0},4]
[null,"Physical Address",{"$f":"INDEX(InCubedMembers!$H$2:$M$368,$C$24,D28)","v":0},5]
[null,"Phone",{"$f":"INDEX(InCubedMembers!$H$2:$M$368,$C$24,D29)","v":0},6]
[null,"Email",{"$f":"INDEX(InCubedMembers!$H$2:$M$368,$C$24,D30)","v":""},1]

{"sheet":"TableConsortium","index":8,"n_rows":20,"n_cols":12,"rows_kept":20,"cut":false,"hidden":false,"merged":[]}
["Phase 1",null,null,null,null,null,null,"Phase 2"]
["Entity","Country \n(ISO Code)","Role","Total Cost \nin EUR","Total Price \nin EUR",null,null,"Entity","Country \n(ISO Code)","Role","Total Cost \nin EUR","Total Price \nin EUR"]
[{"$f":"IF(Consortium!B3=\"\",\"\",Consortium!B3)","v":"Our company"},{"$f":"IF(Consortium!B3=\"\",\"\",Consortium!C3)","v":"IT"},"Contractor",{"$f":"Consortium!E3","v":1000000},{"$f":"Consortium!F3","v":500000},null,null,{"$f":"IF(Consortium!J3=\"\",\"\",Consortium!J3)","v":"Our company"},{"$f":"IF(Consortium!J3=\"\",\"\",Consortium!K3)","v":"IT"},{"$f":"IF(Consortium!I3<=Consortium!$I$2,\"Contractor\",IF(AND(Consortium!I3=Consortium!$I$2+1,Overview!B7=2),\"Total\",\"\"))","v":"Contractor"},{"$f":"IF(Consortium!M3=\"\",\"\",Consortium!M3)","v":1000000},{"$f":"IF(Consortium!N3=\"\",\"\",Consortium!N3)","v":600000}]
[{"$f":"IF(Consortium!A4<=Consortium!$A$2,Consortium!B4,\"\")","v":"Subco 1"},{"$f":"IF(A4=\"\",\"\",IF(A4=\"Total\",\"\",Consortium!C4))","v":"AT"},{"$f":"IF(Consortium!A4<=Consortium!$A$2,\"Subcontractor\",IF(Consortium!A4=Consortium!$A$2+1,\"Total\",\"\"))","v":"Subcontractor"},{"$f":"IF(C4=\"\",\"\",IF(C4=\"Total\",SUM(Consortium!E3:E14),Consortium!E4))","v":50000},{"$f":"IF(C4=\"\",\"\",IF(C4=\"Total\",SUM(Consortium!F3:F14),Consortium!F4))","v":25000},null,null,{"$f":"IF(Consortium!I4<=Consortium!$I$2,Consortium!J4,\"\")","v":"Subco 1"},{"$f":"IF(H4=\"\",\"\",IF(H4=\"Total\",\"\",Consortium!K4))","v":"AT"},{"$f":"IF(Consortium!I4<=Consortium!$I$2,\"Subcontractor\",IF(AND(Consortium!I4=Consortium!$I$2+1,Overview!$B$7=2),\"Total\",\"\"))","v":"Subcontractor"},{"$f":"IF(J4=\"\",\"\",IF(J4=\"Total\",SUM(Consortium!M3:M14),Consortium!M4))","v":200000},{"$f":"IF(J4=\"\",\"\",IF(J4=\"Total\",SUM(Consortium!N3:N14),Consortium!N4))","v":100000}]
[{"$f":"IF(Consortium!A5<=Consortium!$A$2,Consortium!B5,\"\")","v":""},{"$f":"IF(A5=\"\",\"\",IF(A5=\"Total\",\"\",Consortium!C5))","v":""},{"$f":"IF(Consortium!A5<=Consortium!$A$2,\"Subcontractor\",IF(Consortium!A5=Consortium!$A$2+1,\"Total\",\"\"))","v":"Total"},{"$f":"IF(C5=\"\",\"\",IF(C5=\"Total\",SUM(Consortium!E3:E14),Consortium!E5))","v":1050000},{"$f":"IF(C5=\"\",\"\",IF(C5=\"Total\",SUM(Consortium!F3:F14),Consortium!F5))","v":525000},null,null,{"$f":"IF(Consortium!I5<=Consortium!$I$2,Consortium!J5,\"\")","v":""},{"$f":"IF(H5=\"\",\"\",IF(H5=\"Total\",\"\",Consortium!K5))","v":""},{"$f":"IF(Consortium!I5<=Consortium!$I$2,\"Subcontractor\",IF(AND(Consortium!I5=Consortium!$I$2+1,Overview!$B$7=2),\"Total\",\"\"))","v":"Total"},{"$f":"IF(J5=\"\",\"\",IF(J5=\"Total\",SUM(Consortium!M3:M14),Consortium!M5))","v":1380000},{"$f":"IF(J5=\"\",\"\",IF(J5=\"Total\",SUM(Consortium!N3:N14),Consortium!N5))","v":790000}]
[{"$f":"IF(Consortium!A6<=Consortium!$A$2,Consortium!B6,\"\")","v":""},{"$f":"IF(A6=\"\",\"\",IF(A6=\"Total\",\"\",Consortium!C6))","v":""},{"$f":"IF(Consortium!A6<=Consortium!$A$2,\"Subcontractor\",IF(Consortium!A6=Consortium!$A$2+1,\"Total\",\"\"))","v":""},{"$f":"IF(C6=\"\",\"\",IF(C6=\"Total\",SUM(Consortium!E3:E14),Consortium!E6))","v":""},{"$f":"IF(C6=\"\",\"\",IF(C6=\"Total\",SUM(Consortium!F3:F14),Consortium!F6))","v":""},null,null,{"$f":"IF(Consortium!I6<=Consortium!$I$2,Consortium!J6,\"\")","v":""},{"$f":"IF(H6=\"\",\"\",IF(H6=\"Total\",\"\",Consortium!K6))","v":""},{"$f":"IF(Consortium!I6<=Consortium!$I$2,\"Subcontractor\",IF(AND(Consortium!I6=Consortium!$I$2+1,Overview!$B$7=2),\"Total\",\"\"))","v":""},{"$f":"IF(J6=\"\",\"\",IF(J6=\"Total\",SUM(Consortium!M3:M14),Consortium!M6))","v":""},{"$f":"IF(J6=\"\",\"\",IF(J6=\"Total\",SUM(Consortium!N3:N14),Consortium!N6))","v":""}]
[{"$f":"IF(Consortium!A7<=Consortium!$A$2,Consortium!B7,\"\")","v":""},{"$f":"IF(A7=\"\",\"\",IF(A7=\"Total\",\"\",Consortium!C7))","v":""},{"$f":"IF(Consortium!A7<=Consortium!$A$2,\"Subcontractor\",IF(Consortium!A7=Consortium!$A$2+1,\"Total\",\"\"))","v":""},{"$f":"IF(C7=\"\",\"\",IF(C7=\"Total\",SUM(Consortium!E3:E14),Consortium!E7))","v":""},{"$f":"IF(C7=\"\",\"\",IF(C7=\"Total\",SUM(Consortium!F3:F14),Consortium!F7))","v":""},null,null,{"$f":"IF(Consortium!I7<=Consortium!$I$2,Consortium!J7,\"\")","v":""},{"$f":"IF(H7=\"\",\"\",IF(H7=\"Total\",\"\",Consortium!K7))","v":""},{"$f":"IF(Consortium!I7<=Consortium!$I$2,\"Subcontractor\",IF(AND(Consortium!I7=Consortium!$I$2+1,Overview!$B$7=2),\"Total\",\"\"))","v":""},{"$f":"IF(J7=\"\",\"\",IF(J7=\"Total\",SUM(Consortium!M3:M14),Consortium!M7))","v":""},{"$f":"IF(J7=\"\",\"\",IF(J7=\"Total\",SUM(Consortium!N3:N14),Consortium!N7))","v":""}]
[{"$f":"IF(Consortium!A8<=Consortium!$A$2,Consortium!B8,\"\")","v":""},{"$f":"IF(A8=\"\",\"\",IF(A8=\"Total\",\"\",Consortium!C8))","v":""},{"$f":"IF(Consortium!A8<=Consortium!$A$2,\"Subcontractor\",IF(Consortium!A8=Consortium!$A$2+1,\"Total\",\"\"))","v":""},{"$f":"IF(C8=\"\",\"\",IF(C8=\"Total\",SUM(Consortium!E3:E14),Consortium!E8))","v":""},{"$f":"IF(C8=\"\",\"\",IF(C8=\"Total\",SUM(Consortium!F3:F14),Consortium!F8))","v":""},null,null,{"$f":"IF(Consortium!I8<=Consortium!$I$2,Consortium!J8,\"\")","v":""},{"$f":"IF(H8=\"\",\"\",IF(H8=\"Total\",\"\",Consortium!K8))","v":""},{"$f":"IF(Consortium!I8<=Consortium!$I$2,\"Subcontractor\",IF(AND(Consortium!I8=Consortium!$I$2+1,Overview!$B$7=2),\"Total\",\"\"))","v":""},{"$f":"IF(J8=\"\",\"\",IF(J8=\"Total\",SUM(Consortium!M3:M14),Consortium!M8))","v":""},{"$f":"IF(J8=\"\",\"\",IF(J8=\"Total\",SUM(Consortium!N3:N14),Consortium!N8))","v":""}]
[{"$f":"IF(Consortium!A9<=Consortium!$A$2,Consortium!B9,\"\")","v":""},{"$f":"IF(A9=\"\",\"\",IF(A9=\"Total\",\"\",Consortium!C9))","v":""},{"$f":"IF(Consortium!A9<=Consortium!$A$2,\"Subcontractor\",IF(Consortium!A9=Consortium!$A$2+1,\"Total\",\"\"))","v":""},{"$f":"IF(C9=\"\",\"\",IF(C9=\"Total\",SUM(Consortium!E3:E14),Consortium!E9))","v":""},{"$f":"IF(C9=\"\",\"\",IF(C9=\"Total\",SUM(Consortium!F3:F14),Consortium!F9))","v":""},null,null,{"$f":"IF(Consortium!I9<=Consortium!$I$2,Consortium!J9,\"\")","v":""},{"$f":"IF(H9=\"\",\"\",IF(H9=\"Total\",\"\",Consortium!K9))","v":""},{"$f":"IF(Consortium!I9<=Consortium!$I$2,\"Subcontractor\",IF(AND(Consortium!I9=Consortium!$I$2+1,Overview!$B$7=2),\"Total\",\"\"))","v":""},{"$f":"IF(J9=\"\",\"\",IF(J9=\"Total\",SUM(Consortium!M3:M14),Consortium!M9))","v":""},{"$f":"IF(J9=\"\",\"\",IF(J9=\"Total\",SUM(Consortium!N3:N14),Consortium!N9))","v":""}]
[{"$f":"IF(Consortium!A10<=Consortium!$A$2,Consortium!B10,\"\")","v":""},{"$f":"IF(A10=\"\",\"\",IF(A10=\"Total\",\"\",Consortium!C10))","v":""},{"$f":"IF(Consortium!A10<=Consortium!$A$2,\"Subcontractor\",IF(Consortium!A10=Consortium!$A$2+1,\"Total\",\"\"))","v":""},{"$f":"IF(C10=\"\",\"\",IF(C10=\"Total\",SUM(Consortium!E3:E14),Consortium!E10))","v":""},{"$f":"IF(C10=\"\",\"\",IF(C10=\"Total\",SUM(Consortium!F3:F14),Consortium!F10))","v":""},null,null,{"$f":"IF(Consortium!I10<=Consortium!$I$2,Consortium!J10,\"\")","v":""},{"$f":"IF(H10=\"\",\"\",IF(H10=\"Total\",\"\",Consortium!K10))","v":""},{"$f":"IF(Consortium!I10<=Consortium!$I$2,\"Subcontractor\",IF(AND(Consortium!I10=Consortium!$I$2+1,Overview!$B$7=2),\"Total\",\"\"))","v":""},{"$f":"IF(J10=\"\",\"\",IF(J10=\"Total\",SUM(Consortium!M3:M14),Consortium!M10))","v":""},{"$f":"IF(J10=\"\",\"\",IF(J10=\"Total\",SUM(Consortium!N3:N14),Consortium!N10))","v":""}]
[{"$f":"IF(Consortium!A11<=Consortium!$A$2,Consortium!B11,\"\")","v":""},{"$f":"IF(A11=\"\",\"\",IF(A11=\"Total\",\"\",Consortium!C11))","v":""},{"$f":"IF(Consortium!A11<=Consortium!$A$2,\"Subcontractor\",IF(Consortium!A11=Consortium!$A$2+1,\"Total\",\"\"))","v":""},{"$f":"IF(C11=\"\",\"\",IF(C11=\"Total\",SUM(Consortium!E3:E14),Consortium!E11))","v":""},{"$f":"IF(C11=\"\",\"\",IF(C11=\"Total\",SUM(Consortium!F3:F14),Consortium!F11))","v":""},null,null,{"$f":"IF(Consortium!I11<=Consortium!$I$2,Consortium!J11,\"\")","v":""},{"$f":"IF(H11=\"\",\"\",IF(H11=\"Total\",\"\",Consortium!K11))","v":""},{"$f":"IF(Consortium!I11<=Consortium!$I$2,\"Subcontractor\",IF(AND(Consortium!I11=Consortium!$I$2+1,Overview!$B$7=2),\"Total\",\"\"))","v":""},{"$f":"IF(J11=\"\",\"\",IF(J11=\"Total\",SUM(Consortium!M3:M14),Consortium!M11))","v":""},{"$f":"IF(J11=\"\",\"\",IF(J11=\"Total\",SUM(Consortium!N3:N14),Consortium!N11))","v":""}]
[{"$f":"IF(Consortium!A12<=Consortium!$A$2,Consortium!B12,\"\")","v":""},{"$f":"IF(A12=\"\",\"\",IF(A12=\"Total\",\"\",Consortium!C12))","v":""},{"$f":"IF(Consortium!A12<=Consortium!$A$2,\"Subcontractor\",IF(Consortium!A12=Consortium!$A$2+1,\"Total\",\"\"))","v":""},{"$f":"IF(C12=\"\",\"\",IF(C12=\"Total\",SUM(Consortium!E3:E14),Consortium!E12))","v":""},{"$f":"IF(C12=\"\",\"\",IF(C12=\"Total\",SUM(Consortium!F3:F14),Consortium!F12))","v":""},null,null,{"$f":"IF(Consortium!I12<=Consortium!$I$2,Consortium!J12,\"\")","v":""},{"$f":"IF(H12=\"\",\"\",IF(H12=\"Total\",\"\",Consortium!K12))","v":""},{"$f":"IF(Consortium!I12<=Consortium!$I$2,\"Subcontractor\",IF(AND(Consortium!I12=Consortium!$I$2+1,Overview!$B$7=2),\"Total\",\"\"))","v":""},{"$f":"IF(J12=\"\",\"\",IF(J12=\"Total\",SUM(Consortium!M3:M14),Consortium!M12))","v":""},{"$f":"IF(J12=\"\",\"\",IF(J12=\"Total\",SUM(Consortium!N3:N14),Consortium!N12))","v":""}]
[{"$f":"IF(Consortium!A13<=Consortium!$A$2,Consortium!B13,\"\")","v":""},{"$f":"IF(A13=\"\",\"\",IF(A13=\"Total\",\"\",Consortium!C13))","v":""},{"$f":"IF(Consortium!A13<=Consortium!$A$2,\"Subcontractor\",IF(Consortium!A13=Consortium!$A$2+1,\"Total\",\"\"))","v":""},{"$f":"IF(C13=\"\",\"\",IF(C13=\"Total\",SUM(Consortium!E3:E14),Consortium!E13))","v":""},{"$f":"IF(C13=\"\",\"\",IF(C13=\"Total\",SUM(Consortium!F3:F14),Consortium!F13))","v":""},null,null,{"$f":"IF(Consortium!I13<=Consortium!$I$2,Consortium!J13,\"\")","v":""},{"$f":"IF(H13=\"\",\"\",IF(H13=\"Total\",\"\",Consortium!K13))","v":""},{"$f":"IF(Consortium!I13<=Consortium!$I$2,\"Subcontractor\",IF(AND(Consortium!I13=Consortium!$I$2+1,Overview!$B$7=2),\"Total\",\"\"))","v":""},{"$f":"IF(J13=\"\",\"\",IF(J13=\"Total\",SUM(Consortium!M3:M14),Consortium!M13))","v":""},{"$f":"IF(J13=\"\",\"\",IF(J13=\"Total\",SUM(Consortium!N3:N14),Consortium!N13))","v":""}]
[{"$f":"IF(Consortium!A14<=Consortium!$A$2,Consortium!B14,\"\")","v":""},{"$f":"IF(A14=\"\",\"\",IF(A14=\"Total\",\"\",Consortium!C14))","v":""},{"$f":"IF(Consortium!A14<=Consortium!$A$2,\"Subcontractor\",IF(Consortium!A14=Consortium!$A$2+1,\"Total\",\"\"))","v":""},{"$f":"IF(C14=\"\",\"\",IF(C14=\"Total\",SUM(Consortium!E3:E14),Consortium!E14))","v":""},{"$f":"IF(C14=\"\",\"\",IF(C14=\"Total\",SUM(Consortium!F3:F14),Consortium!F14))","v":""},null,null,{"$f":"IF(Consortium!I14<=Consortium!$I$2,Consortium!J14,\"\")","v":""},{"$f":"IF(H14=\"\",\"\",IF(H14=\"Total\",\"\",Consortium!K14))","v":""},{"$f":"IF(Consortium!I14<=Consortium!$I$2,\"Subcontractor\",IF(AND(Consortium!I14=Consortium!$I$2+1,Overview!$B$7=2),\"Total\",\"\"))","v":""},{"$f":"IF(J14=\"\",\"\",IF(J14=\"Total\",SUM(Consortium!M3:M14),Consortium!M14))","v":""},{"$f":"IF(J14=\"\",\"\",IF(J14=\"Total\",SUM(Consortium!N3:N14),Consortium!N14))","v":""}]
[null,{"$f":"IF(A15=\"\",\"\",IF(A15=\"Total\",\"\",Consortium!C15))","v":""},{"$f":"IF(Consortium!A15<=Consortium!$A$2,\"Subcontractor\",IF(Consortium!A15=Consortium!$A$2+1,\"Total\",\"\"))","v":""},{"$f":"IF(C15=\"\",\"\",IF(C15=\"Total\",SUM(Consortium!E3:E14),Consortium!E15))","v":""},{"$f":"IF(C15=\"\",\"\",IF(C15=\"Total\",SUM(Consortium!F3:F14),Consortium!F15))","v":""},null,null,null,null,{"$f":"IF(Consortium!I15<=Consortium!$I$2,\"Subcontractor\",IF(AND(Consortium!I15=Consortium!$I$2+1,Overview!$B$7=2),\"Total\",\"\"))","v":""},{"$f":"IF(J15=\"\",\"\",IF(J15=\"Total\",SUM(Consortium!M3:M14),Consortium!M15))","v":""},{"$f":"IF(J15=\"\",\"\",IF(J15=\"Total\",SUM(Consortium!N3:N14),Consortium!N15))","v":""}]
[null,{"$f":"IF(A16=\"\",\"\",IF(A16=\"Total\",\"\",Consortium!C16))","v":""}]
[null,{"$f":"IF(A17=\"\",\"\",IF(A17=\"Total\",\"\",Consortium!C17))","v":""}]
[null,{"$f":"IF(A18=\"\",\"\",IF(A18=\"Total\",\"\",Consortium!C18))","v":""}]
[null,{"$f":"IF(A19=\"\",\"\",IF(A19=\"Total\",\"\",Consortium!C19))","v":""}]
[null,{"$f":"IF(A20=\"\",\"\",IF(A20=\"Total\",\"\",Consortium!C20))","v":""}]

{"sheet":"TableMilestones","index":9,"n_rows":11,"n_cols":9,"rows_kept":11,"cut":false,"hidden":false,"merged":[]}
["Phase 1",null,null,null,null,"Phase 2"]
["Milestone (MS) Description","Schedule Date","Payments from ESA to Prime \nContractor (in Euro)","Country \n(ISO code)",null,"Milestone (MS) Description","Schedule Date","Payments from ESA to Prime \nContractor (in Euro)","Country \n(ISO code)"]
[{"$f":"IF(MPP!A5<=MPP!$A$4,MPP!B5,\"\")","v":"Milestone Description"},{"$f":"IF(MPP!A5<=MPP!$A$4,MPP!C5,IF(MPP!A5=MPP!$A$4+1,\"Total\",\"\"))","v":"2022-06-16"},{"$f":"IF(MPP!A5<=MPP!$A$4,MPP!D5,IF(MPP!A5=MPP!$A$4+1,SUM(MPP!D5:D12),\"\"))","v":225000},{"$f":"IF(MPP!A5<=MPP!$A$4,MPP!E5,\"\")","v":"IT"},null,{"$f":"IF(MPP!A17<=MPP!$A$16,MPP!B17,\"\")","v":"Milestone Description"},{"$f":"IF(MPP!A17<=MPP!$A$16,MPP!C17,IF(MPP!A17=MPP!$A$16+1,\"Total\",\"\"))","v":"2022-10-30"},{"$f":"IF(MPP!A17<=MPP!$A$16,MPP!D17,IF(MPP!A17=MPP!$A$16+1,SUM(MPP!D17:D24),\"\"))","v":200000},{"$f":"IF(MPP!A17<=MPP!$A$16,MPP!E17,\"\")","v":"IT"}]
[{"$f":"IF(MPP!A6<=MPP!$A$4,MPP!B6,\"\")","v":""},{"$f":"IF(MPP!A6<=MPP!$A$4,MPP!C6,IF(MPP!A6=MPP!$A$4+1,\"Total\",\"\"))","v":"Total"},{"$f":"IF(MPP!A6<=MPP!$A$4,MPP!D6,IF(MPP!A6=MPP!$A$4+1,SUM(MPP!D5:D12),\"\"))","v":525000},{"$f":"IF(MPP!A6<=MPP!$A$4,MPP!E6,\"\")","v":""},null,{"$f":"IF(MPP!A18<=MPP!$A$16,MPP!B18,\"\")","v":""},{"$f":"IF(MPP!A18<=MPP!$A$16,MPP!C18,IF(MPP!A18=MPP!$A$16+1,\"Total\",\"\"))","v":"Total"},{"$f":"IF(MPP!A18<=MPP!$A$16,MPP!D18,IF(MPP!A18=MPP!$A$16+1,SUM(MPP!D17:D24),\"\"))","v":790000},{"$f":"IF(MPP!A18<=MPP!$A$16,MPP!E18,\"\")","v":""}]
[{"$f":"IF(MPP!A7<=MPP!$A$4,MPP!B7,\"\")","v":""},{"$f":"IF(MPP!A7<=MPP!$A$4,MPP!C7,IF(MPP!A7=MPP!$A$4+1,\"Total\",\"\"))","v":""},{"$f":"IF(MPP!A7<=MPP!$A$4,MPP!D7,IF(MPP!A7=MPP!$A$4+1,SUM(MPP!D5:D12),\"\"))","v":""},{"$f":"IF(MPP!A7<=MPP!$A$4,MPP!E7,\"\")","v":""},null,{"$f":"IF(MPP!A19<=MPP!$A$16,MPP!B19,\"\")","v":""},{"$f":"IF(MPP!A19<=MPP!$A$16,MPP!C19,IF(MPP!A19=MPP!$A$16+1,\"Total\",\"\"))","v":""},{"$f":"IF(MPP!A19<=MPP!$A$16,MPP!D19,IF(MPP!A19=MPP!$A$16+1,SUM(MPP!D17:D24),\"\"))","v":""},{"$f":"IF(MPP!A19<=MPP!$A$16,MPP!E19,\"\")","v":""}]
[{"$f":"IF(MPP!A8<=MPP!$A$4,MPP!B8,\"\")","v":""},{"$f":"IF(MPP!A8<=MPP!$A$4,MPP!C8,IF(MPP!A8=MPP!$A$4+1,\"Total\",\"\"))","v":""},{"$f":"IF(MPP!A8<=MPP!$A$4,MPP!D8,IF(MPP!A8=MPP!$A$4+1,SUM(MPP!D5:D12),\"\"))","v":""},{"$f":"IF(MPP!A8<=MPP!$A$4,MPP!E8,\"\")","v":""},null,{"$f":"IF(MPP!A20<=MPP!$A$16,MPP!B20,\"\")","v":""},{"$f":"IF(MPP!A20<=MPP!$A$16,MPP!C20,IF(MPP!A20=MPP!$A$16+1,\"Total\",\"\"))","v":""},{"$f":"IF(MPP!A20<=MPP!$A$16,MPP!D20,IF(MPP!A20=MPP!$A$16+1,SUM(MPP!D17:D24),\"\"))","v":""},{"$f":"IF(MPP!A20<=MPP!$A$16,MPP!E20,\"\")","v":""}]
[{"$f":"IF(MPP!A9<=MPP!$A$4,MPP!B9,\"\")","v":""},{"$f":"IF(MPP!A9<=MPP!$A$4,MPP!C9,IF(MPP!A9=MPP!$A$4+1,\"Total\",\"\"))","v":""},{"$f":"IF(MPP!A9<=MPP!$A$4,MPP!D9,IF(MPP!A9=MPP!$A$4+1,SUM(MPP!D5:D12),\"\"))","v":""},{"$f":"IF(MPP!A9<=MPP!$A$4,MPP!E9,\"\")","v":""},null,{"$f":"IF(MPP!A21<=MPP!$A$16,MPP!B21,\"\")","v":""},{"$f":"IF(MPP!A21<=MPP!$A$16,MPP!C21,IF(MPP!A21=MPP!$A$16+1,\"Total\",\"\"))","v":""},{"$f":"IF(MPP!A21<=MPP!$A$16,MPP!D21,IF(MPP!A21=MPP!$A$16+1,SUM(MPP!D17:D24),\"\"))","v":""},{"$f":"IF(MPP!A21<=MPP!$A$16,MPP!E21,\"\")","v":""}]
[{"$f":"IF(MPP!A10<=MPP!$A$4,MPP!B10,\"\")","v":""},{"$f":"IF(MPP!A10<=MPP!$A$4,MPP!C10,IF(MPP!A10=MPP!$A$4+1,\"Total\",\"\"))","v":""},{"$f":"IF(MPP!A10<=MPP!$A$4,MPP!D10,IF(MPP!A10=MPP!$A$4+1,SUM(MPP!D5:D12),\"\"))","v":""},{"$f":"IF(MPP!A10<=MPP!$A$4,MPP!E10,\"\")","v":""},null,{"$f":"IF(MPP!A22<=MPP!$A$16,MPP!B22,\"\")","v":""},{"$f":"IF(MPP!A22<=MPP!$A$16,MPP!C22,IF(MPP!A22=MPP!$A$16+1,\"Total\",\"\"))","v":""},{"$f":"IF(MPP!A22<=MPP!$A$16,MPP!D22,IF(MPP!A22=MPP!$A$16+1,SUM(MPP!D17:D24),\"\"))","v":""},{"$f":"IF(MPP!A22<=MPP!$A$16,MPP!E22,\"\")","v":""}]
[{"$f":"IF(MPP!A11<=MPP!$A$4,MPP!B11,\"\")","v":""},{"$f":"IF(MPP!A11<=MPP!$A$4,MPP!C11,IF(MPP!A11=MPP!$A$4+1,\"Total\",\"\"))","v":""},{"$f":"IF(MPP!A11<=MPP!$A$4,MPP!D11,IF(MPP!A11=MPP!$A$4+1,SUM(MPP!D5:D12),\"\"))","v":""},{"$f":"IF(MPP!A11<=MPP!$A$4,MPP!E11,\"\")","v":""},null,{"$f":"IF(MPP!A23<=MPP!$A$16,MPP!B23,\"\")","v":""},{"$f":"IF(MPP!A23<=MPP!$A$16,MPP!C23,IF(MPP!A23=MPP!$A$16+1,\"Total\",\"\"))","v":""},{"$f":"IF(MPP!A23<=MPP!$A$16,MPP!D23,IF(MPP!A23=MPP!$A$16+1,SUM(MPP!D17:D24),\"\"))","v":""},{"$f":"IF(MPP!A23<=MPP!$A$16,MPP!E23,\"\")","v":""}]
[{"$f":"IF(MPP!A12<=MPP!$A$4,MPP!B12,\"\")","v":""},{"$f":"IF(MPP!A12<=MPP!$A$4,MPP!C12,IF(MPP!A12=MPP!$A$4+1,\"Total\",\"\"))","v":""},{"$f":"IF(MPP!A12<=MPP!$A$4,MPP!D12,IF(MPP!A12=MPP!$A$4+1,SUM(MPP!D5:D12),\"\"))","v":""},{"$f":"IF(MPP!A12<=MPP!$A$4,MPP!E12,\"\")","v":""},null,{"$f":"IF(MPP!A24<=MPP!$A$16,MPP!B24,\"\")","v":""},{"$f":"IF(MPP!A24<=MPP!$A$16,MPP!C24,IF(MPP!A24=MPP!$A$16+1,\"Total\",\"\"))","v":""},{"$f":"IF(MPP!A24<=MPP!$A$16,MPP!D24,IF(MPP!A24=MPP!$A$16+1,SUM(MPP!D17:D24),\"\"))","v":""},{"$f":"IF(MPP!A24<=MPP!$A$16,MPP!E24,\"\")","v":""}]
[null,{"$f":"IF(MPP!A13<=MPP!$A$4,MPP!C13,IF(MPP!A13=MPP!$A$4+1,\"Total\",\"\"))","v":""},{"$f":"IF(MPP!A13<=MPP!$A$4,MPP!D13,IF(MPP!A13=MPP!$A$4+1,SUM(MPP!D5:D12),\"\"))","v":""},null,null,null,{"$f":"IF(MPP!A25<=MPP!$A$16,MPP!C25,IF(MPP!A25=MPP!$A$16+1,\"Total\",\"\"))","v":""},{"$f":"IF(MPP!A25<=MPP!$A$16,MPP!D25,IF(MPP!A25=MPP!$A$16+1,SUM(MPP!D17:D24),\"\"))","v":""}]

{"sheet":"TableBreakdown","index":10,"n_rows":29,"n_cols":13,"rows_kept":29,"cut":false,"hidden":false,"merged":[[0,3,0,6]]}
["Phase 1",null,null,"Scroll down for Phase 2 table"]
["For Information purposes only: "]
["Amounts in Euro for Prime and Subcontractor(s)"]
["Milestone",{"$f":"MPP!C29","v":"Our company\n(IT)"},{"$f":" IF(MPP!D28<=MPP!$C$28,MPP!D29,\"\")","v":"Subco 1\n(AT)"},{"$f":" IF(MPP!E28<=MPP!$C$28,MPP!E29,\"\")","v":""},{"$f":" IF(MPP!F28<=MPP!$C$28,MPP!F29,\"\")","v":""},{"$f":" IF(MPP!G28<=MPP!$C$28,MPP!G29,\"\")","v":""},{"$f":" IF(MPP!H28<=MPP!$C$28,MPP!H29,\"\")","v":""},{"$f":" IF(MPP!I28<=MPP!$C$28,MPP!I29,\"\")","v":""},{"$f":" IF(MPP!J28<=MPP!$C$28,MPP!J29,\"\")","v":""},{"$f":" IF(MPP!K28<=MPP!$C$28,MPP!K29,\"\")","v":""},{"$f":" IF(MPP!L28<=MPP!$C$28,MPP!L29,\"\")","v":""},{"$f":" IF(MPP!M28<=MPP!$C$28,MPP!M29,\"\")","v":""},{"$f":" IF(MPP!N28<=MPP!$C$28,MPP!N29,\"\")","v":""}]
[{"$f":"IF(MPP!A30<=MPP!$A$4,MPP!B30,IF(MPP!A30=MPP!$A$4+1,\"Total\",\"\"))","v":"Milestone Description"},{"$f":"IF(MPP!A30<=MPP!$A$4,MPP!C30,IF(MPP!A30=MPP!$A$4+1,SUM(MPP!C30:C37),\"\"))","v":210000},{"$f":"IF(MPP!A30<=MPP!$A$4,MPP!D30,IF(MPP!A30=MPP!$A$4+1,SUM(MPP!D30:D37),\"\"))","v":15000},{"$f":"IF(MPP!A30<=MPP!$A$4,MPP!E30,IF(MPP!A30=MPP!$A$4+1,SUM(MPP!E30:E37),\"\"))","v":0},{"$f":"IF(MPP!A30<=MPP!$A$4,MPP!F30,IF(MPP!A30=MPP!$A$4+1,SUM(MPP!F30:F37),\"\"))","v":0},{"$f":"IF(MPP!A30<=MPP!$A$4,MPP!G30,IF(MPP!A30=MPP!$A$4+1,SUM(MPP!G30:G37),\"\"))","v":0},{"$f":"IF(MPP!A30<=MPP!$A$4,MPP!H30,IF(MPP!A30=MPP!$A$4+1,SUM(MPP!H30:H37),\"\"))","v":0},{"$f":"IF(MPP!A30<=MPP!$A$4,MPP!I30,IF(MPP!A30=MPP!$A$4+1,SUM(MPP!I30:I37),\"\"))","v":0},{"$f":"IF(MPP!A30<=MPP!$A$4,MPP!J30,IF(MPP!A30=MPP!$A$4+1,SUM(MPP!J30:J37),\"\"))","v":0},{"$f":"IF(MPP!A30<=MPP!$A$4,MPP!K30,IF(MPP!A30=MPP!$A$4+1,SUM(MPP!K30:K37),\"\"))","v":0},{"$f":"IF(MPP!A30<=MPP!$A$4,MPP!L30,IF(MPP!A30=MPP!$A$4+1,SUM(MPP!L30:L37),\"\"))","v":0},{"$f":"IF(MPP!A30<=MPP!$A$4,MPP!M30,IF(MPP!A30=MPP!$A$4+1,SUM(MPP!M30:M37),\"\"))","v":0},{"$f":"IF(MPP!A30<=MPP!$A$4,MPP!N30,IF(MPP!A30=MPP!$A$4+1,SUM(MPP!N30:N37),\"\"))","v":0}]
[{"$f":"IF(MPP!A31<=MPP!$A$4,MPP!B31,IF(MPP!A31=MPP!$A$4+1,\"Total\",\"\"))","v":"Total"},{"$f":"IF(MPP!A31<=MPP!$A$4,MPP!C31,IF(MPP!A31=MPP!$A$4+1,SUM(MPP!C30:C37),\"\"))","v":500000},{"$f":"IF(MPP!A31<=MPP!$A$4,MPP!D31,IF(MPP!A31=MPP!$A$4+1,SUM(MPP!D30:DD37),\"\"))","v":25000},{"$f":"IF(MPP!A31<=MPP!$A$4,MPP!E31,IF(MPP!A31=MPP!$A$4+1,SUM(MPP!E30:E37),\"\"))","v":0},{"$f":"IF(MPP!A31<=MPP!$A$4,MPP!F31,IF(MPP!A31=MPP!$A$4+1,SUM(MPP!F30:F37),\"\"))","v":0},{"$f":"IF(MPP!A31<=MPP!$A$4,MPP!G31,IF(MPP!A31=MPP!$A$4+1,SUM(MPP!G30:G37),\"\"))","v":0},{"$f":"IF(MPP!A31<=MPP!$A$4,MPP!H31,IF(MPP!A31=MPP!$A$4+1,SUM(MPP!H30:H37),\"\"))","v":0},{"$f":"IF(MPP!A31<=MPP!$A$4,MPP!I31,IF(MPP!A31=MPP!$A$4+1,SUM(MPP!I30:I37),\"\"))","v":0},{"$f":"IF(MPP!A31<=MPP!$A$4,MPP!J31,IF(MPP!A31=MPP!$A$4+1,SUM(MPP!J30:J37),\"\"))","v":0},{"$f":"IF(MPP!A31<=MPP!$A$4,MPP!K31,IF(MPP!A31=MPP!$A$4+1,SUM(MPP!K30:K37),\"\"))","v":0},{"$f":"IF(MPP!A31<=MPP!$A$4,MPP!L31,IF(MPP!A31=MPP!$A$4+1,SUM(MPP!L30:L37),\"\"))","v":0},{"$f":"IF(MPP!A31<=MPP!$A$4,MPP!M31,IF(MPP!A31=MPP!$A$4+1,SUM(MPP!M30:M37),\"\"))","v":0},{"$f":"IF(MPP!A31<=MPP!$A$4,MPP!N31,IF(MPP!A31=MPP!$A$4+1,SUM(MPP!N30:N37),\"\"))","v":0}]
[{"$f":"IF(MPP!A32<=MPP!$A$4,MPP!B32,IF(MPP!A32=MPP!$A$4+1,\"Total\",\"\"))","v":""},{"$f":"IF(MPP!A32<=MPP!$A$4,MPP!C32,IF(MPP!A32=MPP!$A$4+1,SUM(MPP!C30:C37),\"\"))","v":""},{"$f":"IF(MPP!A32<=MPP!$A$4,MPP!D32,IF(MPP!A32=MPP!$A$4+1,SUM(MPP!D30:DD37),\"\"))","v":""},{"$f":"IF(MPP!A32<=MPP!$A$4,MPP!E32,IF(MPP!A32=MPP!$A$4+1,SUM(MPP!E30:E37),\"\"))","v":""},{"$f":"IF(MPP!A32<=MPP!$A$4,MPP!F32,IF(MPP!A32=MPP!$A$4+1,SUM(MPP!F30:F37),\"\"))","v":""},{"$f":"IF(MPP!A32<=MPP!$A$4,MPP!G32,IF(MPP!A32=MPP!$A$4+1,SUM(MPP!G30:G37),\"\"))","v":""},{"$f":"IF(MPP!A32<=MPP!$A$4,MPP!H32,IF(MPP!A32=MPP!$A$4+1,SUM(MPP!H30:H37),\"\"))","v":""},{"$f":"IF(MPP!A32<=MPP!$A$4,MPP!I32,IF(MPP!A32=MPP!$A$4+1,SUM(MPP!I30:I37),\"\"))","v":""},{"$f":"IF(MPP!A32<=MPP!$A$4,MPP!J32,IF(MPP!A32=MPP!$A$4+1,SUM(MPP!J30:J37),\"\"))","v":""},{"$f":"IF(MPP!A32<=MPP!$A$4,MPP!K32,IF(MPP!A32=MPP!$A$4+1,SUM(MPP!K30:K37),\"\"))","v":""},{"$f":"IF(MPP!A32<=MPP!$A$4,MPP!L32,IF(MPP!A32=MPP!$A$4+1,SUM(MPP!L30:L37),\"\"))","v":""},{"$f":"IF(MPP!A32<=MPP!$A$4,MPP!M32,IF(MPP!A32=MPP!$A$4+1,SUM(MPP!M30:M37),\"\"))","v":""},{"$f":"IF(MPP!A32<=MPP!$A$4,MPP!N32,IF(MPP!A32=MPP!$A$4+1,SUM(MPP!N30:N37),\"\"))","v":""}]
[{"$f":"IF(MPP!A33<=MPP!$A$4,MPP!B33,IF(MPP!A33=MPP!$A$4+1,\"Total\",\"\"))","v":""},{"$f":"IF(MPP!A33<=MPP!$A$4,MPP!C33,IF(MPP!A33=MPP!$A$4+1,SUM(MPP!C30:C37),\"\"))","v":""},{"$f":"IF(MPP!A33<=MPP!$A$4,MPP!D33,IF(MPP!A33=MPP!$A$4+1,SUM(MPP!D30:DD37),\"\"))","v":""},{"$f":"IF(MPP!A33<=MPP!$A$4,MPP!E33,IF(MPP!A33=MPP!$A$4+1,SUM(MPP!E30:E37),\"\"))","v":""},{"$f":"IF(MPP!A33<=MPP!$A$4,MPP!F33,IF(MPP!A33=MPP!$A$4+1,SUM(MPP!F30:F37),\"\"))","v":""},{"$f":"IF(MPP!A33<=MPP!$A$4,MPP!G33,IF(MPP!A33=MPP!$A$4+1,SUM(MPP!G30:G37),\"\"))","v":""},{"$f":"IF(MPP!A33<=MPP!$A$4,MPP!H33,IF(MPP!A33=MPP!$A$4+1,SUM(MPP!H30:H37),\"\"))","v":""},{"$f":"IF(MPP!A33<=MPP!$A$4,MPP!I33,IF(MPP!A33=MPP!$A$4+1,SUM(MPP!I30:I37),\"\"))","v":""},{"$f":"IF(MPP!A33<=MPP!$A$4,MPP!J33,IF(MPP!A33=MPP!$A$4+1,SUM(MPP!J30:J37),\"\"))","v":""},{"$f":"IF(MPP!A33<=MPP!$A$4,MPP!K33,IF(MPP!A33=MPP!$A$4+1,SUM(MPP!K30:K37),\"\"))","v":""},{"$f":"IF(MPP!A33<=MPP!$A$4,MPP!L33,IF(MPP!A33=MPP!$A$4+1,SUM(MPP!L30:L37),\"\"))","v":""},{"$f":"IF(MPP!A33<=MPP!$A$4,MPP!M33,IF(MPP!A33=MPP!$A$4+1,SUM(MPP!M30:M37),\"\"))","v":""},{"$f":"IF(MPP!A33<=MPP!$A$4,MPP!N33,IF(MPP!A33=MPP!$A$4+1,SUM(MPP!N30:N37),\"\"))","v":""}]
[{"$f":"IF(MPP!A34<=MPP!$A$4,MPP!B34,IF(MPP!A34=MPP!$A$4+1,\"Total\",\"\"))","v":""},{"$f":"IF(MPP!A34<=MPP!$A$4,MPP!C34,IF(MPP!A34=MPP!$A$4+1,SUM(MPP!C30:C37),\"\"))","v":""},{"$f":"IF(MPP!A34<=MPP!$A$4,MPP!D34,IF(MPP!A34=MPP!$A$4+1,SUM(MPP!D30:D37),\"\"))","v":""},{"$f":"IF(MPP!A34<=MPP!$A$4,MPP!E34,IF(MPP!A34=MPP!$A$4+1,SUM(MPP!E30:E37),\"\"))","v":""},{"$f":"IF(MPP!A34<=MPP!$A$4,MPP!F34,IF(MPP!A34=MPP!$A$4+1,SUM(MPP!F30:F37),\"\"))","v":""},{"$f":"IF(MPP!A34<=MPP!$A$4,MPP!G34,IF(MPP!A34=MPP!$A$4+1,SUM(MPP!G30:G37),\"\"))","v":""},{"$f":"IF(MPP!A34<=MPP!$A$4,MPP!H34,IF(MPP!A34=MPP!$A$4+1,SUM(MPP!H30:H37),\"\"))","v":""},{"$f":"IF(MPP!A34<=MPP!$A$4,MPP!I34,IF(MPP!A34=MPP!$A$4+1,SUM(MPP!I30:I37),\"\"))","v":""},{"$f":"IF(MPP!A34<=MPP!$A$4,MPP!J34,IF(MPP!A34=MPP!$A$4+1,SUM(MPP!J30:J37),\"\"))","v":""},{"$f":"IF(MPP!A34<=MPP!$A$4,MPP!K34,IF(MPP!A34=MPP!$A$4+1,SUM(MPP!K30:K37),\"\"))","v":""},{"$f":"IF(MPP!A34<=MPP!$A$4,MPP!L34,IF(MPP!A34=MPP!$A$4+1,SUM(MPP!L30:L37),\"\"))","v":""},{"$f":"IF(MPP!A34<=MPP!$A$4,MPP!M34,IF(MPP!A34=MPP!$A$4+1,SUM(MPP!M30:M37),\"\"))","v":""},{"$f":"IF(MPP!A34<=MPP!$A$4,MPP!N34,IF(MPP!A34=MPP!$A$4+1,SUM(MPP!N30:N37),\"\"))","v":""}]
[{"$f":"IF(MPP!A35<=MPP!$A$4,MPP!B35,IF(MPP!A35=MPP!$A$4+1,\"Total\",\"\"))","v":""},{"$f":"IF(MPP!A35<=MPP!$A$4,MPP!C35,IF(MPP!A35=MPP!$A$4+1,SUM(MPP!C30:C37),\"\"))","v":""},{"$f":"IF(MPP!A35<=MPP!$A$4,MPP!D35,IF(MPP!A35=MPP!$A$4+1,SUM(MPP!D30:D37),\"\"))","v":""},{"$f":"IF(MPP!A35<=MPP!$A$4,MPP!E35,IF(MPP!A35=MPP!$A$4+1,SUM(MPP!E30:E37),\"\"))","v":""},{"$f":"IF(MPP!A35<=MPP!$A$4,MPP!F35,IF(MPP!A35=MPP!$A$4+1,SUM(MPP!F30:F37),\"\"))","v":""},{"$f":"IF(MPP!A35<=MPP!$A$4,MPP!G35,IF(MPP!A35=MPP!$A$4+1,SUM(MPP!G30:G37),\"\"))","v":""},{"$f":"IF(MPP!A35<=MPP!$A$4,MPP!H35,IF(MPP!A35=MPP!$A$4+1,SUM(MPP!H30:H37),\"\"))","v":""},{"$f":"IF(MPP!A35<=MPP!$A$4,MPP!I35,IF(MPP!A35=MPP!$A$4+1,SUM(MPP!I30:I37),\"\"))","v":""},{"$f":"IF(MPP!A35<=MPP!$A$4,MPP!J35,IF(MPP!A35=MPP!$A$4+1,SUM(MPP!J30:J37),\"\"))","v":""},{"$f":"IF(MPP!A35<=MPP!$A$4,MPP!K35,IF(MPP!A35=MPP!$A$4+1,SUM(MPP!K30:K37),\"\"))","v":""},{"$f":"IF(MPP!A35<=MPP!$A$4,MPP!L35,IF(MPP!A35=MPP!$A$4+1,SUM(MPP!L30:L37),\"\"))","v":""},{"$f":"IF(MPP!A35<=MPP!$A$4,MPP!M35,IF(MPP!A35=MPP!$A$4+1,SUM(MPP!M30:M37),\"\"))","v":""},{"$f":"IF(MPP!A35<=MPP!$A$4,MPP!N35,IF(MPP!A35=MPP!$A$4+1,SUM(MPP!N30:N37),\"\"))","v":""}]
[{"$f":"IF(MPP!A36<=MPP!$A$4,MPP!B36,IF(MPP!A36=MPP!$A$4+1,\"Total\",\"\"))","v":""},{"$f":"IF(MPP!A36<=MPP!$A$4,MPP!C36,IF(MPP!A36=MPP!$A$4+1,SUM(MPP!C30:C37),\"\"))","v":""},{"$f":"IF(MPP!A36<=MPP!$A$4,MPP!D36,IF(MPP!A36=MPP!$A$4+1,SUM(MPP!D30:D37),\"\"))","v":""},{"$f":"IF(MPP!A36<=MPP!$A$4,MPP!E36,IF(MPP!A36=MPP!$A$4+1,SUM(MPP!E30:E37),\"\"))","v":""},{"$f":"IF(MPP!A36<=MPP!$A$4,MPP!F36,IF(MPP!A36=MPP!$A$4+1,SUM(MPP!F30:F37),\"\"))","v":""},{"$f":"IF(MPP!A36<=MPP!$A$4,MPP!G36,IF(MPP!A36=MPP!$A$4+1,SUM(MPP!G30:G37),\"\"))","v":""},{"$f":"IF(MPP!A36<=MPP!$A$4,MPP!H36,IF(MPP!A36=MPP!$A$4+1,SUM(MPP!H30:H37),\"\"))","v":""},{"$f":"IF(MPP!A36<=MPP!$A$4,MPP!I36,IF(MPP!A36=MPP!$A$4+1,SUM(MPP!I30:I37),\"\"))","v":""},{"$f":"IF(MPP!A36<=MPP!$A$4,MPP!J36,IF(MPP!A36=MPP!$A$4+1,SUM(MPP!J30:J37),\"\"))","v":""},{"$f":"IF(MPP!A36<=MPP!$A$4,MPP!K36,IF(MPP!A36=MPP!$A$4+1,SUM(MPP!K30:K37),\"\"))","v":""},{"$f":"IF(MPP!A36<=MPP!$A$4,MPP!L36,IF(MPP!A36=MPP!$A$4+1,SUM(MPP!L30:L37),\"\"))","v":""},{"$f":"IF(MPP!A36<=MPP!$A$4,MPP!M36,IF(MPP!A36=MPP!$A$4+1,SUM(MPP!M30:M37),\"\"))","v":""},{"$f":"IF(MPP!A36<=MPP!$A$4,MPP!N36,IF(MPP!A36=MPP!$A$4+1,SUM(MPP!N30:N37),\"\"))","v":""}]
[{"$f":"IF(MPP!A37<=MPP!$A$4,MPP!B37,IF(MPP!A37=MPP!$A$4+1,\"Total\",\"\"))","v":""},{"$f":"IF(MPP!A37<=MPP!$A$4,MPP!C37,IF(MPP!A37=MPP!$A$4+1,SUM(MPP!C30:C37),\"\"))","v":""},{"$f":"IF(MPP!A37<=MPP!$A$4,MPP!D37,IF(MPP!A37=MPP!$A$4+1,SUM(MPP!D30:D37),\"\"))","v":""},{"$f":"IF(MPP!A37<=MPP!$A$4,MPP!E37,IF(MPP!A37=MPP!$A$4+1,SUM(MPP!E30:E37),\"\"))","v":""},{"$f":"IF(MPP!A37<=MPP!$A$4,MPP!F37,IF(MPP!A37=MPP!$A$4+1,SUM(MPP!F30:F37),\"\"))","v":""},{"$f":"IF(MPP!A37<=MPP!$A$4,MPP!G37,IF(MPP!A37=MPP!$A$4+1,SUM(MPP!G30:G37),\"\"))","v":""},{"$f":"IF(MPP!A37<=MPP!$A$4,MPP!H37,IF(MPP!A37=MPP!$A$4+1,SUM(MPP!H30:H37),\"\"))","v":""},{"$f":"IF(MPP!A37<=MPP!$A$4,MPP!I37,IF(MPP!A37=MPP!$A$4+1,SUM(MPP!I30:I37),\"\"))","v":""},{"$f":"IF(MPP!A37<=MPP!$A$4,MPP!J37,IF(MPP!A37=MPP!$A$4+1,SUM(MPP!J30:J37),\"\"))","v":""},{"$f":"IF(MPP!A37<=MPP!$A$4,MPP!K37,IF(MPP!A37=MPP!$A$4+1,SUM(MPP!K30:K37),\"\"))","v":""},{"$f":"IF(MPP!A37<=MPP!$A$4,MPP!L37,IF(MPP!A37=MPP!$A$4+1,SUM(MPP!L30:L37),\"\"))","v":""},{"$f":"IF(MPP!A37<=MPP!$A$4,MPP!M37,IF(MPP!A37=MPP!$A$4+1,SUM(MPP!M30:M37),\"\"))","v":""},{"$f":"IF(MPP!A37<=MPP!$A$4,MPP!N37,IF(MPP!A37=MPP!$A$4+1,SUM(MPP!N30:N37),\"\"))","v":""}]
[{"$f":"IF(MPP!A38<=MPP!$A$4,MPP!B38,IF(MPP!A38=MPP!$A$4+1,\"Total\",\"\"))","v":""},{"$f":"IF(MPP!A38<=MPP!$A$4,MPP!C38,IF(MPP!A38=MPP!$A$4+1,SUM(MPP!C30:C37),\"\"))","v":""},{"$f":"IF(MPP!A38<=MPP!$A$4,MPP!D38,IF(MPP!A38=MPP!$A$4+1,SUM(MPP!D30:D37),\"\"))","v":""},{"$f":"IF(MPP!A38<=MPP!$A$4,MPP!E38,IF(MPP!A38=MPP!$A$4+1,SUM(MPP!E30:E37),\"\"))","v":""},{"$f":"IF(MPP!A38<=MPP!$A$4,MPP!F38,IF(MPP!A38=MPP!$A$4+1,SUM(MPP!F30:F37),\"\"))","v":""},{"$f":"IF(MPP!A38<=MPP!$A$4,MPP!G38,IF(MPP!A38=MPP!$A$4+1,SUM(MPP!G30:G37),\"\"))","v":""},{"$f":"IF(MPP!A38<=MPP!$A$4,MPP!H38,IF(MPP!A38=MPP!$A$4+1,SUM(MPP!H30:H37),\"\"))","v":""},{"$f":"IF(MPP!A38<=MPP!$A$4,MPP!I38,IF(MPP!A38=MPP!$A$4+1,SUM(MPP!I30:I37),\"\"))","v":""},{"$f":"IF(MPP!A38<=MPP!$A$4,MPP!J38,IF(MPP!A38=MPP!$A$4+1,SUM(MPP!J30:J37),\"\"))","v":""},{"$f":"IF(MPP!A38<=MPP!$A$4,MPP!K38,IF(MPP!A38=MPP!$A$4+1,SUM(MPP!K30:K37),\"\"))","v":""},{"$f":"IF(MPP!A38<=MPP!$A$4,MPP!L38,IF(MPP!A38=MPP!$A$4+1,SUM(MPP!L30:L37),\"\"))","v":""},{"$f":"IF(MPP!A38<=MPP!$A$4,MPP!M38,IF(MPP!A38=MPP!$A$4+1,SUM(MPP!M30:M37),\"\"))","v":""},{"$f":"IF(MPP!A38<=MPP!$A$4,MPP!N38,IF(MPP!A38=MPP!$A$4+1,SUM(MPP!N30:N37),\"\"))","v":""}]
[]
[]
[]
["Phase 2"]
["For Information purposes only: "]
["Amounts in Euro for Prime and Subcontractor(s)"]
["Milestone",{"$f":"MPP!C29","v":"Our company\n(IT)"},{"$f":" IF(MPP!D41<=MPP!$C$41,MPP!D42,\"\")","v":"Subco 1\n(AT)"},{"$f":" IF(MPP!E41<=MPP!$C$41,MPP!E42,\"\")","v":""},{"$f":" IF(MPP!F41<=MPP!$C$41,MPP!F42,\"\")","v":""},{"$f":" IF(MPP!G41<=MPP!$C$41,MPP!G42,\"\")","v":""},{"$f":" IF(MPP!H41<=MPP!$C$41,MPP!H42,\"\")","v":""},{"$f":" IF(MPP!I41<=MPP!$C$41,MPP!I42,\"\")","v":""},{"$f":" IF(MPP!J41<=MPP!$C$41,MPP!J42,\"\")","v":""},{"$f":" IF(MPP!K41<=MPP!$C$41,MPP!K42,\"\")","v":""},{"$f":" IF(MPP!L41<=MPP!$C$41,MPP!L42,\"\")","v":""},{"$f":" IF(MPP!M41<=MPP!$C$41,MPP!M42,\"\")","v":""},{"$f":" IF(MPP!N41<=MPP!$C$41,MPP!N42,\"\")","v":""}]
[{"$f":"IF(MPP!A43<=MPP!$A$16,MPP!B43,IF(MPP!A43=MPP!$A$16+1,\"Total\",\"\"))","v":"Milestone Description"},{"$f":"IF(MPP!A43<=MPP!$A$16,MPP!C43,IF(MPP!A43=MPP!$A$16+1,SUM(MPP!C43:C50),\"\"))","v":140000},{"$f":"IF(MPP!A43<=MPP!$A$16,MPP!D43,IF(MPP!A43=MPP!$A$16+1,SUM(MPP!D43:D50),\"\"))","v":40000},{"$f":"IF(MPP!A43<=MPP!$A$16,MPP!E43,IF(MPP!A43=MPP!$A$16+1,SUM(MPP!E43:E50),\"\"))","v":20000},{"$f":"IF(MPP!A43<=MPP!$A$16,MPP!F43,IF(MPP!A43=MPP!$A$16+1,SUM(MPP!F43:F50),\"\"))","v":0},{"$f":"IF(MPP!A43<=MPP!$A$16,MPP!G43,IF(MPP!A43=MPP!$A$16+1,SUM(MPP!G43:G50),\"\"))","v":0},{"$f":"IF(MPP!A43<=MPP!$A$16,MPP!H43,IF(MPP!A43=MPP!$A$16+1,SUM(MPP!H43:H50),\"\"))","v":0},{"$f":"IF(MPP!A43<=MPP!$A$16,MPP!I43,IF(MPP!A43=MPP!$A$16+1,SUM(MPP!I43:I50),\"\"))","v":0},{"$f":"IF(MPP!A43<=MPP!$A$16,MPP!J43,IF(MPP!A43=MPP!$A$16+1,SUM(MPP!J43:J50),\"\"))","v":0},{"$f":"IF(MPP!A43<=MPP!$A$16,MPP!K43,IF(MPP!A43=MPP!$A$16+1,SUM(MPP!K43:K50),\"\"))","v":0},{"$f":"IF(MPP!A43<=MPP!$A$16,MPP!L43,IF(MPP!A43=MPP!$A$16+1,SUM(MPP!L43:L50),\"\"))","v":0},{"$f":"IF(MPP!A43<=MPP!$A$16,MPP!M43,IF(MPP!A43=MPP!$A$16+1,SUM(MPP!M43:M50),\"\"))","v":0},{"$f":"IF(MPP!A43<=MPP!$A$16,MPP!N43,IF(MPP!A43=MPP!$A$16+1,SUM(MPP!N43:N50),\"\"))","v":0}]
[{"$f":"IF(MPP!A44<=MPP!$A$16,MPP!B44,IF(MPP!A44=MPP!$A$16+1,\"Total\",\"\"))","v":"Total"},{"$f":"IF(MPP!A44<=MPP!$A$16,MPP!C44,IF(MPP!A44=MPP!$A$16+1,SUM(MPP!C43:C50),\"\"))","v":600000},{"$f":"IF(MPP!A44<=MPP!$A$16,MPP!D44,IF(MPP!A44=MPP!$A$16+1,SUM(MPP!D43:D50),\"\"))","v":100000},{"$f":"IF(MPP!A44<=MPP!$A$16,MPP!E44,IF(MPP!A44=MPP!$A$16+1,SUM(MPP!E43:E50),\"\"))","v":90000},{"$f":"IF(MPP!A44<=MPP!$A$16,MPP!F44,IF(MPP!A44=MPP!$A$16+1,SUM(MPP!F43:F50),\"\"))","v":0},{"$f":"IF(MPP!A44<=MPP!$A$16,MPP!G44,IF(MPP!A44=MPP!$A$16+1,SUM(MPP!G43:G50),\"\"))","v":0},{"$f":"IF(MPP!A44<=MPP!$A$16,MPP!H44,IF(MPP!A44=MPP!$A$16+1,SUM(MPP!H43:H50),\"\"))","v":0},{"$f":"IF(MPP!A44<=MPP!$A$16,MPP!I44,IF(MPP!A44=MPP!$A$16+1,SUM(MPP!I43:I50),\"\"))","v":0},{"$f":"IF(MPP!A44<=MPP!$A$16,MPP!J44,IF(MPP!A44=MPP!$A$16+1,SUM(MPP!J43:J50),\"\"))","v":0},{"$f":"IF(MPP!A44<=MPP!$A$16,MPP!K44,IF(MPP!A44=MPP!$A$16+1,SUM(MPP!K43:K50),\"\"))","v":0},{"$f":"IF(MPP!A44<=MPP!$A$16,MPP!L44,IF(MPP!A44=MPP!$A$16+1,SUM(MPP!L43:L50),\"\"))","v":0},{"$f":"IF(MPP!A44<=MPP!$A$16,MPP!M44,IF(MPP!A44=MPP!$A$16+1,SUM(MPP!M43:M50),\"\"))","v":0},{"$f":"IF(MPP!A44<=MPP!$A$16,MPP!N44,IF(MPP!A44=MPP!$A$16+1,SUM(MPP!N43:N50),\"\"))","v":0}]
[{"$f":"IF(MPP!A45<=MPP!$A$16,MPP!B45,IF(MPP!A45=MPP!$A$16+1,\"Total\",\"\"))","v":""},{"$f":"IF(MPP!A45<=MPP!$A$16,MPP!C45,IF(MPP!A45=MPP!$A$16+1,SUM(MPP!C43:C50),\"\"))","v":""},{"$f":"IF(MPP!A45<=MPP!$A$16,MPP!D45,IF(MPP!A45=MPP!$A$16+1,SUM(MPP!D43:D50),\"\"))","v":""},{"$f":"IF(MPP!A45<=MPP!$A$16,MPP!E45,IF(MPP!A45=MPP!$A$16+1,SUM(MPP!E43:E50),\"\"))","v":""},{"$f":"IF(MPP!A45<=MPP!$A$16,MPP!F45,IF(MPP!A45=MPP!$A$16+1,SUM(MPP!F43:F50),\"\"))","v":""},{"$f":"IF(MPP!A45<=MPP!$A$16,MPP!G45,IF(MPP!A45=MPP!$A$16+1,SUM(MPP!G43:G50),\"\"))","v":""},{"$f":"IF(MPP!A45<=MPP!$A$16,MPP!H45,IF(MPP!A45=MPP!$A$16+1,SUM(MPP!H43:H50),\"\"))","v":""},{"$f":"IF(MPP!A45<=MPP!$A$16,MPP!I45,IF(MPP!A45=MPP!$A$16+1,SUM(MPP!I43:I50),\"\"))","v":""},{"$f":"IF(MPP!A45<=MPP!$A$16,MPP!J45,IF(MPP!A45=MPP!$A$16+1,SUM(MPP!J43:J50),\"\"))","v":""},{"$f":"IF(MPP!A45<=MPP!$A$16,MPP!K45,IF(MPP!A45=MPP!$A$16+1,SUM(MPP!K43:K50),\"\"))","v":""},{"$f":"IF(MPP!A45<=MPP!$A$16,MPP!L45,IF(MPP!A45=MPP!$A$16+1,SUM(MPP!L43:L50),\"\"))","v":""},{"$f":"IF(MPP!A45<=MPP!$A$16,MPP!M45,IF(MPP!A45=MPP!$A$16+1,SUM(MPP!M43:M50),\"\"))","v":""},{"$f":"IF(MPP!A45<=MPP!$A$16,MPP!N45,IF(MPP!A45=MPP!$A$16+1,SUM(MPP!N43:N50),\"\"))","v":""}]
[{"$f":"IF(MPP!A46<=MPP!$A$16,MPP!B46,IF(MPP!A46=MPP!$A$16+1,\"Total\",\"\"))","v":""},{"$f":"IF(MPP!A46<=MPP!$A$16,MPP!C46,IF(MPP!A46=MPP!$A$16+1,SUM(MPP!C43:C50),\"\"))","v":""},{"$f":"IF(MPP!A46<=MPP!$A$16,MPP!D46,IF(MPP!A46=MPP!$A$16+1,SUM(MPP!D43:D50),\"\"))","v":""},{"$f":"IF(MPP!A46<=MPP!$A$16,MPP!E46,IF(MPP!A46=MPP!$A$16+1,SUM(MPP!E43:E50),\"\"))","v":""},{"$f":"IF(MPP!A46<=MPP!$A$16,MPP!F46,IF(MPP!A46=MPP!$A$16+1,SUM(MPP!F43:F50),\"\"))","v":""},{"$f":"IF(MPP!A46<=MPP!$A$16,MPP!G46,IF(MPP!A46=MPP!$A$16+1,SUM(MPP!G43:G50),\"\"))","v":""},{"$f":"IF(MPP!A46<=MPP!$A$16,MPP!H46,IF(MPP!A46=MPP!$A$16+1,SUM(MPP!H43:H50),\"\"))","v":""},{"$f":"IF(MPP!A46<=MPP!$A$16,MPP!I46,IF(MPP!A46=MPP!$A$16+1,SUM(MPP!I43:I50),\"\"))","v":""},{"$f":"IF(MPP!A46<=MPP!$A$16,MPP!J46,IF(MPP!A46=MPP!$A$16+1,SUM(MPP!J43:J50),\"\"))","v":""},{"$f":"IF(MPP!A46<=MPP!$A$16,MPP!K46,IF(MPP!A46=MPP!$A$16+1,SUM(MPP!K43:K50),\"\"))","v":""},{"$f":"IF(MPP!A46<=MPP!$A$16,MPP!L46,IF(MPP!A46=MPP!$A$16+1,SUM(MPP!L43:L50),\"\"))","v":""},{"$f":"IF(MPP!A46<=MPP!$A$16,MPP!M46,IF(MPP!A46=MPP!$A$16+1,SUM(MPP!M43:M50),\"\"))","v":""},{"$f":"IF(MPP!A46<=MPP!$A$16,MPP!N46,IF(MPP!A46=MPP!$A$16+1,SUM(MPP!N43:N50),\"\"))","v":""}]
[{"$f":"IF(MPP!A47<=MPP!$A$16,MPP!B47,IF(MPP!A47=MPP!$A$16+1,\"Total\",\"\"))","v":""},{"$f":"IF(MPP!A47<=MPP!$A$16,MPP!C47,IF(MPP!A47=MPP!$A$16+1,SUM(MPP!C43:C50),\"\"))","v":""},{"$f":"IF(MPP!A47<=MPP!$A$16,MPP!D47,IF(MPP!A47=MPP!$A$16+1,SUM(MPP!D43:D50),\"\"))","v":""},{"$f":"IF(MPP!A47<=MPP!$A$16,MPP!E47,IF(MPP!A47=MPP!$A$16+1,SUM(MPP!E43:E50),\"\"))","v":""},{"$f":"IF(MPP!A47<=MPP!$A$16,MPP!F47,IF(MPP!A47=MPP!$A$16+1,SUM(MPP!F43:F50),\"\"))","v":""},{"$f":"IF(MPP!A47<=MPP!$A$16,MPP!G47,IF(MPP!A47=MPP!$A$16+1,SUM(MPP!G43:G50),\"\"))","v":""},{"$f":"IF(MPP!A47<=MPP!$A$16,MPP!H47,IF(MPP!A47=MPP!$A$16+1,SUM(MPP!H43:H50),\"\"))","v":""},{"$f":"IF(MPP!A47<=MPP!$A$16,MPP!I47,IF(MPP!A47=MPP!$A$16+1,SUM(MPP!I43:I50),\"\"))","v":""},{"$f":"IF(MPP!A47<=MPP!$A$16,MPP!J47,IF(MPP!A47=MPP!$A$16+1,SUM(MPP!J43:J50),\"\"))","v":""},{"$f":"IF(MPP!A47<=MPP!$A$16,MPP!K47,IF(MPP!A47=MPP!$A$16+1,SUM(MPP!K43:K50),\"\"))","v":""},{"$f":"IF(MPP!A47<=MPP!$A$16,MPP!L47,IF(MPP!A47=MPP!$A$16+1,SUM(MPP!L43:L50),\"\"))","v":""},{"$f":"IF(MPP!A47<=MPP!$A$16,MPP!M47,IF(MPP!A47=MPP!$A$16+1,SUM(MPP!M43:M50),\"\"))","v":""},{"$f":"IF(MPP!A47<=MPP!$A$16,MPP!N47,IF(MPP!A47=MPP!$A$16+1,SUM(MPP!N43:N50),\"\"))","v":""}]
[{"$f":"IF(MPP!A48<=MPP!$A$16,MPP!B48,IF(MPP!A48=MPP!$A$16+1,\"Total\",\"\"))","v":""},{"$f":"IF(MPP!A48<=MPP!$A$16,MPP!C48,IF(MPP!A48=MPP!$A$16+1,SUM(MPP!C43:CC50),\"\"))","v":""},{"$f":"IF(MPP!A48<=MPP!$A$16,MPP!D48,IF(MPP!A48=MPP!$A$16+1,SUM(MPP!D43:D50),\"\"))","v":""},{"$f":"IF(MPP!A48<=MPP!$A$16,MPP!E48,IF(MPP!A48=MPP!$A$16+1,SUM(MPP!E43:E50),\"\"))","v":""},{"$f":"IF(MPP!A48<=MPP!$A$16,MPP!F48,IF(MPP!A48=MPP!$A$16+1,SUM(MPP!F43:F50),\"\"))","v":""},{"$f":"IF(MPP!A48<=MPP!$A$16,MPP!G48,IF(MPP!A48=MPP!$A$16+1,SUM(MPP!G43:G50),\"\"))","v":""},{"$f":"IF(MPP!A48<=MPP!$A$16,MPP!H48,IF(MPP!A48=MPP!$A$16+1,SUM(MPP!H43:H50),\"\"))","v":""},{"$f":"IF(MPP!A48<=MPP!$A$16,MPP!I48,IF(MPP!A48=MPP!$A$16+1,SUM(MPP!I43:I50),\"\"))","v":""},{"$f":"IF(MPP!A48<=MPP!$A$16,MPP!J48,IF(MPP!A48=MPP!$A$16+1,SUM(MPP!J43:J50),\"\"))","v":""},{"$f":"IF(MPP!A48<=MPP!$A$16,MPP!K48,IF(MPP!A48=MPP!$A$16+1,SUM(MPP!K43:K50),\"\"))","v":""},{"$f":"IF(MPP!A48<=MPP!$A$16,MPP!L48,IF(MPP!A48=MPP!$A$16+1,SUM(MPP!L43:L50),\"\"))","v":""},{"$f":"IF(MPP!A48<=MPP!$A$16,MPP!M48,IF(MPP!A48=MPP!$A$16+1,SUM(MPP!M43:M50),\"\"))","v":""},{"$f":"IF(MPP!A48<=MPP!$A$16,MPP!N48,IF(MPP!A48=MPP!$A$16+1,SUM(MPP!N43:N50),\"\"))","v":""}]
[{"$f":"IF(MPP!A49<=MPP!$A$16,MPP!B49,IF(MPP!A49=MPP!$A$16+1,\"Total\",\"\"))","v":""},{"$f":"IF(MPP!A49<=MPP!$A$16,MPP!C49,IF(MPP!A49=MPP!$A$16+1,SUM(MPP!C43:CC50),\"\"))","v":""},{"$f":"IF(MPP!A49<=MPP!$A$16,MPP!D49,IF(MPP!A49=MPP!$A$16+1,SUM(MPP!D43:D50),\"\"))","v":""},{"$f":"IF(MPP!A49<=MPP!$A$16,MPP!E49,IF(MPP!A49=MPP!$A$16+1,SUM(MPP!E43:E50),\"\"))","v":""},{"$f":"IF(MPP!A49<=MPP!$A$16,MPP!F49,IF(MPP!A49=MPP!$A$16+1,SUM(MPP!F43:F50),\"\"))","v":""},{"$f":"IF(MPP!A49<=MPP!$A$16,MPP!G49,IF(MPP!A49=MPP!$A$16+1,SUM(MPP!G43:G50),\"\"))","v":""},{"$f":"IF(MPP!A49<=MPP!$A$16,MPP!H49,IF(MPP!A49=MPP!$A$16+1,SUM(MPP!H43:H50),\"\"))","v":""},{"$f":"IF(MPP!A49<=MPP!$A$16,MPP!I49,IF(MPP!A49=MPP!$A$16+1,SUM(MPP!I43:I50),\"\"))","v":""},{"$f":"IF(MPP!A49<=MPP!$A$16,MPP!J49,IF(MPP!A49=MPP!$A$16+1,SUM(MPP!J43:J50),\"\"))","v":""},{"$f":"IF(MPP!A49<=MPP!$A$16,MPP!K49,IF(MPP!A49=MPP!$A$16+1,SUM(MPP!K43:K50),\"\"))","v":""},{"$f":"IF(MPP!A49<=MPP!$A$16,MPP!L49,IF(MPP!A49=MPP!$A$16+1,SUM(MPP!L43:L50),\"\"))","v":""},{"$f":"IF(MPP!A49<=MPP!$A$16,MPP!M49,IF(MPP!A49=MPP!$A$16+1,SUM(MPP!M43:M50),\"\"))","v":""},{"$f":"IF(MPP!A49<=MPP!$A$16,MPP!N49,IF(MPP!A49=MPP!$A$16+1,SUM(MPP!N43:N50),\"\"))","v":""}]
[{"$f":"IF(MPP!A50<=MPP!$A$16,MPP!B50,IF(MPP!A50=MPP!$A$16+1,\"Total\",\"\"))","v":""},{"$f":"IF(MPP!A50<=MPP!$A$16,MPP!C50,IF(MPP!A50=MPP!$A$16+1,SUM(MPP!C43:CC50),\"\"))","v":""},{"$f":"IF(MPP!A50<=MPP!$A$16,MPP!D50,IF(MPP!A50=MPP!$A$16+1,SUM(MPP!D43:D50),\"\"))","v":""},{"$f":"IF(MPP!A50<=MPP!$A$16,MPP!E50,IF(MPP!A50=MPP!$A$16+1,SUM(MPP!E43:E50),\"\"))","v":""},{"$f":"IF(MPP!A50<=MPP!$A$16,MPP!F50,IF(MPP!A50=MPP!$A$16+1,SUM(MPP!F43:F50),\"\"))","v":""},{"$f":"IF(MPP!A50<=MPP!$A$16,MPP!G50,IF(MPP!A50=MPP!$A$16+1,SUM(MPP!G43:G50),\"\"))","v":""},{"$f":"IF(MPP!A50<=MPP!$A$16,MPP!H50,IF(MPP!A50=MPP!$A$16+1,SUM(MPP!H43:H50),\"\"))","v":""},{"$f":"IF(MPP!A50<=MPP!$A$16,MPP!I50,IF(MPP!A50=MPP!$A$16+1,SUM(MPP!I43:I50),\"\"))","v":""},{"$f":"IF(MPP!A50<=MPP!$A$16,MPP!J50,IF(MPP!A50=MPP!$A$16+1,SUM(MPP!J43:J50),\"\"))","v":""},{"$f":"IF(MPP!A50<=MPP!$A$16,MPP!K50,IF(MPP!A50=MPP!$A$16+1,SUM(MPP!K43:K50),\"\"))","v":""},{"$f":"IF(MPP!A50<=MPP!$A$16,MPP!L50,IF(MPP!A50=MPP!$A$16+1,SUM(MPP!L43:L50),\"\"))","v":""},{"$f":"IF(MPP!A50<=MPP!$A$16,MPP!M50,IF(MPP!A50=MPP!$A$16+1,SUM(MPP!M43:M50),\"\"))","v":""},{"$f":"IF(MPP!A50<=MPP!$A$16,MPP!N50,IF(MPP!A50=MPP!$A$16+1,SUM(MPP!N43:N50),\"\"))","v":""}]
[{"$f":"IF(MPP!A51<=MPP!$A$16,MPP!B51,IF(MPP!A51=MPP!$A$16+1,\"Total\",\"\"))","v":""},{"$f":"IF(MPP!A51<=MPP!$A$16,MPP!C51,IF(MPP!A51=MPP!$A$16+1,SUM(MPP!C43:C50),\"\"))","v":""},{"$f":"IF(MPP!A51<=MPP!$A$16,MPP!D51,IF(MPP!A51=MPP!$A$16+1,SUM(MPP!D43:D50),\"\"))","v":""},{"$f":"IF(MPP!A51<=MPP!$A$16,MPP!E51,IF(MPP!A51=MPP!$A$16+1,SUM(MPP!E43:E50),\"\"))","v":""},{"$f":"IF(MPP!A51<=MPP!$A$16,MPP!F51,IF(MPP!A51=MPP!$A$16+1,SUM(MPP!F43:F50),\"\"))","v":""},{"$f":"IF(MPP!A51<=MPP!$A$16,MPP!G51,IF(MPP!A51=MPP!$A$16+1,SUM(MPP!G43:G50),\"\"))","v":""},{"$f":"IF(MPP!A51<=MPP!$A$16,MPP!H51,IF(MPP!A51=MPP!$A$16+1,SUM(MPP!H43:H50),\"\"))","v":""},{"$f":"IF(MPP!A51<=MPP!$A$16,MPP!I51,IF(MPP!A51=MPP!$A$16+1,SUM(MPP!I43:I50),\"\"))","v":""},{"$f":"IF(MPP!A51<=MPP!$A$16,MPP!J51,IF(MPP!A51=MPP!$A$16+1,SUM(MPP!J43:J50),\"\"))","v":""},{"$f":"IF(MPP!A51<=MPP!$A$16,MPP!K51,IF(MPP!A51=MPP!$A$16+1,SUM(MPP!K43:K50),\"\"))","v":""},{"$f":"IF(MPP!A51<=MPP!$A$16,MPP!L51,IF(MPP!A51=MPP!$A$16+1,SUM(MPP!L43:L50),\"\"))","v":""},{"$f":"IF(MPP!A51<=MPP!$A$16,MPP!M51,IF(MPP!A51=MPP!$A$16+1,SUM(MPP!M43:M50),\"\"))","v":""},{"$f":"IF(MPP!A51<=MPP!$A$16,MPP!N51,IF(MPP!A51=MPP!$A$16+1,SUM(MPP!N43:N50),\"\"))","v":""}]

{"sheet":"TableAdvance","index":11,"n_rows":34,"n_cols":10,"rows_kept":34,"cut":false,"hidden":false,"merged":[[0,9,0,12]]}
["Phase 1 - Advance Breakdown",null,null,null,null,null,null,null,null,"Scroll down for Phase 2 table"]
["For Information purposes only: "]
["Amounts in Euro for Contractor and Subcontractor(s)"]
["Prime (P) / Subco (SI)",{"$f":" \"Company\" & CHAR(10) & \"Name\"","v":"Company\nName"},"Vendor Code \n(at contract \nsignature)","Country (ISO code)","Advance Payment (in Euro)","Offset against","Offset by Euro","Condition for release of the Advance Payment (if applicable)"]
[{"$f":"IF(ADV!A3=\"Yes\",ADV!D3,\"\")","v":"P"},{"$f":"IF(A5=\"\",\"\",ADV!E3)","v":"Our Company"},{"$f":"IF(A5=\"\",\"\",ADV!F3)","v":"100 xxx-xxx"},{"$f":"IF(A5=\"\",\"\",ADV!G3)","v":"IT"},{"$f":"IF(A5=\"\",\"\",ADV!H3)","v":50000},{"$f":"IF(A5=\"\",\"\",TRIM(ADV!I3&CHAR(10)&ADV!I4&CHAR(10)&ADV!I5&CHAR(10)&ADV!I6&CHAR(10)&ADV!I7&CHAR(10)&ADV!I8&CHAR(10)&ADV!I9&CHAR(10)&ADV!I10&CHAR(10)))","v":"Milestone 1\nMilestone 2\n\n\n\n\n\n\n"},{"$f":"IF(A5=\"\",\"\",TRIM(ADV!J3&CHAR(10)&ADV!J4&CHAR(10)&ADV!J5&CHAR(10)&ADV!J6&CHAR(10)&ADV!J7&CHAR(10)&ADV!J8&CHAR(10)&ADV!J9&CHAR(10)&ADV!J10&CHAR(10)))","v":"25000\n25000\n\n\n\n\n\n\n"},{"$f":"IF(A5=\"\",\"\",ADV!K3)","v":"After signature of the Contract by both Parties"}]
[{"$f":"IF(ADV!A11=\"Yes\",ADV!D11,\"\")","v":"SI"},{"$f":"IF(A6=\"\",\"\",ADV!E11)","v":"Subco 1"},{"$f":"IF(A6=\"\",\"\",ADV!F11)","v":"100 xxx-xxx"},{"$f":"IF(A6=\"\",\"\",ADV!G11)","v":"AT"},{"$f":"IF(A6=\"\",\"\",ADV!H11)","v":4000},{"$f":"IF(A6<>\"\",TRIM(ADV!I11&CHAR(10)&ADV!I12&CHAR(10)&ADV!I13&CHAR(10)&ADV!I14&CHAR(10)&ADV!I15&CHAR(10)&ADV!I16&CHAR(10)&ADV!I17&CHAR(10)&ADV!I18&CHAR(10)),\"\")","v":"Milestone 1\nMilestone 2\n\n\n\n\n\n\n"},{"$f":"IF(B6<>\"\",TRIM(ADV!J11&CHAR(10)&ADV!J12&CHAR(10)&ADV!J13&CHAR(10)&ADV!J14&CHAR(10)&ADV!J15&CHAR(10)&ADV!J16&CHAR(10)&ADV!J17&CHAR(10)&ADV!J18&CHAR(10)),\"\")","v":"2000\n2000\n\n\n\n\n\n\n"},{"$f":"IF(A6=\"\",\"\",ADV!K11)","v":"After signature of the Contract by both Parties"}]
[{"$f":"IF(ADV!A19=\"Yes\",ADV!D19,\"\")","v":""},{"$f":"IF(A7=\"\",\"\",ADV!E19)","v":""},{"$f":"IF(A7=\"\",\"\",ADV!F19)","v":""},{"$f":"IF(C7=\"\",\"\",ADV!G19)","v":""},{"$f":"IF(D7=\"\",\"\",ADV!H19)","v":""},{"$f":"IF(A7<>\"\",TRIM(ADV!I19&CHAR(10)&ADV!I20&CHAR(10)&ADV!I21&CHAR(10)&ADV!I22&CHAR(10)&ADV!I23&CHAR(10)&ADV!I24&CHAR(10)&ADV!I25&CHAR(10)&ADV!I26),\"\")","v":""},{"$f":"IF(B7<>\"\",TRIM(ADV!J19&CHAR(10)&ADV!J20&CHAR(10)&ADV!J21&CHAR(10)&ADV!J22&CHAR(10)&ADV!J23&CHAR(10)&ADV!J24&CHAR(10)&ADV!J25&CHAR(10)&ADV!J26),\"\")","v":""},{"$f":"IF(A7=\"\",\"\",ADV!K19)","v":""}]
[{"$f":"IF(ADV!A27=\"Yes\",ADV!D27,\"\")","v":""},{"$f":"IF(A8=\"\",\"\",ADV!E27)","v":""},{"$f":"IF(A8=\"\",\"\",ADV!F27)","v":""},{"$f":"IF(C8=\"\",\"\",ADV!G27)","v":""},{"$f":"IF(D8=\"\",\"\",ADV!H27)","v":""},{"$f":"IF(A8<>\"\",TRIM(ADV!I27&CHAR(10)&ADV!I28&CHAR(10)&ADV!I29&CHAR(10)&ADV!I30&CHAR(10)&ADV!I31&CHAR(10)&ADV!I32&CHAR(10)&ADV!I33&CHAR(10)&ADV!I34),\"\")","v":""},{"$f":"IF(B8<>\"\",TRIM(ADV!J27&CHAR(10)&ADV!J28&CHAR(10)&ADV!J29&CHAR(10)&ADV!J30&CHAR(10)&ADV!J31&CHAR(10)&ADV!J32&CHAR(10)&ADV!J33&CHAR(10)&ADV!J34),\"\")","v":""},{"$f":"IF(A8=\"\",\"\",ADV!K27)","v":""}]
[{"$f":"IF(ADV!A35=\"Yes\",ADV!D35,\"\")","v":""},{"$f":"IF(A9=\"\",\"\",ADV!E35)","v":""},{"$f":"IF(A9=\"\",\"\",ADV!F35)","v":""},{"$f":"IF(C9=\"\",\"\",ADV!G35)","v":""},{"$f":"IF(D9=\"\",\"\",ADV!H35)","v":""},{"$f":"IF(A9<>\"\",TRIM(ADV!I35&CHAR(10)&ADV!I36&CHAR(10)&ADV!I37&CHAR(10)&ADV!I38&CHAR(10)&ADV!I39&CHAR(10)&ADV!I40&CHAR(10)&ADV!I41&CHAR(10)&ADV!I42),\"\")","v":""},{"$f":"IF(B9<>\"\",TRIM(ADV!J35&CHAR(10)&ADV!J36&CHAR(10)&ADV!J37&CHAR(10)&ADV!J38&CHAR(10)&ADV!J39&CHAR(10)&ADV!J40&CHAR(10)&ADV!J41&CHAR(10)&ADV!J42),\"\")","v":""},{"$f":"IF(A9=\"\",\"\",ADV!K35)","v":""}]
[{"$f":"IF(ADV!A43=\"Yes\",ADV!D43,\"\")","v":""},{"$f":"IF(A10=\"\",\"\",ADV!E43)","v":""},{"$f":"IF(A10=\"\",\"\",ADV!F43)","v":""},{"$f":"IF(C10=\"\",\"\",ADV!G43)","v":""},{"$f":"IF(D10=\"\",\"\",ADV!H43)","v":""},{"$f":"IF(A10<>\"\",TRIM(ADV!I43&CHAR(10)&ADV!I44&CHAR(10)&ADV!I45&CHAR(10)&ADV!I46&CHAR(10)&ADV!I47&CHAR(10)&ADV!I48&CHAR(10)&ADV!I49&CHAR(10)&ADV!I50),\"\")","v":""},{"$f":"IF(B10<>\"\",TRIM(ADV!J43&CHAR(10)&ADV!J44&CHAR(10)&ADV!J45&CHAR(10)&ADV!J46&CHAR(10)&ADV!J47&CHAR(10)&ADV!J48&CHAR(10)&ADV!J49&CHAR(10)&ADV!J50),\"\")","v":""},{"$f":"IF(A10=\"\",\"\",ADV!K43)","v":""}]
[{"$f":"IF(ADV!A51=\"Yes\",ADV!D51,\"\")","v":""},{"$f":"IF(A11=\"\",\"\",ADV!E51)","v":""},{"$f":"IF(A11=\"\",\"\",ADV!F51)","v":""},{"$f":"IF(C11=\"\",\"\",ADV!G51)","v":""},{"$f":"IF(D11=\"\",\"\",ADV!H51)","v":""},{"$f":"IF(A11<>\"\",TRIM(ADV!I51&CHAR(10)&ADV!I52&CHAR(10)&ADV!I53&CHAR(10)&ADV!I54&CHAR(10)&ADV!I55&CHAR(10)&ADV!I56&CHAR(10)&ADV!I57&CHAR(10)&ADV!I58),\"\")","v":""},{"$f":"IF(B11<>\"\",TRIM(ADV!J51&CHAR(10)&ADV!J52&CHAR(10)&ADV!J53&CHAR(10)&ADV!J54&CHAR(10)&ADV!J55&CHAR(10)&ADV!J56&CHAR(10)&ADV!J57&CHAR(10)&ADV!J58),\"\")","v":""},{"$f":"IF(A11=\"\",\"\",ADV!K51)","v":""}]
[{"$f":"IF(ADV!A59=\"Yes\",ADV!D59,\"\")","v":""},{"$f":"IF(A12=\"\",\"\",ADV!E59)","v":""},{"$f":"IF(A12=\"\",\"\",ADV!F59)","v":""},{"$f":"IF(C12=\"\",\"\",ADV!G59)","v":""},{"$f":"IF(D12=\"\",\"\",ADV!H59)","v":""},{"$f":"IF(A12<>\"\",TRIM(ADV!I59&CHAR(10)&ADV!I60&CHAR(10)&ADV!I61&CHAR(10)&ADV!I62&CHAR(10)&ADV!I63&CHAR(10)&ADV!I64&CHAR(10)&ADV!I65&CHAR(10)&ADV!I66),\"\")","v":""},{"$f":"IF(B12<>\"\",TRIM(ADV!J59&CHAR(10)&ADV!J60&CHAR(10)&ADV!J61&CHAR(10)&ADV!J62&CHAR(10)&ADV!J63&CHAR(10)&ADV!J64&CHAR(10)&ADV!J65&CHAR(10)&ADV!J66),\"\")","v":""},{"$f":"IF(A12=\"\",\"\",ADV!K59)","v":""}]
[{"$f":"IF(ADV!A67=\"Yes\",ADV!D67,\"\")","v":""},{"$f":"IF(A13=\"\",\"\",ADV!E67)","v":""},{"$f":"IF(A13=\"\",\"\",ADV!F67)","v":""},{"$f":"IF(C13=\"\",\"\",ADV!G67)","v":""},{"$f":"IF(D13=\"\",\"\",ADV!H67)","v":""},{"$f":"IF(A13<>\"\",TRIM(ADV!I67&CHAR(10)&ADV!I68&CHAR(10)&ADV!I69&CHAR(10)&ADV!I70&CHAR(10)&ADV!I71&CHAR(10)&ADV!I72&CHAR(10)&ADV!I73&CHAR(10)&ADV!I74),\"\")","v":""},{"$f":"IF(B13<>\"\",TRIM(ADV!J67&CHAR(10)&ADV!J68&CHAR(10)&ADV!J69&CHAR(10)&ADV!J70&CHAR(10)&ADV!J71&CHAR(10)&ADV!J72&CHAR(10)&ADV!J73&CHAR(10)&ADV!J74),\"\")","v":""},{"$f":"IF(A13=\"\",\"\",ADV!K67)","v":""}]
[{"$f":"IF(ADV!A75=\"Yes\",ADV!D75,\"\")","v":""},{"$f":"IF(A14=\"\",\"\",ADV!E75)","v":""},{"$f":"IF(A14=\"\",\"\",ADV!F75)","v":""},{"$f":"IF(C14=\"\",\"\",ADV!G75)","v":""},{"$f":"IF(D14=\"\",\"\",ADV!H75)","v":""},{"$f":"IF(A14<>\"\",TRIM(ADV!I75&CHAR(10)&ADV!I76&CHAR(10)&ADV!I77&CHAR(10)&ADV!I78&CHAR(10)&ADV!I79&CHAR(10)&ADV!I80&CHAR(10)&ADV!I81&CHAR(10)&ADV!I82),\"\")","v":""},{"$f":"IF(B14<>\"\",TRIM(ADV!J75&CHAR(10)&ADV!J76&CHAR(10)&ADV!J77&CHAR(10)&ADV!J78&CHAR(10)&ADV!J79&CHAR(10)&ADV!J80&CHAR(10)&ADV!J81&CHAR(10)&ADV!J82),\"\")","v":""},{"$f":"IF(A14=\"\",\"\",ADV!K75)","v":""}]
[{"$f":"IF(ADV!A83=\"Yes\",ADV!D83,\"\")","v":""},{"$f":"IF(A15=\"\",\"\",ADV!E83)","v":""},{"$f":"IF(A15=\"\",\"\",ADV!F83)","v":""},{"$f":"IF(C15=\"\",\"\",ADV!G83)","v":""},{"$f":"IF(D15=\"\",\"\",ADV!H83)","v":""},{"$f":"IF(A15<>\"\",TRIM(ADV!I75&CHAR(10)&ADV!I76&CHAR(10)&ADV!I77&CHAR(10)&ADV!I78&CHAR(10)&ADV!I79&CHAR(10)&ADV!I80&CHAR(10)&ADV!I81&CHAR(10)&ADV!I82),\"\")","v":""},{"$f":"IF(B15<>\"\",TRIM(ADV!J75&CHAR(10)&ADV!J76&CHAR(10)&ADV!J77&CHAR(10)&ADV!J78&CHAR(10)&ADV!J79&CHAR(10)&ADV!J80&CHAR(10)&ADV!J81&CHAR(10)&ADV!J82),\"\")","v":""},{"$f":"IF(A15=\"\",\"\",ADV!K83)","v":""}]
[{"$f":"IF(ADV!A91=\"Yes\",ADV!D91,\"\")","v":""},{"$f":"IF(A16=\"\",\"\",ADV!E91)","v":""},{"$f":"IF(A16=\"\",\"\",ADV!F91)","v":""},{"$f":"IF(C16=\"\",\"\",ADV!G91)","v":""},{"$f":"IF(D16=\"\",\"\",ADV!H91)","v":""},{"$f":"IF(A16<>\"\",TRIM(ADV!I91&CHAR(10)&ADV!I92&CHAR(10)&ADV!I93&CHAR(10)&ADV!I94&CHAR(10)&ADV!I95&CHAR(10)&ADV!I96&CHAR(10)&ADV!I97&CHAR(10)&ADV!I98),\"\")","v":""},{"$f":"IF(B16<>\"\",TRIM(ADV!J91&CHAR(10)&ADV!J92&CHAR(10)&ADV!J93&CHAR(10)&ADV!J94&CHAR(10)&ADV!J95&CHAR(10)&ADV!J96&CHAR(10)&ADV!J97&CHAR(10)&ADV!J98),\"\")","v":""},{"$f":"IF(A16=\"\",\"\",ADV!K91)","v":""}]
[]
[]
["Phase 2 - Advance Breakdown"]
["For Information purposes only: "]
["Amounts in Euro for Contractor and Subcontractor(s)"]
["Prime (P) / Subco (SI)",{"$f":" \"Company\" & CHAR(10) & \"Name\"","v":"Company\nName"},"Vendor Code \n(at contract \nsignature)","Country (ISO code)","Advance Payment (in Euro)","Offset against","Offset by Euro","Condition for release of the Advance Payment (if applicable)"]
[{"$f":"IF(ADV!A104=\"Yes\",ADV!D104,\"\")","v":"P"},{"$f":"IF(A23=\"\",\"\",ADV!E104)","v":"Our Company"},{"$f":"IF(A23=\"\",\"\",ADV!F104)","v":"100 xxx-xxx"},{"$f":"IF(A23=\"\",\"\",ADV!G104)","v":"IT"},{"$f":"IF(A23=\"\",\"\",ADV!H104)","v":50000},{"$f":"IF(A23=\"\",\"\",TRIM(ADV!I104&CHAR(10)&ADV!I105&CHAR(10)&ADV!I106&CHAR(10)&ADV!I107&CHAR(10)&ADV!I108&CHAR(10)&ADV!I109&CHAR(10)&ADV!I110&CHAR(10)&ADV!I111&CHAR(10)))","v":"Milestone 1\nMilestone 2\nMilestone 3\nMilestone 4\n\n\n\n\n"},{"$f":"IF(A23=\"\",\"\",TRIM(ADV!J104&CHAR(10)&ADV!J105&CHAR(10)&ADV!J106&CHAR(10)&ADV!J107&CHAR(10)&ADV!J108&CHAR(10)&ADV!J109&CHAR(10)&ADV!J110&CHAR(10)&ADV!J111&CHAR(10)))","v":"10000\n10000\n10000\n10000\n\n\n\n\n"},{"$f":"IF(A23=\"\",\"\",ADV!K104)","v":"After signature of the Contract by both Parties"}]
[{"$f":"IF(ADV!A112=\"Yes\",ADV!D112,\"\")","v":""},{"$f":"IF(A24=\"\",\"\",ADV!E112)","v":""},{"$f":"IF(A24=\"\",\"\",ADV!F112)","v":""},{"$f":"IF(A24=\"\",\"\",ADV!G112)","v":""},{"$f":"IF(A24=\"\",\"\",ADV!H112)","v":""},{"$f":"IF(A24<>\"\",TRIM(ADV!I112&CHAR(10)&ADV!I113&CHAR(10)&ADV!I114&CHAR(10)&ADV!I115&CHAR(10)&ADV!I116&CHAR(10)&ADV!I117&CHAR(10)&ADV!I118&CHAR(10)&ADV!I119&CHAR(10)),\"\")","v":""},{"$f":"IF(B24<>\"\",TRIM(ADV!J112&CHAR(10)&ADV!J113&CHAR(10)&ADV!J114&CHAR(10)&ADV!J115&CHAR(10)&ADV!J116&CHAR(10)&ADV!J117&CHAR(10)&ADV!J118&CHAR(10)&ADV!J119&CHAR(10)),\"\")","v":""},{"$f":"IF(A24=\"\",\"\",ADV!K112)","v":""}]
[{"$f":"IF(ADV!A120=\"Yes\",ADV!D120,\"\")","v":""},{"$f":"IF(A25=\"\",\"\",ADV!E120)","v":""},{"$f":"IF(A25=\"\",\"\",ADV!F120)","v":""},{"$f":"IF(C25=\"\",\"\",ADV!G120)","v":""},{"$f":"IF(D25=\"\",\"\",ADV!H120)","v":""},{"$f":"IF(A25<>\"\",TRIM(ADV!I120&CHAR(10)&ADV!I121&CHAR(10)&ADV!I122&CHAR(10)&ADV!I123&CHAR(10)&ADV!I124&CHAR(10)&ADV!I125&CHAR(10)&ADV!I126&CHAR(10)&ADV!I127),\"\")","v":""},{"$f":"IF(B25<>\"\",TRIM(ADV!J120&CHAR(10)&ADV!J121&CHAR(10)&ADV!J122&CHAR(10)&ADV!J123&CHAR(10)&ADV!J124&CHAR(10)&ADV!J125&CHAR(10)&ADV!J126&CHAR(10)&ADV!J127),\"\")","v":""},{"$f":"IF(A25=\"\",\"\",ADV!K120)","v":""}]
[{"$f":"IF(ADV!A128=\"Yes\",ADV!D128,\"\")","v":""},{"$f":"IF(A26=\"\",\"\",ADV!E128)","v":""},{"$f":"IF(A26=\"\",\"\",ADV!F128)","v":""},{"$f":"IF(C26=\"\",\"\",ADV!G128)","v":""},{"$f":"IF(D26=\"\",\"\",ADV!H128)","v":""},{"$f":"IF(A26<>\"\",TRIM(ADV!I128&CHAR(10)&ADV!I129&CHAR(10)&ADV!I130&CHAR(10)&ADV!I131&CHAR(10)&ADV!I132&CHAR(10)&ADV!I133&CHAR(10)&ADV!I134&CHAR(10)&ADV!I135),\"\")","v":""},{"$f":"IF(B26<>\"\",TRIM(ADV!J128&CHAR(10)&ADV!J129&CHAR(10)&ADV!J130&CHAR(10)&ADV!J131&CHAR(10)&ADV!J132&CHAR(10)&ADV!J133&CHAR(10)&ADV!J134&CHAR(10)&ADV!J135),\"\")","v":""},{"$f":"IF(A26=\"\",\"\",ADV!K128)","v":""}]
[{"$f":"IF(ADV!A136=\"Yes\",ADV!D136,\"\")","v":""},{"$f":"IF(A27=\"\",\"\",ADV!E136)","v":""},{"$f":"IF(A27=\"\",\"\",ADV!F136)","v":""},{"$f":"IF(C27=\"\",\"\",ADV!G136)","v":""},{"$f":"IF(D27=\"\",\"\",ADV!H136)","v":""},{"$f":"IF(A27<>\"\",TRIM(ADV!I136&CHAR(10)&ADV!I137&CHAR(10)&ADV!I138&CHAR(10)&ADV!I139&CHAR(10)&ADV!I140&CHAR(10)&ADV!I141&CHAR(10)&ADV!I142&CHAR(10)&ADV!I143),\"\")","v":""},{"$f":"IF(B27<>\"\",TRIM(ADV!J136&CHAR(10)&ADV!J137&CHAR(10)&ADV!J138&CHAR(10)&ADV!J139&CHAR(10)&ADV!J140&CHAR(10)&ADV!J141&CHAR(10)&ADV!J142&CHAR(10)&ADV!J143),\"\")","v":""},{"$f":"IF(A27=\"\",\"\",ADV!K136)","v":""}]
[{"$f":"IF(ADV!A144=\"Yes\",ADV!D144,\"\")","v":""},{"$f":"IF(A28=\"\",\"\",ADV!E144)","v":""},{"$f":"IF(A28=\"\",\"\",ADV!F144)","v":""},{"$f":"IF(C28=\"\",\"\",ADV!G144)","v":""},{"$f":"IF(D28=\"\",\"\",ADV!H144)","v":""},{"$f":"IF(A28<>\"\",TRIM(ADV!I144&CHAR(10)&ADV!I145&CHAR(10)&ADV!I146&CHAR(10)&ADV!I147&CHAR(10)&ADV!I148&CHAR(10)&ADV!I149&CHAR(10)&ADV!I150&CHAR(10)&ADV!I151),\"\")","v":""},{"$f":"IF(B28<>\"\",TRIM(ADV!J144&CHAR(10)&ADV!J145&CHAR(10)&ADV!J146&CHAR(10)&ADV!J147&CHAR(10)&ADV!J148&CHAR(10)&ADV!J149&CHAR(10)&ADV!J150&CHAR(10)&ADV!J151),\"\")","v":""},{"$f":"IF(A28=\"\",\"\",ADV!K144)","v":""}]
[{"$f":"IF(ADV!A152=\"Yes\",ADV!D152,\"\")","v":""},{"$f":"IF(A29=\"\",\"\",ADV!E152)","v":""},{"$f":"IF(A29=\"\",\"\",ADV!F152)","v":""},{"$f":"IF(C29=\"\",\"\",ADV!G152)","v":""},{"$f":"IF(D29=\"\",\"\",ADV!H152)","v":""},{"$f":"IF(A29<>\"\",TRIM(ADV!I152&CHAR(10)&ADV!I153&CHAR(10)&ADV!I154&CHAR(10)&ADV!I155&CHAR(10)&ADV!I156&CHAR(10)&ADV!I157&CHAR(10)&ADV!I158&CHAR(10)&ADV!I159),\"\")","v":""},{"$f":"IF(B29<>\"\",TRIM(ADV!J152&CHAR(10)&ADV!J153&CHAR(10)&ADV!J154&CHAR(10)&ADV!J155&CHAR(10)&ADV!J156&CHAR(10)&ADV!J157&CHAR(10)&ADV!J158&CHAR(10)&ADV!J159),\"\")","v":""},{"$f":"IF(A29=\"\",\"\",ADV!K152)","v":""}]
[{"$f":"IF(ADV!A160=\"Yes\",ADV!D160,\"\")","v":""},{"$f":"IF(A30=\"\",\"\",ADV!E160)","v":""},{"$f":"IF(A30=\"\",\"\",ADV!F160)","v":""},{"$f":"IF(C30=\"\",\"\",ADV!G160)","v":""},{"$f":"IF(D30=\"\",\"\",ADV!H160)","v":""},{"$f":"IF(A30<>\"\",TRIM(ADV!I160&CHAR(10)&ADV!I161&CHAR(10)&ADV!I162&CHAR(10)&ADV!I163&CHAR(10)&ADV!I164&CHAR(10)&ADV!I165&CHAR(10)&ADV!I166&CHAR(10)&ADV!I167),\"\")","v":""},{"$f":"IF(B30<>\"\",TRIM(ADV!J160&CHAR(10)&ADV!J161&CHAR(10)&ADV!J162&CHAR(10)&ADV!J163&CHAR(10)&ADV!J164&CHAR(10)&ADV!J165&CHAR(10)&ADV!J166&CHAR(10)&ADV!J167),\"\")","v":""},{"$f":"IF(A30=\"\",\"\",ADV!K160)","v":""}]
[{"$f":"IF(ADV!A168=\"Yes\",ADV!D168,\"\")","v":""},{"$f":"IF(A31=\"\",\"\",ADV!E168)","v":""},{"$f":"IF(A31=\"\",\"\",ADV!F168)","v":""},{"$f":"IF(C31=\"\",\"\",ADV!G168)","v":""},{"$f":"IF(D31=\"\",\"\",ADV!H168)","v":""},{"$f":"IF(A31<>\"\",TRIM(ADV!I168&CHAR(10)&ADV!I169&CHAR(10)&ADV!I170&CHAR(10)&ADV!I171&CHAR(10)&ADV!I172&CHAR(10)&ADV!I173&CHAR(10)&ADV!I174&CHAR(10)&ADV!I175),\"\")","v":""},{"$f":"IF(B31<>\"\",TRIM(ADV!J168&CHAR(10)&ADV!J169&CHAR(10)&ADV!J170&CHAR(10)&ADV!J171&CHAR(10)&ADV!J172&CHAR(10)&ADV!J173&CHAR(10)&ADV!J174&CHAR(10)&ADV!J175),\"\")","v":""},{"$f":"IF(A31=\"\",\"\",ADV!K168)","v":""}]
[{"$f":"IF(ADV!A176=\"Yes\",ADV!D176,\"\")","v":""},{"$f":"IF(A32=\"\",\"\",ADV!E176)","v":""},{"$f":"IF(A32=\"\",\"\",ADV!F176)","v":""},{"$f":"IF(C32=\"\",\"\",ADV!G176)","v":""},{"$f":"IF(D32=\"\",\"\",ADV!H176)","v":""},{"$f":"IF(A32<>\"\",TRIM(ADV!I176&CHAR(10)&ADV!I177&CHAR(10)&ADV!I178&CHAR(10)&ADV!I179&CHAR(10)&ADV!I180&CHAR(10)&ADV!I181&CHAR(10)&ADV!I182&CHAR(10)&ADV!I183),\"\")","v":""},{"$f":"IF(B32<>\"\",TRIM(ADV!J176&CHAR(10)&ADV!J177&CHAR(10)&ADV!J178&CHAR(10)&ADV!J179&CHAR(10)&ADV!J180&CHAR(10)&ADV!J181&CHAR(10)&ADV!J182&CHAR(10)&ADV!J183),\"\")","v":""},{"$f":"IF(A32=\"\",\"\",ADV!K176)","v":""}]
[{"$f":"IF(ADV!A184=\"Yes\",ADV!D184,\"\")","v":""},{"$f":"IF(A33=\"\",\"\",ADV!E184)","v":""},{"$f":"IF(A33=\"\",\"\",ADV!F184)","v":""},{"$f":"IF(C33=\"\",\"\",ADV!G184)","v":""},{"$f":"IF(D33=\"\",\"\",ADV!H184)","v":""},{"$f":"IF(A33<>\"\",TRIM(ADV!I184&CHAR(10)&ADV!I185&CHAR(10)&ADV!I186&CHAR(10)&ADV!I187&CHAR(10)&ADV!I188&CHAR(10)&ADV!I189&CHAR(10)&ADV!I190&CHAR(10)&ADV!I191),\"\")","v":""},{"$f":"IF(B33<>\"\",TRIM(ADV!J184&CHAR(10)&ADV!J185&CHAR(10)&ADV!J186&CHAR(10)&ADV!J187&CHAR(10)&ADV!J188&CHAR(10)&ADV!J189&CHAR(10)&ADV!J190&CHAR(10)&ADV!J191),\"\")","v":""},{"$f":"IF(A33=\"\",\"\",ADV!K184)","v":""}]
[{"$f":"IF(ADV!A192=\"Yes\",ADV!D192,\"\")","v":""},{"$f":"IF(A34=\"\",\"\",ADV!E192)","v":""},{"$f":"IF(A34=\"\",\"\",ADV!F192)","v":""},{"$f":"IF(C34=\"\",\"\",ADV!G192)","v":""},{"$f":"IF(D34=\"\",\"\",ADV!H192)","v":""},{"$f":"IF(A34<>\"\",TRIM(ADV!I192&CHAR(10)&ADV!I193&CHAR(10)&ADV!I194&CHAR(10)&ADV!I195&CHAR(10)&ADV!I196&CHAR(10)&ADV!I197&CHAR(10)&ADV!I198&CHAR(10)&ADV!I199),\"\")","v":""},{"$f":"IF(B34<>\"\",TRIM(ADV!J192&CHAR(10)&ADV!J193&CHAR(10)&ADV!J194&CHAR(10)&ADV!J195&CHAR(10)&ADV!J196&CHAR(10)&ADV!J197&CHAR(10)&ADV!J198&CHAR(10)&ADV!J199),\"\")","v":""},{"$f":"IF(A34=\"\",\"\",ADV!K192)","v":""}]

{"sheet":"rawdata","index":12,"n_rows":77,"n_cols":2,"rows_kept":77,"cut":false,"hidden":true,"merged":[]}
["nbSubPhase1",{"$f":"Overview!B8","v":1}]
["nbMSPhase1",{"$f":"Overview!B10","v":1}]
["nbSubPhase2",{"$f":"Overview!B9","v":1}]
["nbMSPhase2",{"$f":"Overview!B11","v":1}]
["nbOffsetPhase1",{"$f":"COUNTA(ADV!I3:I10)","v":2}]
["nbOffsetPhase2",{"$f":"COUNTA(ADV!I104:I111)","v":4}]
["Advance Payment Phase 1",{"$f":"Overview!B12=\"yes\"","v":true}]
["Advance Payment Phase 2",{"$f":"Overview!B13=\"yes\"","v":true}]
["nbEntityWithAdvancePhase 1",{"$f":"COUNTIF(Consortium!G3:G14,\"Yes\")","v":2}]
["nbEntityWithAdvancePhase 2",{"$f":"COUNTIF(Consortium!O3:O14,\"Yes\")","v":1}]
["nbPhases",{"$f":"Overview!B7","v":2}]
["nbRow",{"$f":"COUNTA(A13:A166)","v":65}]
[{"$f":"ESAcst!B1","v":"chapPhases"},{"$f":"ESAcst!C1","v":"Part IV"}]
[{"$f":"ESAcst!B2","v":"chapSoft"},{"$f":"ESAcst!C2","v":"Part IV Chapter 6.2"}]
[{"$f":"ESAcst!B3","v":"chapHard"},{"$f":"ESAcst!C3","v":"Part IV Chapter 6.1"}]
[{"$f":"ESAcst!B4","v":"chapFlight"},{"$f":"IF(options!B4,ESAcst!C4,\" \")","v":"Part III Chapter 9.4"}]
[{"$f":"ESAcst!B5","v":"chapPers"},{"$f":"ESAcst!C5","v":"Part V Chapter 7"}]
["ContractorName",{"$f":"Overview!B5","v":"Our company"}]
["ContractorCity",{"$f":"Contact!C9","v":"My City"}]
["ContractorCountry",{"$f":"Consortium!C3","v":"IT"}]
["ActivityName",{"$f":"Overview!B2","v":"Our Awesome Project"}]
["ContactPrefix",{"$f":"Contact!C3","v":"Mr."}]
["ContactFirstName",{"$f":"Contact!C4","v":"John"}]
["ContactLastName",{"$f":"Contact!C5","v":"Doe"}]
["ContactTitle",{"$f":"Contact!C6","v":"Head of Programs"}]
["ContractorAddress",{"$f":"Contact!C11","v":"My Address, 123 123-456 My City, My Country"}]
["RefProposal",{"$f":"ESA_fills!C9","v":"AC-1999-123456"}]
["DateProposal",{"$f":"ESA_fills!B9","v":"2020-01-01"}]
["RefResponseNego",{"$f":"ESA_fills!C10","v":"Re: AO/1-9090/17/NL/MO - a great proposal"}]
["DateResponseNego",{"$f":"ESA_fills!B10","v":"2020-02-01"}]
["NegoMeeting",{"$f":"IF(ESA_fills!B11=\"\",\"  \",CONCATENATE(\"- The Minutes of the negotiation meeting held on \", TEXT(ESA_fills!B11,\"dd mmmm yyyy\"), \" ref. \", ESA_fills!C11, \" not attached hereto but known to both parties.\"))","v":"- The Minutes of the negotiation meeting held on 01 March 2020 ref. MoM-1999-11-01 not attached hereto but known to both parties."}]
["PriceProposalNumber",{"$f":"Overview!B3","v":1315000}]
["PriceProposalText",{"$f":"SpellNumber(B32)","v":"One Million Three Hundred Fifteen Thousand "}]
["CostProposalNumber",{"$f":"Overview!B4","v":2430000}]
["CostProposalText",{"$f":"SpellNumber(B34)","v":"Two Million Four Hundred Thirty  Thousand "}]
["DateDelivery",{"$f":"Overview!B15","v":"2023-12-18"}]
["PrefixTO",{"$f":"ESA_fills!C16","v":{"$error":"#N/A"}}]
["FirstNameTO",{"$f":"ESA_fills!C17","v":{"$error":"#N/A"}}]
["LastNameTO",{"$f":"ESA_fills!C18","v":{"$error":"#N/A"}}]
["AddressTO",{"$f":"ESA_fills!C19","v":{"$error":"#N/A"}}]
["PhoneTO",{"$f":"ESA_fills!C20","v":{"$error":"#N/A"}}]
["EmailTO",{"$f":"ESA_fills!C21","v":"nathalie.schwarz@esa.int"}]
["PrefixCO",{"$f":"ESA_fills!C25","v":0}]
["FirstNameCO",{"$f":"ESA_fills!C26","v":0}]
["LastNameCO",{"$f":"ESA_fills!C27","v":0}]
["AddressCO",{"$f":"ESA_fills!C28","v":0}]
["PhoneCO",{"$f":"ESA_fills!C29","v":0}]
["EmailCO",{"$f":"ESA_fills!C30","v":""}]
["PrefixTOCie",{"$f":"Contact!C15","v":"Mr."}]
["FirstNameTOCie",{"$f":"Contact!C16","v":"John"}]
["LastNameTOCie",{"$f":"Contact!C17","v":"Doe"}]
["AddressTOCie",{"$f":"Contact!C18","v":"My Address, 123 123-456 My City, My Country"}]
["PhoneTOCie",{"$f":"Contact!C19","v":"(+XX) 123 456 789"}]
["EmailTOCie",{"$f":"Contact!C20","v":"myemail@myawesomecompany.com"}]
["PrefixCOCie",{"$f":"Contact!C24","v":"Ms."}]
["FirstNameCOCie",{"$f":"Contact!C25","v":"Julianne"}]
["LastNameCOCie",{"$f":"Contact!C26","v":"Foo"}]
["AddressCOCie",{"$f":"Contact!C27","v":"My Address, 123 123-456 My City, My Country"}]
["PhoneCOCie",{"$f":"Contact!C28","v":"(+XX) 123 456 789"}]
["EmailCOCie",{"$f":"Contact!C29","v":"myemail@myawesomecompany.com"}]
["PrefixDOCie",{"$f":"Contact!C33","v":"Mr."}]
["FirstNameDOCie",{"$f":"Contact!C34","v":"Mark"}]
["LastNameDOCie",{"$f":"Contact!C35","v":"Smith"}]
["AddressDOCie",{"$f":"Contact!C36","v":"My Address, 123 123-456 My City, My Country"}]
["PhoneDOCie",{"$f":"Contact!C37","v":"(+XX) 123 456 789"}]
["EmailDOCie",{"$f":"Contact!C38","v":"myemail@myawesomecompany.com"}]
["RefGCC",{"$f":"ESA_fills!B1","v":"ESA/REG/002 rev. 3"}]
["RefContract",{"$f":"ESA_fills!B2","v":"ESA Contract No. 4000xxxxxx/20/I-NS"}]
["datesPhases",{"$f":"CONCATENATE(Overview!D22,CHAR(10),CHAR(10),Overview!D23) & \" \"","v":"The draft Phase 1 Report, shall be submitted by email in electronic searchable, indexed and not encrypted PDF and original (WORD)format for approval, to the Agency’s Technical Officer specified in Article 5, Clause 5, Sub-Clause 5.1 a) of the Contract, not later than 02 September 2022\n\n "}]
["nbPhases",{"$f":"B11","v":2}]
["PhaseDesc",{"$f":"IF(B11=1,\"\",IF(B11=2,\"Phase 1 ending on the \"& TEXT(Overview!B22, \"dd/mm/yyyy\") &\" and Phase 2 ending on the \"& TEXT(Overview!B16, \"dd/mm/yyyy\"),\"Phase 1 ending on the \"& TEXT(Overview!B22,\"dd/mm/yyyy\") & \", Phase 2 ending on the \" & TEXT(Overview!B23,\"dd/mm/yyyy\")  & \" and Phase 3 ending on the \"& TEXT(Overview!B16,\"dd/mm/yyyy\"))) & \" \"","v":"Phase 1 ending on the 30/09/2022 and Phase 2 ending on the 15/01/2024 "}]
["refKP",{"$f":"IF(ESA_fills!B5=references!B49,\"the Minutes of the negotiation meeting referred to in Article 1.2 above.\", \"the Contractor’s Proposal referred to in Article 1.2 above.\")","v":"the Minutes of the negotiation meeting referred to in Article 1.2 above."}]
["bipr",{"$f":"Overview!$B$30","v":"My Software"}]
["dateLaunchDelivery",{"$f":"IF(options!B4,FlightItem!B3,\" \")","v":"2023-01-15"}]
["nameFlightItem",{"$f":"IF(options!B4,FlightItem!B2,\" \")","v":"some sub-system"}]
["dateAlternativeFlight",{"$f":"IF(options!B4,FlightItem!B4,\" \")","v":"2023-06-15"}]
["DateDeliverySW",{"$f":"IF(options!B10,B36,\"\")","v":""}]

{"sheet":"options","index":13,"n_rows":13,"n_cols":2,"rows_kept":13,"cut":false,"hidden":true,"merged":[]}
["numOptions",{"$f":"COUNTA(A2:A131)","v":12}]
["optionPhased",{"$f":"Overview!B7>1","v":true}]
["optionSub",{"$f":"Overview!B8>0","v":true}]
["optionFlight",{"$f":"IF(FlightItem!B1=\"yes\",TRUE,FALSE)","v":true}]
["optionItaly",{"$f":"Consortium!C3=\"IT\"","v":true}]
["optionCovid",{"$f":"Overview!B17=\"yes\"","v":false}]
["optionDig",{"$f":"Overview!B18=\"yes\"","v":true}]
["optionBipr",{"$f":"Overview!B29>0","v":true}]
["optionSubFlight",{"$f":"AND(IF(FlightItem!B5=\"yes\",TRUE,FALSE),B3)","v":false}]
["optionSW",{"$f":"Overview!B25=\"yes\"","v":false}]
["optionHW",{"$f":"Overview!B26=\"yes\"","v":false}]
["optionPhase1ADV",{"$f":"Overview!B12=\"yes\"","v":true}]
["optionPhase2ADV",{"$f":"Overview!B13=\"yes\"","v":true}]

{"sheet":"references","index":14,"n_rows":50,"n_cols":3,"rows_kept":50,"cut":false,"hidden":true,"merged":[]}
["ESRIN","ESA – ESRIN Largo Galileo Galilei, 1 00044 FRASCATI, Italy"]
["ESTEC","ESA – ESTEC Keplerlaan 1, 2201 AZ Noordwijk, The Netherlands"]
["ESOC","ESA – ESOC Robert-Bosch Strasse 5, 64293 Darmstadt, Germany"]
["ESAC","ESA – ESAC Camino Bajo del Castillo s/n, 28692 Villafranca del Castillo, Madrid, Espagne"]
["ECSAT","ESA – ECSAT Fermi Avenue Harwell Campus Didcot, Oxfordshire OX11 0FD United Kingdom"]
["EAC","ESA – EAC Linder Hoehe, 51147 Köln, Allemagne"]
["ESA HQ","ESA – ESA HQ Bertrand 24 rue du Général Bertrand CS 30798 75345 Paris CEDEX 7 France"]
[]
[]
[null,"Austria","AT"]
[null,"Belgium","BE"]
[null,"Switzerland","CH"]
[null,"Czech Republic","CZ"]
[null,"Germany","DE"]
[null,"Denmark","DK"]
[null,"Spain","ES"]
[null,"Finland","FI"]
[null,"France","FR"]
[null,"Greece","GR"]
[null,"Ireland","IE"]
[null,"Italy","IT"]
[null,"Luxembourg","LU"]
[null,"Netherlands","NL"]
[null,"Norway","NO"]
[null,"Poland","PL"]
[null,"Portugal","PT"]
[null,"Romania","RO"]
[null,"Sweden","SE"]
[null,"United Kingdom","UK"]
[null,"Slovenia","SL"]
[null,"Estonia","EE"]
[]
[]
[]
[]
[]
[]
[null,null,"yes"]
[null,null,"no"]
[]
[]
[]
[]
[]
[]
[null,"Weeks before final delivery",4]
[]
[null,"key personel reference"]
[null,"nego MoM"]
[null,"proposal"]

{"sheet":"ESADirectory","index":15,"n_rows":6208,"n_cols":16,"rows_kept":6208,"cut":false,"hidden":true,"merged":[]}
[null,null,null,null,null,null,null,null,null,null,null,null,{"$f":"IF(L1=\"\", \"no email\",LOWER(L1))","v":"no email"},{"$f":"LEFT(A1, SEARCH(\",\",A1,1)-1)","v":{"$error":"#VALUE!"}},{"$f":"RIGHT(A1, LEN(A1) -SEARCH(\",\",A1,1)-1)","v":{"$error":"#VALUE!"}},{"$f":"VLOOKUP(K1,references!$A$1:$B$7,2,FALSE)","v":{"$error":"#N/A"}}]
[null,null,null,null,null,null,null,null,null,null,null,null,{"$f":"IF(L2=\"\", \"no email\",LOWER(L2))","v":"no email"},{"$f":"LEFT(A2, SEARCH(\",\",A2,1)-1)","v":{"$error":"#VALUE!"}},{"$f":"RIGHT(A2, LEN(A2) -SEARCH(\",\",A2,1)-1)","v":{"$error":"#VALUE!"}},{"$f":"VLOOKUP(K2,references!$A$1:$B$7,2,FALSE)","v":{"$error":"#N/A"}}]
[null,null,null,null,null,null,null,null,null,null,null,null,"no email",{"$error":"#VALUE!"},{"$error":"#VALUE!"},{"$f":"VLOOKUP(K3,references!$A$1:$B$7,2,FALSE)","v":{"$error":"#N/A"}}]
[null,null,null,null,null,null,null,null,null,null,null,null,"no email",{"$error":"#VALUE!"},{"$error":"#VALUE!"},{"$f":"VLOOKUP(K4,references!$A$1:$B$7,2,FALSE)","v":{"$error":"#N/A"}}]
[null,null,null,null,null,null,null,null,null,null,null,null,"no email",{"$error":"#VALUE!"},{"$error":"#VALUE!"},{"$f":"VLOOKUP(K5,references!$A$1:$B$7,2,FALSE)","v":{"$error":"#N/A"}}]
[null,null,null,null,null,null,null,null,null,null,null,null,"no email",{"$error":"#VALUE!"},{"$error":"#VALUE!"},{"$f":"VLOOKUP(K6,references!$A$1:$B$7,2,FALSE)","v":{"$error":"#N/A"}}]
[null,null,null,null,null,null,null,null,null,null,null,null,"no email",{"$error":"#VALUE!"},{"$error":"#VALUE!"},{"$f":"VLOOKUP(K7,references!$A$1:$B$7,2,FALSE)","v":{"$error":"#N/A"}}]
[null,null,null,null,null,null,null,null,null,null,null,null,"no email",{"$error":"#VALUE!"},{"$error":"#VALUE!"},{"$f":"VLOOKUP(K8,references!$A$1:$B$7,2,FALSE)","v":{"$error":"#N/A"}}]
[null,null,null,null,null,null,null,null,null,null,null,null,"no email",{"$error":"#VALUE!"},{"$error":"#VALUE!"},{"$f":"VLOOKUP(K9,references!$A$1:$B$7,2,FALSE)","v":{"$error":"#N/A"}}]
[null,null,null,null,null,null,null,null,null,null,null,null,"no email",{"$error":"#VALUE!"},{"$error":"#VALUE!"},{"$f":"VLOOKUP(K10,references!$A$1:$B$7,2,FALSE)","v":{"$error":"#N/A"}}]
[null,null,null,null,null,null,null,null,null,null,null,null,"no email",{"$error":"#VALUE!"},{"$error":"#VALUE!"},{"$f":"VLOOKUP(K11,references!$A$1:$B$7,2,FALSE)","v":{"$error":"#N/A"}}]
[null,null,null,null,null,null,null,null,null,null,null,null,"no email",{"$error":"#VALUE!"},{"$error":"#VALUE!"},{"$f":"VLOOKUP(K12,references!$A$1:$B$7,2,FALSE)","v":{"$error":"#N/A"}}]
[null,null,null,null,null,null,null,null,null,null,null,null,"no email",{"$error":"#VALUE!"},{"$error":"#VALUE!"},{"$f":"VLOOKUP(K13,references!$A$1:$B$7,2,FALSE)","v":{"$error":"#N/A"}}]
[null,null,null,null,null,null,null,null,null,null,null,null,"no email",{"$error":"#VALUE!"},{"$error":"#VALUE!"},{"$f":"VLOOKUP(K14,references!$A$1:$B$7,2,FALSE)","v":{"$error":"#N/A"}}]
[null,null,null,null,null,null,null,null,null,null,null,null,"no email",{"$error":"#VALUE!"},{"$error":"#VALUE!"},{"$f":"VLOOKUP(K15,references!$A$1:$B$7,2,FALSE)","v":{"$error":"#N/A"}}]
[null,null,null,null,null,null,null,null,null,null,null,null,"no email",{"$error":"#VALUE!"},{"$error":"#VALUE!"},{"$f":"VLOOKUP(K16,references!$A$1:$B$7,2,FALSE)","v":{"$error":"#N/A"}}]
[null,null,null,null,null,null,null,null,null,null,null,null,"no email",{"$error":"#VALUE!"},{"$error":"#VALUE!"},{"$f":"VLOOKUP(K17,references!$A$1:$B$7,2,FALSE)","v":{"$error":"#N/A"}}]
[null,null,null,null,null,null,null,null,null,null,null,null,"no email",{"$error":"#VALUE!"},{"$error":"#VALUE!"},{"$f":"VLOOKUP(K18,references!$A$1:$B$7,2,FALSE)","v":{"$error":"#N/A"}}]
[null,null,null,null,null,null,null,null,null,null,null,null,"no email",{"$error":"#VALUE!"},{"$error":"#VALUE!"},{"$f":"VLOOKUP(K19,references!$A$1:$B$7,2,FALSE)","v":{"$error":"#N/A"}}]
[null,null,null,null,null,null,null,null,null,null,null,null,"no email",{"$error":"#VALUE!"},{"$error":"#VALUE!"},{"$f":"VLOOKUP(K20,references!$A$1:$B$7,2,FALSE)","v":{"$error":"#N/A"}}]
[null,null,null,null,null,null,null,null,null,null,null,null,"no email",{"$error":"#VALUE!"},{"$error":"#VALUE!"},{"$f":"VLOOKUP(K21,references!$A$1:$B$7,2,FALSE)","v":{"$error":"#N/A"}}]
[null,null,null,null,null,null,null,null,null,null,null,null,"no email",{"$error":"#VALUE!"},{"$error":"#VALUE!"},{"$f":"VLOOKUP(K22,references!$A$1:$B$7,2,FALSE)","v":{"$error":"#N/A"}}]
[null,null,null,null,null,null,null,null,null,null,null,null,"no email",{"$error":"#VALUE!"},{"$error":"#VALUE!"},{"$f":"VLOOKUP(K23,references!$A$1:$B$7,2,FALSE)","v":{"$error":"#N/A"}}]
[null,null,null,null,null,null,null,null,null,null,null,null,"no email",{"$error":"#VALUE!"},{"$error":"#VALUE!"},{"$f":"VLOOKUP(K24,references!$A$1:$B$7,2,FALSE)","v":{"$error":"#N/A"}}]
[null,null,null,null,null,null,null,null,null,null,null,null,"no email",{"$error":"#VALUE!"},{"$error":"#VALUE!"},{"$f":"VLOOKUP(K25,references!$A$1:$B$7,2,FALSE)","v":{"$error":"#N/A"}}]
[null,null,null,null,null,null,null,null,null,null,null,null,"no email",{"$error":"#VALUE!"},{"$error":"#VALUE!"},{"$f":"VLOOKUP(K26,references!$A$1:$B$7,2,FALSE)","v":{"$error":"#N/A"}}]
[null,null,null,null,null,null,null,null,null,null,null,null,"no email",{"$error":"#VALUE!"},{"$error":"#VALUE!"},{"$f":"VLOOKUP(K27,references!$A$1:$B$7,2,FALSE)","v":{"$error":"#N/A"}}]
[null,null,null,null,null,null,null,null,null,null,null,null,"no email",{"$error":"#VALUE!"},{"$error":"#VALUE!"},{"$f":"VLOOKUP(K28,references!$A$1:$B$7,2,FALSE)","v":{"$error":"#N/A"}}]
[null,null,null,null,null,null,null,null,null,null,null,null,"no email",{"$error":"#VALUE!"},{"$error":"#VALUE!"},{"$f":"VLOOKUP(K29,references!$A$1:$B$7,2,FALSE)","v":{"$error":"#N/A"}}]
[null,null,null,null,null,null,null,null,null,null,null,null,"no email",{"$error":"#VALUE!"},{"$error":"#VALUE!"},{"$f":"VLOOKUP(K30,references!$A$1:$B$7,2,FALSE)","v":{"$error":"#N/A"}}]
[null,null,null,null,null,null,null,null,null,null,null,null,"no email",{"$error":"#VALUE!"},{"$error":"#VALUE!"},{"$f":"VLOOKUP(K31,references!$A$1:$B$7,2,FALSE)","v":{"$error":"#N/A"}}]
[null,null,null,null,null,null,null,null,null,null,null,null,"no email",{"$error":"#VALUE!"},{"$error":"#VALUE!"},{"$f":"VLOOKUP(K32,references!$A$1:$B$7,2,FALSE)","v":{"$error":"#N/A"}}]
[null,null,null,null,null,null,null,null,null,null,null,null,"no email",{"$error":"#VALUE!"},{"$error":"#VALUE!"},{"$f":"VLOOKUP(K33,references!$A$1:$B$7,2,FALSE)","v":{"$error":"#N/A"}}]
[null,null,null,null,null,null,null,null,null,null,null,null,"no email",{"$error":"#VALUE!"},{"$error":"#VALUE!"},{"$f":"VLOOKUP(K34,references!$A$1:$B$7,2,FALSE)","v":{"$error":"#N/A"}}]
[null,null,null,null,null,null,null,null,null,null,null,null,"no email",{"$error":"#VALUE!"},{"$error":"#VALUE!"},{"$f":"VLOOKUP(K35,references!$A$1:$B$7,2,FALSE)","v":{"$error":"#N/A"}}]
[null,null,null,null,null,null,null,null,null,null,null,null,"no email",{"$error":"#VALUE!"},{"$error":"#VALUE!"},{"$f":"VLOOKUP(K36,references!$A$1:$B$7,2,FALSE)","v":{"$error":"#N/A"}}]
[null,null,null,null,null,null,null,null,null,null,null,null,"no email",{"$error":"#VALUE!"},{"$error":"#VALUE!"},{"$f":"VLOOKUP(K37,references!$A$1:$B$7,2,FALSE)","v":{"$error":"#N/A"}}]
[null,null,null,null,null,null,null,null,null,null,null,null,"no email",{"$error":"#VALUE!"},{"$error":"#VALUE!"},{"$f":"VLOOKUP(K38,references!$A$1:$B$7,2,FALSE)","v":{"$error":"#N/A"}}]
[null,null,null,null,null,null,null,null,null,null,null,null,"no email",{"$error":"#VALUE!"},{"$error":"#VALUE!"},{"$f":"VLOOKUP(K39,references!$A$1:$B$7,2,FALSE)","v":{"$error":"#N/A"}}]
[null,null,null,null,null,null,null,null,null,null,null,null,"no email",{"$error":"#VALUE!"},{"$error":"#VALUE!"},{"$f":"VLOOKUP(K40,references!$A$1:$B$7,2,FALSE)","v":{"$error":"#N/A"}}]
[null,null,null,null,null,null,null,null,null,null,null,null,"no email",{"$error":"#VALUE!"},{"$error":"#VALUE!"},{"$f":"VLOOKUP(K41,references!$A$1:$B$7,2,FALSE)","v":{"$error":"#N/A"}}]
[null,null,null,null,null,null,null,null,null,null,null,null,"no email",{"$error":"#VALUE!"},{"$error":"#VALUE!"},{"$f":"VLOOKUP(K42,references!$A$1:$B$7,2,FALSE)","v":{"$error":"#N/A"}}]
[null,null,null,null,null,null,null,null,null,null,null,null,"no email",{"$error":"#VALUE!"},{"$error":"#VALUE!"},{"$f":"VLOOKUP(K43,references!$A$1:$B$7,2,FALSE)","v":{"$error":"#N/A"}}]
[null,null,null,null,null,null,null,null,null,null,null,null,"no email",{"$error":"#VALUE!"},{"$error":"#VALUE!"},{"$f":"VLOOKUP(K44,references!$A$1:$B$7,2,FALSE)","v":{"$error":"#N/A"}}]
[null,null,null,null,null,null,null,null,null,null,null,null,"no email",{"$error":"#VALUE!"},{"$error":"#VALUE!"},{"$f":"VLOOKUP(K45,references!$A$1:$B$7,2,FALSE)","v":{"$error":"#N/A"}}]
[null,null,null,null,null,null,null,null,null,null,null,null,"no email",{"$error":"#VALUE!"},{"$error":"#VALUE!"},{"$f":"VLOOKUP(K46,references!$A$1:$B$7,2,FALSE)","v":{"$error":"#N/A"}}]
[null,null,null,null,null,null,null,null,null,null,null,null,"no email",{"$error":"#VALUE!"},{"$error":"#VALUE!"},{"$f":"VLOOKUP(K47,references!$A$1:$B$7,2,FALSE)","v":{"$error":"#N/A"}}]
[null,null,null,null,null,null,null,null,null,null,null,null,"no email",{"$error":"#VALUE!"},{"$error":"#VALUE!"},{"$f":"VLOOKUP(K48,references!$A$1:$B$7,2,FALSE)","v":{"$error":"#N/A"}}]
[null,null,null,null,null,null,null,null,null,null,null,null,"no email",{"$error":"#VALUE!"},{"$error":"#VALUE!"},{"$f":"VLOOKUP(K49,references!$A$1:$B$7,2,FALSE)","v":{"$error":"#N/A"}}]
[null,null,null,null,null,null,null,null,null,null,null,null,"no email",{"$error":"#VALUE!"},{"$error":"#VALUE!"},{"$f":"VLOOKUP(K50,references!$A$1:$B$7,2,FALSE)","v":{"$error":"#N/A"}}]
[null,null,null,null,null,null,null,null,null,null,null,null,"no email",{"$error":"#VALUE!"},{"$error":"#VALUE!"},{"$f":"VLOOKUP(K51,references!$A$1:$B$7,2,FALSE)","v":{"$error":"#N/A"}}]
[null,null,null,null,null,null,null,null,null,null,null,null,"no email",{"$error":"#VALUE!"},{"$error":"#VALUE!"},{"$f":"VLOOKUP(K52,references!$A$1:$B$7,2,FALSE)","v":{"$error":"#N/A"}}]
[null,null,null,null,null,null,null,null,null,null,null,null,"no email",{"$error":"#VALUE!"},{"$error":"#VALUE!"},{"$f":"VLOOKUP(K53,references!$A$1:$B$7,2,FALSE)","v":{"$error":"#N/A"}}]
[null,null,null,null,null,null,null,null,null,null,null,null,"no email",{"$error":"#VALUE!"},{"$error":"#VALUE!"},{"$f":"VLOOKUP(K54,references!$A$1:$B$7,2,FALSE)","v":{"$error":"#N/A"}}]
[null,null,null,null,null,null,null,null,null,null,null,null,"no email",{"$error":"#VALUE!"},{"$error":"#VALUE!"},{"$f":"VLOOKUP(K55,references!$A$1:$B$7,2,FALSE)","v":{"$error":"#N/A"}}]
[null,null,null,null,null,null,null,null,null,null,null,null,"no email",{"$error":"#VALUE!"},{"$error":"#VALUE!"},{"$f":"VLOOKUP(K56,references!$A$1:$B$7,2,FALSE)","v":{"$error":"#N/A"}}]
[null,null,null,null,null,null,null,null,null,null,null,null,"no email",{"$error":"#VALUE!"},{"$error":"#VALUE!"},{"$f":"VLOOKUP(K57,references!$A$1:$B$7,2,FALSE)","v":{"$error":"#N/A"}}]
[null,null,null,null,null,null,null,null,null,null,null,null,"no email",{"$error":"#VALUE!"},{"$error":"#VALUE!"},{"$f":"VLOOKUP(K58,references!$A$1:$B$7,2,FALSE)","v":{"$error":"#N/A"}}]
[null,null,null,null,null,null,null,null,null,null,null,null,"no email",{"$error":"#VALUE!"},{"$error":"#VALUE!"},{"$f":"VLOOKUP(K59,references!$A$1:$B$7,2,FALSE)","v":{"$error":"#N/A"}}]
[null,null,null,null,null,null,null,null,null,null,null,null,"no email",{"$error":"#VALUE!"},{"$error":"#VALUE!"},{"$f":"VLOOKUP(K60,references!$A$1:$B$7,2,FALSE)","v":{"$error":"#N/A"}}]
[null,null,null,null,null,null,null,null,null,null,null,null,"no email",{"$error":"#VALUE!"},{"$error":"#VALUE!"},{"$f":"VLOOKUP(K61,references!$A$1:$B$7,2,FALSE)","v":{"$error":"#N/A"}}]
[null,null,null,null,null,null,null,null,null,null,null,null,"no email",{"$error":"#VALUE!"},{"$error":"#VALUE!"},{"$f":"VLOOKUP(K62,references!$A$1:$B$7,2,FALSE)","v":{"$error":"#N/A"}}]
[null,null,null,null,null,null,null,null,null,null,null,null,"no email",{"$error":"#VALUE!"},{"$error":"#VALUE!"},{"$f":"VLOOKUP(K63,references!$A$1:$B$7,2,FALSE)","v":{"$error":"#N/A"}}]
[null,null,null,null,null,null,null,null,null,null,null,null,"no email",{"$error":"#VALUE!"},{"$error":"#VALUE!"},{"$f":"VLOOKUP(K64,references!$A$1:$B$7,2,FALSE)","v":{"$error":"#N/A"}}]
[null,null,null,null,null,null,null,null,null,null,null,null,"no email",{"$error":"#VALUE!"},{"$error":"#VALUE!"},{"$f":"VLOOKUP(K65,references!$A$1:$B$7,2,FALSE)","v":{"$error":"#N/A"}}]
[null,null,null,null,null,null,null,null,null,null,null,null,{"$f":"IF(L66=\"\", \"no email\",LOWER(L66))","v":"no email"},{"$f":"LEFT(A66, SEARCH(\",\",A66,1)-1)","v":{"$error":"#VALUE!"}},{"$f":"RIGHT(A66, LEN(A66) -SEARCH(\",\",A66,1)-1)","v":{"$error":"#VALUE!"}},{"$f":"VLOOKUP(K66,references!$A$1:$B$7,2,FALSE)","v":{"$error":"#N/A"}}]
[null,null,null,null,null,null,null,null,null,null,null,null,"no email",{"$error":"#VALUE!"},{"$error":"#VALUE!"},{"$f":"VLOOKUP(K67,references!$A$1:$B$7,2,FALSE)","v":{"$error":"#N/A"}}]
[null,null,null,null,null,null,null,null,null,null,null,null,"no email",{"$error":"#VALUE!"},{"$error":"#VALUE!"},{"$f":"VLOOKUP(K68,references!$A$1:$B$7,2,FALSE)","v":{"$error":"#N/A"}}]
[null,null,null,null,null,null,null,null,null,null,null,null,"no email",{"$error":"#VALUE!"},{"$error":"#VALUE!"},{"$f":"VLOOKUP(K69,references!$A$1:$B$7,2,FALSE)","v":{"$error":"#N/A"}}]
[null,null,null,null,null,null,null,null,null,null,null,null,"no email",{"$error":"#VALUE!"},{"$error":"#VALUE!"},{"$f":"VLOOKUP(K70,references!$A$1:$B$7,2,FALSE)","v":{"$error":"#N/A"}}]
[null,null,null,null,null,null,null,null,null,null,null,null,"no email",{"$error":"#VALUE!"},{"$error":"#VALUE!"},{"$f":"VLOOKUP(K71,references!$A$1:$B$7,2,FALSE)","v":{"$error":"#N/A"}}]
[null,null,null,null,null,null,null,null,null,null,null,null,"no email",{"$error":"#VALUE!"},{"$error":"#VALUE!"},{"$f":"VLOOKUP(K72,references!$A$1:$B$7,2,FALSE)","v":{"$error":"#N/A"}}]
[null,null,null,null,null,null,null,null,null,null,null,null,"no email",{"$error":"#VALUE!"},{"$error":"#VALUE!"},{"$f":"VLOOKUP(K73,references!$A$1:$B$7,2,FALSE)","v":{"$error":"#N/A"}}]
[null,null,null,null,null,null,null,null,null,null,null,null,"no email",{"$error":"#VALUE!"},{"$error":"#VALUE!"},{"$f":"VLOOKUP(K74,references!$A$1:$B$7,2,FALSE)","v":{"$error":"#N/A"}}]
[null,null,null,null,null,null,null,null,null,null,null,null,"no email",{"$error":"#VALUE!"},{"$error":"#VALUE!"},{"$f":"VLOOKUP(K75,references!$A$1:$B$7,2,FALSE)","v":{"$error":"#N/A"}}]
[null,null,null,null,null,null,null,null,null,null,null,null,"no email",{"$error":"#VALUE!"},{"$error":"#VALUE!"},{"$f":"VLOOKUP(K76,references!$A$1:$B$7,2,FALSE)","v":{"$error":"#N/A"}}]
[null,null,null,null,null,null,null,null,null,null,null,null,"no email",{"$error":"#VALUE!"},{"$error":"#VALUE!"},{"$f":"VLOOKUP(K77,references!$A$1:$B$7,2,FALSE)","v":{"$error":"#N/A"}}]
[null,null,null,null,null,null,null,null,null,null,null,null,"no email",{"$error":"#VALUE!"},{"$error":"#VALUE!"},{"$f":"VLOOKUP(K78,references!$A$1:$B$7,2,FALSE)","v":{"$error":"#N/A"}}]
[null,null,null,null,null,null,null,null,null,null,null,null,"no email",{"$error":"#VALUE!"},{"$error":"#VALUE!"},{"$f":"VLOOKUP(K79,references!$A$1:$B$7,2,FALSE)","v":{"$error":"#N/A"}}]
[null,null,null,null,null,null,null,null,null,null,null,null,"no email",{"$error":"#VALUE!"},{"$error":"#VALUE!"},{"$f":"VLOOKUP(K80,references!$A$1:$B$7,2,FALSE)","v":{"$error":"#N/A"}}]
[null,null,null,null,null,null,null,null,null,null,null,null,"no email",{"$error":"#VALUE!"},{"$error":"#VALUE!"},{"$f":"VLOOKUP(K81,references!$A$1:$B$7,2,FALSE)","v":{"$error":"#N/A"}}]
[null,null,null,null,null,null,null,null,null,null,null,null,"no email",{"$error":"#VALUE!"},{"$error":"#VALUE!"},{"$f":"VLOOKUP(K82,references!$A$1:$B$7,2,FALSE)","v":{"$error":"#N/A"}}]
[null,null,null,null,null,null,null,null,null,null,null,null,"no email",{"$error":"#VALUE!"},{"$error":"#VALUE!"},{"$f":"VLOOKUP(K83,references!$A$1:$B$7,2,FALSE)","v":{"$error":"#N/A"}}]
[null,null,null,null,null,null,null,null,null,null,null,null,"no email",{"$error":"#VALUE!"},{"$error":"#VALUE!"},{"$f":"VLOOKUP(K84,references!$A$1:$B$7,2,FALSE)","v":{"$error":"#N/A"}}]
[null,null,null,null,null,null,null,null,null,null,null,null,"no email",{"$error":"#VALUE!"},{"$error":"#VALUE!"},{"$f":"VLOOKUP(K85,references!$A$1:$B$7,2,FALSE)","v":{"$error":"#N/A"}}]
[null,null,null,null,null,null,null,null,null,null,null,null,"no email",{"$error":"#VALUE!"},{"$error":"#VALUE!"},{"$f":"VLOOKUP(K86,references!$A$1:$B$7,2,FALSE)","v":{"$error":"#N/A"}}]
[null,null,null,null,null,null,null,null,null,null,null,null,"no email",{"$error":"#VALUE!"},{"$error":"#VALUE!"},{"$f":"VLOOKUP(K87,references!$A$1:$B$7,2,FALSE)","v":{"$error":"#N/A"}}]
[null,null,null,null,null,null,null,null,null,null,null,null,"no email",{"$error":"#VALUE!"},{"$error":"#VALUE!"},{"$f":"VLOOKUP(K88,references!$A$1:$B$7,2,FALSE)","v":{"$error":"#N/A"}}]
[null,null,null,null,null,null,null,null,null,null,null,null,"no email",{"$error":"#VALUE!"},{"$error":"#VALUE!"},{"$f":"VLOOKUP(K89,references!$A$1:$B$7,2,FALSE)","v":{"$error":"#N/A"}}]
[null,null,null,null,null,null,null,null,null,null,null,null,"no email",{"$error":"#VALUE!"},{"$error":"#VALUE!"},{"$f":"VLOOKUP(K90,references!$A$1:$B$7,2,FALSE)","v":{"$error":"#N/A"}}]
[null,null,null,null,null,null,null,null,null,null,null,null,"no email",{"$error":"#VALUE!"},{"$error":"#VALUE!"},{"$f":"VLOOKUP(K91,references!$A$1:$B$7,2,FALSE)","v":{"$error":"#N/A"}}]
[null,null,null,null,null,null,null,null,null,null,null,null,"no email",{"$error":"#VALUE!"},{"$error":"#VALUE!"},{"$f":"VLOOKUP(K92,references!$A$1:$B$7,2,FALSE)","v":{"$error":"#N/A"}}]
[null,null,null,null,null,null,null,null,null,null,null,null,"no email",{"$error":"#VALUE!"},{"$error":"#VALUE!"},{"$f":"VLOOKUP(K93,references!$A$1:$B$7,2,FALSE)","v":{"$error":"#N/A"}}]
[null,null,null,null,null,null,null,null,null,null,null,null,"no email",{"$error":"#VALUE!"},{"$error":"#VALUE!"},{"$f":"VLOOKUP(K94,references!$A$1:$B$7,2,FALSE)","v":{"$error":"#N/A"}}]
[null,null,null,null,null,null,null,null,null,null,null,null,"no email",{"$error":"#VALUE!"},{"$error":"#VALUE!"},{"$f":"VLOOKUP(K95,references!$A$1:$B$7,2,FALSE)","v":{"$error":"#N/A"}}]
[null,null,null,null,null,null,null,null,null,null,null,null,"no email",{"$error":"#VALUE!"},{"$error":"#VALUE!"},{"$f":"VLOOKUP(K96,references!$A$1:$B$7,2,FALSE)","v":{"$error":"#N/A"}}]
[null,null,null,null,null,null,null,null,null,null,null,null,"no email",{"$error":"#VALUE!"},{"$error":"#VALUE!"},{"$f":"VLOOKUP(K97,references!$A$1:$B$7,2,FALSE)","v":{"$error":"#N/A"}}]
[null,null,null,null,null,null,null,null,null,null,null,null,"no email",{"$error":"#VALUE!"},{"$error":"#VALUE!"},{"$f":"VLOOKUP(K98,references!$A$1:$B$7,2,FALSE)","v":{"$error":"#N/A"}}]
[null,null,null,null,null,null,null,null,null,null,null,null,"no email",{"$error":"#VALUE!"},{"$error":"#VALUE!"},{"$f":"VLOOKUP(K99,references!$A$1:$B$7,2,FALSE)","v":{"$error":"#N/A"}}]
[null,null,null,null,null,null,null,null,null,null,null,null,"no email",{"$error":"#VALUE!"},{"$error":"#VALUE!"},{"$f":"VLOOKUP(K100,references!$A$1:$B$7,2,FALSE)","v":{"$error":"#N/A"}}]
[null,null,null,null,null,null,null,null,null,null,null,null,"no email",{"$error":"#VALUE!"},{"$error":"#VALUE!"},{"$f":"VLOOKUP(K101,references!$A$1:$B$7,2,FALSE)","v":{"$error":"#N/A"}}]
[null,null,null,null,null,null,null,null,null,null,null,null,"no email",{"$error":"#VALUE!"},{"$error":"#VALUE!"},{"$f":"VLOOKUP(K102,references!$A$1:$B$7,2,FALSE)","v":{"$error":"#N/A"}}]
[null,null,null,null,null,null,null,null,null,null,null,null,"no email",{"$error":"#VALUE!"},{"$error":"#VALUE!"},{"$f":"VLOOKUP(K103,references!$A$1:$B$7,2,FALSE)","v":{"$error":"#N/A"}}]
[null,null,null,null,null,null,null,null,null,null,null,null,"no email",{"$error":"#VALUE!"},{"$error":"#VALUE!"},{"$f":"VLOOKUP(K104,references!$A$1:$B$7,2,FALSE)","v":{"$error":"#N/A"}}]
[null,null,null,null,null,null,null,null,null,null,null,null,"no email",{"$error":"#VALUE!"},{"$error":"#VALUE!"},{"$f":"VLOOKUP(K105,references!$A$1:$B$7,2,FALSE)","v":{"$error":"#N/A"}}]
[null,null,null,null,null,null,null,null,null,null,null,null,"no email",{"$error":"#VALUE!"},{"$error":"#VALUE!"},{"$f":"VLOOKUP(K106,references!$A$1:$B$7,2,FALSE)","v":{"$error":"#N/A"}}]
[null,null,null,null,null,null,null,null,null,null,null,null,"no email",{"$error":"#VALUE!"},{"$error":"#VALUE!"},{"$f":"VLOOKUP(K107,references!$A$1:$B$7,2,FALSE)","v":{"$error":"#N/A"}}]
[null,null,null,null,null,null,null,null,null,null,null,null,"no email",{"$error":"#VALUE!"},{"$error":"#VALUE!"},{"$f":"VLOOKUP(K108,references!$A$1:$B$7,2,FALSE)","v":{"$error":"#N/A"}}]
[null,null,null,null,null,null,null,null,null,null,null,null,"no email",{"$error":"#VALUE!"},{"$error":"#VALUE!"},{"$f":"VLOOKUP(K109,references!$A$1:$B$7,2,FALSE)","v":{"$error":"#N/A"}}]
[null,null,null,null,null,null,null,null,null,null,null,null,"no email",{"$error":"#VALUE!"},{"$error":"#VALUE!"},{"$f":"VLOOKUP(K110,references!$A$1:$B$7,2,FALSE)","v":{"$error":"#N/A"}}]
[null,null,null,null,null,null,null,null,null,null,null,null,"no email",{"$error":"#VALUE!"},{"$error":"#VALUE!"},{"$f":"VLOOKUP(K111,references!$A$1:$B$7,2,FALSE)","v":{"$error":"#N/A"}}]
[null,null,null,null,null,null,null,null,null,null,null,null,"no email",{"$error":"#VALUE!"},{"$error":"#VALUE!"},{"$f":"VLOOKUP(K112,references!$A$1:$B$7,2,FALSE)","v":{"$error":"#N/A"}}]
[null,null,null,null,null,null,null,null,null,null,null,null,"no email",{"$error":"#VALUE!"},{"$error":"#VALUE!"},{"$f":"VLOOKUP(K113,references!$A$1:$B$7,2,FALSE)","v":{"$error":"#N/A"}}]
[null,null,null,null,null,null,null,null,null,null,null,null,"no email",{"$error":"#VALUE!"},{"$error":"#VALUE!"},{"$f":"VLOOKUP(K114,references!$A$1:$B$7,2,FALSE)","v":{"$error":"#N/A"}}]
[null,null,null,null,null,null,null,null,null,null,null,null,"no email",{"$error":"#VALUE!"},{"$error":"#VALUE!"},{"$f":"VLOOKUP(K115,references!$A$1:$B$7,2,FALSE)","v":{"$error":"#N/A"}}]
[null,null,null,null,null,null,null,null,null,null,null,null,"no email",{"$error":"#VALUE!"},{"$error":"#VALUE!"},{"$f":"VLOOKUP(K116,references!$A$1:$B$7,2,FALSE)","v":{"$error":"#N/A"}}]
[null,null,null,null,null,null,null,null,null,null,null,null,"no email",{"$error":"#VALUE!"},{"$error":"#VALUE!"},{"$f":"VLOOKUP(K117,references!$A$1:$B$7,2,FALSE)","v":{"$error":"#N/A"}}]
[null,null,null,null,null,null,null,null,null,null,null,null,"no email",{"$error":"#VALUE!"},{"$error":"#VALUE!"},{"$f":"VLOOKUP(K118,references!$A$1:$B$7,2,FALSE)","v":{"$error":"#N/A"}}]
[null,null,null,null,null,null,null,null,null,null,null,null,"no email",{"$error":"#VALUE!"},{"$error":"#VALUE!"},{"$f":"VLOOKUP(K119,references!$A$1:$B$7,2,FALSE)","v":{"$error":"#N/A"}}]
[null,null,null,null,null,null,null,null,null,null,null,null,"no email",{"$error":"#VALUE!"},{"$error":"#VALUE!"},{"$f":"VLOOKUP(K120,references!$A$1:$B$7,2,FALSE)","v":{"$error":"#N/A"}}]
[null,null,null,null,null,null,null,null,null,null,null,null,"no email",{"$error":"#VALUE!"},{"$error":"#VALUE!"},{"$f":"VLOOKUP(K121,references!$A$1:$B$7,2,FALSE)","v":{"$error":"#N/A"}}]
[null,null,null,null,null,null,null,null,null,null,null,null,"no email",{"$error":"#VALUE!"},{"$error":"#VALUE!"},{"$f":"VLOOKUP(K122,references!$A$1:$B$7,2,FALSE)","v":{"$error":"#N/A"}}]
[null,null,null,null,null,null,null,null,null,null,null,null,"no email",{"$error":"#VALUE!"},{"$error":"#VALUE!"},{"$f":"VLOOKUP(K123,references!$A$1:$B$7,2,FALSE)","v":{"$error":"#N/A"}}]
[null,null,null,null,null,null,null,null,null,null,null,null,"no email",{"$error":"#VALUE!"},{"$error":"#VALUE!"},{"$f":"VLOOKUP(K124,references!$A$1:$B$7,2,FALSE)","v":{"$error":"#N/A"}}]
[null,null,null,null,null,null,null,null,null,null,null,null,"no email",{"$error":"#VALUE!"},{"$error":"#VALUE!"},{"$f":"VLOOKUP(K125,references!$A$1:$B$7,2,FALSE)","v":{"$error":"#N/A"}}]
[null,null,null,null,null,null,null,null,null,null,null,null,"no email",{"$error":"#VALUE!"},{"$error":"#VALUE!"},{"$f":"VLOOKUP(K126,references!$A$1:$B$7,2,FALSE)","v":{"$error":"#N/A"}}]
[null,null,null,null,null,null,null,null,null,null,null,null,"no email",{"$error":"#VALUE!"},{"$error":"#VALUE!"},{"$f":"VLOOKUP(K127,references!$A$1:$B$7,2,FALSE)","v":{"$error":"#N/A"}}]
[null,null,null,null,null,null,null,null,null,null,null,null,"no email",{"$error":"#VALUE!"},{"$error":"#VALUE!"},{"$f":"VLOOKUP(K128,references!$A$1:$B$7,2,FALSE)","v":{"$error":"#N/A"}}]
[null,null,null,null,null,null,null,null,null,null,null,null,"no email",{"$error":"#VALUE!"},{"$error":"#VALUE!"},{"$f":"VLOOKUP(K129,references!$A$1:$B$7,2,FALSE)","v":{"$error":"#N/A"}}]
[null,null,null,null,null,null,null,null,null,null,null,null,{"$f":"IF(L130=\"\", \"no email\",LOWER(L130))","v":"no email"},{"$f":"LEFT(A130, SEARCH(\",\",A130,1)-1)","v":{"$error":"#VALUE!"}},{"$f":"RIGHT(A130, LEN(A130) -SEARCH(\",\",A130,1)-1)","v":{"$error":"#VALUE!"}},{"$f":"VLOOKUP(K130,references!$A$1:$B$7,2,FALSE)","v":{"$error":"#N/A"}}]
[null,null,null,null,null,null,null,null,null,null,null,null,"no email",{"$error":"#VALUE!"},{"$error":"#VALUE!"},{"$f":"VLOOKUP(K131,references!$A$1:$B$7,2,FALSE)","v":{"$error":"#N/A"}}]
[null,null,null,null,null,null,null,null,null,null,null,null,"no email",{"$error":"#VALUE!"},{"$error":"#VALUE!"},{"$f":"VLOOKUP(K132,references!$A$1:$B$7,2,FALSE)","v":{"$error":"#N/A"}}]
[null,null,null,null,null,null,null,null,null,null,null,null,"no email",{"$error":"#VALUE!"},{"$error":"#VALUE!"},{"$f":"VLOOKUP(K133,references!$A$1:$B$7,2,FALSE)","v":{"$error":"#N/A"}}]
[null,null,null,null,null,null,null,null,null,null,null,null,"no email",{"$error":"#VALUE!"},{"$error":"#VALUE!"},{"$f":"VLOOKUP(K134,references!$A$1:$B$7,2,FALSE)","v":{"$error":"#N/A"}}]
[null,null,null,null,null,null,null,null,null,null,null,null,"no email",{"$error":"#VALUE!"},{"$error":"#VALUE!"},{"$f":"VLOOKUP(K135,references!$A$1:$B$7,2,FALSE)","v":{"$error":"#N/A"}}]
[null,null,null,null,null,null,null,null,null,null,null,null,"no email",{"$error":"#VALUE!"},{"$error":"#VALUE!"},{"$f":"VLOOKUP(K136,references!$A$1:$B$7,2,FALSE)","v":{"$error":"#N/A"}}]
[null,null,null,null,null,null,null,null,null,null,null,null,"no email",{"$error":"#VALUE!"},{"$error":"#VALUE!"},{"$f":"VLOOKUP(K137,references!$A$1:$B$7,2,FALSE)","v":{"$error":"#N/A"}}]
[null,null,null,null,null,null,null,null,null,null,null,null,"no email",{"$error":"#VALUE!"},{"$error":"#VALUE!"},{"$f":"VLOOKUP(K138,references!$A$1:$B$7,2,FALSE)","v":{"$error":"#N/A"}}]
[null,null,null,null,null,null,null,null,null,null,null,null,"no email",{"$error":"#VALUE!"},{"$error":"#VALUE!"},{"$f":"VLOOKUP(K139,references!$A$1:$B$7,2,FALSE)","v":{"$error":"#N/A"}}]
[null,null,null,null,null,null,null,null,null,null,null,null,"no email",{"$error":"#VALUE!"},{"$error":"#VALUE!"},{"$f":"VLOOKUP(K140,references!$A$1:$B$7,2,FALSE)","v":{"$error":"#N/A"}}]
[null,null,null,null,null,null,null,null,null,null,null,null,"no email",{"$error":"#VALUE!"},{"$error":"#VALUE!"},{"$f":"VLOOKUP(K141,references!$A$1:$B$7,2,FALSE)","v":{"$error":"#N/A"}}]
[null,null,null,null,null,null,null,null,null,null,null,null,"no email",{"$error":"#VALUE!"},{"$error":"#VALUE!"},{"$f":"VLOOKUP(K142,references!$A$1:$B$7,2,FALSE)","v":{"$error":"#N/A"}}]
[null,null,null,null,null,null,null,null,null,null,null,null,"no email",{"$error":"#VALUE!"},{"$error":"#VALUE!"},{"$f":"VLOOKUP(K143,references!$A$1:$B$7,2,FALSE)","v":{"$error":"#N/A"}}]
[null,null,null,null,null,null,null,null,null,null,null,null,"no email",{"$error":"#VALUE!"},{"$error":"#VALUE!"},{"$f":"VLOOKUP(K144,references!$A$1:$B$7,2,FALSE)","v":{"$error":"#N/A"}}]
[null,null,null,null,null,null,null,null,null,null,null,null,"no email",{"$error":"#VALUE!"},{"$error":"#VALUE!"},{"$f":"VLOOKUP(K145,references!$A$1:$B$7,2,FALSE)","v":{"$error":"#N/A"}}]
[null,null,null,null,null,null,null,null,null,null,null,null,"no email",{"$error":"#VALUE!"},{"$error":"#VALUE!"},{"$f":"VLOOKUP(K146,references!$A$1:$B$7,2,FALSE)","v":{"$error":"#N/A"}}]
[null,null,null,null,null,null,null,null,null,null,null,null,"no email",{"$error":"#VALUE!"},{"$error":"#VALUE!"},{"$f":"VLOOKUP(K147,references!$A$1:$B$7,2,FALSE)","v":{"$error":"#N/A"}}]
[null,null,null,null,null,null,null,null,null,null,null,null,"no email",{"$error":"#VALUE!"},{"$error":"#VALUE!"},{"$f":"VLOOKUP(K148,references!$A$1:$B$7,2,FALSE)","v":{"$error":"#N/A"}}]
[null,null,null,null,null,null,null,null,null,null,null,null,"no email",{"$error":"#VALUE!"},{"$error":"#VALUE!"},{"$f":"VLOOKUP(K149,references!$A$1:$B$7,2,FALSE)","v":{"$error":"#N/A"}}]
[null,null,null,null,null,null,null,null,null,null,null,null,"no email",{"$error":"#VALUE!"},{"$error":"#VALUE!"},{"$f":"VLOOKUP(K150,references!$A$1:$B$7,2,FALSE)","v":{"$error":"#N/A"}}]
[null,null,null,null,null,null,null,null,null,null,null,null,"no email",{"$error":"#VALUE!"},{"$error":"#VALUE!"},{"$f":"VLOOKUP(K151,references!$A$1:$B$7,2,FALSE)","v":{"$error":"#N/A"}}]
[null,null,null,null,null,null,null,null,null,null,null,null,"no email",{"$error":"#VALUE!"},{"$error":"#VALUE!"},{"$f":"VLOOKUP(K152,references!$A$1:$B$7,2,FALSE)","v":{"$error":"#N/A"}}]
[null,null,null,null,null,null,null,null,null,null,null,null,"no email",{"$error":"#VALUE!"},{"$error":"#VALUE!"},{"$f":"VLOOKUP(K153,references!$A$1:$B$7,2,FALSE)","v":{"$error":"#N/A"}}]
[null,null,null,null,null,null,null,null,null,null,null,null,"no email",{"$error":"#VALUE!"},{"$error":"#VALUE!"},{"$f":"VLOOKUP(K154,references!$A$1:$B$7,2,FALSE)","v":{"$error":"#N/A"}}]
[null,null,null,null,null,null,null,null,null,null,null,null,"no email",{"$error":"#VALUE!"},{"$error":"#VALUE!"},{"$f":"VLOOKUP(K155,references!$A$1:$B$7,2,FALSE)","v":{"$error":"#N/A"}}]
[null,null,null,null,null,null,null,null,null,null,null,null,"no email",{"$error":"#VALUE!"},{"$error":"#VALUE!"},{"$f":"VLOOKUP(K156,references!$A$1:$B$7,2,FALSE)","v":{"$error":"#N/A"}}]
[null,null,null,null,null,null,null,null,null,null,null,null,"no email",{"$error":"#VALUE!"},{"$error":"#VALUE!"},{"$f":"VLOOKUP(K157,references!$A$1:$B$7,2,FALSE)","v":{"$error":"#N/A"}}]
[null,null,null,null,null,null,null,null,null,null,null,null,"no email",{"$error":"#VALUE!"},{"$error":"#VALUE!"},{"$f":"VLOOKUP(K158,references!$A$1:$B$7,2,FALSE)","v":{"$error":"#N/A"}}]
[null,null,null,null,null,null,null,null,null,null,null,null,"no email",{"$error":"#VALUE!"},{"$error":"#VALUE!"},{"$f":"VLOOKUP(K159,references!$A$1:$B$7,2,FALSE)","v":{"$error":"#N/A"}}]
[null,null,null,null,null,null,null,null,null,null,null,null,"no email",{"$error":"#VALUE!"},{"$error":"#VALUE!"},{"$f":"VLOOKUP(K160,references!$A$1:$B$7,2,FALSE)","v":{"$error":"#N/A"}}]
[null,null,null,null,null,null,null,null,null,null,null,null,"no email",{"$error":"#VALUE!"},{"$error":"#VALUE!"},{"$f":"VLOOKUP(K161,references!$A$1:$B$7,2,FALSE)","v":{"$error":"#N/A"}}]
[null,null,null,null,null,null,null,null,null,null,null,null,"no email",{"$error":"#VALUE!"},{"$error":"#VALUE!"},{"$f":"VLOOKUP(K162,references!$A$1:$B$7,2,FALSE)","v":{"$error":"#N/A"}}]
[null,null,null,null,null,null,null,null,null,null,null,null,"no email",{"$error":"#VALUE!"},{"$error":"#VALUE!"},{"$f":"VLOOKUP(K163,references!$A$1:$B$7,2,FALSE)","v":{"$error":"#N/A"}}]
[null,null,null,null,null,null,null,null,null,null,null,null,"no email",{"$error":"#VALUE!"},{"$error":"#VALUE!"},{"$f":"VLOOKUP(K164,references!$A$1:$B$7,2,FALSE)","v":{"$error":"#N/A"}}]
[null,null,null,null,null,null,null,null,null,null,null,null,"no email",{"$error":"#VALUE!"},{"$error":"#VALUE!"},{"$f":"VLOOKUP(K165,references!$A$1:$B$7,2,FALSE)","v":{"$error":"#N/A"}}]
[null,null,null,null,null,null,null,null,null,null,null,null,"no email",{"$error":"#VALUE!"},{"$error":"#VALUE!"},{"$f":"VLOOKUP(K166,references!$A$1:$B$7,2,FALSE)","v":{"$error":"#N/A"}}]
[null,null,null,null,null,null,null,null,null,null,null,null,"no email",{"$error":"#VALUE!"},{"$error":"#VALUE!"},{"$f":"VLOOKUP(K167,references!$A$1:$B$7,2,FALSE)","v":{"$error":"#N/A"}}]
[null,null,null,null,null,null,null,null,null,null,null,null,"no email",{"$error":"#VALUE!"},{"$error":"#VALUE!"},{"$f":"VLOOKUP(K168,references!$A$1:$B$7,2,FALSE)","v":{"$error":"#N/A"}}]
[null,null,null,null,null,null,null,null,null,null,null,null,"no email",{"$error":"#VALUE!"},{"$error":"#VALUE!"},{"$f":"VLOOKUP(K169,references!$A$1:$B$7,2,FALSE)","v":{"$error":"#N/A"}}]
[null,null,null,null,null,null,null,null,null,null,null,null,"no email",{"$error":"#VALUE!"},{"$error":"#VALUE!"},{"$f":"VLOOKUP(K170,references!$A$1:$B$7,2,FALSE)","v":{"$error":"#N/A"}}]
[null,null,null,null,null,null,null,null,null,null,null,null,"no email",{"$error":"#VALUE!"},{"$error":"#VALUE!"},{"$f":"VLOOKUP(K171,references!$A$1:$B$7,2,FALSE)","v":{"$error":"#N/A"}}]
[null,null,null,null,null,null,null,null,null,null,null,null,"no email",{"$error":"#VALUE!"},{"$error":"#VALUE!"},{"$f":"VLOOKUP(K172,references!$A$1:$B$7,2,FALSE)","v":{"$error":"#N/A"}}]
[null,null,null,null,null,null,null,null,null,null,null,null,"no email",{"$error":"#VALUE!"},{"$error":"#VALUE!"},{"$f":"VLOOKUP(K173,references!$A$1:$B$7,2,FALSE)","v":{"$error":"#N/A"}}]
[null,null,null,null,null,null,null,null,null,null,null,null,"no email",{"$error":"#VALUE!"},{"$error":"#VALUE!"},{"$f":"VLOOKUP(K174,references!$A$1:$B$7,2,FALSE)","v":{"$error":"#N/A"}}]
[null,null,null,null,null,null,null,null,null,null,null,null,"no email",{"$error":"#VALUE!"},{"$error":"#VALUE!"},{"$f":"VLOOKUP(K175,references!$A$1:$B$7,2,FALSE)","v":{"$error":"#N/A"}}]
[null,null,null,null,null,null,null,null,null,null,null,null,"no email",{"$error":"#VALUE!"},{"$error":"#VALUE!"},{"$f":"VLOOKUP(K176,references!$A$1:$B$7,2,FALSE)","v":{"$error":"#N/A"}}]
[null,null,null,null,null,null,null,null,null,null,null,null,"no email",{"$error":"#VALUE!"},{"$error":"#VALUE!"},{"$f":"VLOOKUP(K177,references!$A$1:$B$7,2,FALSE)","v":{"$error":"#N/A"}}]
[null,null,null,null,null,null,null,null,null,null,null,null,"no email",{"$error":"#VALUE!"},{"$error":"#VALUE!"},{"$f":"VLOOKUP(K178,references!$A$1:$B$7,2,FALSE)","v":{"$error":"#N/A"}}]
[null,null,null,null,null,null,null,null,null,null,null,null,"no email",{"$error":"#VALUE!"},{"$error":"#VALUE!"},{"$f":"VLOOKUP(K179,references!$A$1:$B$7,2,FALSE)","v":{"$error":"#N/A"}}]
[null,null,null,null,null,null,null,null,null,null,null,null,"no email",{"$error":"#VALUE!"},{"$error":"#VALUE!"},{"$f":"VLOOKUP(K180,references!$A$1:$B$7,2,FALSE)","v":{"$error":"#N/A"}}]
[null,null,null,null,null,null,null,null,null,null,null,null,"no email",{"$error":"#VALUE!"},{"$error":"#VALUE!"},{"$f":"VLOOKUP(K181,references!$A$1:$B$7,2,FALSE)","v":{"$error":"#N/A"}}]
[null,null,null,null,null,null,null,null,null,null,null,null,"no email",{"$error":"#VALUE!"},{"$error":"#VALUE!"},{"$f":"VLOOKUP(K182,references!$A$1:$B$7,2,FALSE)","v":{"$error":"#N/A"}}]
[null,null,null,null,null,null,null,null,null,null,null,null,"no email",{"$error":"#VALUE!"},{"$error":"#VALUE!"},{"$f":"VLOOKUP(K183,references!$A$1:$B$7,2,FALSE)","v":{"$error":"#N/A"}}]
[null,null,null,null,null,null,null,null,null,null,null,null,"no email",{"$error":"#VALUE!"},{"$error":"#VALUE!"},{"$f":"VLOOKUP(K184,references!$A$1:$B$7,2,FALSE)","v":{"$error":"#N/A"}}]
[null,null,null,null,null,null,null,null,null,null,null,null,"no email",{"$error":"#VALUE!"},{"$error":"#VALUE!"},{"$f":"VLOOKUP(K185,references!$A$1:$B$7,2,FALSE)","v":{"$error":"#N/A"}}]
[null,null,null,null,null,null,null,null,null,null,null,null,"no email",{"$error":"#VALUE!"},{"$error":"#VALUE!"},{"$f":"VLOOKUP(K186,references!$A$1:$B$7,2,FALSE)","v":{"$error":"#N/A"}}]
[null,null,null,null,null,null,null,null,null,null,null,null,"no email",{"$error":"#VALUE!"},{"$error":"#VALUE!"},{"$f":"VLOOKUP(K187,references!$A$1:$B$7,2,FALSE)","v":{"$error":"#N/A"}}]
[null,null,null,null,null,null,null,null,null,null,null,null,"no email",{"$error":"#VALUE!"},{"$error":"#VALUE!"},{"$f":"VLOOKUP(K188,references!$A$1:$B$7,2,FALSE)","v":{"$error":"#N/A"}}]
[null,null,null,null,null,null,null,null,null,null,null,null,"no email",{"$error":"#VALUE!"},{"$error":"#VALUE!"},{"$f":"VLOOKUP(K189,references!$A$1:$B$7,2,FALSE)","v":{"$error":"#N/A"}}]
[null,null,null,null,null,null,null,null,null,null,null,null,"no email",{"$error":"#VALUE!"},{"$error":"#VALUE!"},{"$f":"VLOOKUP(K190,references!$A$1:$B$7,2,FALSE)","v":{"$error":"#N/A"}}]
[null,null,null,null,null,null,null,null,null,null,null,null,"no email",{"$error":"#VALUE!"},{"$error":"#VALUE!"},{"$f":"VLOOKUP(K191,references!$A$1:$B$7,2,FALSE)","v":{"$error":"#N/A"}}]
[null,null,null,null,null,null,null,null,null,null,null,null,"no email",{"$error":"#VALUE!"},{"$error":"#VALUE!"},{"$f":"VLOOKUP(K192,references!$A$1:$B$7,2,FALSE)","v":{"$error":"#N/A"}}]
[null,null,null,null,null,null,null,null,null,null,null,null,"no email",{"$error":"#VALUE!"},{"$error":"#VALUE!"},{"$f":"VLOOKUP(K193,references!$A$1:$B$7,2,FALSE)","v":{"$error":"#N/A"}}]
[null,null,null,null,null,null,null,null,null,null,null,null,{"$f":"IF(L194=\"\", \"no email\",LOWER(L194))","v":"no email"},{"$f":"LEFT(A194, SEARCH(\",\",A194,1)-1)","v":{"$error":"#VALUE!"}},{"$f":"RIGHT(A194, LEN(A194) -SEARCH(\",\",A194,1)-1)","v":{"$error":"#VALUE!"}},{"$f":"VLOOKUP(K194,references!$A$1:$B$7,2,FALSE)","v":{"$error":"#N/A"}}]
[null,null,null,null,null,null,null,null,null,null,null,null,"no email",{"$error":"#VALUE!"},{"$error":"#VALUE!"},{"$f":"VLOOKUP(K195,references!$A$1:$B$7,2,FALSE)","v":{"$error":"#N/A"}}]
[null,null,null,null,null,null,null,null,null,null,null,null,"no email",{"$error":"#VALUE!"},{"$error":"#VALUE!"},{"$f":"VLOOKUP(K196,references!$A$1:$B$7,2,FALSE)","v":{"$error":"#N/A"}}]
[null,null,null,null,null,null,null,null,null,null,null,null,"no email",{"$error":"#VALUE!"},{"$error":"#VALUE!"},{"$f":"VLOOKUP(K197,references!$A$1:$B$7,2,FALSE)","v":{"$error":"#N/A"}}]
[null,null,null,null,null,null,null,null,null,null,null,null,"no email",{"$error":"#VALUE!"},{"$error":"#VALUE!"},{"$f":"VLOOKUP(K198,references!$A$1:$B$7,2,FALSE)","v":{"$error":"#N/A"}}]
[null,null,null,null,null,null,null,null,null,null,null,null,"no email",{"$error":"#VALUE!"},{"$error":"#VALUE!"},{"$f":"VLOOKUP(K199,references!$A$1:$B$7,2,FALSE)","v":{"$error":"#N/A"}}]
[null,null,null,null,null,null,null,null,null,null,null,null,"no email",{"$error":"#VALUE!"},{"$error":"#VALUE!"},{"$f":"VLOOKUP(K200,references!$A$1:$B$7,2,FALSE)","v":{"$error":"#N/A"}}]
[null,null,null,null,null,null,null,null,null,null,null,null,"no email",{"$error":"#VALUE!"},{"$error":"#VALUE!"},{"$f":"VLOOKUP(K201,references!$A$1:$B$7,2,FALSE)","v":{"$error":"#N/A"}}]
[null,null,null,null,null,null,null,null,null,null,null,null,"no email",{"$error":"#VALUE!"},{"$error":"#VALUE!"},{"$f":"VLOOKUP(K202,references!$A$1:$B$7,2,FALSE)","v":{"$error":"#N/A"}}]
[null,null,null,null,null,null,null,null,null,null,null,null,"no email",{"$error":"#VALUE!"},{"$error":"#VALUE!"},{"$f":"VLOOKUP(K203,references!$A$1:$B$7,2,FALSE)","v":{"$error":"#N/A"}}]
[null,null,null,null,null,null,null,null,null,null,null,null,"no email",{"$error":"#VALUE!"},{"$error":"#VALUE!"},{"$f":"VLOOKUP(K204,references!$A$1:$B$7,2,FALSE)","v":{"$error":"#N/A"}}]
[null,null,null,null,null,null,null,null,null,null,null,null,"no email",{"$error":"#VALUE!"},{"$error":"#VALUE!"},{"$f":"VLOOKUP(K205,references!$A$1:$B$7,2,FALSE)","v":{"$error":"#N/A"}}]
[null,null,null,null,null,null,null,null,null,null,null,null,"no email",{"$error":"#VALUE!"},{"$error":"#VALUE!"},{"$f":"VLOOKUP(K206,references!$A$1:$B$7,2,FALSE)","v":{"$error":"#N/A"}}]
[null,null,null,null,null,null,null,null,null,null,null,null,"no email",{"$error":"#VALUE!"},{"$error":"#VALUE!"},{"$f":"VLOOKUP(K207,references!$A$1:$B$7,2,FALSE)","v":{"$error":"#N/A"}}]
[null,null,null,null,null,null,null,null,null,null,null,null,"no email",{"$error":"#VALUE!"},{"$error":"#VALUE!"},{"$f":"VLOOKUP(K208,references!$A$1:$B$7,2,FALSE)","v":{"$error":"#N/A"}}]
[null,null,null,null,null,null,null,null,null,null,null,null,"no email",{"$error":"#VALUE!"},{"$error":"#VALUE!"},{"$f":"VLOOKUP(K209,references!$A$1:$B$7,2,FALSE)","v":{"$error":"#N/A"}}]
[null,null,null,null,null,null,null,null,null,null,null,null,"no email",{"$error":"#VALUE!"},{"$error":"#VALUE!"},{"$f":"VLOOKUP(K210,references!$A$1:$B$7,2,FALSE)","v":{"$error":"#N/A"}}]
[null,null,null,null,null,null,null,null,null,null,null,null,"no email",{"$error":"#VALUE!"},{"$error":"#VALUE!"},{"$f":"VLOOKUP(K211,references!$A$1:$B$7,2,FALSE)","v":{"$error":"#N/A"}}]
[null,null,null,null,null,null,null,null,null,null,null,null,"no email",{"$error":"#VALUE!"},{"$error":"#VALUE!"},{"$f":"VLOOKUP(K212,references!$A$1:$B$7,2,FALSE)","v":{"$error":"#N/A"}}]
[null,null,null,null,null,null,null,null,null,null,null,null,"no email",{"$error":"#VALUE!"},{"$error":"#VALUE!"},{"$f":"VLOOKUP(K213,references!$A$1:$B$7,2,FALSE)","v":{"$error":"#N/A"}}]
[null,null,null,null,null,null,null,null,null,null,null,null,"no email",{"$error":"#VALUE!"},{"$error":"#VALUE!"},{"$f":"VLOOKUP(K214,references!$A$1:$B$7,2,FALSE)","v":{"$error":"#N/A"}}]
[null,null,null,null,null,null,null,null,null,null,null,null,"no email",{"$error":"#VALUE!"},{"$error":"#VALUE!"},{"$f":"VLOOKUP(K215,references!$A$1:$B$7,2,FALSE)","v":{"$error":"#N/A"}}]
[null,null,null,null,null,null,null,null,null,null,null,null,"no email",{"$error":"#VALUE!"},{"$error":"#VALUE!"},{"$f":"VLOOKUP(K216,references!$A$1:$B$7,2,FALSE)","v":{"$error":"#N/A"}}]
[null,null,null,null,null,null,null,null,null,null,null,null,"no email",{"$error":"#VALUE!"},{"$error":"#VALUE!"},{"$f":"VLOOKUP(K217,references!$A$1:$B$7,2,FALSE)","v":{"$error":"#N/A"}}]
[null,null,null,null,null,null,null,null,null,null,null,null,"no email",{"$error":"#VALUE!"},{"$error":"#VALUE!"},{"$f":"VLOOKUP(K218,references!$A$1:$B$7,2,FALSE)","v":{"$error":"#N/A"}}]
[null,null,null,null,null,null,null,null,null,null,null,null,"no email",{"$error":"#VALUE!"},{"$error":"#VALUE!"},{"$f":"VLOOKUP(K219,references!$A$1:$B$7,2,FALSE)","v":{"$error":"#N/A"}}]
[null,null,null,null,null,null,null,null,null,null,null,null,"no email",{"$error":"#VALUE!"},{"$error":"#VALUE!"},{"$f":"VLOOKUP(K220,references!$A$1:$B$7,2,FALSE)","v":{"$error":"#N/A"}}]
[null,null,null,null,null,null,null,null,null,null,null,null,"no email",{"$error":"#VALUE!"},{"$error":"#VALUE!"},{"$f":"VLOOKUP(K221,references!$A$1:$B$7,2,FALSE)","v":{"$error":"#N/A"}}]
[null,null,null,null,null,null,null,null,null,null,null,null,"no email",{"$error":"#VALUE!"},{"$error":"#VALUE!"},{"$f":"VLOOKUP(K222,references!$A$1:$B$7,2,FALSE)","v":{"$error":"#N/A"}}]
[null,null,null,null,null,null,null,null,null,null,null,null,"no email",{"$error":"#VALUE!"},{"$error":"#VALUE!"},{"$f":"VLOOKUP(K223,references!$A$1:$B$7,2,FALSE)","v":{"$error":"#N/A"}}]
[null,null,null,null,null,null,null,null,null,null,null,null,"no email",{"$error":"#VALUE!"},{"$error":"#VALUE!"},{"$f":"VLOOKUP(K224,references!$A$1:$B$7,2,FALSE)","v":{"$error":"#N/A"}}]
[null,null,null,null,null,null,null,null,null,null,null,null,"no email",{"$error":"#VALUE!"},{"$error":"#VALUE!"},{"$f":"VLOOKUP(K225,references!$A$1:$B$7,2,FALSE)","v":{"$error":"#N/A"}}]
[null,null,null,null,null,null,null,null,null,null,null,null,"no email",{"$error":"#VALUE!"},{"$error":"#VALUE!"},{"$f":"VLOOKUP(K226,references!$A$1:$B$7,2,FALSE)","v":{"$error":"#N/A"}}]
[null,null,null,null,null,null,null,null,null,null,null,null,"no email",{"$error":"#VALUE!"},{"$error":"#VALUE!"},{"$f":"VLOOKUP(K227,references!$A$1:$B$7,2,FALSE)","v":{"$error":"#N/A"}}]
[null,null,null,null,null,null,null,null,null,null,null,null,"no email",{"$error":"#VALUE!"},{"$error":"#VALUE!"},{"$f":"VLOOKUP(K228,references!$A$1:$B$7,2,FALSE)","v":{"$error":"#N/A"}}]
[null,null,null,null,null,null,null,null,null,null,null,null,"no email",{"$error":"#VALUE!"},{"$error":"#VALUE!"},{"$f":"VLOOKUP(K229,references!$A$1:$B$7,2,FALSE)","v":{"$error":"#N/A"}}]
[null,null,null,null,null,null,null,null,null,null,null,null,"no email",{"$error":"#VALUE!"},{"$error":"#VALUE!"},{"$f":"VLOOKUP(K230,references!$A$1:$B$7,2,FALSE)","v":{"$error":"#N/A"}}]
[null,null,null,null,null,null,null,null,null,null,null,null,"no email",{"$error":"#VALUE!"},{"$error":"#VALUE!"},{"$f":"VLOOKUP(K231,references!$A$1:$B$7,2,FALSE)","v":{"$error":"#N/A"}}]
[null,null,null,null,null,null,null,null,null,null,null,null,"no email",{"$error":"#VALUE!"},{"$error":"#VALUE!"},{"$f":"VLOOKUP(K232,references!$A$1:$B$7,2,FALSE)","v":{"$error":"#N/A"}}]
[null,null,null,null,null,null,null,null,null,null,null,null,"no email",{"$error":"#VALUE!"},{"$error":"#VALUE!"},{"$f":"VLOOKUP(K233,references!$A$1:$B$7,2,FALSE)","v":{"$error":"#N/A"}}]
[null,null,null,null,null,null,null,null,null,null,null,null,"no email",{"$error":"#VALUE!"},{"$error":"#VALUE!"},{"$f":"VLOOKUP(K234,references!$A$1:$B$7,2,FALSE)","v":{"$error":"#N/A"}}]
[null,null,null,null,null,null,null,null,null,null,null,null,"no email",{"$error":"#VALUE!"},{"$error":"#VALUE!"},{"$f":"VLOOKUP(K235,references!$A$1:$B$7,2,FALSE)","v":{"$error":"#N/A"}}]
[null,null,null,null,null,null,null,null,null,null,null,null,"no email",{"$error":"#VALUE!"},{"$error":"#VALUE!"},{"$f":"VLOOKUP(K236,references!$A$1:$B$7,2,FALSE)","v":{"$error":"#N/A"}}]
[null,null,null,null,null,null,null,null,null,null,null,null,"no email",{"$error":"#VALUE!"},{"$error":"#VALUE!"},{"$f":"VLOOKUP(K237,references!$A$1:$B$7,2,FALSE)","v":{"$error":"#N/A"}}]
[null,null,null,null,null,null,null,null,null,null,null,null,"no email",{"$error":"#VALUE!"},{"$error":"#VALUE!"},{"$f":"VLOOKUP(K238,references!$A$1:$B$7,2,FALSE)","v":{"$error":"#N/A"}}]
[null,null,null,null,null,null,null,null,null,null,null,null,"no email",{"$error":"#VALUE!"},{"$error":"#VALUE!"},{"$f":"VLOOKUP(K239,references!$A$1:$B$7,2,FALSE)","v":{"$error":"#N/A"}}]
[null,null,null,null,null,null,null,null,null,null,null,null,"no email",{"$error":"#VALUE!"},{"$error":"#VALUE!"},{"$f":"VLOOKUP(K240,references!$A$1:$B$7,2,FALSE)","v":{"$error":"#N/A"}}]
[null,null,null,null,null,null,null,null,null,null,null,null,"no email",{"$error":"#VALUE!"},{"$error":"#VALUE!"},{"$f":"VLOOKUP(K241,references!$A$1:$B$7,2,FALSE)","v":{"$error":"#N/A"}}]
[null,null,null,null,null,null,null,null,null,null,null,null,"no email",{"$error":"#VALUE!"},{"$error":"#VALUE!"},{"$f":"VLOOKUP(K242,references!$A$1:$B$7,2,FALSE)","v":{"$error":"#N/A"}}]
[null,null,null,null,null,null,null,null,null,null,null,null,"no email",{"$error":"#VALUE!"},{"$error":"#VALUE!"},{"$f":"VLOOKUP(K243,references!$A$1:$B$7,2,FALSE)","v":{"$error":"#N/A"}}]
[null,null,null,null,null,null,null,null,null,null,null,null,"no email",{"$error":"#VALUE!"},{"$error":"#VALUE!"},{"$f":"VLOOKUP(K244,references!$A$1:$B$7,2,FALSE)","v":{"$error":"#N/A"}}]
[null,null,null,null,null,null,null,null,null,null,null,null,"no email",{"$error":"#VALUE!"},{"$error":"#VALUE!"},{"$f":"VLOOKUP(K245,references!$A$1:$B$7,2,FALSE)","v":{"$error":"#N/A"}}]
[null,null,null,null,null,null,null,null,null,null,null,null,"no email",{"$error":"#VALUE!"},{"$error":"#VALUE!"},{"$f":"VLOOKUP(K246,references!$A$1:$B$7,2,FALSE)","v":{"$error":"#N/A"}}]
[null,null,null,null,null,null,null,null,null,null,null,null,"no email",{"$error":"#VALUE!"},{"$error":"#VALUE!"},{"$f":"VLOOKUP(K247,references!$A$1:$B$7,2,FALSE)","v":{"$error":"#N/A"}}]
[null,null,null,null,null,null,null,null,null,null,null,null,"no email",{"$error":"#VALUE!"},{"$error":"#VALUE!"},{"$f":"VLOOKUP(K248,references!$A$1:$B$7,2,FALSE)","v":{"$error":"#N/A"}}]
[null,null,null,null,null,null,null,null,null,null,null,null,"no email",{"$error":"#VALUE!"},{"$error":"#VALUE!"},{"$f":"VLOOKUP(K249,references!$A$1:$B$7,2,FALSE)","v":{"$error":"#N/A"}}]
[null,null,null,null,null,null,null,null,null,null,null,null,"no email",{"$error":"#VALUE!"},{"$error":"#VALUE!"},{"$f":"VLOOKUP(K250,references!$A$1:$B$7,2,FALSE)","v":{"$error":"#N/A"}}]
[null,null,null,null,null,null,null,null,null,null,null,null,"no email",{"$error":"#VALUE!"},{"$error":"#VALUE!"},{"$f":"VLOOKUP(K251,references!$A$1:$B$7,2,FALSE)","v":{"$error":"#N/A"}}]
[null,null,null,null,null,null,null,null,null,null,null,null,"no email",{"$error":"#VALUE!"},{"$error":"#VALUE!"},{"$f":"VLOOKUP(K252,references!$A$1:$B$7,2,FALSE)","v":{"$error":"#N/A"}}]
[null,null,null,null,null,null,null,null,null,null,null,null,"no email",{"$error":"#VALUE!"},{"$error":"#VALUE!"},{"$f":"VLOOKUP(K253,references!$A$1:$B$7,2,FALSE)","v":{"$error":"#N/A"}}]
[null,null,null,null,null,null,null,null,null,null,null,null,"no email",{"$error":"#VALUE!"},{"$error":"#VALUE!"},{"$f":"VLOOKUP(K254,references!$A$1:$B$7,2,FALSE)","v":{"$error":"#N/A"}}]
[null,null,null,null,null,null,null,null,null,null,null,null,"no email",{"$error":"#VALUE!"},{"$error":"#VALUE!"},{"$f":"VLOOKUP(K255,references!$A$1:$B$7,2,FALSE)","v":{"$error":"#N/A"}}]
[null,null,null,null,null,null,null,null,null,null,null,null,"no email",{"$error":"#VALUE!"},{"$error":"#VALUE!"},{"$f":"VLOOKUP(K256,references!$A$1:$B$7,2,FALSE)","v":{"$error":"#N/A"}}]
[null,null,null,null,null,null,null,null,null,null,null,null,"no email",{"$error":"#VALUE!"},{"$error":"#VALUE!"},{"$f":"VLOOKUP(K257,references!$A$1:$B$7,2,FALSE)","v":{"$error":"#N/A"}}]
[null,null,null,null,null,null,null,null,null,null,null,null,{"$f":"IF(L258=\"\", \"no email\",LOWER(L258))","v":"no email"},{"$f":"LEFT(A258, SEARCH(\",\",A258,1)-1)","v":{"$error":"#VALUE!"}},{"$f":"RIGHT(A258, LEN(A258) -SEARCH(\",\",A258,1)-1)","v":{"$error":"#VALUE!"}},{"$f":"VLOOKUP(K258,references!$A$1:$B$7,2,FALSE)","v":{"$error":"#N/A"}}]
[null,null,null,null,null,null,null,null,null,null,null,null,"no email",{"$error":"#VALUE!"},{"$error":"#VALUE!"},{"$f":"VLOOKUP(K259,references!$A$1:$B$7,2,FALSE)","v":{"$error":"#N/A"}}]
[null,null,null,null,null,null,null,null,null,null,null,null,"no email",{"$error":"#VALUE!"},{"$error":"#VALUE!"},{"$f":"VLOOKUP(K260,references!$A$1:$B$7,2,FALSE)","v":{"$error":"#N/A"}}]
[null,null,null,null,null,null,null,null,null,null,null,null,"no email",{"$error":"#VALUE!"},{"$error":"#VALUE!"},{"$f":"VLOOKUP(K261,references!$A$1:$B$7,2,FALSE)","v":{"$error":"#N/A"}}]
[null,null,null,null,null,null,null,null,null,null,null,null,"no email",{"$error":"#VALUE!"},{"$error":"#VALUE!"},{"$f":"VLOOKUP(K262,references!$A$1:$B$7,2,FALSE)","v":{"$error":"#N/A"}}]
[null,null,null,null,null,null,null,null,null,null,null,null,"no email",{"$error":"#VALUE!"},{"$error":"#VALUE!"},{"$f":"VLOOKUP(K263,references!$A$1:$B$7,2,FALSE)","v":{"$error":"#N/A"}}]
[null,null,null,null,null,null,null,null,null,null,null,null,"no email",{"$error":"#VALUE!"},{"$error":"#VALUE!"},{"$f":"VLOOKUP(K264,references!$A$1:$B$7,2,FALSE)","v":{"$error":"#N/A"}}]
[null,null,null,null,null,null,null,null,null,null,null,null,"no email",{"$error":"#VALUE!"},{"$error":"#VALUE!"},{"$f":"VLOOKUP(K265,references!$A$1:$B$7,2,FALSE)","v":{"$error":"#N/A"}}]
[null,null,null,null,null,null,null,null,null,null,null,null,"no email",{"$error":"#VALUE!"},{"$error":"#VALUE!"},{"$f":"VLOOKUP(K266,references!$A$1:$B$7,2,FALSE)","v":{"$error":"#N/A"}}]
[null,null,null,null,null,null,null,null,null,null,null,null,"no email",{"$error":"#VALUE!"},{"$error":"#VALUE!"},{"$f":"VLOOKUP(K267,references!$A$1:$B$7,2,FALSE)","v":{"$error":"#N/A"}}]
[null,null,null,null,null,null,null,null,null,null,null,null,"no email",{"$error":"#VALUE!"},{"$error":"#VALUE!"},{"$f":"VLOOKUP(K268,references!$A$1:$B$7,2,FALSE)","v":{"$error":"#N/A"}}]
[null,null,null,null,null,null,null,null,null,null,null,null,"no email",{"$error":"#VALUE!"},{"$error":"#VALUE!"},{"$f":"VLOOKUP(K269,references!$A$1:$B$7,2,FALSE)","v":{"$error":"#N/A"}}]
[null,null,null,null,null,null,null,null,null,null,null,null,"no email",{"$error":"#VALUE!"},{"$error":"#VALUE!"},{"$f":"VLOOKUP(K270,references!$A$1:$B$7,2,FALSE)","v":{"$error":"#N/A"}}]
[null,null,null,null,null,null,null,null,null,null,null,null,"no email",{"$error":"#VALUE!"},{"$error":"#VALUE!"},{"$f":"VLOOKUP(K271,references!$A$1:$B$7,2,FALSE)","v":{"$error":"#N/A"}}]
[null,null,null,null,null,null,null,null,null,null,null,null,"no email",{"$error":"#VALUE!"},{"$error":"#VALUE!"},{"$f":"VLOOKUP(K272,references!$A$1:$B$7,2,FALSE)","v":{"$error":"#N/A"}}]
[null,null,null,null,null,null,null,null,null,null,null,null,"no email",{"$error":"#VALUE!"},{"$error":"#VALUE!"},{"$f":"VLOOKUP(K273,references!$A$1:$B$7,2,FALSE)","v":{"$error":"#N/A"}}]
[null,null,null,null,null,null,null,null,null,null,null,null,"no email",{"$error":"#VALUE!"},{"$error":"#VALUE!"},{"$f":"VLOOKUP(K274,references!$A$1:$B$7,2,FALSE)","v":{"$error":"#N/A"}}]
[null,null,null,null,null,null,null,null,null,null,null,null,"no email",{"$error":"#VALUE!"},{"$error":"#VALUE!"},{"$f":"VLOOKUP(K275,references!$A$1:$B$7,2,FALSE)","v":{"$error":"#N/A"}}]
[null,null,null,null,null,null,null,null,null,null,null,null,"no email",{"$error":"#VALUE!"},{"$error":"#VALUE!"},{"$f":"VLOOKUP(K276,references!$A$1:$B$7,2,FALSE)","v":{"$error":"#N/A"}}]
[null,null,null,null,null,null,null,null,null,null,null,null,"no email",{"$error":"#VALUE!"},{"$error":"#VALUE!"},{"$f":"VLOOKUP(K277,references!$A$1:$B$7,2,FALSE)","v":{"$error":"#N/A"}}]
[null,null,null,null,null,null,null,null,null,null,null,null,"no email",{"$error":"#VALUE!"},{"$error":"#VALUE!"},{"$f":"VLOOKUP(K278,references!$A$1:$B$7,2,FALSE)","v":{"$error":"#N/A"}}]
[null,null,null,null,null,null,null,null,null,null,null,null,"no email",{"$error":"#VALUE!"},{"$error":"#VALUE!"},{"$f":"VLOOKUP(K279,references!$A$1:$B$7,2,FALSE)","v":{"$error":"#N/A"}}]
[null,null,null,null,null,null,null,null,null,null,null,null,"no email",{"$error":"#VALUE!"},{"$error":"#VALUE!"},{"$f":"VLOOKUP(K280,references!$A$1:$B$7,2,FALSE)","v":{"$error":"#N/A"}}]
[null,null,null,null,null,null,null,null,null,null,null,null,"no email",{"$error":"#VALUE!"},{"$error":"#VALUE!"},{"$f":"VLOOKUP(K281,references!$A$1:$B$7,2,FALSE)","v":{"$error":"#N/A"}}]
[null,null,null,null,null,null,null,null,null,null,null,null,"no email",{"$error":"#VALUE!"},{"$error":"#VALUE!"},{"$f":"VLOOKUP(K282,references!$A$1:$B$7,2,FALSE)","v":{"$error":"#N/A"}}]
[null,null,null,null,null,null,null,null,null,null,null,null,"no email",{"$error":"#VALUE!"},{"$error":"#VALUE!"},{"$f":"VLOOKUP(K283,references!$A$1:$B$7,2,FALSE)","v":{"$error":"#N/A"}}]
[null,null,null,null,null,null,null,null,null,null,null,null,"no email",{"$error":"#VALUE!"},{"$error":"#VALUE!"},{"$f":"VLOOKUP(K284,references!$A$1:$B$7,2,FALSE)","v":{"$error":"#N/A"}}]
[null,null,null,null,null,null,null,null,null,null,null,null,"no email",{"$error":"#VALUE!"},{"$error":"#VALUE!"},{"$f":"VLOOKUP(K285,references!$A$1:$B$7,2,FALSE)","v":{"$error":"#N/A"}}]
[null,null,null,null,null,null,null,null,null,null,null,null,"no email",{"$error":"#VALUE!"},{"$error":"#VALUE!"},{"$f":"VLOOKUP(K286,references!$A$1:$B$7,2,FALSE)","v":{"$error":"#N/A"}}]
[null,null,null,null,null,null,null,null,null,null,null,null,"no email",{"$error":"#VALUE!"},{"$error":"#VALUE!"},{"$f":"VLOOKUP(K287,references!$A$1:$B$7,2,FALSE)","v":{"$error":"#N/A"}}]
[null,null,null,null,null,null,null,null,null,null,null,null,"no email",{"$error":"#VALUE!"},{"$error":"#VALUE!"},{"$f":"VLOOKUP(K288,references!$A$1:$B$7,2,FALSE)","v":{"$error":"#N/A"}}]
[null,null,null,null,null,null,null,null,null,null,null,null,"no email",{"$error":"#VALUE!"},{"$error":"#VALUE!"},{"$f":"VLOOKUP(K289,references!$A$1:$B$7,2,FALSE)","v":{"$error":"#N/A"}}]
[null,null,null,null,null,null,null,null,null,null,null,null,"no email",{"$error":"#VALUE!"},{"$error":"#VALUE!"},{"$f":"VLOOKUP(K290,references!$A$1:$B$7,2,FALSE)","v":{"$error":"#N/A"}}]
[null,null,null,null,null,null,null,null,null,null,null,null,"no email",{"$error":"#VALUE!"},{"$error":"#VALUE!"},{"$f":"VLOOKUP(K291,references!$A$1:$B$7,2,FALSE)","v":{"$error":"#N/A"}}]
[null,null,null,null,null,null,null,null,null,null,null,null,"no email",{"$error":"#VALUE!"},{"$error":"#VALUE!"},{"$f":"VLOOKUP(K292,references!$A$1:$B$7,2,FALSE)","v":{"$error":"#N/A"}}]
[null,null,null,null,null,null,null,null,null,null,null,null,"no email",{"$error":"#VALUE!"},{"$error":"#VALUE!"},{"$f":"VLOOKUP(K293,references!$A$1:$B$7,2,FALSE)","v":{"$error":"#N/A"}}]
[null,null,null,null,null,null,null,null,null,null,null,null,"no email",{"$error":"#VALUE!"},{"$error":"#VALUE!"},{"$f":"VLOOKUP(K294,references!$A$1:$B$7,2,FALSE)","v":{"$error":"#N/A"}}]
[null,null,null,null,null,null,null,null,null,null,null,null,"no email",{"$error":"#VALUE!"},{"$error":"#VALUE!"},{"$f":"VLOOKUP(K295,references!$A$1:$B$7,2,FALSE)","v":{"$error":"#N/A"}}]
[null,null,null,null,null,null,null,null,null,null,null,null,"no email",{"$error":"#VALUE!"},{"$error":"#VALUE!"},{"$f":"VLOOKUP(K296,references!$A$1:$B$7,2,FALSE)","v":{"$error":"#N/A"}}]
[null,null,null,null,null,null,null,null,null,null,null,null,"no email",{"$error":"#VALUE!"},{"$error":"#VALUE!"},{"$f":"VLOOKUP(K297,references!$A$1:$B$7,2,FALSE)","v":{"$error":"#N/A"}}]
[null,null,null,null,null,null,null,null,null,null,null,null,"no email",{"$error":"#VALUE!"},{"$error":"#VALUE!"},{"$f":"VLOOKUP(K298,references!$A$1:$B$7,2,FALSE)","v":{"$error":"#N/A"}}]
[null,null,null,null,null,null,null,null,null,null,null,null,"no email",{"$error":"#VALUE!"},{"$error":"#VALUE!"},{"$f":"VLOOKUP(K299,references!$A$1:$B$7,2,FALSE)","v":{"$error":"#N/A"}}]
[null,null,null,null,null,null,null,null,null,null,null,null,"no email",{"$error":"#VALUE!"},{"$error":"#VALUE!"},{"$f":"VLOOKUP(K300,references!$A$1:$B$7,2,FALSE)","v":{"$error":"#N/A"}}]
[null,null,null,null,null,null,null,null,null,null,null,null,"no email",{"$error":"#VALUE!"},{"$error":"#VALUE!"},{"$f":"VLOOKUP(K301,references!$A$1:$B$7,2,FALSE)","v":{"$error":"#N/A"}}]
[null,null,null,null,null,null,null,null,null,null,null,null,"no email",{"$error":"#VALUE!"},{"$error":"#VALUE!"},{"$f":"VLOOKUP(K302,references!$A$1:$B$7,2,FALSE)","v":{"$error":"#N/A"}}]
[null,null,null,null,null,null,null,null,null,null,null,null,"no email",{"$error":"#VALUE!"},{"$error":"#VALUE!"},{"$f":"VLOOKUP(K303,references!$A$1:$B$7,2,FALSE)","v":{"$error":"#N/A"}}]
[null,null,null,null,null,null,null,null,null,null,null,null,"no email",{"$error":"#VALUE!"},{"$error":"#VALUE!"},{"$f":"VLOOKUP(K304,references!$A$1:$B$7,2,FALSE)","v":{"$error":"#N/A"}}]
[null,null,null,null,null,null,null,null,null,null,null,null,"no email",{"$error":"#VALUE!"},{"$error":"#VALUE!"},{"$f":"VLOOKUP(K305,references!$A$1:$B$7,2,FALSE)","v":{"$error":"#N/A"}}]
[null,null,null,null,null,null,null,null,null,null,null,null,"no email",{"$error":"#VALUE!"},{"$error":"#VALUE!"},{"$f":"VLOOKUP(K306,references!$A$1:$B$7,2,FALSE)","v":{"$error":"#N/A"}}]
[null,null,null,null,null,null,null,null,null,null,null,null,"no email",{"$error":"#VALUE!"},{"$error":"#VALUE!"},{"$f":"VLOOKUP(K307,references!$A$1:$B$7,2,FALSE)","v":{"$error":"#N/A"}}]
[null,null,null,null,null,null,null,null,null,null,null,null,"no email",{"$error":"#VALUE!"},{"$error":"#VALUE!"},{"$f":"VLOOKUP(K308,references!$A$1:$B$7,2,FALSE)","v":{"$error":"#N/A"}}]
[null,null,null,null,null,null,null,null,null,null,null,null,"no email",{"$error":"#VALUE!"},{"$error":"#VALUE!"},{"$f":"VLOOKUP(K309,references!$A$1:$B$7,2,FALSE)","v":{"$error":"#N/A"}}]
[null,null,null,null,null,null,null,null,null,null,null,null,"no email",{"$error":"#VALUE!"},{"$error":"#VALUE!"},{"$f":"VLOOKUP(K310,references!$A$1:$B$7,2,FALSE)","v":{"$error":"#N/A"}}]
[null,null,null,null,null,null,null,null,null,null,null,null,"no email",{"$error":"#VALUE!"},{"$error":"#VALUE!"},{"$f":"VLOOKUP(K311,references!$A$1:$B$7,2,FALSE)","v":{"$error":"#N/A"}}]
[null,null,null,null,null,null,null,null,null,null,null,null,"no email",{"$error":"#VALUE!"},{"$error":"#VALUE!"},{"$f":"VLOOKUP(K312,references!$A$1:$B$7,2,FALSE)","v":{"$error":"#N/A"}}]
[null,null,null,null,null,null,null,null,null,null,null,null,"no email",{"$error":"#VALUE!"},{"$error":"#VALUE!"},{"$f":"VLOOKUP(K313,references!$A$1:$B$7,2,FALSE)","v":{"$error":"#N/A"}}]
[null,null,null,null,null,null,null,null,null,null,null,null,"no email",{"$error":"#VALUE!"},{"$error":"#VALUE!"},{"$f":"VLOOKUP(K314,references!$A$1:$B$7,2,FALSE)","v":{"$error":"#N/A"}}]
[null,null,null,null,null,null,null,null,null,null,null,null,"no email",{"$error":"#VALUE!"},{"$error":"#VALUE!"},{"$f":"VLOOKUP(K315,references!$A$1:$B$7,2,FALSE)","v":{"$error":"#N/A"}}]
[null,null,null,null,null,null,null,null,null,null,null,null,"no email",{"$error":"#VALUE!"},{"$error":"#VALUE!"},{"$f":"VLOOKUP(K316,references!$A$1:$B$7,2,FALSE)","v":{"$error":"#N/A"}}]
[null,null,null,null,null,null,null,null,null,null,null,null,"no email",{"$error":"#VALUE!"},{"$error":"#VALUE!"},{"$f":"VLOOKUP(K317,references!$A$1:$B$7,2,FALSE)","v":{"$error":"#N/A"}}]
[null,null,null,null,null,null,null,null,null,null,null,null,"no email",{"$error":"#VALUE!"},{"$error":"#VALUE!"},{"$f":"VLOOKUP(K318,references!$A$1:$B$7,2,FALSE)","v":{"$error":"#N/A"}}]
[null,null,null,null,null,null,null,null,null,null,null,null,"no email",{"$error":"#VALUE!"},{"$error":"#VALUE!"},{"$f":"VLOOKUP(K319,references!$A$1:$B$7,2,FALSE)","v":{"$error":"#N/A"}}]
[null,null,null,null,null,null,null,null,null,null,null,null,"no email",{"$error":"#VALUE!"},{"$error":"#VALUE!"},{"$f":"VLOOKUP(K320,references!$A$1:$B$7,2,FALSE)","v":{"$error":"#N/A"}}]
[null,null,null,null,null,null,null,null,null,null,null,null,"no email",{"$error":"#VALUE!"},{"$error":"#VALUE!"},{"$f":"VLOOKUP(K321,references!$A$1:$B$7,2,FALSE)","v":{"$error":"#N/A"}}]
[null,null,null,null,null,null,null,null,null,null,null,null,{"$f":"IF(L322=\"\", \"no email\",LOWER(L322))","v":"no email"},{"$f":"LEFT(A322, SEARCH(\",\",A322,1)-1)","v":{"$error":"#VALUE!"}},{"$f":"RIGHT(A322, LEN(A322) -SEARCH(\",\",A322,1)-1)","v":{"$error":"#VALUE!"}},{"$f":"VLOOKUP(K322,references!$A$1:$B$7,2,FALSE)","v":{"$error":"#N/A"}}]
[null,null,null,null,null,null,null,null,null,null,null,null,"no email",{"$error":"#VALUE!"},{"$error":"#VALUE!"},{"$f":"VLOOKUP(K323,references!$A$1:$B$7,2,FALSE)","v":{"$error":"#N/A"}}]
[null,null,null,null,null,null,null,null,null,null,null,null,"no email",{"$error":"#VALUE!"},{"$error":"#VALUE!"},{"$f":"VLOOKUP(K324,references!$A$1:$B$7,2,FALSE)","v":{"$error":"#N/A"}}]
[null,null,null,null,null,null,null,null,null,null,null,null,"no email",{"$error":"#VALUE!"},{"$error":"#VALUE!"},{"$f":"VLOOKUP(K325,references!$A$1:$B$7,2,FALSE)","v":{"$error":"#N/A"}}]
[null,null,null,null,null,null,null,null,null,null,null,null,"no email",{"$error":"#VALUE!"},{"$error":"#VALUE!"},{"$f":"VLOOKUP(K326,references!$A$1:$B$7,2,FALSE)","v":{"$error":"#N/A"}}]
[null,null,null,null,null,null,null,null,null,null,null,null,"no email",{"$error":"#VALUE!"},{"$error":"#VALUE!"},{"$f":"VLOOKUP(K327,references!$A$1:$B$7,2,FALSE)","v":{"$error":"#N/A"}}]
[null,null,null,null,null,null,null,null,null,null,null,null,"no email",{"$error":"#VALUE!"},{"$error":"#VALUE!"},{"$f":"VLOOKUP(K328,references!$A$1:$B$7,2,FALSE)","v":{"$error":"#N/A"}}]
[null,null,null,null,null,null,null,null,null,null,null,null,"no email",{"$error":"#VALUE!"},{"$error":"#VALUE!"},{"$f":"VLOOKUP(K329,references!$A$1:$B$7,2,FALSE)","v":{"$error":"#N/A"}}]
[null,null,null,null,null,null,null,null,null,null,null,null,"no email",{"$error":"#VALUE!"},{"$error":"#VALUE!"},{"$f":"VLOOKUP(K330,references!$A$1:$B$7,2,FALSE)","v":{"$error":"#N/A"}}]
[null,null,null,null,null,null,null,null,null,null,null,null,"no email",{"$error":"#VALUE!"},{"$error":"#VALUE!"},{"$f":"VLOOKUP(K331,references!$A$1:$B$7,2,FALSE)","v":{"$error":"#N/A"}}]
[null,null,null,null,null,null,null,null,null,null,null,null,"no email",{"$error":"#VALUE!"},{"$error":"#VALUE!"},{"$f":"VLOOKUP(K332,references!$A$1:$B$7,2,FALSE)","v":{"$error":"#N/A"}}]
[null,null,null,null,null,null,null,null,null,null,null,null,"no email",{"$error":"#VALUE!"},{"$error":"#VALUE!"},{"$f":"VLOOKUP(K333,references!$A$1:$B$7,2,FALSE)","v":{"$error":"#N/A"}}]
[null,null,null,null,null,null,null,null,null,null,null,null,"no email",{"$error":"#VALUE!"},{"$error":"#VALUE!"},{"$f":"VLOOKUP(K334,references!$A$1:$B$7,2,FALSE)","v":{"$error":"#N/A"}}]
[null,null,null,null,null,null,null,null,null,null,null,null,"no email",{"$error":"#VALUE!"},{"$error":"#VALUE!"},{"$f":"VLOOKUP(K335,references!$A$1:$B$7,2,FALSE)","v":{"$error":"#N/A"}}]
[null,null,null,null,null,null,null,null,null,null,null,null,"no email",{"$error":"#VALUE!"},{"$error":"#VALUE!"},{"$f":"VLOOKUP(K336,references!$A$1:$B$7,2,FALSE)","v":{"$error":"#N/A"}}]
[null,null,null,null,null,null,null,null,null,null,null,null,"no email",{"$error":"#VALUE!"},{"$error":"#VALUE!"},{"$f":"VLOOKUP(K337,references!$A$1:$B$7,2,FALSE)","v":{"$error":"#N/A"}}]
[null,null,null,null,null,null,null,null,null,null,null,null,"no email",{"$error":"#VALUE!"},{"$error":"#VALUE!"},{"$f":"VLOOKUP(K338,references!$A$1:$B$7,2,FALSE)","v":{"$error":"#N/A"}}]
[null,null,null,null,null,null,null,null,null,null,null,null,"no email",{"$error":"#VALUE!"},{"$error":"#VALUE!"},{"$f":"VLOOKUP(K339,references!$A$1:$B$7,2,FALSE)","v":{"$error":"#N/A"}}]
[null,null,null,null,null,null,null,null,null,null,null,null,"no email",{"$error":"#VALUE!"},{"$error":"#VALUE!"},{"$f":"VLOOKUP(K340,references!$A$1:$B$7,2,FALSE)","v":{"$error":"#N/A"}}]
[null,null,null,null,null,null,null,null,null,null,null,null,"no email",{"$error":"#VALUE!"},{"$error":"#VALUE!"},{"$f":"VLOOKUP(K341,references!$A$1:$B$7,2,FALSE)","v":{"$error":"#N/A"}}]
[null,null,null,null,null,null,null,null,null,null,null,null,"no email",{"$error":"#VALUE!"},{"$error":"#VALUE!"},{"$f":"VLOOKUP(K342,references!$A$1:$B$7,2,FALSE)","v":{"$error":"#N/A"}}]
[null,null,null,null,null,null,null,null,null,null,null,null,"no email",{"$error":"#VALUE!"},{"$error":"#VALUE!"},{"$f":"VLOOKUP(K343,references!$A$1:$B$7,2,FALSE)","v":{"$error":"#N/A"}}]
[null,null,null,null,null,null,null,null,null,null,null,null,"no email",{"$error":"#VALUE!"},{"$error":"#VALUE!"},{"$f":"VLOOKUP(K344,references!$A$1:$B$7,2,FALSE)","v":{"$error":"#N/A"}}]
[null,null,null,null,null,null,null,null,null,null,null,null,"no email",{"$error":"#VALUE!"},{"$error":"#VALUE!"},{"$f":"VLOOKUP(K345,references!$A$1:$B$7,2,FALSE)","v":{"$error":"#N/A"}}]
[null,null,null,null,null,null,null,null,null,null,null,null,"no email",{"$error":"#VALUE!"},{"$error":"#VALUE!"},{"$f":"VLOOKUP(K346,references!$A$1:$B$7,2,FALSE)","v":{"$error":"#N/A"}}]
[null,null,null,null,null,null,null,null,null,null,null,null,"no email",{"$error":"#VALUE!"},{"$error":"#VALUE!"},{"$f":"VLOOKUP(K347,references!$A$1:$B$7,2,FALSE)","v":{"$error":"#N/A"}}]
[null,null,null,null,null,null,null,null,null,null,null,null,"no email",{"$error":"#VALUE!"},{"$error":"#VALUE!"},{"$f":"VLOOKUP(K348,references!$A$1:$B$7,2,FALSE)","v":{"$error":"#N/A"}}]
[null,null,null,null,null,null,null,null,null,null,null,null,"no email",{"$error":"#VALUE!"},{"$error":"#VALUE!"},{"$f":"VLOOKUP(K349,references!$A$1:$B$7,2,FALSE)","v":{"$error":"#N/A"}}]
[null,null,null,null,null,null,null,null,null,null,null,null,"no email",{"$error":"#VALUE!"},{"$error":"#VALUE!"},{"$f":"VLOOKUP(K350,references!$A$1:$B$7,2,FALSE)","v":{"$error":"#N/A"}}]
[null,null,null,null,null,null,null,null,null,null,null,null,"no email",{"$error":"#VALUE!"},{"$error":"#VALUE!"},{"$f":"VLOOKUP(K351,references!$A$1:$B$7,2,FALSE)","v":{"$error":"#N/A"}}]
[null,null,null,null,null,null,null,null,null,null,null,null,"no email",{"$error":"#VALUE!"},{"$error":"#VALUE!"},{"$f":"VLOOKUP(K352,references!$A$1:$B$7,2,FALSE)","v":{"$error":"#N/A"}}]
[null,null,null,null,null,null,null,null,null,null,null,null,"no email",{"$error":"#VALUE!"},{"$error":"#VALUE!"},{"$f":"VLOOKUP(K353,references!$A$1:$B$7,2,FALSE)","v":{"$error":"#N/A"}}]
[null,null,null,null,null,null,null,null,null,null,null,null,"no email",{"$error":"#VALUE!"},{"$error":"#VALUE!"},{"$f":"VLOOKUP(K354,references!$A$1:$B$7,2,FALSE)","v":{"$error":"#N/A"}}]
[null,null,null,null,null,null,null,null,null,null,null,null,"no email",{"$error":"#VALUE!"},{"$error":"#VALUE!"},{"$f":"VLOOKUP(K355,references!$A$1:$B$7,2,FALSE)","v":{"$error":"#N/A"}}]
[null,null,null,null,null,null,null,null,null,null,null,null,"no email",{"$error":"#VALUE!"},{"$error":"#VALUE!"},{"$f":"VLOOKUP(K356,references!$A$1:$B$7,2,FALSE)","v":{"$error":"#N/A"}}]
[null,null,null,null,null,null,null,null,null,null,null,null,"no email",{"$error":"#VALUE!"},{"$error":"#VALUE!"},{"$f":"VLOOKUP(K357,references!$A$1:$B$7,2,FALSE)","v":{"$error":"#N/A"}}]
[null,null,null,null,null,null,null,null,null,null,null,null,"no email",{"$error":"#VALUE!"},{"$error":"#VALUE!"},{"$f":"VLOOKUP(K358,references!$A$1:$B$7,2,FALSE)","v":{"$error":"#N/A"}}]
[null,null,null,null,null,null,null,null,null,null,null,null,"no email",{"$error":"#VALUE!"},{"$error":"#VALUE!"},{"$f":"VLOOKUP(K359,references!$A$1:$B$7,2,FALSE)","v":{"$error":"#N/A"}}]
[null,null,null,null,null,null,null,null,null,null,null,null,"no email",{"$error":"#VALUE!"},{"$error":"#VALUE!"},{"$f":"VLOOKUP(K360,references!$A$1:$B$7,2,FALSE)","v":{"$error":"#N/A"}}]
[null,null,null,null,null,null,null,null,null,null,null,null,"no email",{"$error":"#VALUE!"},{"$error":"#VALUE!"},{"$f":"VLOOKUP(K361,references!$A$1:$B$7,2,FALSE)","v":{"$error":"#N/A"}}]
[null,null,null,null,null,null,null,null,null,null,null,null,"no email",{"$error":"#VALUE!"},{"$error":"#VALUE!"},{"$f":"VLOOKUP(K362,references!$A$1:$B$7,2,FALSE)","v":{"$error":"#N/A"}}]
[null,null,null,null,null,null,null,null,null,null,null,null,"no email",{"$error":"#VALUE!"},{"$error":"#VALUE!"},{"$f":"VLOOKUP(K363,references!$A$1:$B$7,2,FALSE)","v":{"$error":"#N/A"}}]
[null,null,null,null,null,null,null,null,null,null,null,null,"no email",{"$error":"#VALUE!"},{"$error":"#VALUE!"},{"$f":"VLOOKUP(K364,references!$A$1:$B$7,2,FALSE)","v":{"$error":"#N/A"}}]
[null,null,null,null,null,null,null,null,null,null,null,null,"no email",{"$error":"#VALUE!"},{"$error":"#VALUE!"},{"$f":"VLOOKUP(K365,references!$A$1:$B$7,2,FALSE)","v":{"$error":"#N/A"}}]
[null,null,null,null,null,null,null,null,null,null,null,null,"no email",{"$error":"#VALUE!"},{"$error":"#VALUE!"},{"$f":"VLOOKUP(K366,references!$A$1:$B$7,2,FALSE)","v":{"$error":"#N/A"}}]
[null,null,null,null,null,null,null,null,null,null,null,null,"no email",{"$error":"#VALUE!"},{"$error":"#VALUE!"},{"$f":"VLOOKUP(K367,references!$A$1:$B$7,2,FALSE)","v":{"$error":"#N/A"}}]
[null,null,null,null,null,null,null,null,null,null,null,null,"no email",{"$error":"#VALUE!"},{"$error":"#VALUE!"},{"$f":"VLOOKUP(K368,references!$A$1:$B$7,2,FALSE)","v":{"$error":"#N/A"}}]
[null,null,null,null,null,null,null,null,null,null,null,null,"no email",{"$error":"#VALUE!"},{"$error":"#VALUE!"},{"$f":"VLOOKUP(K369,references!$A$1:$B$7,2,FALSE)","v":{"$error":"#N/A"}}]
[null,null,null,null,null,null,null,null,null,null,null,null,"no email",{"$error":"#VALUE!"},{"$error":"#VALUE!"},{"$f":"VLOOKUP(K370,references!$A$1:$B$7,2,FALSE)","v":{"$error":"#N/A"}}]
[null,null,null,null,null,null,null,null,null,null,null,null,"no email",{"$error":"#VALUE!"},{"$error":"#VALUE!"},{"$f":"VLOOKUP(K371,references!$A$1:$B$7,2,FALSE)","v":{"$error":"#N/A"}}]
[null,null,null,null,null,null,null,null,null,null,null,null,"no email",{"$error":"#VALUE!"},{"$error":"#VALUE!"},{"$f":"VLOOKUP(K372,references!$A$1:$B$7,2,FALSE)","v":{"$error":"#N/A"}}]
[null,null,null,null,null,null,null,null,null,null,null,null,"no email",{"$error":"#VALUE!"},{"$error":"#VALUE!"},{"$f":"VLOOKUP(K373,references!$A$1:$B$7,2,FALSE)","v":{"$error":"#N/A"}}]
[null,null,null,null,null,null,null,null,null,null,null,null,"no email",{"$error":"#VALUE!"},{"$error":"#VALUE!"},{"$f":"VLOOKUP(K374,references!$A$1:$B$7,2,FALSE)","v":{"$error":"#N/A"}}]
[null,null,null,null,null,null,null,null,null,null,null,null,"no email",{"$error":"#VALUE!"},{"$error":"#VALUE!"},{"$f":"VLOOKUP(K375,references!$A$1:$B$7,2,FALSE)","v":{"$error":"#N/A"}}]
[null,null,null,null,null,null,null,null,null,null,null,null,"no email",{"$error":"#VALUE!"},{"$error":"#VALUE!"},{"$f":"VLOOKUP(K376,references!$A$1:$B$7,2,FALSE)","v":{"$error":"#N/A"}}]
[null,null,null,null,null,null,null,null,null,null,null,null,"no email",{"$error":"#VALUE!"},{"$error":"#VALUE!"},{"$f":"VLOOKUP(K377,references!$A$1:$B$7,2,FALSE)","v":{"$error":"#N/A"}}]
[null,null,null,null,null,null,null,null,null,null,null,null,"no email",{"$error":"#VALUE!"},{"$error":"#VALUE!"},{"$f":"VLOOKUP(K378,references!$A$1:$B$7,2,FALSE)","v":{"$error":"#N/A"}}]
[null,null,null,null,null,null,null,null,null,null,null,null,"no email",{"$error":"#VALUE!"},{"$error":"#VALUE!"},{"$f":"VLOOKUP(K379,references!$A$1:$B$7,2,FALSE)","v":{"$error":"#N/A"}}]
[null,null,null,null,null,null,null,null,null,null,null,null,"no email",{"$error":"#VALUE!"},{"$error":"#VALUE!"},{"$f":"VLOOKUP(K380,references!$A$1:$B$7,2,FALSE)","v":{"$error":"#N/A"}}]
[null,null,null,null,null,null,null,null,null,null,null,null,"no email",{"$error":"#VALUE!"},{"$error":"#VALUE!"},{"$f":"VLOOKUP(K381,references!$A$1:$B$7,2,FALSE)","v":{"$error":"#N/A"}}]
[null,null,null,null,null,null,null,null,null,null,null,null,"no email",{"$error":"#VALUE!"},{"$error":"#VALUE!"},{"$f":"VLOOKUP(K382,references!$A$1:$B$7,2,FALSE)","v":{"$error":"#N/A"}}]
[null,null,null,null,null,null,null,null,null,null,null,null,"no email",{"$error":"#VALUE!"},{"$error":"#VALUE!"},{"$f":"VLOOKUP(K383,references!$A$1:$B$7,2,FALSE)","v":{"$error":"#N/A"}}]
[null,null,null,null,null,null,null,null,null,null,null,null,"no email",{"$error":"#VALUE!"},{"$error":"#VALUE!"},{"$f":"VLOOKUP(K384,references!$A$1:$B$7,2,FALSE)","v":{"$error":"#N/A"}}]
[null,null,null,null,null,null,null,null,null,null,null,null,"no email",{"$error":"#VALUE!"},{"$error":"#VALUE!"},{"$f":"VLOOKUP(K385,references!$A$1:$B$7,2,FALSE)","v":{"$error":"#N/A"}}]
[null,null,null,null,null,null,null,null,null,null,null,null,{"$f":"IF(L386=\"\", \"no email\",LOWER(L386))","v":"no email"},{"$f":"LEFT(A386, SEARCH(\",\",A386,1)-1)","v":{"$error":"#VALUE!"}},{"$f":"RIGHT(A386, LEN(A386) -SEARCH(\",\",A386,1)-1)","v":{"$error":"#VALUE!"}},{"$f":"VLOOKUP(K386,references!$A$1:$B$7,2,FALSE)","v":{"$error":"#N/A"}}]
[null,null,null,null,null,null,null,null,null,null,null,null,"no email",{"$error":"#VALUE!"},{"$error":"#VALUE!"},{"$f":"VLOOKUP(K387,references!$A$1:$B$7,2,FALSE)","v":{"$error":"#N/A"}}]
[null,null,null,null,null,null,null,null,null,null,null,null,"no email",{"$error":"#VALUE!"},{"$error":"#VALUE!"},{"$f":"VLOOKUP(K388,references!$A$1:$B$7,2,FALSE)","v":{"$error":"#N/A"}}]
[null,null,null,null,null,null,null,null,null,null,null,null,"no email",{"$error":"#VALUE!"},{"$error":"#VALUE!"},{"$f":"VLOOKUP(K389,references!$A$1:$B$7,2,FALSE)","v":{"$error":"#N/A"}}]
[null,null,null,null,null,null,null,null,null,null,null,null,"no email",{"$error":"#VALUE!"},{"$error":"#VALUE!"},{"$f":"VLOOKUP(K390,references!$A$1:$B$7,2,FALSE)","v":{"$error":"#N/A"}}]
[null,null,null,null,null,null,null,null,null,null,null,null,"no email",{"$error":"#VALUE!"},{"$error":"#VALUE!"},{"$f":"VLOOKUP(K391,references!$A$1:$B$7,2,FALSE)","v":{"$error":"#N/A"}}]
[null,null,null,null,null,null,null,null,null,null,null,null,"no email",{"$error":"#VALUE!"},{"$error":"#VALUE!"},{"$f":"VLOOKUP(K392,references!$A$1:$B$7,2,FALSE)","v":{"$error":"#N/A"}}]
[null,null,null,null,null,null,null,null,null,null,null,null,"no email",{"$error":"#VALUE!"},{"$error":"#VALUE!"},{"$f":"VLOOKUP(K393,references!$A$1:$B$7,2,FALSE)","v":{"$error":"#N/A"}}]
[null,null,null,null,null,null,null,null,null,null,null,null,"no email",{"$error":"#VALUE!"},{"$error":"#VALUE!"},{"$f":"VLOOKUP(K394,references!$A$1:$B$7,2,FALSE)","v":{"$error":"#N/A"}}]
[null,null,null,null,null,null,null,null,null,null,null,null,"no email",{"$error":"#VALUE!"},{"$error":"#VALUE!"},{"$f":"VLOOKUP(K395,references!$A$1:$B$7,2,FALSE)","v":{"$error":"#N/A"}}]
[null,null,null,null,null,null,null,null,null,null,null,null,"no email",{"$error":"#VALUE!"},{"$error":"#VALUE!"},{"$f":"VLOOKUP(K396,references!$A$1:$B$7,2,FALSE)","v":{"$error":"#N/A"}}]
[null,null,null,null,null,null,null,null,null,null,null,null,"no email",{"$error":"#VALUE!"},{"$error":"#VALUE!"},{"$f":"VLOOKUP(K397,references!$A$1:$B$7,2,FALSE)","v":{"$error":"#N/A"}}]
[null,null,null,null,null,null,null,null,null,null,null,null,"no email",{"$error":"#VALUE!"},{"$error":"#VALUE!"},{"$f":"VLOOKUP(K398,references!$A$1:$B$7,2,FALSE)","v":{"$error":"#N/A"}}]
[null,null,null,null,null,null,null,null,null,null,null,null,"no email",{"$error":"#VALUE!"},{"$error":"#VALUE!"},{"$f":"VLOOKUP(K399,references!$A$1:$B$7,2,FALSE)","v":{"$error":"#N/A"}}]
[null,null,null,null,null,null,null,null,null,null,null,null,"no email",{"$error":"#VALUE!"},{"$error":"#VALUE!"},{"$f":"VLOOKUP(K400,references!$A$1:$B$7,2,FALSE)","v":{"$error":"#N/A"}}]
[null,null,null,null,null,null,null,null,null,null,null,null,"no email",{"$error":"#VALUE!"},{"$error":"#VALUE!"},{"$f":"VLOOKUP(K401,references!$A$1:$B$7,2,FALSE)","v":{"$error":"#N/A"}}]
[null,null,null,null,null,null,null,null,null,null,null,null,"no email",{"$error":"#VALUE!"},{"$error":"#VALUE!"},{"$f":"VLOOKUP(K402,references!$A$1:$B$7,2,FALSE)","v":{"$error":"#N/A"}}]
[null,null,null,null,null,null,null,null,null,null,null,null,"no email",{"$error":"#VALUE!"},{"$error":"#VALUE!"},{"$f":"VLOOKUP(K403,references!$A$1:$B$7,2,FALSE)","v":{"$error":"#N/A"}}]
[null,null,null,null,null,null,null,null,null,null,null,null,"no email",{"$error":"#VALUE!"},{"$error":"#VALUE!"},{"$f":"VLOOKUP(K404,references!$A$1:$B$7,2,FALSE)","v":{"$error":"#N/A"}}]
[null,null,null,null,null,null,null,null,null,null,null,null,"no email",{"$error":"#VALUE!"},{"$error":"#VALUE!"},{"$f":"VLOOKUP(K405,references!$A$1:$B$7,2,FALSE)","v":{"$error":"#N/A"}}]
[null,null,null,null,null,null,null,null,null,null,null,null,"no email",{"$error":"#VALUE!"},{"$error":"#VALUE!"},{"$f":"VLOOKUP(K406,references!$A$1:$B$7,2,FALSE)","v":{"$error":"#N/A"}}]
[null,null,null,null,null,null,null,null,null,null,null,null,"no email",{"$error":"#VALUE!"},{"$error":"#VALUE!"},{"$f":"VLOOKUP(K407,references!$A$1:$B$7,2,FALSE)","v":{"$error":"#N/A"}}]
[null,null,null,null,null,null,null,null,null,null,null,null,"no email",{"$error":"#VALUE!"},{"$error":"#VALUE!"},{"$f":"VLOOKUP(K408,references!$A$1:$B$7,2,FALSE)","v":{"$error":"#N/A"}}]
[null,null,null,null,null,null,null,null,null,null,null,null,"no email",{"$error":"#VALUE!"},{"$error":"#VALUE!"},{"$f":"VLOOKUP(K409,references!$A$1:$B$7,2,FALSE)","v":{"$error":"#N/A"}}]
[null,null,null,null,null,null,null,null,null,null,null,null,"no email",{"$error":"#VALUE!"},{"$error":"#VALUE!"},{"$f":"VLOOKUP(K410,references!$A$1:$B$7,2,FALSE)","v":{"$error":"#N/A"}}]
[null,null,null,null,null,null,null,null,null,null,null,null,"no email",{"$error":"#VALUE!"},{"$error":"#VALUE!"},{"$f":"VLOOKUP(K411,references!$A$1:$B$7,2,FALSE)","v":{"$error":"#N/A"}}]
[null,null,null,null,null,null,null,null,null,null,null,null,"no email",{"$error":"#VALUE!"},{"$error":"#VALUE!"},{"$f":"VLOOKUP(K412,references!$A$1:$B$7,2,FALSE)","v":{"$error":"#N/A"}}]
[null,null,null,null,null,null,null,null,null,null,null,null,"no email",{"$error":"#VALUE!"},{"$error":"#VALUE!"},{"$f":"VLOOKUP(K413,references!$A$1:$B$7,2,FALSE)","v":{"$error":"#N/A"}}]
[null,null,null,null,null,null,null,null,null,null,null,null,"no email",{"$error":"#VALUE!"},{"$error":"#VALUE!"},{"$f":"VLOOKUP(K414,references!$A$1:$B$7,2,FALSE)","v":{"$error":"#N/A"}}]
[null,null,null,null,null,null,null,null,null,null,null,null,"no email",{"$error":"#VALUE!"},{"$error":"#VALUE!"},{"$f":"VLOOKUP(K415,references!$A$1:$B$7,2,FALSE)","v":{"$error":"#N/A"}}]
[null,null,null,null,null,null,null,null,null,null,null,null,"no email",{"$error":"#VALUE!"},{"$error":"#VALUE!"},{"$f":"VLOOKUP(K416,references!$A$1:$B$7,2,FALSE)","v":{"$error":"#N/A"}}]
[null,null,null,null,null,null,null,null,null,null,null,null,"no email",{"$error":"#VALUE!"},{"$error":"#VALUE!"},{"$f":"VLOOKUP(K417,references!$A$1:$B$7,2,FALSE)","v":{"$error":"#N/A"}}]
[null,null,null,null,null,null,null,null,null,null,null,null,"no email",{"$error":"#VALUE!"},{"$error":"#VALUE!"},{"$f":"VLOOKUP(K418,references!$A$1:$B$7,2,FALSE)","v":{"$error":"#N/A"}}]
[null,null,null,null,null,null,null,null,null,null,null,null,"no email",{"$error":"#VALUE!"},{"$error":"#VALUE!"},{"$f":"VLOOKUP(K419,references!$A$1:$B$7,2,FALSE)","v":{"$error":"#N/A"}}]
[null,null,null,null,null,null,null,null,null,null,null,null,"no email",{"$error":"#VALUE!"},{"$error":"#VALUE!"},{"$f":"VLOOKUP(K420,references!$A$1:$B$7,2,FALSE)","v":{"$error":"#N/A"}}]
[null,null,null,null,null,null,null,null,null,null,null,null,"no email",{"$error":"#VALUE!"},{"$error":"#VALUE!"},{"$f":"VLOOKUP(K421,references!$A$1:$B$7,2,FALSE)","v":{"$error":"#N/A"}}]
[null,null,null,null,null,null,null,null,null,null,null,null,"no email",{"$error":"#VALUE!"},{"$error":"#VALUE!"},{"$f":"VLOOKUP(K422,references!$A$1:$B$7,2,FALSE)","v":{"$error":"#N/A"}}]
[null,null,null,null,null,null,null,null,null,null,null,null,"no email",{"$error":"#VALUE!"},{"$error":"#VALUE!"},{"$f":"VLOOKUP(K423,references!$A$1:$B$7,2,FALSE)","v":{"$error":"#N/A"}}]
[null,null,null,null,null,null,null,null,null,null,null,null,"no email",{"$error":"#VALUE!"},{"$error":"#VALUE!"},{"$f":"VLOOKUP(K424,references!$A$1:$B$7,2,FALSE)","v":{"$error":"#N/A"}}]
[null,null,null,null,null,null,null,null,null,null,null,null,"no email",{"$error":"#VALUE!"},{"$error":"#VALUE!"},{"$f":"VLOOKUP(K425,references!$A$1:$B$7,2,FALSE)","v":{"$error":"#N/A"}}]
[null,null,null,null,null,null,null,null,null,null,null,null,"no email",{"$error":"#VALUE!"},{"$error":"#VALUE!"},{"$f":"VLOOKUP(K426,references!$A$1:$B$7,2,FALSE)","v":{"$error":"#N/A"}}]
[null,null,null,null,null,null,null,null,null,null,null,null,"no email",{"$error":"#VALUE!"},{"$error":"#VALUE!"},{"$f":"VLOOKUP(K427,references!$A$1:$B$7,2,FALSE)","v":{"$error":"#N/A"}}]
[null,null,null,null,null,null,null,null,null,null,null,null,"no email",{"$error":"#VALUE!"},{"$error":"#VALUE!"},{"$f":"VLOOKUP(K428,references!$A$1:$B$7,2,FALSE)","v":{"$error":"#N/A"}}]
[null,null,null,null,null,null,null,null,null,null,null,null,"no email",{"$error":"#VALUE!"},{"$error":"#VALUE!"},{"$f":"VLOOKUP(K429,references!$A$1:$B$7,2,FALSE)","v":{"$error":"#N/A"}}]
[null,null,null,null,null,null,null,null,null,null,null,null,"no email",{"$error":"#VALUE!"},{"$error":"#VALUE!"},{"$f":"VLOOKUP(K430,references!$A$1:$B$7,2,FALSE)","v":{"$error":"#N/A"}}]
[null,null,null,null,null,null,null,null,null,null,null,null,"no email",{"$error":"#VALUE!"},{"$error":"#VALUE!"},{"$f":"VLOOKUP(K431,references!$A$1:$B$7,2,FALSE)","v":{"$error":"#N/A"}}]
[null,null,null,null,null,null,null,null,null,null,null,null,"no email",{"$error":"#VALUE!"},{"$error":"#VALUE!"},{"$f":"VLOOKUP(K432,references!$A$1:$B$7,2,FALSE)","v":{"$error":"#N/A"}}]
[null,null,null,null,null,null,null,null,null,null,null,null,"no email",{"$error":"#VALUE!"},{"$error":"#VALUE!"},{"$f":"VLOOKUP(K433,references!$A$1:$B$7,2,FALSE)","v":{"$error":"#N/A"}}]
[null,null,null,null,null,null,null,null,null,null,null,null,"no email",{"$error":"#VALUE!"},{"$error":"#VALUE!"},{"$f":"VLOOKUP(K434,references!$A$1:$B$7,2,FALSE)","v":{"$error":"#N/A"}}]
[null,null,null,null,null,null,null,null,null,null,null,null,"no email",{"$error":"#VALUE!"},{"$error":"#VALUE!"},{"$f":"VLOOKUP(K435,references!$A$1:$B$7,2,FALSE)","v":{"$error":"#N/A"}}]
[null,null,null,null,null,null,null,null,null,null,null,null,"no email",{"$error":"#VALUE!"},{"$error":"#VALUE!"},{"$f":"VLOOKUP(K436,references!$A$1:$B$7,2,FALSE)","v":{"$error":"#N/A"}}]
[null,null,null,null,null,null,null,null,null,null,null,null,"no email",{"$error":"#VALUE!"},{"$error":"#VALUE!"},{"$f":"VLOOKUP(K437,references!$A$1:$B$7,2,FALSE)","v":{"$error":"#N/A"}}]
[null,null,null,null,null,null,null,null,null,null,null,null,"no email",{"$error":"#VALUE!"},{"$error":"#VALUE!"},{"$f":"VLOOKUP(K438,references!$A$1:$B$7,2,FALSE)","v":{"$error":"#N/A"}}]
[null,null,null,null,null,null,null,null,null,null,null,null,"no email",{"$error":"#VALUE!"},{"$error":"#VALUE!"},{"$f":"VLOOKUP(K439,references!$A$1:$B$7,2,FALSE)","v":{"$error":"#N/A"}}]
[null,null,null,null,null,null,null,null,null,null,null,null,"no email",{"$error":"#VALUE!"},{"$error":"#VALUE!"},{"$f":"VLOOKUP(K440,references!$A$1:$B$7,2,FALSE)","v":{"$error":"#N/A"}}]
[null,null,null,null,null,null,null,null,null,null,null,null,"no email",{"$error":"#VALUE!"},{"$error":"#VALUE!"},{"$f":"VLOOKUP(K441,references!$A$1:$B$7,2,FALSE)","v":{"$error":"#N/A"}}]
[null,null,null,null,null,null,null,null,null,null,null,null,"no email",{"$error":"#VALUE!"},{"$error":"#VALUE!"},{"$f":"VLOOKUP(K442,references!$A$1:$B$7,2,FALSE)","v":{"$error":"#N/A"}}]
[null,null,null,null,null,null,null,null,null,null,null,null,"no email",{"$error":"#VALUE!"},{"$error":"#VALUE!"},{"$f":"VLOOKUP(K443,references!$A$1:$B$7,2,FALSE)","v":{"$error":"#N/A"}}]
[null,null,null,null,null,null,null,null,null,null,null,null,"no email",{"$error":"#VALUE!"},{"$error":"#VALUE!"},{"$f":"VLOOKUP(K444,references!$A$1:$B$7,2,FALSE)","v":{"$error":"#N/A"}}]
[null,null,null,null,null,null,null,null,null,null,null,null,"no email",{"$error":"#VALUE!"},{"$error":"#VALUE!"},{"$f":"VLOOKUP(K445,references!$A$1:$B$7,2,FALSE)","v":{"$error":"#N/A"}}]
[null,null,null,null,null,null,null,null,null,null,null,null,"no email",{"$error":"#VALUE!"},{"$error":"#VALUE!"},{"$f":"VLOOKUP(K446,references!$A$1:$B$7,2,FALSE)","v":{"$error":"#N/A"}}]
[null,null,null,null,null,null,null,null,null,null,null,null,"no email",{"$error":"#VALUE!"},{"$error":"#VALUE!"},{"$f":"VLOOKUP(K447,references!$A$1:$B$7,2,FALSE)","v":{"$error":"#N/A"}}]
[null,null,null,null,null,null,null,null,null,null,null,null,"no email",{"$error":"#VALUE!"},{"$error":"#VALUE!"},{"$f":"VLOOKUP(K448,references!$A$1:$B$7,2,FALSE)","v":{"$error":"#N/A"}}]
[null,null,null,null,null,null,null,null,null,null,null,null,"no email",{"$error":"#VALUE!"},{"$error":"#VALUE!"},{"$f":"VLOOKUP(K449,references!$A$1:$B$7,2,FALSE)","v":{"$error":"#N/A"}}]
[null,null,null,null,null,null,null,null,null,null,null,null,{"$f":"IF(L450=\"\", \"no email\",LOWER(L450))","v":"no email"},{"$f":"LEFT(A450, SEARCH(\",\",A450,1)-1)","v":{"$error":"#VALUE!"}},{"$f":"RIGHT(A450, LEN(A450) -SEARCH(\",\",A450,1)-1)","v":{"$error":"#VALUE!"}},{"$f":"VLOOKUP(K450,references!$A$1:$B$7,2,FALSE)","v":{"$error":"#N/A"}}]
[null,null,null,null,null,null,null,null,null,null,null,null,"no email",{"$error":"#VALUE!"},{"$error":"#VALUE!"},{"$f":"VLOOKUP(K451,references!$A$1:$B$7,2,FALSE)","v":{"$error":"#N/A"}}]
[null,null,null,null,null,null,null,null,null,null,null,null,"no email",{"$error":"#VALUE!"},{"$error":"#VALUE!"},{"$f":"VLOOKUP(K452,references!$A$1:$B$7,2,FALSE)","v":{"$error":"#N/A"}}]
[null,null,null,null,null,null,null,null,null,null,null,null,"no email",{"$error":"#VALUE!"},{"$error":"#VALUE!"},{"$f":"VLOOKUP(K453,references!$A$1:$B$7,2,FALSE)","v":{"$error":"#N/A"}}]
[null,null,null,null,null,null,null,null,null,null,null,null,"no email",{"$error":"#VALUE!"},{"$error":"#VALUE!"},{"$f":"VLOOKUP(K454,references!$A$1:$B$7,2,FALSE)","v":{"$error":"#N/A"}}]
[null,null,null,null,null,null,null,null,null,null,null,null,"no email",{"$error":"#VALUE!"},{"$error":"#VALUE!"},{"$f":"VLOOKUP(K455,references!$A$1:$B$7,2,FALSE)","v":{"$error":"#N/A"}}]
[null,null,null,null,null,null,null,null,null,null,null,null,"no email",{"$error":"#VALUE!"},{"$error":"#VALUE!"},{"$f":"VLOOKUP(K456,references!$A$1:$B$7,2,FALSE)","v":{"$error":"#N/A"}}]
[null,null,null,null,null,null,null,null,null,null,null,null,"no email",{"$error":"#VALUE!"},{"$error":"#VALUE!"},{"$f":"VLOOKUP(K457,references!$A$1:$B$7,2,FALSE)","v":{"$error":"#N/A"}}]
[null,null,null,null,null,null,null,null,null,null,null,null,"no email",{"$error":"#VALUE!"},{"$error":"#VALUE!"},{"$f":"VLOOKUP(K458,references!$A$1:$B$7,2,FALSE)","v":{"$error":"#N/A"}}]
[null,null,null,null,null,null,null,null,null,null,null,null,"no email",{"$error":"#VALUE!"},{"$error":"#VALUE!"},{"$f":"VLOOKUP(K459,references!$A$1:$B$7,2,FALSE)","v":{"$error":"#N/A"}}]
[null,null,null,null,null,null,null,null,null,null,null,null,"no email",{"$error":"#VALUE!"},{"$error":"#VALUE!"},{"$f":"VLOOKUP(K460,references!$A$1:$B$7,2,FALSE)","v":{"$error":"#N/A"}}]
[null,null,null,null,null,null,null,null,null,null,null,null,"no email",{"$error":"#VALUE!"},{"$error":"#VALUE!"},{"$f":"VLOOKUP(K461,references!$A$1:$B$7,2,FALSE)","v":{"$error":"#N/A"}}]
[null,null,null,null,null,null,null,null,null,null,null,null,"no email",{"$error":"#VALUE!"},{"$error":"#VALUE!"},{"$f":"VLOOKUP(K462,references!$A$1:$B$7,2,FALSE)","v":{"$error":"#N/A"}}]
[null,null,null,null,null,null,null,null,null,null,null,null,"no email",{"$error":"#VALUE!"},{"$error":"#VALUE!"},{"$f":"VLOOKUP(K463,references!$A$1:$B$7,2,FALSE)","v":{"$error":"#N/A"}}]
[null,null,null,null,null,null,null,null,null,null,null,null,"no email",{"$error":"#VALUE!"},{"$error":"#VALUE!"},{"$f":"VLOOKUP(K464,references!$A$1:$B$7,2,FALSE)","v":{"$error":"#N/A"}}]
[null,null,null,null,null,null,null,null,null,null,null,null,"no email",{"$error":"#VALUE!"},{"$error":"#VALUE!"},{"$f":"VLOOKUP(K465,references!$A$1:$B$7,2,FALSE)","v":{"$error":"#N/A"}}]
[null,null,null,null,null,null,null,null,null,null,null,null,"no email",{"$error":"#VALUE!"},{"$error":"#VALUE!"},{"$f":"VLOOKUP(K466,references!$A$1:$B$7,2,FALSE)","v":{"$error":"#N/A"}}]
[null,null,null,null,null,null,null,null,null,null,null,null,"no email",{"$error":"#VALUE!"},{"$error":"#VALUE!"},{"$f":"VLOOKUP(K467,references!$A$1:$B$7,2,FALSE)","v":{"$error":"#N/A"}}]
[null,null,null,null,null,null,null,null,null,null,null,null,"no email",{"$error":"#VALUE!"},{"$error":"#VALUE!"},{"$f":"VLOOKUP(K468,references!$A$1:$B$7,2,FALSE)","v":{"$error":"#N/A"}}]
[null,null,null,null,null,null,null,null,null,null,null,null,"no email",{"$error":"#VALUE!"},{"$error":"#VALUE!"},{"$f":"VLOOKUP(K469,references!$A$1:$B$7,2,FALSE)","v":{"$error":"#N/A"}}]
[null,null,null,null,null,null,null,null,null,null,null,null,"no email",{"$error":"#VALUE!"},{"$error":"#VALUE!"},{"$f":"VLOOKUP(K470,references!$A$1:$B$7,2,FALSE)","v":{"$error":"#N/A"}}]
[null,null,null,null,null,null,null,null,null,null,null,null,"no email",{"$error":"#VALUE!"},{"$error":"#VALUE!"},{"$f":"VLOOKUP(K471,references!$A$1:$B$7,2,FALSE)","v":{"$error":"#N/A"}}]
[null,null,null,null,null,null,null,null,null,null,null,null,"no email",{"$error":"#VALUE!"},{"$error":"#VALUE!"},{"$f":"VLOOKUP(K472,references!$A$1:$B$7,2,FALSE)","v":{"$error":"#N/A"}}]
[null,null,null,null,null,null,null,null,null,null,null,null,"no email",{"$error":"#VALUE!"},{"$error":"#VALUE!"},{"$f":"VLOOKUP(K473,references!$A$1:$B$7,2,FALSE)","v":{"$error":"#N/A"}}]
[null,null,null,null,null,null,null,null,null,null,null,null,"no email",{"$error":"#VALUE!"},{"$error":"#VALUE!"},{"$f":"VLOOKUP(K474,references!$A$1:$B$7,2,FALSE)","v":{"$error":"#N/A"}}]
[null,null,null,null,null,null,null,null,null,null,null,null,"no email",{"$error":"#VALUE!"},{"$error":"#VALUE!"},{"$f":"VLOOKUP(K475,references!$A$1:$B$7,2,FALSE)","v":{"$error":"#N/A"}}]
[null,null,null,null,null,null,null,null,null,null,null,null,"no email",{"$error":"#VALUE!"},{"$error":"#VALUE!"},{"$f":"VLOOKUP(K476,references!$A$1:$B$7,2,FALSE)","v":{"$error":"#N/A"}}]
[null,null,null,null,null,null,null,null,null,null,null,null,"no email",{"$error":"#VALUE!"},{"$error":"#VALUE!"},{"$f":"VLOOKUP(K477,references!$A$1:$B$7,2,FALSE)","v":{"$error":"#N/A"}}]
[null,null,null,null,null,null,null,null,null,null,null,null,"no email",{"$error":"#VALUE!"},{"$error":"#VALUE!"},{"$f":"VLOOKUP(K478,references!$A$1:$B$7,2,FALSE)","v":{"$error":"#N/A"}}]
[null,null,null,null,null,null,null,null,null,null,null,null,"no email",{"$error":"#VALUE!"},{"$error":"#VALUE!"},{"$f":"VLOOKUP(K479,references!$A$1:$B$7,2,FALSE)","v":{"$error":"#N/A"}}]
[null,null,null,null,null,null,null,null,null,null,null,null,"no email",{"$error":"#VALUE!"},{"$error":"#VALUE!"},{"$f":"VLOOKUP(K480,references!$A$1:$B$7,2,FALSE)","v":{"$error":"#N/A"}}]
[null,null,null,null,null,null,null,null,null,null,null,null,"no email",{"$error":"#VALUE!"},{"$error":"#VALUE!"},{"$f":"VLOOKUP(K481,references!$A$1:$B$7,2,FALSE)","v":{"$error":"#N/A"}}]
[null,null,null,null,null,null,null,null,null,null,null,null,"no email",{"$error":"#VALUE!"},{"$error":"#VALUE!"},{"$f":"VLOOKUP(K482,references!$A$1:$B$7,2,FALSE)","v":{"$error":"#N/A"}}]
[null,null,null,null,null,null,null,null,null,null,null,null,"no email",{"$error":"#VALUE!"},{"$error":"#VALUE!"},{"$f":"VLOOKUP(K483,references!$A$1:$B$7,2,FALSE)","v":{"$error":"#N/A"}}]
[null,null,null,null,null,null,null,null,null,null,null,null,"no email",{"$error":"#VALUE!"},{"$error":"#VALUE!"},{"$f":"VLOOKUP(K484,references!$A$1:$B$7,2,FALSE)","v":{"$error":"#N/A"}}]
[null,null,null,null,null,null,null,null,null,null,null,null,"no email",{"$error":"#VALUE!"},{"$error":"#VALUE!"},{"$f":"VLOOKUP(K485,references!$A$1:$B$7,2,FALSE)","v":{"$error":"#N/A"}}]
[null,null,null,null,null,null,null,null,null,null,null,null,"no email",{"$error":"#VALUE!"},{"$error":"#VALUE!"},{"$f":"VLOOKUP(K486,references!$A$1:$B$7,2,FALSE)","v":{"$error":"#N/A"}}]
[null,null,null,null,null,null,null,null,null,null,null,null,"no email",{"$error":"#VALUE!"},{"$error":"#VALUE!"},{"$f":"VLOOKUP(K487,references!$A$1:$B$7,2,FALSE)","v":{"$error":"#N/A"}}]
[null,null,null,null,null,null,null,null,null,null,null,null,"no email",{"$error":"#VALUE!"},{"$error":"#VALUE!"},{"$f":"VLOOKUP(K488,references!$A$1:$B$7,2,FALSE)","v":{"$error":"#N/A"}}]
[null,null,null,null,null,null,null,null,null,null,null,null,"no email",{"$error":"#VALUE!"},{"$error":"#VALUE!"},{"$f":"VLOOKUP(K489,references!$A$1:$B$7,2,FALSE)","v":{"$error":"#N/A"}}]
[null,null,null,null,null,null,null,null,null,null,null,null,"no email",{"$error":"#VALUE!"},{"$error":"#VALUE!"},{"$f":"VLOOKUP(K490,references!$A$1:$B$7,2,FALSE)","v":{"$error":"#N/A"}}]
[null,null,null,null,null,null,null,null,null,null,null,null,"no email",{"$error":"#VALUE!"},{"$error":"#VALUE!"},{"$f":"VLOOKUP(K491,references!$A$1:$B$7,2,FALSE)","v":{"$error":"#N/A"}}]
[null,null,null,null,null,null,null,null,null,null,null,null,"no email",{"$error":"#VALUE!"},{"$error":"#VALUE!"},{"$f":"VLOOKUP(K492,references!$A$1:$B$7,2,FALSE)","v":{"$error":"#N/A"}}]
[null,null,null,null,null,null,null,null,null,null,null,null,"no email",{"$error":"#VALUE!"},{"$error":"#VALUE!"},{"$f":"VLOOKUP(K493,references!$A$1:$B$7,2,FALSE)","v":{"$error":"#N/A"}}]
[null,null,null,null,null,null,null,null,null,null,null,null,"no email",{"$error":"#VALUE!"},{"$error":"#VALUE!"},{"$f":"VLOOKUP(K494,references!$A$1:$B$7,2,FALSE)","v":{"$error":"#N/A"}}]
[null,null,null,null,null,null,null,null,null,null,null,null,"no email",{"$error":"#VALUE!"},{"$error":"#VALUE!"},{"$f":"VLOOKUP(K495,references!$A$1:$B$7,2,FALSE)","v":{"$error":"#N/A"}}]
[null,null,null,null,null,null,null,null,null,null,null,null,"no email",{"$error":"#VALUE!"},{"$error":"#VALUE!"},{"$f":"VLOOKUP(K496,references!$A$1:$B$7,2,FALSE)","v":{"$error":"#N/A"}}]
[null,null,null,null,null,null,null,null,null,null,null,null,"no email",{"$error":"#VALUE!"},{"$error":"#VALUE!"},{"$f":"VLOOKUP(K497,references!$A$1:$B$7,2,FALSE)","v":{"$error":"#N/A"}}]
[null,null,null,null,null,null,null,null,null,null,null,null,"no email",{"$error":"#VALUE!"},{"$error":"#VALUE!"},{"$f":"VLOOKUP(K498,references!$A$1:$B$7,2,FALSE)","v":{"$error":"#N/A"}}]
[null,null,null,null,null,null,null,null,null,null,null,null,"no email",{"$error":"#VALUE!"},{"$error":"#VALUE!"},{"$f":"VLOOKUP(K499,references!$A$1:$B$7,2,FALSE)","v":{"$error":"#N/A"}}]
[null,null,null,null,null,null,null,null,null,null,null,null,"no email",{"$error":"#VALUE!"},{"$error":"#VALUE!"},{"$f":"VLOOKUP(K500,references!$A$1:$B$7,2,FALSE)","v":{"$error":"#N/A"}}]
[null,null,null,null,null,null,null,null,null,null,null,null,"no email",{"$error":"#VALUE!"},{"$error":"#VALUE!"},{"$f":"VLOOKUP(K501,references!$A$1:$B$7,2,FALSE)","v":{"$error":"#N/A"}}]
[null,null,null,null,null,null,null,null,null,null,null,null,"no email",{"$error":"#VALUE!"},{"$error":"#VALUE!"},{"$f":"VLOOKUP(K502,references!$A$1:$B$7,2,FALSE)","v":{"$error":"#N/A"}}]
[null,null,null,null,null,null,null,null,null,null,null,null,"no email",{"$error":"#VALUE!"},{"$error":"#VALUE!"},{"$f":"VLOOKUP(K503,references!$A$1:$B$7,2,FALSE)","v":{"$error":"#N/A"}}]
[null,null,null,null,null,null,null,null,null,null,null,null,"no email",{"$error":"#VALUE!"},{"$error":"#VALUE!"},{"$f":"VLOOKUP(K504,references!$A$1:$B$7,2,FALSE)","v":{"$error":"#N/A"}}]
[null,null,null,null,null,null,null,null,null,null,null,null,"no email",{"$error":"#VALUE!"},{"$error":"#VALUE!"},{"$f":"VLOOKUP(K505,references!$A$1:$B$7,2,FALSE)","v":{"$error":"#N/A"}}]
[null,null,null,null,null,null,null,null,null,null,null,null,"no email",{"$error":"#VALUE!"},{"$error":"#VALUE!"},{"$f":"VLOOKUP(K506,references!$A$1:$B$7,2,FALSE)","v":{"$error":"#N/A"}}]
[null,null,null,null,null,null,null,null,null,null,null,null,"no email",{"$error":"#VALUE!"},{"$error":"#VALUE!"},{"$f":"VLOOKUP(K507,references!$A$1:$B$7,2,FALSE)","v":{"$error":"#N/A"}}]
[null,null,null,null,null,null,null,null,null,null,null,null,"no email",{"$error":"#VALUE!"},{"$error":"#VALUE!"},{"$f":"VLOOKUP(K508,references!$A$1:$B$7,2,FALSE)","v":{"$error":"#N/A"}}]
[null,null,null,null,null,null,null,null,null,null,null,null,"no email",{"$error":"#VALUE!"},{"$error":"#VALUE!"},{"$f":"VLOOKUP(K509,references!$A$1:$B$7,2,FALSE)","v":{"$error":"#N/A"}}]
[null,null,null,null,null,null,null,null,null,null,null,null,"no email",{"$error":"#VALUE!"},{"$error":"#VALUE!"},{"$f":"VLOOKUP(K510,references!$A$1:$B$7,2,FALSE)","v":{"$error":"#N/A"}}]
[null,null,null,null,null,null,null,null,null,null,null,null,"no email",{"$error":"#VALUE!"},{"$error":"#VALUE!"},{"$f":"VLOOKUP(K511,references!$A$1:$B$7,2,FALSE)","v":{"$error":"#N/A"}}]
[null,null,null,null,null,null,null,null,null,null,null,null,"no email",{"$error":"#VALUE!"},{"$error":"#VALUE!"},{"$f":"VLOOKUP(K512,references!$A$1:$B$7,2,FALSE)","v":{"$error":"#N/A"}}]
[null,null,null,null,null,null,null,null,null,null,null,null,"no email",{"$error":"#VALUE!"},{"$error":"#VALUE!"},{"$f":"VLOOKUP(K513,references!$A$1:$B$7,2,FALSE)","v":{"$error":"#N/A"}}]
[null,null,null,null,null,null,null,null,null,null,null,null,{"$f":"IF(L514=\"\", \"no email\",LOWER(L514))","v":"no email"},{"$f":"LEFT(A514, SEARCH(\",\",A514,1)-1)","v":{"$error":"#VALUE!"}},{"$f":"RIGHT(A514, LEN(A514) -SEARCH(\",\",A514,1)-1)","v":{"$error":"#VALUE!"}},{"$f":"VLOOKUP(K514,references!$A$1:$B$7,2,FALSE)","v":{"$error":"#N/A"}}]
[null,null,null,null,null,null,null,null,null,null,null,null,"no email",{"$error":"#VALUE!"},{"$error":"#VALUE!"},{"$f":"VLOOKUP(K515,references!$A$1:$B$7,2,FALSE)","v":{"$error":"#N/A"}}]
[null,null,null,null,null,null,null,null,null,null,null,null,"no email",{"$error":"#VALUE!"},{"$error":"#VALUE!"},{"$f":"VLOOKUP(K516,references!$A$1:$B$7,2,FALSE)","v":{"$error":"#N/A"}}]
[null,null,null,null,null,null,null,null,null,null,null,null,"no email",{"$error":"#VALUE!"},{"$error":"#VALUE!"},{"$f":"VLOOKUP(K517,references!$A$1:$B$7,2,FALSE)","v":{"$error":"#N/A"}}]
[null,null,null,null,null,null,null,null,null,null,null,null,"no email",{"$error":"#VALUE!"},{"$error":"#VALUE!"},{"$f":"VLOOKUP(K518,references!$A$1:$B$7,2,FALSE)","v":{"$error":"#N/A"}}]
[null,null,null,null,null,null,null,null,null,null,null,null,"no email",{"$error":"#VALUE!"},{"$error":"#VALUE!"},{"$f":"VLOOKUP(K519,references!$A$1:$B$7,2,FALSE)","v":{"$error":"#N/A"}}]
[null,null,null,null,null,null,null,null,null,null,null,null,"no email",{"$error":"#VALUE!"},{"$error":"#VALUE!"},{"$f":"VLOOKUP(K520,references!$A$1:$B$7,2,FALSE)","v":{"$error":"#N/A"}}]
[null,null,null,null,null,null,null,null,null,null,null,null,"no email",{"$error":"#VALUE!"},{"$error":"#VALUE!"},{"$f":"VLOOKUP(K521,references!$A$1:$B$7,2,FALSE)","v":{"$error":"#N/A"}}]
[null,null,null,null,null,null,null,null,null,null,null,null,"no email",{"$error":"#VALUE!"},{"$error":"#VALUE!"},{"$f":"VLOOKUP(K522,references!$A$1:$B$7,2,FALSE)","v":{"$error":"#N/A"}}]
[null,null,null,null,null,null,null,null,null,null,null,null,"no email",{"$error":"#VALUE!"},{"$error":"#VALUE!"},{"$f":"VLOOKUP(K523,references!$A$1:$B$7,2,FALSE)","v":{"$error":"#N/A"}}]
[null,null,null,null,null,null,null,null,null,null,null,null,"no email",{"$error":"#VALUE!"},{"$error":"#VALUE!"},{"$f":"VLOOKUP(K524,references!$A$1:$B$7,2,FALSE)","v":{"$error":"#N/A"}}]
[null,null,null,null,null,null,null,null,null,null,null,null,"no email",{"$error":"#VALUE!"},{"$error":"#VALUE!"},{"$f":"VLOOKUP(K525,references!$A$1:$B$7,2,FALSE)","v":{"$error":"#N/A"}}]
[null,null,null,null,null,null,null,null,null,null,null,null,"no email",{"$error":"#VALUE!"},{"$error":"#VALUE!"},{"$f":"VLOOKUP(K526,references!$A$1:$B$7,2,FALSE)","v":{"$error":"#N/A"}}]
[null,null,null,null,null,null,null,null,null,null,null,null,"no email",{"$error":"#VALUE!"},{"$error":"#VALUE!"},{"$f":"VLOOKUP(K527,references!$A$1:$B$7,2,FALSE)","v":{"$error":"#N/A"}}]
[null,null,null,null,null,null,null,null,null,null,null,null,"no email",{"$error":"#VALUE!"},{"$error":"#VALUE!"},{"$f":"VLOOKUP(K528,references!$A$1:$B$7,2,FALSE)","v":{"$error":"#N/A"}}]
[null,null,null,null,null,null,null,null,null,null,null,null,"no email",{"$error":"#VALUE!"},{"$error":"#VALUE!"},{"$f":"VLOOKUP(K529,references!$A$1:$B$7,2,FALSE)","v":{"$error":"#N/A"}}]
[null,null,null,null,null,null,null,null,null,null,null,null,"no email",{"$error":"#VALUE!"},{"$error":"#VALUE!"},{"$f":"VLOOKUP(K530,references!$A$1:$B$7,2,FALSE)","v":{"$error":"#N/A"}}]
[null,null,null,null,null,null,null,null,null,null,null,null,"no email",{"$error":"#VALUE!"},{"$error":"#VALUE!"},{"$f":"VLOOKUP(K531,references!$A$1:$B$7,2,FALSE)","v":{"$error":"#N/A"}}]
[null,null,null,null,null,null,null,null,null,null,null,null,"no email",{"$error":"#VALUE!"},{"$error":"#VALUE!"},{"$f":"VLOOKUP(K532,references!$A$1:$B$7,2,FALSE)","v":{"$error":"#N/A"}}]
[null,null,null,null,null,null,null,null,null,null,null,null,"no email",{"$error":"#VALUE!"},{"$error":"#VALUE!"},{"$f":"VLOOKUP(K533,references!$A$1:$B$7,2,FALSE)","v":{"$error":"#N/A"}}]
[null,null,null,null,null,null,null,null,null,null,null,null,"no email",{"$error":"#VALUE!"},{"$error":"#VALUE!"},{"$f":"VLOOKUP(K534,references!$A$1:$B$7,2,FALSE)","v":{"$error":"#N/A"}}]
[null,null,null,null,null,null,null,null,null,null,null,null,"no email",{"$error":"#VALUE!"},{"$error":"#VALUE!"},{"$f":"VLOOKUP(K535,references!$A$1:$B$7,2,FALSE)","v":{"$error":"#N/A"}}]
[null,null,null,null,null,null,null,null,null,null,null,null,"no email",{"$error":"#VALUE!"},{"$error":"#VALUE!"},{"$f":"VLOOKUP(K536,references!$A$1:$B$7,2,FALSE)","v":{"$error":"#N/A"}}]
[null,null,null,null,null,null,null,null,null,null,null,null,"no email",{"$error":"#VALUE!"},{"$error":"#VALUE!"},{"$f":"VLOOKUP(K537,references!$A$1:$B$7,2,FALSE)","v":{"$error":"#N/A"}}]
[null,null,null,null,null,null,null,null,null,null,null,null,"no email",{"$error":"#VALUE!"},{"$error":"#VALUE!"},{"$f":"VLOOKUP(K538,references!$A$1:$B$7,2,FALSE)","v":{"$error":"#N/A"}}]
[null,null,null,null,null,null,null,null,null,null,null,null,"no email",{"$error":"#VALUE!"},{"$error":"#VALUE!"},{"$f":"VLOOKUP(K539,references!$A$1:$B$7,2,FALSE)","v":{"$error":"#N/A"}}]
[null,null,null,null,null,null,null,null,null,null,null,null,"no email",{"$error":"#VALUE!"},{"$error":"#VALUE!"},{"$f":"VLOOKUP(K540,references!$A$1:$B$7,2,FALSE)","v":{"$error":"#N/A"}}]
[null,null,null,null,null,null,null,null,null,null,null,null,"no email",{"$error":"#VALUE!"},{"$error":"#VALUE!"},{"$f":"VLOOKUP(K541,references!$A$1:$B$7,2,FALSE)","v":{"$error":"#N/A"}}]
[null,null,null,null,null,null,null,null,null,null,null,null,"no email",{"$error":"#VALUE!"},{"$error":"#VALUE!"},{"$f":"VLOOKUP(K542,references!$A$1:$B$7,2,FALSE)","v":{"$error":"#N/A"}}]
[null,null,null,null,null,null,null,null,null,null,null,null,"no email",{"$error":"#VALUE!"},{"$error":"#VALUE!"},{"$f":"VLOOKUP(K543,references!$A$1:$B$7,2,FALSE)","v":{"$error":"#N/A"}}]
[null,null,null,null,null,null,null,null,null,null,null,null,"no email",{"$error":"#VALUE!"},{"$error":"#VALUE!"},{"$f":"VLOOKUP(K544,references!$A$1:$B$7,2,FALSE)","v":{"$error":"#N/A"}}]
[null,null,null,null,null,null,null,null,null,null,null,null,"no email",{"$error":"#VALUE!"},{"$error":"#VALUE!"},{"$f":"VLOOKUP(K545,references!$A$1:$B$7,2,FALSE)","v":{"$error":"#N/A"}}]
[null,null,null,null,null,null,null,null,null,null,null,null,"no email",{"$error":"#VALUE!"},{"$error":"#VALUE!"},{"$f":"VLOOKUP(K546,references!$A$1:$B$7,2,FALSE)","v":{"$error":"#N/A"}}]
[null,null,null,null,null,null,null,null,null,null,null,null,"no email",{"$error":"#VALUE!"},{"$error":"#VALUE!"},{"$f":"VLOOKUP(K547,references!$A$1:$B$7,2,FALSE)","v":{"$error":"#N/A"}}]
[null,null,null,null,null,null,null,null,null,null,null,null,"no email",{"$error":"#VALUE!"},{"$error":"#VALUE!"},{"$f":"VLOOKUP(K548,references!$A$1:$B$7,2,FALSE)","v":{"$error":"#N/A"}}]
[null,null,null,null,null,null,null,null,null,null,null,null,"no email",{"$error":"#VALUE!"},{"$error":"#VALUE!"},{"$f":"VLOOKUP(K549,references!$A$1:$B$7,2,FALSE)","v":{"$error":"#N/A"}}]
[null,null,null,null,null,null,null,null,null,null,null,null,"no email",{"$error":"#VALUE!"},{"$error":"#VALUE!"},{"$f":"VLOOKUP(K550,references!$A$1:$B$7,2,FALSE)","v":{"$error":"#N/A"}}]
[null,null,null,null,null,null,null,null,null,null,null,null,"no email",{"$error":"#VALUE!"},{"$error":"#VALUE!"},{"$f":"VLOOKUP(K551,references!$A$1:$B$7,2,FALSE)","v":{"$error":"#N/A"}}]
[null,null,null,null,null,null,null,null,null,null,null,null,"no email",{"$error":"#VALUE!"},{"$error":"#VALUE!"},{"$f":"VLOOKUP(K552,references!$A$1:$B$7,2,FALSE)","v":{"$error":"#N/A"}}]
[null,null,null,null,null,null,null,null,null,null,null,null,"no email",{"$error":"#VALUE!"},{"$error":"#VALUE!"},{"$f":"VLOOKUP(K553,references!$A$1:$B$7,2,FALSE)","v":{"$error":"#N/A"}}]
[null,null,null,null,null,null,null,null,null,null,null,null,"no email",{"$error":"#VALUE!"},{"$error":"#VALUE!"},{"$f":"VLOOKUP(K554,references!$A$1:$B$7,2,FALSE)","v":{"$error":"#N/A"}}]
[null,null,null,null,null,null,null,null,null,null,null,null,"no email",{"$error":"#VALUE!"},{"$error":"#VALUE!"},{"$f":"VLOOKUP(K555,references!$A$1:$B$7,2,FALSE)","v":{"$error":"#N/A"}}]
[null,null,null,null,null,null,null,null,null,null,null,null,"no email",{"$error":"#VALUE!"},{"$error":"#VALUE!"},{"$f":"VLOOKUP(K556,references!$A$1:$B$7,2,FALSE)","v":{"$error":"#N/A"}}]
[null,null,null,null,null,null,null,null,null,null,null,null,"no email",{"$error":"#VALUE!"},{"$error":"#VALUE!"},{"$f":"VLOOKUP(K557,references!$A$1:$B$7,2,FALSE)","v":{"$error":"#N/A"}}]
[null,null,null,null,null,null,null,null,null,null,null,null,"no email",{"$error":"#VALUE!"},{"$error":"#VALUE!"},{"$f":"VLOOKUP(K558,references!$A$1:$B$7,2,FALSE)","v":{"$error":"#N/A"}}]
[null,null,null,null,null,null,null,null,null,null,null,null,"no email",{"$error":"#VALUE!"},{"$error":"#VALUE!"},{"$f":"VLOOKUP(K559,references!$A$1:$B$7,2,FALSE)","v":{"$error":"#N/A"}}]
[null,null,null,null,null,null,null,null,null,null,null,null,"no email",{"$error":"#VALUE!"},{"$error":"#VALUE!"},{"$f":"VLOOKUP(K560,references!$A$1:$B$7,2,FALSE)","v":{"$error":"#N/A"}}]
[null,null,null,null,null,null,null,null,null,null,null,null,"no email",{"$error":"#VALUE!"},{"$error":"#VALUE!"},{"$f":"VLOOKUP(K561,references!$A$1:$B$7,2,FALSE)","v":{"$error":"#N/A"}}]
[null,null,null,null,null,null,null,null,null,null,null,null,"no email",{"$error":"#VALUE!"},{"$error":"#VALUE!"},{"$f":"VLOOKUP(K562,references!$A$1:$B$7,2,FALSE)","v":{"$error":"#N/A"}}]
[null,null,null,null,null,null,null,null,null,null,null,null,"no email",{"$error":"#VALUE!"},{"$error":"#VALUE!"},{"$f":"VLOOKUP(K563,references!$A$1:$B$7,2,FALSE)","v":{"$error":"#N/A"}}]
[null,null,null,null,null,null,null,null,null,null,null,null,"no email",{"$error":"#VALUE!"},{"$error":"#VALUE!"},{"$f":"VLOOKUP(K564,references!$A$1:$B$7,2,FALSE)","v":{"$error":"#N/A"}}]
[null,null,null,null,null,null,null,null,null,null,null,null,"no email",{"$error":"#VALUE!"},{"$error":"#VALUE!"},{"$f":"VLOOKUP(K565,references!$A$1:$B$7,2,FALSE)","v":{"$error":"#N/A"}}]
[null,null,null,null,null,null,null,null,null,null,null,null,"no email",{"$error":"#VALUE!"},{"$error":"#VALUE!"},{"$f":"VLOOKUP(K566,references!$A$1:$B$7,2,FALSE)","v":{"$error":"#N/A"}}]
[null,null,null,null,null,null,null,null,null,null,null,null,"no email",{"$error":"#VALUE!"},{"$error":"#VALUE!"},{"$f":"VLOOKUP(K567,references!$A$1:$B$7,2,FALSE)","v":{"$error":"#N/A"}}]
[null,null,null,null,null,null,null,null,null,null,null,null,"no email",{"$error":"#VALUE!"},{"$error":"#VALUE!"},{"$f":"VLOOKUP(K568,references!$A$1:$B$7,2,FALSE)","v":{"$error":"#N/A"}}]
[null,null,null,null,null,null,null,null,null,null,null,null,"no email",{"$error":"#VALUE!"},{"$error":"#VALUE!"},{"$f":"VLOOKUP(K569,references!$A$1:$B$7,2,FALSE)","v":{"$error":"#N/A"}}]
[null,null,null,null,null,null,null,null,null,null,null,null,"no email",{"$error":"#VALUE!"},{"$error":"#VALUE!"},{"$f":"VLOOKUP(K570,references!$A$1:$B$7,2,FALSE)","v":{"$error":"#N/A"}}]
[null,null,null,null,null,null,null,null,null,null,null,null,"no email",{"$error":"#VALUE!"},{"$error":"#VALUE!"},{"$f":"VLOOKUP(K571,references!$A$1:$B$7,2,FALSE)","v":{"$error":"#N/A"}}]
[null,null,null,null,null,null,null,null,null,null,null,null,"no email",{"$error":"#VALUE!"},{"$error":"#VALUE!"},{"$f":"VLOOKUP(K572,references!$A$1:$B$7,2,FALSE)","v":{"$error":"#N/A"}}]
[null,null,null,null,null,null,null,null,null,null,null,null,"no email",{"$error":"#VALUE!"},{"$error":"#VALUE!"},{"$f":"VLOOKUP(K573,references!$A$1:$B$7,2,FALSE)","v":{"$error":"#N/A"}}]
[null,null,null,null,null,null,null,null,null,null,null,null,"no email",{"$error":"#VALUE!"},{"$error":"#VALUE!"},{"$f":"VLOOKUP(K574,references!$A$1:$B$7,2,FALSE)","v":{"$error":"#N/A"}}]
[null,null,null,null,null,null,null,null,null,null,null,null,"no email",{"$error":"#VALUE!"},{"$error":"#VALUE!"},{"$f":"VLOOKUP(K575,references!$A$1:$B$7,2,FALSE)","v":{"$error":"#N/A"}}]
[null,null,null,null,null,null,null,null,null,null,null,null,"no email",{"$error":"#VALUE!"},{"$error":"#VALUE!"},{"$f":"VLOOKUP(K576,references!$A$1:$B$7,2,FALSE)","v":{"$error":"#N/A"}}]
[null,null,null,null,null,null,null,null,null,null,null,null,"no email",{"$error":"#VALUE!"},{"$error":"#VALUE!"},{"$f":"VLOOKUP(K577,references!$A$1:$B$7,2,FALSE)","v":{"$error":"#N/A"}}]
[null,null,null,null,null,null,null,null,null,null,null,null,{"$f":"IF(L578=\"\", \"no email\",LOWER(L578))","v":"no email"},{"$f":"LEFT(A578, SEARCH(\",\",A578,1)-1)","v":{"$error":"#VALUE!"}},{"$f":"RIGHT(A578, LEN(A578) -SEARCH(\",\",A578,1)-1)","v":{"$error":"#VALUE!"}},{"$f":"VLOOKUP(K578,references!$A$1:$B$7,2,FALSE)","v":{"$error":"#N/A"}}]
[null,null,null,null,null,null,null,null,null,null,null,null,"no email",{"$error":"#VALUE!"},{"$error":"#VALUE!"},{"$f":"VLOOKUP(K579,references!$A$1:$B$7,2,FALSE)","v":{"$error":"#N/A"}}]
[null,null,null,null,null,null,null,null,null,null,null,null,"no email",{"$error":"#VALUE!"},{"$error":"#VALUE!"},{"$f":"VLOOKUP(K580,references!$A$1:$B$7,2,FALSE)","v":{"$error":"#N/A"}}]
[null,null,null,null,null,null,null,null,null,null,null,null,"no email",{"$error":"#VALUE!"},{"$error":"#VALUE!"},{"$f":"VLOOKUP(K581,references!$A$1:$B$7,2,FALSE)","v":{"$error":"#N/A"}}]
[null,null,null,null,null,null,null,null,null,null,null,null,"no email",{"$error":"#VALUE!"},{"$error":"#VALUE!"},{"$f":"VLOOKUP(K582,references!$A$1:$B$7,2,FALSE)","v":{"$error":"#N/A"}}]
[null,null,null,null,null,null,null,null,null,null,null,null,"no email",{"$error":"#VALUE!"},{"$error":"#VALUE!"},{"$f":"VLOOKUP(K583,references!$A$1:$B$7,2,FALSE)","v":{"$error":"#N/A"}}]
[null,null,null,null,null,null,null,null,null,null,null,null,"no email",{"$error":"#VALUE!"},{"$error":"#VALUE!"},{"$f":"VLOOKUP(K584,references!$A$1:$B$7,2,FALSE)","v":{"$error":"#N/A"}}]
[null,null,null,null,null,null,null,null,null,null,null,null,"no email",{"$error":"#VALUE!"},{"$error":"#VALUE!"},{"$f":"VLOOKUP(K585,references!$A$1:$B$7,2,FALSE)","v":{"$error":"#N/A"}}]
[null,null,null,null,null,null,null,null,null,null,null,null,"no email",{"$error":"#VALUE!"},{"$error":"#VALUE!"},{"$f":"VLOOKUP(K586,references!$A$1:$B$7,2,FALSE)","v":{"$error":"#N/A"}}]
[null,null,null,null,null,null,null,null,null,null,null,null,"no email",{"$error":"#VALUE!"},{"$error":"#VALUE!"},{"$f":"VLOOKUP(K587,references!$A$1:$B$7,2,FALSE)","v":{"$error":"#N/A"}}]
[null,null,null,null,null,null,null,null,null,null,null,null,"no email",{"$error":"#VALUE!"},{"$error":"#VALUE!"},{"$f":"VLOOKUP(K588,references!$A$1:$B$7,2,FALSE)","v":{"$error":"#N/A"}}]
[null,null,null,null,null,null,null,null,null,null,null,null,"no email",{"$error":"#VALUE!"},{"$error":"#VALUE!"},{"$f":"VLOOKUP(K589,references!$A$1:$B$7,2,FALSE)","v":{"$error":"#N/A"}}]
[null,null,null,null,null,null,null,null,null,null,null,null,"no email",{"$error":"#VALUE!"},{"$error":"#VALUE!"},{"$f":"VLOOKUP(K590,references!$A$1:$B$7,2,FALSE)","v":{"$error":"#N/A"}}]
[null,null,null,null,null,null,null,null,null,null,null,null,"no email",{"$error":"#VALUE!"},{"$error":"#VALUE!"},{"$f":"VLOOKUP(K591,references!$A$1:$B$7,2,FALSE)","v":{"$error":"#N/A"}}]
[null,null,null,null,null,null,null,null,null,null,null,null,"no email",{"$error":"#VALUE!"},{"$error":"#VALUE!"},{"$f":"VLOOKUP(K592,references!$A$1:$B$7,2,FALSE)","v":{"$error":"#N/A"}}]
[null,null,null,null,null,null,null,null,null,null,null,null,"no email",{"$error":"#VALUE!"},{"$error":"#VALUE!"},{"$f":"VLOOKUP(K593,references!$A$1:$B$7,2,FALSE)","v":{"$error":"#N/A"}}]
[null,null,null,null,null,null,null,null,null,null,null,null,"no email",{"$error":"#VALUE!"},{"$error":"#VALUE!"},{"$f":"VLOOKUP(K594,references!$A$1:$B$7,2,FALSE)","v":{"$error":"#N/A"}}]
[null,null,null,null,null,null,null,null,null,null,null,null,"no email",{"$error":"#VALUE!"},{"$error":"#VALUE!"},{"$f":"VLOOKUP(K595,references!$A$1:$B$7,2,FALSE)","v":{"$error":"#N/A"}}]
[null,null,null,null,null,null,null,null,null,null,null,null,"no email",{"$error":"#VALUE!"},{"$error":"#VALUE!"},{"$f":"VLOOKUP(K596,references!$A$1:$B$7,2,FALSE)","v":{"$error":"#N/A"}}]
[null,null,null,null,null,null,null,null,null,null,null,null,"no email",{"$error":"#VALUE!"},{"$error":"#VALUE!"},{"$f":"VLOOKUP(K597,references!$A$1:$B$7,2,FALSE)","v":{"$error":"#N/A"}}]
[null,null,null,null,null,null,null,null,null,null,null,null,"no email",{"$error":"#VALUE!"},{"$error":"#VALUE!"},{"$f":"VLOOKUP(K598,references!$A$1:$B$7,2,FALSE)","v":{"$error":"#N/A"}}]
[null,null,null,null,null,null,null,null,null,null,null,null,"no email",{"$error":"#VALUE!"},{"$error":"#VALUE!"},{"$f":"VLOOKUP(K599,references!$A$1:$B$7,2,FALSE)","v":{"$error":"#N/A"}}]
[null,null,null,null,null,null,null,null,null,null,null,null,"no email",{"$error":"#VALUE!"},{"$error":"#VALUE!"},{"$f":"VLOOKUP(K600,references!$A$1:$B$7,2,FALSE)","v":{"$error":"#N/A"}}]
[null,null,null,null,null,null,null,null,null,null,null,null,"no email",{"$error":"#VALUE!"},{"$error":"#VALUE!"},{"$f":"VLOOKUP(K601,references!$A$1:$B$7,2,FALSE)","v":{"$error":"#N/A"}}]
[null,null,null,null,null,null,null,null,null,null,null,null,"no email",{"$error":"#VALUE!"},{"$error":"#VALUE!"},{"$f":"VLOOKUP(K602,references!$A$1:$B$7,2,FALSE)","v":{"$error":"#N/A"}}]
[null,null,null,null,null,null,null,null,null,null,null,null,"no email",{"$error":"#VALUE!"},{"$error":"#VALUE!"},{"$f":"VLOOKUP(K603,references!$A$1:$B$7,2,FALSE)","v":{"$error":"#N/A"}}]
[null,null,null,null,null,null,null,null,null,null,null,null,"no email",{"$error":"#VALUE!"},{"$error":"#VALUE!"},{"$f":"VLOOKUP(K604,references!$A$1:$B$7,2,FALSE)","v":{"$error":"#N/A"}}]
[null,null,null,null,null,null,null,null,null,null,null,null,"no email",{"$error":"#VALUE!"},{"$error":"#VALUE!"},{"$f":"VLOOKUP(K605,references!$A$1:$B$7,2,FALSE)","v":{"$error":"#N/A"}}]
[null,null,null,null,null,null,null,null,null,null,null,null,"no email",{"$error":"#VALUE!"},{"$error":"#VALUE!"},{"$f":"VLOOKUP(K606,references!$A$1:$B$7,2,FALSE)","v":{"$error":"#N/A"}}]
[null,null,null,null,null,null,null,null,null,null,null,null,"no email",{"$error":"#VALUE!"},{"$error":"#VALUE!"},{"$f":"VLOOKUP(K607,references!$A$1:$B$7,2,FALSE)","v":{"$error":"#N/A"}}]
[null,null,null,null,null,null,null,null,null,null,null,null,"no email",{"$error":"#VALUE!"},{"$error":"#VALUE!"},{"$f":"VLOOKUP(K608,references!$A$1:$B$7,2,FALSE)","v":{"$error":"#N/A"}}]
[null,null,null,null,null,null,null,null,null,null,null,null,"no email",{"$error":"#VALUE!"},{"$error":"#VALUE!"},{"$f":"VLOOKUP(K609,references!$A$1:$B$7,2,FALSE)","v":{"$error":"#N/A"}}]
[null,null,null,null,null,null,null,null,null,null,null,null,"no email",{"$error":"#VALUE!"},{"$error":"#VALUE!"},{"$f":"VLOOKUP(K610,references!$A$1:$B$7,2,FALSE)","v":{"$error":"#N/A"}}]
[null,null,null,null,null,null,null,null,null,null,null,null,"no email",{"$error":"#VALUE!"},{"$error":"#VALUE!"},{"$f":"VLOOKUP(K611,references!$A$1:$B$7,2,FALSE)","v":{"$error":"#N/A"}}]
[null,null,null,null,null,null,null,null,null,null,null,null,"no email",{"$error":"#VALUE!"},{"$error":"#VALUE!"},{"$f":"VLOOKUP(K612,references!$A$1:$B$7,2,FALSE)","v":{"$error":"#N/A"}}]
[null,null,null,null,null,null,null,null,null,null,null,null,"no email",{"$error":"#VALUE!"},{"$error":"#VALUE!"},{"$f":"VLOOKUP(K613,references!$A$1:$B$7,2,FALSE)","v":{"$error":"#N/A"}}]
[null,null,null,null,null,null,null,null,null,null,null,null,"no email",{"$error":"#VALUE!"},{"$error":"#VALUE!"},{"$f":"VLOOKUP(K614,references!$A$1:$B$7,2,FALSE)","v":{"$error":"#N/A"}}]
[null,null,null,null,null,null,null,null,null,null,null,null,"no email",{"$error":"#VALUE!"},{"$error":"#VALUE!"},{"$f":"VLOOKUP(K615,references!$A$1:$B$7,2,FALSE)","v":{"$error":"#N/A"}}]
[null,null,null,null,null,null,null,null,null,null,null,null,"no email",{"$error":"#VALUE!"},{"$error":"#VALUE!"},{"$f":"VLOOKUP(K616,references!$A$1:$B$7,2,FALSE)","v":{"$error":"#N/A"}}]
[null,null,null,null,null,null,null,null,null,null,null,null,"no email",{"$error":"#VALUE!"},{"$error":"#VALUE!"},{"$f":"VLOOKUP(K617,references!$A$1:$B$7,2,FALSE)","v":{"$error":"#N/A"}}]
[null,null,null,null,null,null,null,null,null,null,null,null,"no email",{"$error":"#VALUE!"},{"$error":"#VALUE!"},{"$f":"VLOOKUP(K618,references!$A$1:$B$7,2,FALSE)","v":{"$error":"#N/A"}}]
[null,null,null,null,null,null,null,null,null,null,null,null,"no email",{"$error":"#VALUE!"},{"$error":"#VALUE!"},{"$f":"VLOOKUP(K619,references!$A$1:$B$7,2,FALSE)","v":{"$error":"#N/A"}}]
[null,null,null,null,null,null,null,null,null,null,null,null,"no email",{"$error":"#VALUE!"},{"$error":"#VALUE!"},{"$f":"VLOOKUP(K620,references!$A$1:$B$7,2,FALSE)","v":{"$error":"#N/A"}}]
[null,null,null,null,null,null,null,null,null,null,null,null,"no email",{"$error":"#VALUE!"},{"$error":"#VALUE!"},{"$f":"VLOOKUP(K621,references!$A$1:$B$7,2,FALSE)","v":{"$error":"#N/A"}}]
[null,null,null,null,null,null,null,null,null,null,null,null,"no email",{"$error":"#VALUE!"},{"$error":"#VALUE!"},{"$f":"VLOOKUP(K622,references!$A$1:$B$7,2,FALSE)","v":{"$error":"#N/A"}}]
[null,null,null,null,null,null,null,null,null,null,null,null,"no email",{"$error":"#VALUE!"},{"$error":"#VALUE!"},{"$f":"VLOOKUP(K623,references!$A$1:$B$7,2,FALSE)","v":{"$error":"#N/A"}}]
[null,null,null,null,null,null,null,null,null,null,null,null,"no email",{"$error":"#VALUE!"},{"$error":"#VALUE!"},{"$f":"VLOOKUP(K624,references!$A$1:$B$7,2,FALSE)","v":{"$error":"#N/A"}}]
[null,null,null,null,null,null,null,null,null,null,null,null,"no email",{"$error":"#VALUE!"},{"$error":"#VALUE!"},{"$f":"VLOOKUP(K625,references!$A$1:$B$7,2,FALSE)","v":{"$error":"#N/A"}}]
[null,null,null,null,null,null,null,null,null,null,null,null,"no email",{"$error":"#VALUE!"},{"$error":"#VALUE!"},{"$f":"VLOOKUP(K626,references!$A$1:$B$7,2,FALSE)","v":{"$error":"#N/A"}}]
[null,null,null,null,null,null,null,null,null,null,null,null,"no email",{"$error":"#VALUE!"},{"$error":"#VALUE!"},{"$f":"VLOOKUP(K627,references!$A$1:$B$7,2,FALSE)","v":{"$error":"#N/A"}}]
[null,null,null,null,null,null,null,null,null,null,null,null,"no email",{"$error":"#VALUE!"},{"$error":"#VALUE!"},{"$f":"VLOOKUP(K628,references!$A$1:$B$7,2,FALSE)","v":{"$error":"#N/A"}}]
[null,null,null,null,null,null,null,null,null,null,null,null,"no email",{"$error":"#VALUE!"},{"$error":"#VALUE!"},{"$f":"VLOOKUP(K629,references!$A$1:$B$7,2,FALSE)","v":{"$error":"#N/A"}}]
[null,null,null,null,null,null,null,null,null,null,null,null,"no email",{"$error":"#VALUE!"},{"$error":"#VALUE!"},{"$f":"VLOOKUP(K630,references!$A$1:$B$7,2,FALSE)","v":{"$error":"#N/A"}}]
[null,null,null,null,null,null,null,null,null,null,null,null,"no email",{"$error":"#VALUE!"},{"$error":"#VALUE!"},{"$f":"VLOOKUP(K631,references!$A$1:$B$7,2,FALSE)","v":{"$error":"#N/A"}}]
[null,null,null,null,null,null,null,null,null,null,null,null,"no email",{"$error":"#VALUE!"},{"$error":"#VALUE!"},{"$f":"VLOOKUP(K632,references!$A$1:$B$7,2,FALSE)","v":{"$error":"#N/A"}}]
[null,null,null,null,null,null,null,null,null,null,null,null,"no email",{"$error":"#VALUE!"},{"$error":"#VALUE!"},{"$f":"VLOOKUP(K633,references!$A$1:$B$7,2,FALSE)","v":{"$error":"#N/A"}}]
[null,null,null,null,null,null,null,null,null,null,null,null,"no email",{"$error":"#VALUE!"},{"$error":"#VALUE!"},{"$f":"VLOOKUP(K634,references!$A$1:$B$7,2,FALSE)","v":{"$error":"#N/A"}}]
[null,null,null,null,null,null,null,null,null,null,null,null,"no email",{"$error":"#VALUE!"},{"$error":"#VALUE!"},{"$f":"VLOOKUP(K635,references!$A$1:$B$7,2,FALSE)","v":{"$error":"#N/A"}}]
[null,null,null,null,null,null,null,null,null,null,null,null,"no email",{"$error":"#VALUE!"},{"$error":"#VALUE!"},{"$f":"VLOOKUP(K636,references!$A$1:$B$7,2,FALSE)","v":{"$error":"#N/A"}}]
[null,null,null,null,null,null,null,null,null,null,null,null,"no email",{"$error":"#VALUE!"},{"$error":"#VALUE!"},{"$f":"VLOOKUP(K637,references!$A$1:$B$7,2,FALSE)","v":{"$error":"#N/A"}}]
[null,null,null,null,null,null,null,null,null,null,null,null,"no email",{"$error":"#VALUE!"},{"$error":"#VALUE!"},{"$f":"VLOOKUP(K638,references!$A$1:$B$7,2,FALSE)","v":{"$error":"#N/A"}}]
[null,null,null,null,null,null,null,null,null,null,null,null,"no email",{"$error":"#VALUE!"},{"$error":"#VALUE!"},{"$f":"VLOOKUP(K639,references!$A$1:$B$7,2,FALSE)","v":{"$error":"#N/A"}}]
[null,null,null,null,null,null,null,null,null,null,null,null,"no email",{"$error":"#VALUE!"},{"$error":"#VALUE!"},{"$f":"VLOOKUP(K640,references!$A$1:$B$7,2,FALSE)","v":{"$error":"#N/A"}}]
[null,null,null,null,null,null,null,null,null,null,null,null,"no email",{"$error":"#VALUE!"},{"$error":"#VALUE!"},{"$f":"VLOOKUP(K641,references!$A$1:$B$7,2,FALSE)","v":{"$error":"#N/A"}}]
[null,null,null,null,null,null,null,null,null,null,null,null,{"$f":"IF(L642=\"\", \"no email\",LOWER(L642))","v":"no email"},{"$f":"LEFT(A642, SEARCH(\",\",A642,1)-1)","v":{"$error":"#VALUE!"}},{"$f":"RIGHT(A642, LEN(A642) -SEARCH(\",\",A642,1)-1)","v":{"$error":"#VALUE!"}},{"$f":"VLOOKUP(K642,references!$A$1:$B$7,2,FALSE)","v":{"$error":"#N/A"}}]
[null,null,null,null,null,null,null,null,null,null,null,null,"no email",{"$error":"#VALUE!"},{"$error":"#VALUE!"},{"$f":"VLOOKUP(K643,references!$A$1:$B$7,2,FALSE)","v":{"$error":"#N/A"}}]
[null,null,null,null,null,null,null,null,null,null,null,null,"no email",{"$error":"#VALUE!"},{"$error":"#VALUE!"},{"$f":"VLOOKUP(K644,references!$A$1:$B$7,2,FALSE)","v":{"$error":"#N/A"}}]
[null,null,null,null,null,null,null,null,null,null,null,null,"no email",{"$error":"#VALUE!"},{"$error":"#VALUE!"},{"$f":"VLOOKUP(K645,references!$A$1:$B$7,2,FALSE)","v":{"$error":"#N/A"}}]
[null,null,null,null,null,null,null,null,null,null,null,null,"no email",{"$error":"#VALUE!"},{"$error":"#VALUE!"},{"$f":"VLOOKUP(K646,references!$A$1:$B$7,2,FALSE)","v":{"$error":"#N/A"}}]
[null,null,null,null,null,null,null,null,null,null,null,null,"no email",{"$error":"#VALUE!"},{"$error":"#VALUE!"},{"$f":"VLOOKUP(K647,references!$A$1:$B$7,2,FALSE)","v":{"$error":"#N/A"}}]
[null,null,null,null,null,null,null,null,null,null,null,null,"no email",{"$error":"#VALUE!"},{"$error":"#VALUE!"},{"$f":"VLOOKUP(K648,references!$A$1:$B$7,2,FALSE)","v":{"$error":"#N/A"}}]
[null,null,null,null,null,null,null,null,null,null,null,null,"no email",{"$error":"#VALUE!"},{"$error":"#VALUE!"},{"$f":"VLOOKUP(K649,references!$A$1:$B$7,2,FALSE)","v":{"$error":"#N/A"}}]
[null,null,null,null,null,null,null,null,null,null,null,null,"no email",{"$error":"#VALUE!"},{"$error":"#VALUE!"},{"$f":"VLOOKUP(K650,references!$A$1:$B$7,2,FALSE)","v":{"$error":"#N/A"}}]
[null,null,null,null,null,null,null,null,null,null,null,null,"no email",{"$error":"#VALUE!"},{"$error":"#VALUE!"},{"$f":"VLOOKUP(K651,references!$A$1:$B$7,2,FALSE)","v":{"$error":"#N/A"}}]
[null,null,null,null,null,null,null,null,null,null,null,null,"no email",{"$error":"#VALUE!"},{"$error":"#VALUE!"},{"$f":"VLOOKUP(K652,references!$A$1:$B$7,2,FALSE)","v":{"$error":"#N/A"}}]
[null,null,null,null,null,null,null,null,null,null,null,null,"no email",{"$error":"#VALUE!"},{"$error":"#VALUE!"},{"$f":"VLOOKUP(K653,references!$A$1:$B$7,2,FALSE)","v":{"$error":"#N/A"}}]
[null,null,null,null,null,null,null,null,null,null,null,null,"no email",{"$error":"#VALUE!"},{"$error":"#VALUE!"},{"$f":"VLOOKUP(K654,references!$A$1:$B$7,2,FALSE)","v":{"$error":"#N/A"}}]
[null,null,null,null,null,null,null,null,null,null,null,null,"no email",{"$error":"#VALUE!"},{"$error":"#VALUE!"},{"$f":"VLOOKUP(K655,references!$A$1:$B$7,2,FALSE)","v":{"$error":"#N/A"}}]
[null,null,null,null,null,null,null,null,null,null,null,null,"no email",{"$error":"#VALUE!"},{"$error":"#VALUE!"},{"$f":"VLOOKUP(K656,references!$A$1:$B$7,2,FALSE)","v":{"$error":"#N/A"}}]
[null,null,null,null,null,null,null,null,null,null,null,null,"no email",{"$error":"#VALUE!"},{"$error":"#VALUE!"},{"$f":"VLOOKUP(K657,references!$A$1:$B$7,2,FALSE)","v":{"$error":"#N/A"}}]
[null,null,null,null,null,null,null,null,null,null,null,null,"no email",{"$error":"#VALUE!"},{"$error":"#VALUE!"},{"$f":"VLOOKUP(K658,references!$A$1:$B$7,2,FALSE)","v":{"$error":"#N/A"}}]
[null,null,null,null,null,null,null,null,null,null,null,null,"no email",{"$error":"#VALUE!"},{"$error":"#VALUE!"},{"$f":"VLOOKUP(K659,references!$A$1:$B$7,2,FALSE)","v":{"$error":"#N/A"}}]
[null,null,null,null,null,null,null,null,null,null,null,null,"no email",{"$error":"#VALUE!"},{"$error":"#VALUE!"},{"$f":"VLOOKUP(K660,references!$A$1:$B$7,2,FALSE)","v":{"$error":"#N/A"}}]
[null,null,null,null,null,null,null,null,null,null,null,null,"no email",{"$error":"#VALUE!"},{"$error":"#VALUE!"},{"$f":"VLOOKUP(K661,references!$A$1:$B$7,2,FALSE)","v":{"$error":"#N/A"}}]
[null,null,null,null,null,null,null,null,null,null,null,null,"no email",{"$error":"#VALUE!"},{"$error":"#VALUE!"},{"$f":"VLOOKUP(K662,references!$A$1:$B$7,2,FALSE)","v":{"$error":"#N/A"}}]
[null,null,null,null,null,null,null,null,null,null,null,null,"no email",{"$error":"#VALUE!"},{"$error":"#VALUE!"},{"$f":"VLOOKUP(K663,references!$A$1:$B$7,2,FALSE)","v":{"$error":"#N/A"}}]
[null,null,null,null,null,null,null,null,null,null,null,null,"no email",{"$error":"#VALUE!"},{"$error":"#VALUE!"},{"$f":"VLOOKUP(K664,references!$A$1:$B$7,2,FALSE)","v":{"$error":"#N/A"}}]
[null,null,null,null,null,null,null,null,null,null,null,null,"no email",{"$error":"#VALUE!"},{"$error":"#VALUE!"},{"$f":"VLOOKUP(K665,references!$A$1:$B$7,2,FALSE)","v":{"$error":"#N/A"}}]
[null,null,null,null,null,null,null,null,null,null,null,null,"no email",{"$error":"#VALUE!"},{"$error":"#VALUE!"},{"$f":"VLOOKUP(K666,references!$A$1:$B$7,2,FALSE)","v":{"$error":"#N/A"}}]
[null,null,null,null,null,null,null,null,null,null,null,null,"no email",{"$error":"#VALUE!"},{"$error":"#VALUE!"},{"$f":"VLOOKUP(K667,references!$A$1:$B$7,2,FALSE)","v":{"$error":"#N/A"}}]
[null,null,null,null,null,null,null,null,null,null,null,null,"no email",{"$error":"#VALUE!"},{"$error":"#VALUE!"},{"$f":"VLOOKUP(K668,references!$A$1:$B$7,2,FALSE)","v":{"$error":"#N/A"}}]
[null,null,null,null,null,null,null,null,null,null,null,null,"no email",{"$error":"#VALUE!"},{"$error":"#VALUE!"},{"$f":"VLOOKUP(K669,references!$A$1:$B$7,2,FALSE)","v":{"$error":"#N/A"}}]
[null,null,null,null,null,null,null,null,null,null,null,null,"no email",{"$error":"#VALUE!"},{"$error":"#VALUE!"},{"$f":"VLOOKUP(K670,references!$A$1:$B$7,2,FALSE)","v":{"$error":"#N/A"}}]
[null,null,null,null,null,null,null,null,null,null,null,null,"no email",{"$error":"#VALUE!"},{"$error":"#VALUE!"},{"$f":"VLOOKUP(K671,references!$A$1:$B$7,2,FALSE)","v":{"$error":"#N/A"}}]
[null,null,null,null,null,null,null,null,null,null,null,null,"no email",{"$error":"#VALUE!"},{"$error":"#VALUE!"},{"$f":"VLOOKUP(K672,references!$A$1:$B$7,2,FALSE)","v":{"$error":"#N/A"}}]
[null,null,null,null,null,null,null,null,null,null,null,null,"no email",{"$error":"#VALUE!"},{"$error":"#VALUE!"},{"$f":"VLOOKUP(K673,references!$A$1:$B$7,2,FALSE)","v":{"$error":"#N/A"}}]
[null,null,null,null,null,null,null,null,null,null,null,null,"no email",{"$error":"#VALUE!"},{"$error":"#VALUE!"},{"$f":"VLOOKUP(K674,references!$A$1:$B$7,2,FALSE)","v":{"$error":"#N/A"}}]
[null,null,null,null,null,null,null,null,null,null,null,null,"no email",{"$error":"#VALUE!"},{"$error":"#VALUE!"},{"$f":"VLOOKUP(K675,references!$A$1:$B$7,2,FALSE)","v":{"$error":"#N/A"}}]
[null,null,null,null,null,null,null,null,null,null,null,null,"no email",{"$error":"#VALUE!"},{"$error":"#VALUE!"},{"$f":"VLOOKUP(K676,references!$A$1:$B$7,2,FALSE)","v":{"$error":"#N/A"}}]
[null,null,null,null,null,null,null,null,null,null,null,null,"no email",{"$error":"#VALUE!"},{"$error":"#VALUE!"},{"$f":"VLOOKUP(K677,references!$A$1:$B$7,2,FALSE)","v":{"$error":"#N/A"}}]
[null,null,null,null,null,null,null,null,null,null,null,null,"no email",{"$error":"#VALUE!"},{"$error":"#VALUE!"},{"$f":"VLOOKUP(K678,references!$A$1:$B$7,2,FALSE)","v":{"$error":"#N/A"}}]
[null,null,null,null,null,null,null,null,null,null,null,null,"no email",{"$error":"#VALUE!"},{"$error":"#VALUE!"},{"$f":"VLOOKUP(K679,references!$A$1:$B$7,2,FALSE)","v":{"$error":"#N/A"}}]
[null,null,null,null,null,null,null,null,null,null,null,null,"no email",{"$error":"#VALUE!"},{"$error":"#VALUE!"},{"$f":"VLOOKUP(K680,references!$A$1:$B$7,2,FALSE)","v":{"$error":"#N/A"}}]
[null,null,null,null,null,null,null,null,null,null,null,null,"no email",{"$error":"#VALUE!"},{"$error":"#VALUE!"},{"$f":"VLOOKUP(K681,references!$A$1:$B$7,2,FALSE)","v":{"$error":"#N/A"}}]
[null,null,null,null,null,null,null,null,null,null,null,null,"no email",{"$error":"#VALUE!"},{"$error":"#VALUE!"},{"$f":"VLOOKUP(K682,references!$A$1:$B$7,2,FALSE)","v":{"$error":"#N/A"}}]
[null,null,null,null,null,null,null,null,null,null,null,null,"no email",{"$error":"#VALUE!"},{"$error":"#VALUE!"},{"$f":"VLOOKUP(K683,references!$A$1:$B$7,2,FALSE)","v":{"$error":"#N/A"}}]
[null,null,null,null,null,null,null,null,null,null,null,null,"no email",{"$error":"#VALUE!"},{"$error":"#VALUE!"},{"$f":"VLOOKUP(K684,references!$A$1:$B$7,2,FALSE)","v":{"$error":"#N/A"}}]
[null,null,null,null,null,null,null,null,null,null,null,null,"no email",{"$error":"#VALUE!"},{"$error":"#VALUE!"},{"$f":"VLOOKUP(K685,references!$A$1:$B$7,2,FALSE)","v":{"$error":"#N/A"}}]
[null,null,null,null,null,null,null,null,null,null,null,null,"no email",{"$error":"#VALUE!"},{"$error":"#VALUE!"},{"$f":"VLOOKUP(K686,references!$A$1:$B$7,2,FALSE)","v":{"$error":"#N/A"}}]
[null,null,null,null,null,null,null,null,null,null,null,null,"no email",{"$error":"#VALUE!"},{"$error":"#VALUE!"},{"$f":"VLOOKUP(K687,references!$A$1:$B$7,2,FALSE)","v":{"$error":"#N/A"}}]
[null,null,null,null,null,null,null,null,null,null,null,null,"no email",{"$error":"#VALUE!"},{"$error":"#VALUE!"},{"$f":"VLOOKUP(K688,references!$A$1:$B$7,2,FALSE)","v":{"$error":"#N/A"}}]
[null,null,null,null,null,null,null,null,null,null,null,null,"no email",{"$error":"#VALUE!"},{"$error":"#VALUE!"},{"$f":"VLOOKUP(K689,references!$A$1:$B$7,2,FALSE)","v":{"$error":"#N/A"}}]
[null,null,null,null,null,null,null,null,null,null,null,null,"no email",{"$error":"#VALUE!"},{"$error":"#VALUE!"},{"$f":"VLOOKUP(K690,references!$A$1:$B$7,2,FALSE)","v":{"$error":"#N/A"}}]
[null,null,null,null,null,null,null,null,null,null,null,null,"no email",{"$error":"#VALUE!"},{"$error":"#VALUE!"},{"$f":"VLOOKUP(K691,references!$A$1:$B$7,2,FALSE)","v":{"$error":"#N/A"}}]
[null,null,null,null,null,null,null,null,null,null,null,null,"no email",{"$error":"#VALUE!"},{"$error":"#VALUE!"},{"$f":"VLOOKUP(K692,references!$A$1:$B$7,2,FALSE)","v":{"$error":"#N/A"}}]
[null,null,null,null,null,null,null,null,null,null,null,null,"no email",{"$error":"#VALUE!"},{"$error":"#VALUE!"},{"$f":"VLOOKUP(K693,references!$A$1:$B$7,2,FALSE)","v":{"$error":"#N/A"}}]
[null,null,null,null,null,null,null,null,null,null,null,null,"no email",{"$error":"#VALUE!"},{"$error":"#VALUE!"},{"$f":"VLOOKUP(K694,references!$A$1:$B$7,2,FALSE)","v":{"$error":"#N/A"}}]
[null,null,null,null,null,null,null,null,null,null,null,null,"no email",{"$error":"#VALUE!"},{"$error":"#VALUE!"},{"$f":"VLOOKUP(K695,references!$A$1:$B$7,2,FALSE)","v":{"$error":"#N/A"}}]
[null,null,null,null,null,null,null,null,null,null,null,null,"no email",{"$error":"#VALUE!"},{"$error":"#VALUE!"},{"$f":"VLOOKUP(K696,references!$A$1:$B$7,2,FALSE)","v":{"$error":"#N/A"}}]
[null,null,null,null,null,null,null,null,null,null,null,null,"no email",{"$error":"#VALUE!"},{"$error":"#VALUE!"},{"$f":"VLOOKUP(K697,references!$A$1:$B$7,2,FALSE)","v":{"$error":"#N/A"}}]
[null,null,null,null,null,null,null,null,null,null,null,null,"no email",{"$error":"#VALUE!"},{"$error":"#VALUE!"},{"$f":"VLOOKUP(K698,references!$A$1:$B$7,2,FALSE)","v":{"$error":"#N/A"}}]
[null,null,null,null,null,null,null,null,null,null,null,null,"no email",{"$error":"#VALUE!"},{"$error":"#VALUE!"},{"$f":"VLOOKUP(K699,references!$A$1:$B$7,2,FALSE)","v":{"$error":"#N/A"}}]
[null,null,null,null,null,null,null,null,null,null,null,null,"no email",{"$error":"#VALUE!"},{"$error":"#VALUE!"},{"$f":"VLOOKUP(K700,references!$A$1:$B$7,2,FALSE)","v":{"$error":"#N/A"}}]
[null,null,null,null,null,null,null,null,null,null,null,null,"no email",{"$error":"#VALUE!"},{"$error":"#VALUE!"},{"$f":"VLOOKUP(K701,references!$A$1:$B$7,2,FALSE)","v":{"$error":"#N/A"}}]
[null,null,null,null,null,null,null,null,null,null,null,null,"no email",{"$error":"#VALUE!"},{"$error":"#VALUE!"},{"$f":"VLOOKUP(K702,references!$A$1:$B$7,2,FALSE)","v":{"$error":"#N/A"}}]
[null,null,null,null,null,null,null,null,null,null,null,null,"no email",{"$error":"#VALUE!"},{"$error":"#VALUE!"},{"$f":"VLOOKUP(K703,references!$A$1:$B$7,2,FALSE)","v":{"$error":"#N/A"}}]
[null,null,null,null,null,null,null,null,null,null,null,null,"no email",{"$error":"#VALUE!"},{"$error":"#VALUE!"},{"$f":"VLOOKUP(K704,references!$A$1:$B$7,2,FALSE)","v":{"$error":"#N/A"}}]
[null,null,null,null,null,null,null,null,null,null,null,null,"no email",{"$error":"#VALUE!"},{"$error":"#VALUE!"},{"$f":"VLOOKUP(K705,references!$A$1:$B$7,2,FALSE)","v":{"$error":"#N/A"}}]
[null,null,null,null,null,null,null,null,null,null,null,null,{"$f":"IF(L706=\"\", \"no email\",LOWER(L706))","v":"no email"},{"$f":"LEFT(A706, SEARCH(\",\",A706,1)-1)","v":{"$error":"#VALUE!"}},{"$f":"RIGHT(A706, LEN(A706) -SEARCH(\",\",A706,1)-1)","v":{"$error":"#VALUE!"}},{"$f":"VLOOKUP(K706,references!$A$1:$B$7,2,FALSE)","v":{"$error":"#N/A"}}]
[null,null,null,null,null,null,null,null,null,null,null,null,"no email",{"$error":"#VALUE!"},{"$error":"#VALUE!"},{"$f":"VLOOKUP(K707,references!$A$1:$B$7,2,FALSE)","v":{"$error":"#N/A"}}]
[null,null,null,null,null,null,null,null,null,null,null,null,"no email",{"$error":"#VALUE!"},{"$error":"#VALUE!"},{"$f":"VLOOKUP(K708,references!$A$1:$B$7,2,FALSE)","v":{"$error":"#N/A"}}]
[null,null,null,null,null,null,null,null,null,null,null,null,"no email",{"$error":"#VALUE!"},{"$error":"#VALUE!"},{"$f":"VLOOKUP(K709,references!$A$1:$B$7,2,FALSE)","v":{"$error":"#N/A"}}]
[null,null,null,null,null,null,null,null,null,null,null,null,"no email",{"$error":"#VALUE!"},{"$error":"#VALUE!"},{"$f":"VLOOKUP(K710,references!$A$1:$B$7,2,FALSE)","v":{"$error":"#N/A"}}]
[null,null,null,null,null,null,null,null,null,null,null,null,"no email",{"$error":"#VALUE!"},{"$error":"#VALUE!"},{"$f":"VLOOKUP(K711,references!$A$1:$B$7,2,FALSE)","v":{"$error":"#N/A"}}]
[null,null,null,null,null,null,null,null,null,null,null,null,"no email",{"$error":"#VALUE!"},{"$error":"#VALUE!"},{"$f":"VLOOKUP(K712,references!$A$1:$B$7,2,FALSE)","v":{"$error":"#N/A"}}]
[null,null,null,null,null,null,null,null,null,null,null,null,"no email",{"$error":"#VALUE!"},{"$error":"#VALUE!"},{"$f":"VLOOKUP(K713,references!$A$1:$B$7,2,FALSE)","v":{"$error":"#N/A"}}]
[null,null,null,null,null,null,null,null,null,null,null,null,"no email",{"$error":"#VALUE!"},{"$error":"#VALUE!"},{"$f":"VLOOKUP(K714,references!$A$1:$B$7,2,FALSE)","v":{"$error":"#N/A"}}]
[null,null,null,null,null,null,null,null,null,null,null,null,"no email",{"$error":"#VALUE!"},{"$error":"#VALUE!"},{"$f":"VLOOKUP(K715,references!$A$1:$B$7,2,FALSE)","v":{"$error":"#N/A"}}]
[null,null,null,null,null,null,null,null,null,null,null,null,"no email",{"$error":"#VALUE!"},{"$error":"#VALUE!"},{"$f":"VLOOKUP(K716,references!$A$1:$B$7,2,FALSE)","v":{"$error":"#N/A"}}]
[null,null,null,null,null,null,null,null,null,null,null,null,"no email",{"$error":"#VALUE!"},{"$error":"#VALUE!"},{"$f":"VLOOKUP(K717,references!$A$1:$B$7,2,FALSE)","v":{"$error":"#N/A"}}]
[null,null,null,null,null,null,null,null,null,null,null,null,"no email",{"$error":"#VALUE!"},{"$error":"#VALUE!"},{"$f":"VLOOKUP(K718,references!$A$1:$B$7,2,FALSE)","v":{"$error":"#N/A"}}]
[null,null,null,null,null,null,null,null,null,null,null,null,"no email",{"$error":"#VALUE!"},{"$error":"#VALUE!"},{"$f":"VLOOKUP(K719,references!$A$1:$B$7,2,FALSE)","v":{"$error":"#N/A"}}]
[null,null,null,null,null,null,null,null,null,null,null,null,"no email",{"$error":"#VALUE!"},{"$error":"#VALUE!"},{"$f":"VLOOKUP(K720,references!$A$1:$B$7,2,FALSE)","v":{"$error":"#N/A"}}]
[null,null,null,null,null,null,null,null,null,null,null,null,"no email",{"$error":"#VALUE!"},{"$error":"#VALUE!"},{"$f":"VLOOKUP(K721,references!$A$1:$B$7,2,FALSE)","v":{"$error":"#N/A"}}]
[null,null,null,null,null,null,null,null,null,null,null,null,"no email",{"$error":"#VALUE!"},{"$error":"#VALUE!"},{"$f":"VLOOKUP(K722,references!$A$1:$B$7,2,FALSE)","v":{"$error":"#N/A"}}]
[null,null,null,null,null,null,null,null,null,null,null,null,"no email",{"$error":"#VALUE!"},{"$error":"#VALUE!"},{"$f":"VLOOKUP(K723,references!$A$1:$B$7,2,FALSE)","v":{"$error":"#N/A"}}]
[null,null,null,null,null,null,null,null,null,null,null,null,"no email",{"$error":"#VALUE!"},{"$error":"#VALUE!"},{"$f":"VLOOKUP(K724,references!$A$1:$B$7,2,FALSE)","v":{"$error":"#N/A"}}]
[null,null,null,null,null,null,null,null,null,null,null,null,"no email",{"$error":"#VALUE!"},{"$error":"#VALUE!"},{"$f":"VLOOKUP(K725,references!$A$1:$B$7,2,FALSE)","v":{"$error":"#N/A"}}]
[null,null,null,null,null,null,null,null,null,null,null,null,"no email",{"$error":"#VALUE!"},{"$error":"#VALUE!"},{"$f":"VLOOKUP(K726,references!$A$1:$B$7,2,FALSE)","v":{"$error":"#N/A"}}]
[null,null,null,null,null,null,null,null,null,null,null,null,"no email",{"$error":"#VALUE!"},{"$error":"#VALUE!"},{"$f":"VLOOKUP(K727,references!$A$1:$B$7,2,FALSE)","v":{"$error":"#N/A"}}]
[null,null,null,null,null,null,null,null,null,null,null,null,"no email",{"$error":"#VALUE!"},{"$error":"#VALUE!"},{"$f":"VLOOKUP(K728,references!$A$1:$B$7,2,FALSE)","v":{"$error":"#N/A"}}]
[null,null,null,null,null,null,null,null,null,null,null,null,"no email",{"$error":"#VALUE!"},{"$error":"#VALUE!"},{"$f":"VLOOKUP(K729,references!$A$1:$B$7,2,FALSE)","v":{"$error":"#N/A"}}]
[null,null,null,null,null,null,null,null,null,null,null,null,"no email",{"$error":"#VALUE!"},{"$error":"#VALUE!"},{"$f":"VLOOKUP(K730,references!$A$1:$B$7,2,FALSE)","v":{"$error":"#N/A"}}]
[null,null,null,null,null,null,null,null,null,null,null,null,"no email",{"$error":"#VALUE!"},{"$error":"#VALUE!"},{"$f":"VLOOKUP(K731,references!$A$1:$B$7,2,FALSE)","v":{"$error":"#N/A"}}]
[null,null,null,null,null,null,null,null,null,null,null,null,"no email",{"$error":"#VALUE!"},{"$error":"#VALUE!"},{"$f":"VLOOKUP(K732,references!$A$1:$B$7,2,FALSE)","v":{"$error":"#N/A"}}]
[null,null,null,null,null,null,null,null,null,null,null,null,"no email",{"$error":"#VALUE!"},{"$error":"#VALUE!"},{"$f":"VLOOKUP(K733,references!$A$1:$B$7,2,FALSE)","v":{"$error":"#N/A"}}]
[null,null,null,null,null,null,null,null,null,null,null,null,"no email",{"$error":"#VALUE!"},{"$error":"#VALUE!"},{"$f":"VLOOKUP(K734,references!$A$1:$B$7,2,FALSE)","v":{"$error":"#N/A"}}]
[null,null,null,null,null,null,null,null,null,null,null,null,"no email",{"$error":"#VALUE!"},{"$error":"#VALUE!"},{"$f":"VLOOKUP(K735,references!$A$1:$B$7,2,FALSE)","v":{"$error":"#N/A"}}]
[null,null,null,null,null,null,null,null,null,null,null,null,"no email",{"$error":"#VALUE!"},{"$error":"#VALUE!"},{"$f":"VLOOKUP(K736,references!$A$1:$B$7,2,FALSE)","v":{"$error":"#N/A"}}]
[null,null,null,null,null,null,null,null,null,null,null,null,"no email",{"$error":"#VALUE!"},{"$error":"#VALUE!"},{"$f":"VLOOKUP(K737,references!$A$1:$B$7,2,FALSE)","v":{"$error":"#N/A"}}]
[null,null,null,null,null,null,null,null,null,null,null,null,"no email",{"$error":"#VALUE!"},{"$error":"#VALUE!"},{"$f":"VLOOKUP(K738,references!$A$1:$B$7,2,FALSE)","v":{"$error":"#N/A"}}]
[null,null,null,null,null,null,null,null,null,null,null,null,"no email",{"$error":"#VALUE!"},{"$error":"#VALUE!"},{"$f":"VLOOKUP(K739,references!$A$1:$B$7,2,FALSE)","v":{"$error":"#N/A"}}]
[null,null,null,null,null,null,null,null,null,null,null,null,"no email",{"$error":"#VALUE!"},{"$error":"#VALUE!"},{"$f":"VLOOKUP(K740,references!$A$1:$B$7,2,FALSE)","v":{"$error":"#N/A"}}]
[null,null,null,null,null,null,null,null,null,null,null,null,"no email",{"$error":"#VALUE!"},{"$error":"#VALUE!"},{"$f":"VLOOKUP(K741,references!$A$1:$B$7,2,FALSE)","v":{"$error":"#N/A"}}]
[null,null,null,null,null,null,null,null,null,null,null,null,"no email",{"$error":"#VALUE!"},{"$error":"#VALUE!"},{"$f":"VLOOKUP(K742,references!$A$1:$B$7,2,FALSE)","v":{"$error":"#N/A"}}]
[null,null,null,null,null,null,null,null,null,null,null,null,"no email",{"$error":"#VALUE!"},{"$error":"#VALUE!"},{"$f":"VLOOKUP(K743,references!$A$1:$B$7,2,FALSE)","v":{"$error":"#N/A"}}]
[null,null,null,null,null,null,null,null,null,null,null,null,"no email",{"$error":"#VALUE!"},{"$error":"#VALUE!"},{"$f":"VLOOKUP(K744,references!$A$1:$B$7,2,FALSE)","v":{"$error":"#N/A"}}]
[null,null,null,null,null,null,null,null,null,null,null,null,"no email",{"$error":"#VALUE!"},{"$error":"#VALUE!"},{"$f":"VLOOKUP(K745,references!$A$1:$B$7,2,FALSE)","v":{"$error":"#N/A"}}]
[null,null,null,null,null,null,null,null,null,null,null,null,"no email",{"$error":"#VALUE!"},{"$error":"#VALUE!"},{"$f":"VLOOKUP(K746,references!$A$1:$B$7,2,FALSE)","v":{"$error":"#N/A"}}]
[null,null,null,null,null,null,null,null,null,null,null,null,"no email",{"$error":"#VALUE!"},{"$error":"#VALUE!"},{"$f":"VLOOKUP(K747,references!$A$1:$B$7,2,FALSE)","v":{"$error":"#N/A"}}]
[null,null,null,null,null,null,null,null,null,null,null,null,"no email",{"$error":"#VALUE!"},{"$error":"#VALUE!"},{"$f":"VLOOKUP(K748,references!$A$1:$B$7,2,FALSE)","v":{"$error":"#N/A"}}]
[null,null,null,null,null,null,null,null,null,null,null,null,"no email",{"$error":"#VALUE!"},{"$error":"#VALUE!"},{"$f":"VLOOKUP(K749,references!$A$1:$B$7,2,FALSE)","v":{"$error":"#N/A"}}]
[null,null,null,null,null,null,null,null,null,null,null,null,"no email",{"$error":"#VALUE!"},{"$error":"#VALUE!"},{"$f":"VLOOKUP(K750,references!$A$1:$B$7,2,FALSE)","v":{"$error":"#N/A"}}]
[null,null,null,null,null,null,null,null,null,null,null,null,"no email",{"$error":"#VALUE!"},{"$error":"#VALUE!"},{"$f":"VLOOKUP(K751,references!$A$1:$B$7,2,FALSE)","v":{"$error":"#N/A"}}]
[null,null,null,null,null,null,null,null,null,null,null,null,"no email",{"$error":"#VALUE!"},{"$error":"#VALUE!"},{"$f":"VLOOKUP(K752,references!$A$1:$B$7,2,FALSE)","v":{"$error":"#N/A"}}]
[null,null,null,null,null,null,null,null,null,null,null,null,"no email",{"$error":"#VALUE!"},{"$error":"#VALUE!"},{"$f":"VLOOKUP(K753,references!$A$1:$B$7,2,FALSE)","v":{"$error":"#N/A"}}]
[null,null,null,null,null,null,null,null,null,null,null,null,"no email",{"$error":"#VALUE!"},{"$error":"#VALUE!"},{"$f":"VLOOKUP(K754,references!$A$1:$B$7,2,FALSE)","v":{"$error":"#N/A"}}]
[null,null,null,null,null,null,null,null,null,null,null,null,"no email",{"$error":"#VALUE!"},{"$error":"#VALUE!"},{"$f":"VLOOKUP(K755,references!$A$1:$B$7,2,FALSE)","v":{"$error":"#N/A"}}]
[null,null,null,null,null,null,null,null,null,null,null,null,"no email",{"$error":"#VALUE!"},{"$error":"#VALUE!"},{"$f":"VLOOKUP(K756,references!$A$1:$B$7,2,FALSE)","v":{"$error":"#N/A"}}]
[null,null,null,null,null,null,null,null,null,null,null,null,"no email",{"$error":"#VALUE!"},{"$error":"#VALUE!"},{"$f":"VLOOKUP(K757,references!$A$1:$B$7,2,FALSE)","v":{"$error":"#N/A"}}]
[null,null,null,null,null,null,null,null,null,null,null,null,"no email",{"$error":"#VALUE!"},{"$error":"#VALUE!"},{"$f":"VLOOKUP(K758,references!$A$1:$B$7,2,FALSE)","v":{"$error":"#N/A"}}]
[null,null,null,null,null,null,null,null,null,null,null,null,"no email",{"$error":"#VALUE!"},{"$error":"#VALUE!"},{"$f":"VLOOKUP(K759,references!$A$1:$B$7,2,FALSE)","v":{"$error":"#N/A"}}]
[null,null,null,null,null,null,null,null,null,null,null,null,"no email",{"$error":"#VALUE!"},{"$error":"#VALUE!"},{"$f":"VLOOKUP(K760,references!$A$1:$B$7,2,FALSE)","v":{"$error":"#N/A"}}]
[null,null,null,null,null,null,null,null,null,null,null,null,"no email",{"$error":"#VALUE!"},{"$error":"#VALUE!"},{"$f":"VLOOKUP(K761,references!$A$1:$B$7,2,FALSE)","v":{"$error":"#N/A"}}]
[null,null,null,null,null,null,null,null,null,null,null,null,"no email",{"$error":"#VALUE!"},{"$error":"#VALUE!"},{"$f":"VLOOKUP(K762,references!$A$1:$B$7,2,FALSE)","v":{"$error":"#N/A"}}]
[null,null,null,null,null,null,null,null,null,null,null,null,"no email",{"$error":"#VALUE!"},{"$error":"#VALUE!"},{"$f":"VLOOKUP(K763,references!$A$1:$B$7,2,FALSE)","v":{"$error":"#N/A"}}]
[null,null,null,null,null,null,null,null,null,null,null,null,"no email",{"$error":"#VALUE!"},{"$error":"#VALUE!"},{"$f":"VLOOKUP(K764,references!$A$1:$B$7,2,FALSE)","v":{"$error":"#N/A"}}]
[null,null,null,null,null,null,null,null,null,null,null,null,"no email",{"$error":"#VALUE!"},{"$error":"#VALUE!"},{"$f":"VLOOKUP(K765,references!$A$1:$B$7,2,FALSE)","v":{"$error":"#N/A"}}]
[null,null,null,null,null,null,null,null,null,null,null,null,"no email",{"$error":"#VALUE!"},{"$error":"#VALUE!"},{"$f":"VLOOKUP(K766,references!$A$1:$B$7,2,FALSE)","v":{"$error":"#N/A"}}]
[null,null,null,null,null,null,null,null,null,null,null,null,"no email",{"$error":"#VALUE!"},{"$error":"#VALUE!"},{"$f":"VLOOKUP(K767,references!$A$1:$B$7,2,FALSE)","v":{"$error":"#N/A"}}]
[null,null,null,null,null,null,null,null,null,null,null,null,"no email",{"$error":"#VALUE!"},{"$error":"#VALUE!"},{"$f":"VLOOKUP(K768,references!$A$1:$B$7,2,FALSE)","v":{"$error":"#N/A"}}]
[null,null,null,null,null,null,null,null,null,null,null,null,"no email",{"$error":"#VALUE!"},{"$error":"#VALUE!"},{"$f":"VLOOKUP(K769,references!$A$1:$B$7,2,FALSE)","v":{"$error":"#N/A"}}]
[null,null,null,null,null,null,null,null,null,null,null,null,{"$f":"IF(L770=\"\", \"no email\",LOWER(L770))","v":"no email"},{"$f":"LEFT(A770, SEARCH(\",\",A770,1)-1)","v":{"$error":"#VALUE!"}},{"$f":"RIGHT(A770, LEN(A770) -SEARCH(\",\",A770,1)-1)","v":{"$error":"#VALUE!"}},{"$f":"VLOOKUP(K770,references!$A$1:$B$7,2,FALSE)","v":{"$error":"#N/A"}}]
[null,null,null,null,null,null,null,null,null,null,null,null,"no email",{"$error":"#VALUE!"},{"$error":"#VALUE!"},{"$f":"VLOOKUP(K771,references!$A$1:$B$7,2,FALSE)","v":{"$error":"#N/A"}}]
[null,null,null,null,null,null,null,null,null,null,null,null,"no email",{"$error":"#VALUE!"},{"$error":"#VALUE!"},{"$f":"VLOOKUP(K772,references!$A$1:$B$7,2,FALSE)","v":{"$error":"#N/A"}}]
[null,null,null,null,null,null,null,null,null,null,null,null,"no email",{"$error":"#VALUE!"},{"$error":"#VALUE!"},{"$f":"VLOOKUP(K773,references!$A$1:$B$7,2,FALSE)","v":{"$error":"#N/A"}}]
[null,null,null,null,null,null,null,null,null,null,null,null,"no email",{"$error":"#VALUE!"},{"$error":"#VALUE!"},{"$f":"VLOOKUP(K774,references!$A$1:$B$7,2,FALSE)","v":{"$error":"#N/A"}}]
[null,null,null,null,null,null,null,null,null,null,null,null,"no email",{"$error":"#VALUE!"},{"$error":"#VALUE!"},{"$f":"VLOOKUP(K775,references!$A$1:$B$7,2,FALSE)","v":{"$error":"#N/A"}}]
[null,null,null,null,null,null,null,null,null,null,null,null,"no email",{"$error":"#VALUE!"},{"$error":"#VALUE!"},{"$f":"VLOOKUP(K776,references!$A$1:$B$7,2,FALSE)","v":{"$error":"#N/A"}}]
[null,null,null,null,null,null,null,null,null,null,null,null,"no email",{"$error":"#VALUE!"},{"$error":"#VALUE!"},{"$f":"VLOOKUP(K777,references!$A$1:$B$7,2,FALSE)","v":{"$error":"#N/A"}}]
[null,null,null,null,null,null,null,null,null,null,null,null,"no email",{"$error":"#VALUE!"},{"$error":"#VALUE!"},{"$f":"VLOOKUP(K778,references!$A$1:$B$7,2,FALSE)","v":{"$error":"#N/A"}}]
[null,null,null,null,null,null,null,null,null,null,null,null,"no email",{"$error":"#VALUE!"},{"$error":"#VALUE!"},{"$f":"VLOOKUP(K779,references!$A$1:$B$7,2,FALSE)","v":{"$error":"#N/A"}}]
[null,null,null,null,null,null,null,null,null,null,null,null,"no email",{"$error":"#VALUE!"},{"$error":"#VALUE!"},{"$f":"VLOOKUP(K780,references!$A$1:$B$7,2,FALSE)","v":{"$error":"#N/A"}}]
[null,null,null,null,null,null,null,null,null,null,null,null,"no email",{"$error":"#VALUE!"},{"$error":"#VALUE!"},{"$f":"VLOOKUP(K781,references!$A$1:$B$7,2,FALSE)","v":{"$error":"#N/A"}}]
[null,null,null,null,null,null,null,null,null,null,null,null,"no email",{"$error":"#VALUE!"},{"$error":"#VALUE!"},{"$f":"VLOOKUP(K782,references!$A$1:$B$7,2,FALSE)","v":{"$error":"#N/A"}}]
[null,null,null,null,null,null,null,null,null,null,null,null,"no email",{"$error":"#VALUE!"},{"$error":"#VALUE!"},{"$f":"VLOOKUP(K783,references!$A$1:$B$7,2,FALSE)","v":{"$error":"#N/A"}}]
[null,null,null,null,null,null,null,null,null,null,null,null,"no email",{"$error":"#VALUE!"},{"$error":"#VALUE!"},{"$f":"VLOOKUP(K784,references!$A$1:$B$7,2,FALSE)","v":{"$error":"#N/A"}}]
[null,null,null,null,null,null,null,null,null,null,null,null,"no email",{"$error":"#VALUE!"},{"$error":"#VALUE!"},{"$f":"VLOOKUP(K785,references!$A$1:$B$7,2,FALSE)","v":{"$error":"#N/A"}}]
[null,null,null,null,null,null,null,null,null,null,null,null,"no email",{"$error":"#VALUE!"},{"$error":"#VALUE!"},{"$f":"VLOOKUP(K786,references!$A$1:$B$7,2,FALSE)","v":{"$error":"#N/A"}}]
[null,null,null,null,null,null,null,null,null,null,null,null,"no email",{"$error":"#VALUE!"},{"$error":"#VALUE!"},{"$f":"VLOOKUP(K787,references!$A$1:$B$7,2,FALSE)","v":{"$error":"#N/A"}}]
[null,null,null,null,null,null,null,null,null,null,null,null,"no email",{"$error":"#VALUE!"},{"$error":"#VALUE!"},{"$f":"VLOOKUP(K788,references!$A$1:$B$7,2,FALSE)","v":{"$error":"#N/A"}}]
[null,null,null,null,null,null,null,null,null,null,null,null,"no email",{"$error":"#VALUE!"},{"$error":"#VALUE!"},{"$f":"VLOOKUP(K789,references!$A$1:$B$7,2,FALSE)","v":{"$error":"#N/A"}}]
[null,null,null,null,null,null,null,null,null,null,null,null,"no email",{"$error":"#VALUE!"},{"$error":"#VALUE!"},{"$f":"VLOOKUP(K790,references!$A$1:$B$7,2,FALSE)","v":{"$error":"#N/A"}}]
[null,null,null,null,null,null,null,null,null,null,null,null,"no email",{"$error":"#VALUE!"},{"$error":"#VALUE!"},{"$f":"VLOOKUP(K791,references!$A$1:$B$7,2,FALSE)","v":{"$error":"#N/A"}}]
[null,null,null,null,null,null,null,null,null,null,null,null,"no email",{"$error":"#VALUE!"},{"$error":"#VALUE!"},{"$f":"VLOOKUP(K792,references!$A$1:$B$7,2,FALSE)","v":{"$error":"#N/A"}}]
[null,null,null,null,null,null,null,null,null,null,null,null,"no email",{"$error":"#VALUE!"},{"$error":"#VALUE!"},{"$f":"VLOOKUP(K793,references!$A$1:$B$7,2,FALSE)","v":{"$error":"#N/A"}}]
[null,null,null,null,null,null,null,null,null,null,null,null,"no email",{"$error":"#VALUE!"},{"$error":"#VALUE!"},{"$f":"VLOOKUP(K794,references!$A$1:$B$7,2,FALSE)","v":{"$error":"#N/A"}}]
[null,null,null,null,null,null,null,null,null,null,null,null,"no email",{"$error":"#VALUE!"},{"$error":"#VALUE!"},{"$f":"VLOOKUP(K795,references!$A$1:$B$7,2,FALSE)","v":{"$error":"#N/A"}}]
[null,null,null,null,null,null,null,null,null,null,null,null,"no email",{"$error":"#VALUE!"},{"$error":"#VALUE!"},{"$f":"VLOOKUP(K796,references!$A$1:$B$7,2,FALSE)","v":{"$error":"#N/A"}}]
[null,null,null,null,null,null,null,null,null,null,null,null,"no email",{"$error":"#VALUE!"},{"$error":"#VALUE!"},{"$f":"VLOOKUP(K797,references!$A$1:$B$7,2,FALSE)","v":{"$error":"#N/A"}}]
[null,null,null,null,null,null,null,null,null,null,null,null,"no email",{"$error":"#VALUE!"},{"$error":"#VALUE!"},{"$f":"VLOOKUP(K798,references!$A$1:$B$7,2,FALSE)","v":{"$error":"#N/A"}}]
[null,null,null,null,null,null,null,null,null,null,null,null,"no email",{"$error":"#VALUE!"},{"$error":"#VALUE!"},{"$f":"VLOOKUP(K799,references!$A$1:$B$7,2,FALSE)","v":{"$error":"#N/A"}}]
[null,null,null,null,null,null,null,null,null,null,null,null,"no email",{"$error":"#VALUE!"},{"$error":"#VALUE!"},{"$f":"VLOOKUP(K800,references!$A$1:$B$7,2,FALSE)","v":{"$error":"#N/A"}}]
[null,null,null,null,null,null,null,null,null,null,null,null,"no email",{"$error":"#VALUE!"},{"$error":"#VALUE!"},{"$f":"VLOOKUP(K801,references!$A$1:$B$7,2,FALSE)","v":{"$error":"#N/A"}}]
[null,null,null,null,null,null,null,null,null,null,null,null,"no email",{"$error":"#VALUE!"},{"$error":"#VALUE!"},{"$f":"VLOOKUP(K802,references!$A$1:$B$7,2,FALSE)","v":{"$error":"#N/A"}}]
[null,null,null,null,null,null,null,null,null,null,null,null,"no email",{"$error":"#VALUE!"},{"$error":"#VALUE!"},{"$f":"VLOOKUP(K803,references!$A$1:$B$7,2,FALSE)","v":{"$error":"#N/A"}}]
[null,null,null,null,null,null,null,null,null,null,null,null,"no email",{"$error":"#VALUE!"},{"$error":"#VALUE!"},{"$f":"VLOOKUP(K804,references!$A$1:$B$7,2,FALSE)","v":{"$error":"#N/A"}}]
[null,null,null,null,null,null,null,null,null,null,null,null,"no email",{"$error":"#VALUE!"},{"$error":"#VALUE!"},{"$f":"VLOOKUP(K805,references!$A$1:$B$7,2,FALSE)","v":{"$error":"#N/A"}}]
[null,null,null,null,null,null,null,null,null,null,null,null,"no email",{"$error":"#VALUE!"},{"$error":"#VALUE!"},{"$f":"VLOOKUP(K806,references!$A$1:$B$7,2,FALSE)","v":{"$error":"#N/A"}}]
[null,null,null,null,null,null,null,null,null,null,null,null,"no email",{"$error":"#VALUE!"},{"$error":"#VALUE!"},{"$f":"VLOOKUP(K807,references!$A$1:$B$7,2,FALSE)","v":{"$error":"#N/A"}}]
[null,null,null,null,null,null,null,null,null,null,null,null,"no email",{"$error":"#VALUE!"},{"$error":"#VALUE!"},{"$f":"VLOOKUP(K808,references!$A$1:$B$7,2,FALSE)","v":{"$error":"#N/A"}}]
[null,null,null,null,null,null,null,null,null,null,null,null,"no email",{"$error":"#VALUE!"},{"$error":"#VALUE!"},{"$f":"VLOOKUP(K809,references!$A$1:$B$7,2,FALSE)","v":{"$error":"#N/A"}}]
[null,null,null,null,null,null,null,null,null,null,null,null,"no email",{"$error":"#VALUE!"},{"$error":"#VALUE!"},{"$f":"VLOOKUP(K810,references!$A$1:$B$7,2,FALSE)","v":{"$error":"#N/A"}}]
[null,null,null,null,null,null,null,null,null,null,null,null,"no email",{"$error":"#VALUE!"},{"$error":"#VALUE!"},{"$f":"VLOOKUP(K811,references!$A$1:$B$7,2,FALSE)","v":{"$error":"#N/A"}}]
[null,null,null,null,null,null,null,null,null,null,null,null,"no email",{"$error":"#VALUE!"},{"$error":"#VALUE!"},{"$f":"VLOOKUP(K812,references!$A$1:$B$7,2,FALSE)","v":{"$error":"#N/A"}}]
[null,null,null,null,null,null,null,null,null,null,null,null,"no email",{"$error":"#VALUE!"},{"$error":"#VALUE!"},{"$f":"VLOOKUP(K813,references!$A$1:$B$7,2,FALSE)","v":{"$error":"#N/A"}}]
[null,null,null,null,null,null,null,null,null,null,null,null,"no email",{"$error":"#VALUE!"},{"$error":"#VALUE!"},{"$f":"VLOOKUP(K814,references!$A$1:$B$7,2,FALSE)","v":{"$error":"#N/A"}}]
[null,null,null,null,null,null,null,null,null,null,null,null,"no email",{"$error":"#VALUE!"},{"$error":"#VALUE!"},{"$f":"VLOOKUP(K815,references!$A$1:$B$7,2,FALSE)","v":{"$error":"#N/A"}}]
[null,null,null,null,null,null,null,null,null,null,null,null,"no email",{"$error":"#VALUE!"},{"$error":"#VALUE!"},{"$f":"VLOOKUP(K816,references!$A$1:$B$7,2,FALSE)","v":{"$error":"#N/A"}}]
[null,null,null,null,null,null,null,null,null,null,null,null,"no email",{"$error":"#VALUE!"},{"$error":"#VALUE!"},{"$f":"VLOOKUP(K817,references!$A$1:$B$7,2,FALSE)","v":{"$error":"#N/A"}}]
[null,null,null,null,null,null,null,null,null,null,null,null,"no email",{"$error":"#VALUE!"},{"$error":"#VALUE!"},{"$f":"VLOOKUP(K818,references!$A$1:$B$7,2,FALSE)","v":{"$error":"#N/A"}}]
[null,null,null,null,null,null,null,null,null,null,null,null,"no email",{"$error":"#VALUE!"},{"$error":"#VALUE!"},{"$f":"VLOOKUP(K819,references!$A$1:$B$7,2,FALSE)","v":{"$error":"#N/A"}}]
[null,null,null,null,null,null,null,null,null,null,null,null,"no email",{"$error":"#VALUE!"},{"$error":"#VALUE!"},{"$f":"VLOOKUP(K820,references!$A$1:$B$7,2,FALSE)","v":{"$error":"#N/A"}}]
[null,null,null,null,null,null,null,null,null,null,null,null,"no email",{"$error":"#VALUE!"},{"$error":"#VALUE!"},{"$f":"VLOOKUP(K821,references!$A$1:$B$7,2,FALSE)","v":{"$error":"#N/A"}}]
[null,null,null,null,null,null,null,null,null,null,null,null,"no email",{"$error":"#VALUE!"},{"$error":"#VALUE!"},{"$f":"VLOOKUP(K822,references!$A$1:$B$7,2,FALSE)","v":{"$error":"#N/A"}}]
[null,null,null,null,null,null,null,null,null,null,null,null,"no email",{"$error":"#VALUE!"},{"$error":"#VALUE!"},{"$f":"VLOOKUP(K823,references!$A$1:$B$7,2,FALSE)","v":{"$error":"#N/A"}}]
[null,null,null,null,null,null,null,null,null,null,null,null,"no email",{"$error":"#VALUE!"},{"$error":"#VALUE!"},{"$f":"VLOOKUP(K824,references!$A$1:$B$7,2,FALSE)","v":{"$error":"#N/A"}}]
[null,null,null,null,null,null,null,null,null,null,null,null,"no email",{"$error":"#VALUE!"},{"$error":"#VALUE!"},{"$f":"VLOOKUP(K825,references!$A$1:$B$7,2,FALSE)","v":{"$error":"#N/A"}}]
[null,null,null,null,null,null,null,null,null,null,null,null,"no email",{"$error":"#VALUE!"},{"$error":"#VALUE!"},{"$f":"VLOOKUP(K826,references!$A$1:$B$7,2,FALSE)","v":{"$error":"#N/A"}}]
[null,null,null,null,null,null,null,null,null,null,null,null,"no email",{"$error":"#VALUE!"},{"$error":"#VALUE!"},{"$f":"VLOOKUP(K827,references!$A$1:$B$7,2,FALSE)","v":{"$error":"#N/A"}}]
[null,null,null,null,null,null,null,null,null,null,null,null,"no email",{"$error":"#VALUE!"},{"$error":"#VALUE!"},{"$f":"VLOOKUP(K828,references!$A$1:$B$7,2,FALSE)","v":{"$error":"#N/A"}}]
[null,null,null,null,null,null,null,null,null,null,null,null,"no email",{"$error":"#VALUE!"},{"$error":"#VALUE!"},{"$f":"VLOOKUP(K829,references!$A$1:$B$7,2,FALSE)","v":{"$error":"#N/A"}}]
[null,null,null,null,null,null,null,null,null,null,null,null,"no email",{"$error":"#VALUE!"},{"$error":"#VALUE!"},{"$f":"VLOOKUP(K830,references!$A$1:$B$7,2,FALSE)","v":{"$error":"#N/A"}}]
[null,null,null,null,null,null,null,null,null,null,null,null,"no email",{"$error":"#VALUE!"},{"$error":"#VALUE!"},{"$f":"VLOOKUP(K831,references!$A$1:$B$7,2,FALSE)","v":{"$error":"#N/A"}}]
[null,null,null,null,null,null,null,null,null,null,null,null,"no email",{"$error":"#VALUE!"},{"$error":"#VALUE!"},{"$f":"VLOOKUP(K832,references!$A$1:$B$7,2,FALSE)","v":{"$error":"#N/A"}}]
[null,null,null,null,null,null,null,null,null,null,null,null,"no email",{"$error":"#VALUE!"},{"$error":"#VALUE!"},{"$f":"VLOOKUP(K833,references!$A$1:$B$7,2,FALSE)","v":{"$error":"#N/A"}}]
[null,null,null,null,null,null,null,null,null,null,null,null,{"$f":"IF(L834=\"\", \"no email\",LOWER(L834))","v":"no email"},{"$f":"LEFT(A834, SEARCH(\",\",A834,1)-1)","v":{"$error":"#VALUE!"}},{"$f":"RIGHT(A834, LEN(A834) -SEARCH(\",\",A834,1)-1)","v":{"$error":"#VALUE!"}},{"$f":"VLOOKUP(K834,references!$A$1:$B$7,2,FALSE)","v":{"$error":"#N/A"}}]
[null,null,null,null,null,null,null,null,null,null,null,null,"no email",{"$error":"#VALUE!"},{"$error":"#VALUE!"},{"$f":"VLOOKUP(K835,references!$A$1:$B$7,2,FALSE)","v":{"$error":"#N/A"}}]
[null,null,null,null,null,null,null,null,null,null,null,null,"no email",{"$error":"#VALUE!"},{"$error":"#VALUE!"},{"$f":"VLOOKUP(K836,references!$A$1:$B$7,2,FALSE)","v":{"$error":"#N/A"}}]
[null,null,null,null,null,null,null,null,null,null,null,null,"no email",{"$error":"#VALUE!"},{"$error":"#VALUE!"},{"$f":"VLOOKUP(K837,references!$A$1:$B$7,2,FALSE)","v":{"$error":"#N/A"}}]
[null,null,null,null,null,null,null,null,null,null,null,null,"no email",{"$error":"#VALUE!"},{"$error":"#VALUE!"},{"$f":"VLOOKUP(K838,references!$A$1:$B$7,2,FALSE)","v":{"$error":"#N/A"}}]
[null,null,null,null,null,null,null,null,null,null,null,null,"no email",{"$error":"#VALUE!"},{"$error":"#VALUE!"},{"$f":"VLOOKUP(K839,references!$A$1:$B$7,2,FALSE)","v":{"$error":"#N/A"}}]
[null,null,null,null,null,null,null,null,null,null,null,null,"no email",{"$error":"#VALUE!"},{"$error":"#VALUE!"},{"$f":"VLOOKUP(K840,references!$A$1:$B$7,2,FALSE)","v":{"$error":"#N/A"}}]
[null,null,null,null,null,null,null,null,null,null,null,null,"no email",{"$error":"#VALUE!"},{"$error":"#VALUE!"},{"$f":"VLOOKUP(K841,references!$A$1:$B$7,2,FALSE)","v":{"$error":"#N/A"}}]
[null,null,null,null,null,null,null,null,null,null,null,null,"no email",{"$error":"#VALUE!"},{"$error":"#VALUE!"},{"$f":"VLOOKUP(K842,references!$A$1:$B$7,2,FALSE)","v":{"$error":"#N/A"}}]
[null,null,null,null,null,null,null,null,null,null,null,null,"no email",{"$error":"#VALUE!"},{"$error":"#VALUE!"},{"$f":"VLOOKUP(K843,references!$A$1:$B$7,2,FALSE)","v":{"$error":"#N/A"}}]
[null,null,null,null,null,null,null,null,null,null,null,null,"no email",{"$error":"#VALUE!"},{"$error":"#VALUE!"},{"$f":"VLOOKUP(K844,references!$A$1:$B$7,2,FALSE)","v":{"$error":"#N/A"}}]
[null,null,null,null,null,null,null,null,null,null,null,null,"no email",{"$error":"#VALUE!"},{"$error":"#VALUE!"},{"$f":"VLOOKUP(K845,references!$A$1:$B$7,2,FALSE)","v":{"$error":"#N/A"}}]
[null,null,null,null,null,null,null,null,null,null,null,null,"no email",{"$error":"#VALUE!"},{"$error":"#VALUE!"},{"$f":"VLOOKUP(K846,references!$A$1:$B$7,2,FALSE)","v":{"$error":"#N/A"}}]
[null,null,null,null,null,null,null,null,null,null,null,null,"no email",{"$error":"#VALUE!"},{"$error":"#VALUE!"},{"$f":"VLOOKUP(K847,references!$A$1:$B$7,2,FALSE)","v":{"$error":"#N/A"}}]
[null,null,null,null,null,null,null,null,null,null,null,null,"no email",{"$error":"#VALUE!"},{"$error":"#VALUE!"},{"$f":"VLOOKUP(K848,references!$A$1:$B$7,2,FALSE)","v":{"$error":"#N/A"}}]
[null,null,null,null,null,null,null,null,null,null,null,null,"no email",{"$error":"#VALUE!"},{"$error":"#VALUE!"},{"$f":"VLOOKUP(K849,references!$A$1:$B$7,2,FALSE)","v":{"$error":"#N/A"}}]
[null,null,null,null,null,null,null,null,null,null,null,null,"no email",{"$error":"#VALUE!"},{"$error":"#VALUE!"},{"$f":"VLOOKUP(K850,references!$A$1:$B$7,2,FALSE)","v":{"$error":"#N/A"}}]
[null,null,null,null,null,null,null,null,null,null,null,null,"no email",{"$error":"#VALUE!"},{"$error":"#VALUE!"},{"$f":"VLOOKUP(K851,references!$A$1:$B$7,2,FALSE)","v":{"$error":"#N/A"}}]
[null,null,null,null,null,null,null,null,null,null,null,null,"no email",{"$error":"#VALUE!"},{"$error":"#VALUE!"},{"$f":"VLOOKUP(K852,references!$A$1:$B$7,2,FALSE)","v":{"$error":"#N/A"}}]
[null,null,null,null,null,null,null,null,null,null,null,null,"no email",{"$error":"#VALUE!"},{"$error":"#VALUE!"},{"$f":"VLOOKUP(K853,references!$A$1:$B$7,2,FALSE)","v":{"$error":"#N/A"}}]
[null,null,null,null,null,null,null,null,null,null,null,null,"no email",{"$error":"#VALUE!"},{"$error":"#VALUE!"},{"$f":"VLOOKUP(K854,references!$A$1:$B$7,2,FALSE)","v":{"$error":"#N/A"}}]
[null,null,null,null,null,null,null,null,null,null,null,null,"no email",{"$error":"#VALUE!"},{"$error":"#VALUE!"},{"$f":"VLOOKUP(K855,references!$A$1:$B$7,2,FALSE)","v":{"$error":"#N/A"}}]
[null,null,null,null,null,null,null,null,null,null,null,null,"no email",{"$error":"#VALUE!"},{"$error":"#VALUE!"},{"$f":"VLOOKUP(K856,references!$A$1:$B$7,2,FALSE)","v":{"$error":"#N/A"}}]
[null,null,null,null,null,null,null,null,null,null,null,null,"no email",{"$error":"#VALUE!"},{"$error":"#VALUE!"},{"$f":"VLOOKUP(K857,references!$A$1:$B$7,2,FALSE)","v":{"$error":"#N/A"}}]
[null,null,null,null,null,null,null,null,null,null,null,null,"no email",{"$error":"#VALUE!"},{"$error":"#VALUE!"},{"$f":"VLOOKUP(K858,references!$A$1:$B$7,2,FALSE)","v":{"$error":"#N/A"}}]
[null,null,null,null,null,null,null,null,null,null,null,null,"no email",{"$error":"#VALUE!"},{"$error":"#VALUE!"},{"$f":"VLOOKUP(K859,references!$A$1:$B$7,2,FALSE)","v":{"$error":"#N/A"}}]
[null,null,null,null,null,null,null,null,null,null,null,null,"no email",{"$error":"#VALUE!"},{"$error":"#VALUE!"},{"$f":"VLOOKUP(K860,references!$A$1:$B$7,2,FALSE)","v":{"$error":"#N/A"}}]
[null,null,null,null,null,null,null,null,null,null,null,null,"no email",{"$error":"#VALUE!"},{"$error":"#VALUE!"},{"$f":"VLOOKUP(K861,references!$A$1:$B$7,2,FALSE)","v":{"$error":"#N/A"}}]
[null,null,null,null,null,null,null,null,null,null,null,null,"no email",{"$error":"#VALUE!"},{"$error":"#VALUE!"},{"$f":"VLOOKUP(K862,references!$A$1:$B$7,2,FALSE)","v":{"$error":"#N/A"}}]
[null,null,null,null,null,null,null,null,null,null,null,null,"no email",{"$error":"#VALUE!"},{"$error":"#VALUE!"},{"$f":"VLOOKUP(K863,references!$A$1:$B$7,2,FALSE)","v":{"$error":"#N/A"}}]
[null,null,null,null,null,null,null,null,null,null,null,null,"no email",{"$error":"#VALUE!"},{"$error":"#VALUE!"},{"$f":"VLOOKUP(K864,references!$A$1:$B$7,2,FALSE)","v":{"$error":"#N/A"}}]
[null,null,null,null,null,null,null,null,null,null,null,null,"no email",{"$error":"#VALUE!"},{"$error":"#VALUE!"},{"$f":"VLOOKUP(K865,references!$A$1:$B$7,2,FALSE)","v":{"$error":"#N/A"}}]
[null,null,null,null,null,null,null,null,null,null,null,null,"no email",{"$error":"#VALUE!"},{"$error":"#VALUE!"},{"$f":"VLOOKUP(K866,references!$A$1:$B$7,2,FALSE)","v":{"$error":"#N/A"}}]
[null,null,null,null,null,null,null,null,null,null,null,null,"no email",{"$error":"#VALUE!"},{"$error":"#VALUE!"},{"$f":"VLOOKUP(K867,references!$A$1:$B$7,2,FALSE)","v":{"$error":"#N/A"}}]
[null,null,null,null,null,null,null,null,null,null,null,null,"no email",{"$error":"#VALUE!"},{"$error":"#VALUE!"},{"$f":"VLOOKUP(K868,references!$A$1:$B$7,2,FALSE)","v":{"$error":"#N/A"}}]
[null,null,null,null,null,null,null,null,null,null,null,null,"no email",{"$error":"#VALUE!"},{"$error":"#VALUE!"},{"$f":"VLOOKUP(K869,references!$A$1:$B$7,2,FALSE)","v":{"$error":"#N/A"}}]
[null,null,null,null,null,null,null,null,null,null,null,null,"no email",{"$error":"#VALUE!"},{"$error":"#VALUE!"},{"$f":"VLOOKUP(K870,references!$A$1:$B$7,2,FALSE)","v":{"$error":"#N/A"}}]
[null,null,null,null,null,null,null,null,null,null,null,null,"no email",{"$error":"#VALUE!"},{"$error":"#VALUE!"},{"$f":"VLOOKUP(K871,references!$A$1:$B$7,2,FALSE)","v":{"$error":"#N/A"}}]
[null,null,null,null,null,null,null,null,null,null,null,null,"no email",{"$error":"#VALUE!"},{"$error":"#VALUE!"},{"$f":"VLOOKUP(K872,references!$A$1:$B$7,2,FALSE)","v":{"$error":"#N/A"}}]
[null,null,null,null,null,null,null,null,null,null,null,null,"no email",{"$error":"#VALUE!"},{"$error":"#VALUE!"},{"$f":"VLOOKUP(K873,references!$A$1:$B$7,2,FALSE)","v":{"$error":"#N/A"}}]
[null,null,null,null,null,null,null,null,null,null,null,null,"no email",{"$error":"#VALUE!"},{"$error":"#VALUE!"},{"$f":"VLOOKUP(K874,references!$A$1:$B$7,2,FALSE)","v":{"$error":"#N/A"}}]
[null,null,null,null,null,null,null,null,null,null,null,null,"no email",{"$error":"#VALUE!"},{"$error":"#VALUE!"},{"$f":"VLOOKUP(K875,references!$A$1:$B$7,2,FALSE)","v":{"$error":"#N/A"}}]
[null,null,null,null,null,null,null,null,null,null,null,null,"no email",{"$error":"#VALUE!"},{"$error":"#VALUE!"},{"$f":"VLOOKUP(K876,references!$A$1:$B$7,2,FALSE)","v":{"$error":"#N/A"}}]
[null,null,null,null,null,null,null,null,null,null,null,null,"no email",{"$error":"#VALUE!"},{"$error":"#VALUE!"},{"$f":"VLOOKUP(K877,references!$A$1:$B$7,2,FALSE)","v":{"$error":"#N/A"}}]
[null,null,null,null,null,null,null,null,null,null,null,null,"no email",{"$error":"#VALUE!"},{"$error":"#VALUE!"},{"$f":"VLOOKUP(K878,references!$A$1:$B$7,2,FALSE)","v":{"$error":"#N/A"}}]
[null,null,null,null,null,null,null,null,null,null,null,null,"no email",{"$error":"#VALUE!"},{"$error":"#VALUE!"},{"$f":"VLOOKUP(K879,references!$A$1:$B$7,2,FALSE)","v":{"$error":"#N/A"}}]
[null,null,null,null,null,null,null,null,null,null,null,null,"no email",{"$error":"#VALUE!"},{"$error":"#VALUE!"},{"$f":"VLOOKUP(K880,references!$A$1:$B$7,2,FALSE)","v":{"$error":"#N/A"}}]
[null,null,null,null,null,null,null,null,null,null,null,null,"no email",{"$error":"#VALUE!"},{"$error":"#VALUE!"},{"$f":"VLOOKUP(K881,references!$A$1:$B$7,2,FALSE)","v":{"$error":"#N/A"}}]
[null,null,null,null,null,null,null,null,null,null,null,null,"no email",{"$error":"#VALUE!"},{"$error":"#VALUE!"},{"$f":"VLOOKUP(K882,references!$A$1:$B$7,2,FALSE)","v":{"$error":"#N/A"}}]
[null,null,null,null,null,null,null,null,null,null,null,null,"no email",{"$error":"#VALUE!"},{"$error":"#VALUE!"},{"$f":"VLOOKUP(K883,references!$A$1:$B$7,2,FALSE)","v":{"$error":"#N/A"}}]
[null,null,null,null,null,null,null,null,null,null,null,null,"no email",{"$error":"#VALUE!"},{"$error":"#VALUE!"},{"$f":"VLOOKUP(K884,references!$A$1:$B$7,2,FALSE)","v":{"$error":"#N/A"}}]
[null,null,null,null,null,null,null,null,null,null,null,null,"no email",{"$error":"#VALUE!"},{"$error":"#VALUE!"},{"$f":"VLOOKUP(K885,references!$A$1:$B$7,2,FALSE)","v":{"$error":"#N/A"}}]
[null,null,null,null,null,null,null,null,null,null,null,null,"no email",{"$error":"#VALUE!"},{"$error":"#VALUE!"},{"$f":"VLOOKUP(K886,references!$A$1:$B$7,2,FALSE)","v":{"$error":"#N/A"}}]
[null,null,null,null,null,null,null,null,null,null,null,null,"no email",{"$error":"#VALUE!"},{"$error":"#VALUE!"},{"$f":"VLOOKUP(K887,references!$A$1:$B$7,2,FALSE)","v":{"$error":"#N/A"}}]
[null,null,null,null,null,null,null,null,null,null,null,null,"no email",{"$error":"#VALUE!"},{"$error":"#VALUE!"},{"$f":"VLOOKUP(K888,references!$A$1:$B$7,2,FALSE)","v":{"$error":"#N/A"}}]
[null,null,null,null,null,null,null,null,null,null,null,null,"no email",{"$error":"#VALUE!"},{"$error":"#VALUE!"},{"$f":"VLOOKUP(K889,references!$A$1:$B$7,2,FALSE)","v":{"$error":"#N/A"}}]
[null,null,null,null,null,null,null,null,null,null,null,null,"no email",{"$error":"#VALUE!"},{"$error":"#VALUE!"},{"$f":"VLOOKUP(K890,references!$A$1:$B$7,2,FALSE)","v":{"$error":"#N/A"}}]
[null,null,null,null,null,null,null,null,null,null,null,null,"no email",{"$error":"#VALUE!"},{"$error":"#VALUE!"},{"$f":"VLOOKUP(K891,references!$A$1:$B$7,2,FALSE)","v":{"$error":"#N/A"}}]
[null,null,null,null,null,null,null,null,null,null,null,null,"no email",{"$error":"#VALUE!"},{"$error":"#VALUE!"},{"$f":"VLOOKUP(K892,references!$A$1:$B$7,2,FALSE)","v":{"$error":"#N/A"}}]
[null,null,null,null,null,null,null,null,null,null,null,null,"no email",{"$error":"#VALUE!"},{"$error":"#VALUE!"},{"$f":"VLOOKUP(K893,references!$A$1:$B$7,2,FALSE)","v":{"$error":"#N/A"}}]
[null,null,null,null,null,null,null,null,null,null,null,null,"no email",{"$error":"#VALUE!"},{"$error":"#VALUE!"},{"$f":"VLOOKUP(K894,references!$A$1:$B$7,2,FALSE)","v":{"$error":"#N/A"}}]
[null,null,null,null,null,null,null,null,null,null,null,null,"no email",{"$error":"#VALUE!"},{"$error":"#VALUE!"},{"$f":"VLOOKUP(K895,references!$A$1:$B$7,2,FALSE)","v":{"$error":"#N/A"}}]
[null,null,null,null,null,null,null,null,null,null,null,null,"no email",{"$error":"#VALUE!"},{"$error":"#VALUE!"},{"$f":"VLOOKUP(K896,references!$A$1:$B$7,2,FALSE)","v":{"$error":"#N/A"}}]
[null,null,null,null,null,null,null,null,null,null,null,null,"no email",{"$error":"#VALUE!"},{"$error":"#VALUE!"},{"$f":"VLOOKUP(K897,references!$A$1:$B$7,2,FALSE)","v":{"$error":"#N/A"}}]
[null,null,null,null,null,null,null,null,null,null,null,null,{"$f":"IF(L898=\"\", \"no email\",LOWER(L898))","v":"no email"},{"$f":"LEFT(A898, SEARCH(\",\",A898,1)-1)","v":{"$error":"#VALUE!"}},{"$f":"RIGHT(A898, LEN(A898) -SEARCH(\",\",A898,1)-1)","v":{"$error":"#VALUE!"}},{"$f":"VLOOKUP(K898,references!$A$1:$B$7,2,FALSE)","v":{"$error":"#N/A"}}]
[null,null,null,null,null,null,null,null,null,null,null,null,"no email",{"$error":"#VALUE!"},{"$error":"#VALUE!"},{"$f":"VLOOKUP(K899,references!$A$1:$B$7,2,FALSE)","v":{"$error":"#N/A"}}]
[null,null,null,null,null,null,null,null,null,null,null,null,"no email",{"$error":"#VALUE!"},{"$error":"#VALUE!"},{"$f":"VLOOKUP(K900,references!$A$1:$B$7,2,FALSE)","v":{"$error":"#N/A"}}]
[null,null,null,null,null,null,null,null,null,null,null,null,"no email",{"$error":"#VALUE!"},{"$error":"#VALUE!"},{"$f":"VLOOKUP(K901,references!$A$1:$B$7,2,FALSE)","v":{"$error":"#N/A"}}]
[null,null,null,null,null,null,null,null,null,null,null,null,"no email",{"$error":"#VALUE!"},{"$error":"#VALUE!"},{"$f":"VLOOKUP(K902,references!$A$1:$B$7,2,FALSE)","v":{"$error":"#N/A"}}]
[null,null,null,null,null,null,null,null,null,null,null,null,"no email",{"$error":"#VALUE!"},{"$error":"#VALUE!"},{"$f":"VLOOKUP(K903,references!$A$1:$B$7,2,FALSE)","v":{"$error":"#N/A"}}]
[null,null,null,null,null,null,null,null,null,null,null,null,"no email",{"$error":"#VALUE!"},{"$error":"#VALUE!"},{"$f":"VLOOKUP(K904,references!$A$1:$B$7,2,FALSE)","v":{"$error":"#N/A"}}]
[null,null,null,null,null,null,null,null,null,null,null,null,"no email",{"$error":"#VALUE!"},{"$error":"#VALUE!"},{"$f":"VLOOKUP(K905,references!$A$1:$B$7,2,FALSE)","v":{"$error":"#N/A"}}]
[null,null,null,null,null,null,null,null,null,null,null,null,"no email",{"$error":"#VALUE!"},{"$error":"#VALUE!"},{"$f":"VLOOKUP(K906,references!$A$1:$B$7,2,FALSE)","v":{"$error":"#N/A"}}]
[null,null,null,null,null,null,null,null,null,null,null,null,"no email",{"$error":"#VALUE!"},{"$error":"#VALUE!"},{"$f":"VLOOKUP(K907,references!$A$1:$B$7,2,FALSE)","v":{"$error":"#N/A"}}]
[null,null,null,null,null,null,null,null,null,null,null,null,"no email",{"$error":"#VALUE!"},{"$error":"#VALUE!"},{"$f":"VLOOKUP(K908,references!$A$1:$B$7,2,FALSE)","v":{"$error":"#N/A"}}]
[null,null,null,null,null,null,null,null,null,null,null,null,"no email",{"$error":"#VALUE!"},{"$error":"#VALUE!"},{"$f":"VLOOKUP(K909,references!$A$1:$B$7,2,FALSE)","v":{"$error":"#N/A"}}]
[null,null,null,null,null,null,null,null,null,null,null,null,"no email",{"$error":"#VALUE!"},{"$error":"#VALUE!"},{"$f":"VLOOKUP(K910,references!$A$1:$B$7,2,FALSE)","v":{"$error":"#N/A"}}]
[null,null,null,null,null,null,null,null,null,null,null,null,"no email",{"$error":"#VALUE!"},{"$error":"#VALUE!"},{"$f":"VLOOKUP(K911,references!$A$1:$B$7,2,FALSE)","v":{"$error":"#N/A"}}]
[null,null,null,null,null,null,null,null,null,null,null,null,"no email",{"$error":"#VALUE!"},{"$error":"#VALUE!"},{"$f":"VLOOKUP(K912,references!$A$1:$B$7,2,FALSE)","v":{"$error":"#N/A"}}]
[null,null,null,null,null,null,null,null,null,null,null,null,"no email",{"$error":"#VALUE!"},{"$error":"#VALUE!"},{"$f":"VLOOKUP(K913,references!$A$1:$B$7,2,FALSE)","v":{"$error":"#N/A"}}]
[null,null,null,null,null,null,null,null,null,null,null,null,"no email",{"$error":"#VALUE!"},{"$error":"#VALUE!"},{"$f":"VLOOKUP(K914,references!$A$1:$B$7,2,FALSE)","v":{"$error":"#N/A"}}]
[null,null,null,null,null,null,null,null,null,null,null,null,"no email",{"$error":"#VALUE!"},{"$error":"#VALUE!"},{"$f":"VLOOKUP(K915,references!$A$1:$B$7,2,FALSE)","v":{"$error":"#N/A"}}]
[null,null,null,null,null,null,null,null,null,null,null,null,"no email",{"$error":"#VALUE!"},{"$error":"#VALUE!"},{"$f":"VLOOKUP(K916,references!$A$1:$B$7,2,FALSE)","v":{"$error":"#N/A"}}]
[null,null,null,null,null,null,null,null,null,null,null,null,"no email",{"$error":"#VALUE!"},{"$error":"#VALUE!"},{"$f":"VLOOKUP(K917,references!$A$1:$B$7,2,FALSE)","v":{"$error":"#N/A"}}]
[null,null,null,null,null,null,null,null,null,null,null,null,"no email",{"$error":"#VALUE!"},{"$error":"#VALUE!"},{"$f":"VLOOKUP(K918,references!$A$1:$B$7,2,FALSE)","v":{"$error":"#N/A"}}]
[null,null,null,null,null,null,null,null,null,null,null,null,"no email",{"$error":"#VALUE!"},{"$error":"#VALUE!"},{"$f":"VLOOKUP(K919,references!$A$1:$B$7,2,FALSE)","v":{"$error":"#N/A"}}]
[null,null,null,null,null,null,null,null,null,null,null,null,"no email",{"$error":"#VALUE!"},{"$error":"#VALUE!"},{"$f":"VLOOKUP(K920,references!$A$1:$B$7,2,FALSE)","v":{"$error":"#N/A"}}]
[null,null,null,null,null,null,null,null,null,null,null,null,"no email",{"$error":"#VALUE!"},{"$error":"#VALUE!"},{"$f":"VLOOKUP(K921,references!$A$1:$B$7,2,FALSE)","v":{"$error":"#N/A"}}]
[null,null,null,null,null,null,null,null,null,null,null,null,"no email",{"$error":"#VALUE!"},{"$error":"#VALUE!"},{"$f":"VLOOKUP(K922,references!$A$1:$B$7,2,FALSE)","v":{"$error":"#N/A"}}]
[null,null,null,null,null,null,null,null,null,null,null,null,"no email",{"$error":"#VALUE!"},{"$error":"#VALUE!"},{"$f":"VLOOKUP(K923,references!$A$1:$B$7,2,FALSE)","v":{"$error":"#N/A"}}]
[null,null,null,null,null,null,null,null,null,null,null,null,"no email",{"$error":"#VALUE!"},{"$error":"#VALUE!"},{"$f":"VLOOKUP(K924,references!$A$1:$B$7,2,FALSE)","v":{"$error":"#N/A"}}]
[null,null,null,null,null,null,null,null,null,null,null,null,"no email",{"$error":"#VALUE!"},{"$error":"#VALUE!"},{"$f":"VLOOKUP(K925,references!$A$1:$B$7,2,FALSE)","v":{"$error":"#N/A"}}]
[null,null,null,null,null,null,null,null,null,null,null,null,"no email",{"$error":"#VALUE!"},{"$error":"#VALUE!"},{"$f":"VLOOKUP(K926,references!$A$1:$B$7,2,FALSE)","v":{"$error":"#N/A"}}]
[null,null,null,null,null,null,null,null,null,null,null,null,"no email",{"$error":"#VALUE!"},{"$error":"#VALUE!"},{"$f":"VLOOKUP(K927,references!$A$1:$B$7,2,FALSE)","v":{"$error":"#N/A"}}]
[null,null,null,null,null,null,null,null,null,null,null,null,"no email",{"$error":"#VALUE!"},{"$error":"#VALUE!"},{"$f":"VLOOKUP(K928,references!$A$1:$B$7,2,FALSE)","v":{"$error":"#N/A"}}]
[null,null,null,null,null,null,null,null,null,null,null,null,"no email",{"$error":"#VALUE!"},{"$error":"#VALUE!"},{"$f":"VLOOKUP(K929,references!$A$1:$B$7,2,FALSE)","v":{"$error":"#N/A"}}]
[null,null,null,null,null,null,null,null,null,null,null,null,"no email",{"$error":"#VALUE!"},{"$error":"#VALUE!"},{"$f":"VLOOKUP(K930,references!$A$1:$B$7,2,FALSE)","v":{"$error":"#N/A"}}]
[null,null,null,null,null,null,null,null,null,null,null,null,"no email",{"$error":"#VALUE!"},{"$error":"#VALUE!"},{"$f":"VLOOKUP(K931,references!$A$1:$B$7,2,FALSE)","v":{"$error":"#N/A"}}]
[null,null,null,null,null,null,null,null,null,null,null,null,"no email",{"$error":"#VALUE!"},{"$error":"#VALUE!"},{"$f":"VLOOKUP(K932,references!$A$1:$B$7,2,FALSE)","v":{"$error":"#N/A"}}]
[null,null,null,null,null,null,null,null,null,null,null,null,"no email",{"$error":"#VALUE!"},{"$error":"#VALUE!"},{"$f":"VLOOKUP(K933,references!$A$1:$B$7,2,FALSE)","v":{"$error":"#N/A"}}]
[null,null,null,null,null,null,null,null,null,null,null,null,"no email",{"$error":"#VALUE!"},{"$error":"#VALUE!"},{"$f":"VLOOKUP(K934,references!$A$1:$B$7,2,FALSE)","v":{"$error":"#N/A"}}]
[null,null,null,null,null,null,null,null,null,null,null,null,"no email",{"$error":"#VALUE!"},{"$error":"#VALUE!"},{"$f":"VLOOKUP(K935,references!$A$1:$B$7,2,FALSE)","v":{"$error":"#N/A"}}]
[null,null,null,null,null,null,null,null,null,null,null,null,"no email",{"$error":"#VALUE!"},{"$error":"#VALUE!"},{"$f":"VLOOKUP(K936,references!$A$1:$B$7,2,FALSE)","v":{"$error":"#N/A"}}]
[null,null,null,null,null,null,null,null,null,null,null,null,"no email",{"$error":"#VALUE!"},{"$error":"#VALUE!"},{"$f":"VLOOKUP(K937,references!$A$1:$B$7,2,FALSE)","v":{"$error":"#N/A"}}]
[null,null,null,null,null,null,null,null,null,null,null,null,"no email",{"$error":"#VALUE!"},{"$error":"#VALUE!"},{"$f":"VLOOKUP(K938,references!$A$1:$B$7,2,FALSE)","v":{"$error":"#N/A"}}]
[null,null,null,null,null,null,null,null,null,null,null,null,"no email",{"$error":"#VALUE!"},{"$error":"#VALUE!"},{"$f":"VLOOKUP(K939,references!$A$1:$B$7,2,FALSE)","v":{"$error":"#N/A"}}]
[null,null,null,null,null,null,null,null,null,null,null,null,"no email",{"$error":"#VALUE!"},{"$error":"#VALUE!"},{"$f":"VLOOKUP(K940,references!$A$1:$B$7,2,FALSE)","v":{"$error":"#N/A"}}]
[null,null,null,null,null,null,null,null,null,null,null,null,"no email",{"$error":"#VALUE!"},{"$error":"#VALUE!"},{"$f":"VLOOKUP(K941,references!$A$1:$B$7,2,FALSE)","v":{"$error":"#N/A"}}]
[null,null,null,null,null,null,null,null,null,null,null,null,"no email",{"$error":"#VALUE!"},{"$error":"#VALUE!"},{"$f":"VLOOKUP(K942,references!$A$1:$B$7,2,FALSE)","v":{"$error":"#N/A"}}]
[null,null,null,null,null,null,null,null,null,null,null,null,"no email",{"$error":"#VALUE!"},{"$error":"#VALUE!"},{"$f":"VLOOKUP(K943,references!$A$1:$B$7,2,FALSE)","v":{"$error":"#N/A"}}]
[null,null,null,null,null,null,null,null,null,null,null,null,"no email",{"$error":"#VALUE!"},{"$error":"#VALUE!"},{"$f":"VLOOKUP(K944,references!$A$1:$B$7,2,FALSE)","v":{"$error":"#N/A"}}]
[null,null,null,null,null,null,null,null,null,null,null,null,"no email",{"$error":"#VALUE!"},{"$error":"#VALUE!"},{"$f":"VLOOKUP(K945,references!$A$1:$B$7,2,FALSE)","v":{"$error":"#N/A"}}]
[null,null,null,null,null,null,null,null,null,null,null,null,"no email",{"$error":"#VALUE!"},{"$error":"#VALUE!"},{"$f":"VLOOKUP(K946,references!$A$1:$B$7,2,FALSE)","v":{"$error":"#N/A"}}]
[null,null,null,null,null,null,null,null,null,null,null,null,"no email",{"$error":"#VALUE!"},{"$error":"#VALUE!"},{"$f":"VLOOKUP(K947,references!$A$1:$B$7,2,FALSE)","v":{"$error":"#N/A"}}]
[null,null,null,null,null,null,null,null,null,null,null,null,"no email",{"$error":"#VALUE!"},{"$error":"#VALUE!"},{"$f":"VLOOKUP(K948,references!$A$1:$B$7,2,FALSE)","v":{"$error":"#N/A"}}]
[null,null,null,null,null,null,null,null,null,null,null,null,"no email",{"$error":"#VALUE!"},{"$error":"#VALUE!"},{"$f":"VLOOKUP(K949,references!$A$1:$B$7,2,FALSE)","v":{"$error":"#N/A"}}]
[null,null,null,null,null,null,null,null,null,null,null,null,"no email",{"$error":"#VALUE!"},{"$error":"#VALUE!"},{"$f":"VLOOKUP(K950,references!$A$1:$B$7,2,FALSE)","v":{"$error":"#N/A"}}]
[null,null,null,null,null,null,null,null,null,null,null,null,"no email",{"$error":"#VALUE!"},{"$error":"#VALUE!"},{"$f":"VLOOKUP(K951,references!$A$1:$B$7,2,FALSE)","v":{"$error":"#N/A"}}]
[null,null,null,null,null,null,null,null,null,null,null,null,"no email",{"$error":"#VALUE!"},{"$error":"#VALUE!"},{"$f":"VLOOKUP(K952,references!$A$1:$B$7,2,FALSE)","v":{"$error":"#N/A"}}]
[null,null,null,null,null,null,null,null,null,null,null,null,"no email",{"$error":"#VALUE!"},{"$error":"#VALUE!"},{"$f":"VLOOKUP(K953,references!$A$1:$B$7,2,FALSE)","v":{"$error":"#N/A"}}]
[null,null,null,null,null,null,null,null,null,null,null,null,"no email",{"$error":"#VALUE!"},{"$error":"#VALUE!"},{"$f":"VLOOKUP(K954,references!$A$1:$B$7,2,FALSE)","v":{"$error":"#N/A"}}]
[null,null,null,null,null,null,null,null,null,null,null,null,"no email",{"$error":"#VALUE!"},{"$error":"#VALUE!"},{"$f":"VLOOKUP(K955,references!$A$1:$B$7,2,FALSE)","v":{"$error":"#N/A"}}]
[null,null,null,null,null,null,null,null,null,null,null,null,"no email",{"$error":"#VALUE!"},{"$error":"#VALUE!"},{"$f":"VLOOKUP(K956,references!$A$1:$B$7,2,FALSE)","v":{"$error":"#N/A"}}]
[null,null,null,null,null,null,null,null,null,null,null,null,"no email",{"$error":"#VALUE!"},{"$error":"#VALUE!"},{"$f":"VLOOKUP(K957,references!$A$1:$B$7,2,FALSE)","v":{"$error":"#N/A"}}]
[null,null,null,null,null,null,null,null,null,null,null,null,"no email",{"$error":"#VALUE!"},{"$error":"#VALUE!"},{"$f":"VLOOKUP(K958,references!$A$1:$B$7,2,FALSE)","v":{"$error":"#N/A"}}]
[null,null,null,null,null,null,null,null,null,null,null,null,"no email",{"$error":"#VALUE!"},{"$error":"#VALUE!"},{"$f":"VLOOKUP(K959,references!$A$1:$B$7,2,FALSE)","v":{"$error":"#N/A"}}]
[null,null,null,null,null,null,null,null,null,null,null,null,"no email",{"$error":"#VALUE!"},{"$error":"#VALUE!"},{"$f":"VLOOKUP(K960,references!$A$1:$B$7,2,FALSE)","v":{"$error":"#N/A"}}]
[null,null,null,null,null,null,null,null,null,null,null,null,"no email",{"$error":"#VALUE!"},{"$error":"#VALUE!"},{"$f":"VLOOKUP(K961,references!$A$1:$B$7,2,FALSE)","v":{"$error":"#N/A"}}]
[null,null,null,null,null,null,null,null,null,null,null,null,{"$f":"IF(L962=\"\", \"no email\",LOWER(L962))","v":"no email"},{"$f":"LEFT(A962, SEARCH(\",\",A962,1)-1)","v":{"$error":"#VALUE!"}},{"$f":"RIGHT(A962, LEN(A962) -SEARCH(\",\",A962,1)-1)","v":{"$error":"#VALUE!"}},{"$f":"VLOOKUP(K962,references!$A$1:$B$7,2,FALSE)","v":{"$error":"#N/A"}}]
[null,null,null,null,null,null,null,null,null,null,null,null,"no email",{"$error":"#VALUE!"},{"$error":"#VALUE!"},{"$f":"VLOOKUP(K963,references!$A$1:$B$7,2,FALSE)","v":{"$error":"#N/A"}}]
[null,null,null,null,null,null,null,null,null,null,null,null,"no email",{"$error":"#VALUE!"},{"$error":"#VALUE!"},{"$f":"VLOOKUP(K964,references!$A$1:$B$7,2,FALSE)","v":{"$error":"#N/A"}}]
[null,null,null,null,null,null,null,null,null,null,null,null,"no email",{"$error":"#VALUE!"},{"$error":"#VALUE!"},{"$f":"VLOOKUP(K965,references!$A$1:$B$7,2,FALSE)","v":{"$error":"#N/A"}}]
[null,null,null,null,null,null,null,null,null,null,null,null,"no email",{"$error":"#VALUE!"},{"$error":"#VALUE!"},{"$f":"VLOOKUP(K966,references!$A$1:$B$7,2,FALSE)","v":{"$error":"#N/A"}}]
[null,null,null,null,null,null,null,null,null,null,null,null,"no email",{"$error":"#VALUE!"},{"$error":"#VALUE!"},{"$f":"VLOOKUP(K967,references!$A$1:$B$7,2,FALSE)","v":{"$error":"#N/A"}}]
[null,null,null,null,null,null,null,null,null,null,null,null,"no email",{"$error":"#VALUE!"},{"$error":"#VALUE!"},{"$f":"VLOOKUP(K968,references!$A$1:$B$7,2,FALSE)","v":{"$error":"#N/A"}}]
[null,null,null,null,null,null,null,null,null,null,null,null,"no email",{"$error":"#VALUE!"},{"$error":"#VALUE!"},{"$f":"VLOOKUP(K969,references!$A$1:$B$7,2,FALSE)","v":{"$error":"#N/A"}}]
[null,null,null,null,null,null,null,null,null,null,null,null,"no email",{"$error":"#VALUE!"},{"$error":"#VALUE!"},{"$f":"VLOOKUP(K970,references!$A$1:$B$7,2,FALSE)","v":{"$error":"#N/A"}}]
[null,null,null,null,null,null,null,null,null,null,null,null,"no email",{"$error":"#VALUE!"},{"$error":"#VALUE!"},{"$f":"VLOOKUP(K971,references!$A$1:$B$7,2,FALSE)","v":{"$error":"#N/A"}}]
[null,null,null,null,null,null,null,null,null,null,null,null,"no email",{"$error":"#VALUE!"},{"$error":"#VALUE!"},{"$f":"VLOOKUP(K972,references!$A$1:$B$7,2,FALSE)","v":{"$error":"#N/A"}}]
[null,null,null,null,null,null,null,null,null,null,null,null,"no email",{"$error":"#VALUE!"},{"$error":"#VALUE!"},{"$f":"VLOOKUP(K973,references!$A$1:$B$7,2,FALSE)","v":{"$error":"#N/A"}}]
[null,null,null,null,null,null,null,null,null,null,null,null,"no email",{"$error":"#VALUE!"},{"$error":"#VALUE!"},{"$f":"VLOOKUP(K974,references!$A$1:$B$7,2,FALSE)","v":{"$error":"#N/A"}}]
[null,null,null,null,null,null,null,null,null,null,null,null,"no email",{"$error":"#VALUE!"},{"$error":"#VALUE!"},{"$f":"VLOOKUP(K975,references!$A$1:$B$7,2,FALSE)","v":{"$error":"#N/A"}}]
[null,null,null,null,null,null,null,null,null,null,null,null,"no email",{"$error":"#VALUE!"},{"$error":"#VALUE!"},{"$f":"VLOOKUP(K976,references!$A$1:$B$7,2,FALSE)","v":{"$error":"#N/A"}}]
[null,null,null,null,null,null,null,null,null,null,null,null,"no email",{"$error":"#VALUE!"},{"$error":"#VALUE!"},{"$f":"VLOOKUP(K977,references!$A$1:$B$7,2,FALSE)","v":{"$error":"#N/A"}}]
[null,null,null,null,null,null,null,null,null,null,null,null,"no email",{"$error":"#VALUE!"},{"$error":"#VALUE!"},{"$f":"VLOOKUP(K978,references!$A$1:$B$7,2,FALSE)","v":{"$error":"#N/A"}}]
[null,null,null,null,null,null,null,null,null,null,null,null,"no email",{"$error":"#VALUE!"},{"$error":"#VALUE!"},{"$f":"VLOOKUP(K979,references!$A$1:$B$7,2,FALSE)","v":{"$error":"#N/A"}}]
[null,null,null,null,null,null,null,null,null,null,null,null,"no email",{"$error":"#VALUE!"},{"$error":"#VALUE!"},{"$f":"VLOOKUP(K980,references!$A$1:$B$7,2,FALSE)","v":{"$error":"#N/A"}}]
[null,null,null,null,null,null,null,null,null,null,null,null,"no email",{"$error":"#VALUE!"},{"$error":"#VALUE!"},{"$f":"VLOOKUP(K981,references!$A$1:$B$7,2,FALSE)","v":{"$error":"#N/A"}}]
[null,null,null,null,null,null,null,null,null,null,null,null,"no email",{"$error":"#VALUE!"},{"$error":"#VALUE!"},{"$f":"VLOOKUP(K982,references!$A$1:$B$7,2,FALSE)","v":{"$error":"#N/A"}}]
[null,null,null,null,null,null,null,null,null,null,null,null,"no email",{"$error":"#VALUE!"},{"$error":"#VALUE!"},{"$f":"VLOOKUP(K983,references!$A$1:$B$7,2,FALSE)","v":{"$error":"#N/A"}}]
[null,null,null,null,null,null,null,null,null,null,null,null,"no email",{"$error":"#VALUE!"},{"$error":"#VALUE!"},{"$f":"VLOOKUP(K984,references!$A$1:$B$7,2,FALSE)","v":{"$error":"#N/A"}}]
[null,null,null,null,null,null,null,null,null,null,null,null,"no email",{"$error":"#VALUE!"},{"$error":"#VALUE!"},{"$f":"VLOOKUP(K985,references!$A$1:$B$7,2,FALSE)","v":{"$error":"#N/A"}}]
[null,null,null,null,null,null,null,null,null,null,null,null,"no email",{"$error":"#VALUE!"},{"$error":"#VALUE!"},{"$f":"VLOOKUP(K986,references!$A$1:$B$7,2,FALSE)","v":{"$error":"#N/A"}}]
[null,null,null,null,null,null,null,null,null,null,null,null,"no email",{"$error":"#VALUE!"},{"$error":"#VALUE!"},{"$f":"VLOOKUP(K987,references!$A$1:$B$7,2,FALSE)","v":{"$error":"#N/A"}}]
[null,null,null,null,null,null,null,null,null,null,null,null,"no email",{"$error":"#VALUE!"},{"$error":"#VALUE!"},{"$f":"VLOOKUP(K988,references!$A$1:$B$7,2,FALSE)","v":{"$error":"#N/A"}}]
[null,null,null,null,null,null,null,null,null,null,null,null,"no email",{"$error":"#VALUE!"},{"$error":"#VALUE!"},{"$f":"VLOOKUP(K989,references!$A$1:$B$7,2,FALSE)","v":{"$error":"#N/A"}}]
[null,null,null,null,null,null,null,null,null,null,null,null,"no email",{"$error":"#VALUE!"},{"$error":"#VALUE!"},{"$f":"VLOOKUP(K990,references!$A$1:$B$7,2,FALSE)","v":{"$error":"#N/A"}}]
[null,null,null,null,null,null,null,null,null,null,null,null,"no email",{"$error":"#VALUE!"},{"$error":"#VALUE!"},{"$f":"VLOOKUP(K991,references!$A$1:$B$7,2,FALSE)","v":{"$error":"#N/A"}}]
[null,null,null,null,null,null,null,null,null,null,null,null,"no email",{"$error":"#VALUE!"},{"$error":"#VALUE!"},{"$f":"VLOOKUP(K992,references!$A$1:$B$7,2,FALSE)","v":{"$error":"#N/A"}}]
[null,null,null,null,null,null,null,null,null,null,null,null,"no email",{"$error":"#VALUE!"},{"$error":"#VALUE!"},{"$f":"VLOOKUP(K993,references!$A$1:$B$7,2,FALSE)","v":{"$error":"#N/A"}}]
[null,null,null,null,null,null,null,null,null,null,null,null,"no email",{"$error":"#VALUE!"},{"$error":"#VALUE!"},{"$f":"VLOOKUP(K994,references!$A$1:$B$7,2,FALSE)","v":{"$error":"#N/A"}}]
[null,null,null,null,null,null,null,null,null,null,null,null,"no email",{"$error":"#VALUE!"},{"$error":"#VALUE!"},{"$f":"VLOOKUP(K995,references!$A$1:$B$7,2,FALSE)","v":{"$error":"#N/A"}}]
[null,null,null,null,null,null,null,null,null,null,null,null,"no email",{"$error":"#VALUE!"},{"$error":"#VALUE!"},{"$f":"VLOOKUP(K996,references!$A$1:$B$7,2,FALSE)","v":{"$error":"#N/A"}}]
[null,null,null,null,null,null,null,null,null,null,null,null,"no email",{"$error":"#VALUE!"},{"$error":"#VALUE!"},{"$f":"VLOOKUP(K997,references!$A$1:$B$7,2,FALSE)","v":{"$error":"#N/A"}}]
[null,null,null,null,null,null,null,null,null,null,null,null,"no email",{"$error":"#VALUE!"},{"$error":"#VALUE!"},{"$f":"VLOOKUP(K998,references!$A$1:$B$7,2,FALSE)","v":{"$error":"#N/A"}}]
[null,null,null,null,null,null,null,null,null,null,null,null,"no email",{"$error":"#VALUE!"},{"$error":"#VALUE!"},{"$f":"VLOOKUP(K999,references!$A$1:$B$7,2,FALSE)","v":{"$error":"#N/A"}}]
[null,null,null,null,null,null,null,null,null,null,null,null,"no email",{"$error":"#VALUE!"},{"$error":"#VALUE!"},{"$f":"VLOOKUP(K1000,references!$A$1:$B$7,2,FALSE)","v":{"$error":"#N/A"}}]
[null,null,null,null,null,null,null,null,null,null,null,null,"no email",{"$error":"#VALUE!"},{"$error":"#VALUE!"},{"$f":"VLOOKUP(K1001,references!$A$1:$B$7,2,FALSE)","v":{"$error":"#N/A"}}]
[null,null,null,null,null,null,null,null,null,null,null,null,"no email",{"$error":"#VALUE!"},{"$error":"#VALUE!"},{"$f":"VLOOKUP(K1002,references!$A$1:$B$7,2,FALSE)","v":{"$error":"#N/A"}}]
[null,null,null,null,null,null,null,null,null,null,null,null,"no email",{"$error":"#VALUE!"},{"$error":"#VALUE!"},{"$f":"VLOOKUP(K1003,references!$A$1:$B$7,2,FALSE)","v":{"$error":"#N/A"}}]
[null,null,null,null,null,null,null,null,null,null,null,null,"no email",{"$error":"#VALUE!"},{"$error":"#VALUE!"},{"$f":"VLOOKUP(K1004,references!$A$1:$B$7,2,FALSE)","v":{"$error":"#N/A"}}]
[null,null,null,null,null,null,null,null,null,null,null,null,"no email",{"$error":"#VALUE!"},{"$error":"#VALUE!"},{"$f":"VLOOKUP(K1005,references!$A$1:$B$7,2,FALSE)","v":{"$error":"#N/A"}}]
[null,null,null,null,null,null,null,null,null,null,null,null,"no email",{"$error":"#VALUE!"},{"$error":"#VALUE!"},{"$f":"VLOOKUP(K1006,references!$A$1:$B$7,2,FALSE)","v":{"$error":"#N/A"}}]
[null,null,null,null,null,null,null,null,null,null,null,null,"no email",{"$error":"#VALUE!"},{"$error":"#VALUE!"},{"$f":"VLOOKUP(K1007,references!$A$1:$B$7,2,FALSE)","v":{"$error":"#N/A"}}]
[null,null,null,null,null,null,null,null,null,null,null,null,"no email",{"$error":"#VALUE!"},{"$error":"#VALUE!"},{"$f":"VLOOKUP(K1008,references!$A$1:$B$7,2,FALSE)","v":{"$error":"#N/A"}}]
[null,null,null,null,null,null,null,null,null,null,null,null,"no email",{"$error":"#VALUE!"},{"$error":"#VALUE!"},{"$f":"VLOOKUP(K1009,references!$A$1:$B$7,2,FALSE)","v":{"$error":"#N/A"}}]
[null,null,null,null,null,null,null,null,null,null,null,null,"no email",{"$error":"#VALUE!"},{"$error":"#VALUE!"},{"$f":"VLOOKUP(K1010,references!$A$1:$B$7,2,FALSE)","v":{"$error":"#N/A"}}]
[null,null,null,null,null,null,null,null,null,null,null,null,"no email",{"$error":"#VALUE!"},{"$error":"#VALUE!"},{"$f":"VLOOKUP(K1011,references!$A$1:$B$7,2,FALSE)","v":{"$error":"#N/A"}}]
[null,null,null,null,null,null,null,null,null,null,null,null,"no email",{"$error":"#VALUE!"},{"$error":"#VALUE!"},{"$f":"VLOOKUP(K1012,references!$A$1:$B$7,2,FALSE)","v":{"$error":"#N/A"}}]
[null,null,null,null,null,null,null,null,null,null,null,null,"no email",{"$error":"#VALUE!"},{"$error":"#VALUE!"},{"$f":"VLOOKUP(K1013,references!$A$1:$B$7,2,FALSE)","v":{"$error":"#N/A"}}]
[null,null,null,null,null,null,null,null,null,null,null,null,"no email",{"$error":"#VALUE!"},{"$error":"#VALUE!"},{"$f":"VLOOKUP(K1014,references!$A$1:$B$7,2,FALSE)","v":{"$error":"#N/A"}}]
[null,null,null,null,null,null,null,null,null,null,null,null,"no email",{"$error":"#VALUE!"},{"$error":"#VALUE!"},{"$f":"VLOOKUP(K1015,references!$A$1:$B$7,2,FALSE)","v":{"$error":"#N/A"}}]
[null,null,null,null,null,null,null,null,null,null,null,null,"no email",{"$error":"#VALUE!"},{"$error":"#VALUE!"},{"$f":"VLOOKUP(K1016,references!$A$1:$B$7,2,FALSE)","v":{"$error":"#N/A"}}]
[null,null,null,null,null,null,null,null,null,null,null,null,"no email",{"$error":"#VALUE!"},{"$error":"#VALUE!"},{"$f":"VLOOKUP(K1017,references!$A$1:$B$7,2,FALSE)","v":{"$error":"#N/A"}}]
[null,null,null,null,null,null,null,null,null,null,null,null,"no email",{"$error":"#VALUE!"},{"$error":"#VALUE!"},{"$f":"VLOOKUP(K1018,references!$A$1:$B$7,2,FALSE)","v":{"$error":"#N/A"}}]
[null,null,null,null,null,null,null,null,null,null,null,null,"no email",{"$error":"#VALUE!"},{"$error":"#VALUE!"},{"$f":"VLOOKUP(K1019,references!$A$1:$B$7,2,FALSE)","v":{"$error":"#N/A"}}]
[null,null,null,null,null,null,null,null,null,null,null,null,"no email",{"$error":"#VALUE!"},{"$error":"#VALUE!"},{"$f":"VLOOKUP(K1020,references!$A$1:$B$7,2,FALSE)","v":{"$error":"#N/A"}}]
[null,null,null,null,null,null,null,null,null,null,null,null,"no email",{"$error":"#VALUE!"},{"$error":"#VALUE!"},{"$f":"VLOOKUP(K1021,references!$A$1:$B$7,2,FALSE)","v":{"$error":"#N/A"}}]
[null,null,null,null,null,null,null,null,null,null,null,null,"no email",{"$error":"#VALUE!"},{"$error":"#VALUE!"},{"$f":"VLOOKUP(K1022,references!$A$1:$B$7,2,FALSE)","v":{"$error":"#N/A"}}]
[null,null,null,null,null,null,null,null,null,null,null,null,"no email",{"$error":"#VALUE!"},{"$error":"#VALUE!"},{"$f":"VLOOKUP(K1023,references!$A$1:$B$7,2,FALSE)","v":{"$error":"#N/A"}}]
[null,null,null,null,null,null,null,null,null,null,null,null,"no email",{"$error":"#VALUE!"},{"$error":"#VALUE!"},{"$f":"VLOOKUP(K1024,references!$A$1:$B$7,2,FALSE)","v":{"$error":"#N/A"}}]
[null,null,null,null,null,null,null,null,null,null,null,null,"no email",{"$error":"#VALUE!"},{"$error":"#VALUE!"},{"$f":"VLOOKUP(K1025,references!$A$1:$B$7,2,FALSE)","v":{"$error":"#N/A"}}]
[null,null,null,null,null,null,null,null,null,null,null,null,{"$f":"IF(L1026=\"\", \"no email\",LOWER(L1026))","v":"no email"},{"$f":"LEFT(A1026, SEARCH(\",\",A1026,1)-1)","v":{"$error":"#VALUE!"}},{"$f":"RIGHT(A1026, LEN(A1026) -SEARCH(\",\",A1026,1)-1)","v":{"$error":"#VALUE!"}},{"$f":"VLOOKUP(K1026,references!$A$1:$B$7,2,FALSE)","v":{"$error":"#N/A"}}]
[null,null,null,null,null,null,null,null,null,null,null,null,"no email",{"$error":"#VALUE!"},{"$error":"#VALUE!"},{"$f":"VLOOKUP(K1027,references!$A$1:$B$7,2,FALSE)","v":{"$error":"#N/A"}}]
[null,null,null,null,null,null,null,null,null,null,null,null,"no email",{"$error":"#VALUE!"},{"$error":"#VALUE!"},{"$f":"VLOOKUP(K1028,references!$A$1:$B$7,2,FALSE)","v":{"$error":"#N/A"}}]
[null,null,null,null,null,null,null,null,null,null,null,null,"no email",{"$error":"#VALUE!"},{"$error":"#VALUE!"},{"$f":"VLOOKUP(K1029,references!$A$1:$B$7,2,FALSE)","v":{"$error":"#N/A"}}]
[null,null,null,null,null,null,null,null,null,null,null,null,"no email",{"$error":"#VALUE!"},{"$error":"#VALUE!"},{"$f":"VLOOKUP(K1030,references!$A$1:$B$7,2,FALSE)","v":{"$error":"#N/A"}}]
[null,null,null,null,null,null,null,null,null,null,null,null,"no email",{"$error":"#VALUE!"},{"$error":"#VALUE!"},{"$f":"VLOOKUP(K1031,references!$A$1:$B$7,2,FALSE)","v":{"$error":"#N/A"}}]
[null,null,null,null,null,null,null,null,null,null,null,null,"no email",{"$error":"#VALUE!"},{"$error":"#VALUE!"},{"$f":"VLOOKUP(K1032,references!$A$1:$B$7,2,FALSE)","v":{"$error":"#N/A"}}]
[null,null,null,null,null,null,null,null,null,null,null,null,"no email",{"$error":"#VALUE!"},{"$error":"#VALUE!"},{"$f":"VLOOKUP(K1033,references!$A$1:$B$7,2,FALSE)","v":{"$error":"#N/A"}}]
[null,null,null,null,null,null,null,null,null,null,null,null,"no email",{"$error":"#VALUE!"},{"$error":"#VALUE!"},{"$f":"VLOOKUP(K1034,references!$A$1:$B$7,2,FALSE)","v":{"$error":"#N/A"}}]
[null,null,null,null,null,null,null,null,null,null,null,null,"no email",{"$error":"#VALUE!"},{"$error":"#VALUE!"},{"$f":"VLOOKUP(K1035,references!$A$1:$B$7,2,FALSE)","v":{"$error":"#N/A"}}]
[null,null,null,null,null,null,null,null,null,null,null,null,"no email",{"$error":"#VALUE!"},{"$error":"#VALUE!"},{"$f":"VLOOKUP(K1036,references!$A$1:$B$7,2,FALSE)","v":{"$error":"#N/A"}}]
[null,null,null,null,null,null,null,null,null,null,null,null,"no email",{"$error":"#VALUE!"},{"$error":"#VALUE!"},{"$f":"VLOOKUP(K1037,references!$A$1:$B$7,2,FALSE)","v":{"$error":"#N/A"}}]
[null,null,null,null,null,null,null,null,null,null,null,null,"no email",{"$error":"#VALUE!"},{"$error":"#VALUE!"},{"$f":"VLOOKUP(K1038,references!$A$1:$B$7,2,FALSE)","v":{"$error":"#N/A"}}]
[null,null,null,null,null,null,null,null,null,null,null,null,"no email",{"$error":"#VALUE!"},{"$error":"#VALUE!"},{"$f":"VLOOKUP(K1039,references!$A$1:$B$7,2,FALSE)","v":{"$error":"#N/A"}}]
[null,null,null,null,null,null,null,null,null,null,null,null,"no email",{"$error":"#VALUE!"},{"$error":"#VALUE!"},{"$f":"VLOOKUP(K1040,references!$A$1:$B$7,2,FALSE)","v":{"$error":"#N/A"}}]
[null,null,null,null,null,null,null,null,null,null,null,null,"no email",{"$error":"#VALUE!"},{"$error":"#VALUE!"},{"$f":"VLOOKUP(K1041,references!$A$1:$B$7,2,FALSE)","v":{"$error":"#N/A"}}]
[null,null,null,null,null,null,null,null,null,null,null,null,"no email",{"$error":"#VALUE!"},{"$error":"#VALUE!"},{"$f":"VLOOKUP(K1042,references!$A$1:$B$7,2,FALSE)","v":{"$error":"#N/A"}}]
[null,null,null,null,null,null,null,null,null,null,null,null,"no email",{"$error":"#VALUE!"},{"$error":"#VALUE!"},{"$f":"VLOOKUP(K1043,references!$A$1:$B$7,2,FALSE)","v":{"$error":"#N/A"}}]
[null,null,null,null,null,null,null,null,null,null,null,null,"no email",{"$error":"#VALUE!"},{"$error":"#VALUE!"},{"$f":"VLOOKUP(K1044,references!$A$1:$B$7,2,FALSE)","v":{"$error":"#N/A"}}]
[null,null,null,null,null,null,null,null,null,null,null,null,"no email",{"$error":"#VALUE!"},{"$error":"#VALUE!"},{"$f":"VLOOKUP(K1045,references!$A$1:$B$7,2,FALSE)","v":{"$error":"#N/A"}}]
[null,null,null,null,null,null,null,null,null,null,null,null,"no email",{"$error":"#VALUE!"},{"$error":"#VALUE!"},{"$f":"VLOOKUP(K1046,references!$A$1:$B$7,2,FALSE)","v":{"$error":"#N/A"}}]
[null,null,null,null,null,null,null,null,null,null,null,null,"no email",{"$error":"#VALUE!"},{"$error":"#VALUE!"},{"$f":"VLOOKUP(K1047,references!$A$1:$B$7,2,FALSE)","v":{"$error":"#N/A"}}]
[null,null,null,null,null,null,null,null,null,null,null,null,"no email",{"$error":"#VALUE!"},{"$error":"#VALUE!"},{"$f":"VLOOKUP(K1048,references!$A$1:$B$7,2,FALSE)","v":{"$error":"#N/A"}}]
[null,null,null,null,null,null,null,null,null,null,null,null,"no email",{"$error":"#VALUE!"},{"$error":"#VALUE!"},{"$f":"VLOOKUP(K1049,references!$A$1:$B$7,2,FALSE)","v":{"$error":"#N/A"}}]
[null,null,null,null,null,null,null,null,null,null,null,null,"no email",{"$error":"#VALUE!"},{"$error":"#VALUE!"},{"$f":"VLOOKUP(K1050,references!$A$1:$B$7,2,FALSE)","v":{"$error":"#N/A"}}]
[null,null,null,null,null,null,null,null,null,null,null,null,"no email",{"$error":"#VALUE!"},{"$error":"#VALUE!"},{"$f":"VLOOKUP(K1051,references!$A$1:$B$7,2,FALSE)","v":{"$error":"#N/A"}}]
[null,null,null,null,null,null,null,null,null,null,null,null,"no email",{"$error":"#VALUE!"},{"$error":"#VALUE!"},{"$f":"VLOOKUP(K1052,references!$A$1:$B$7,2,FALSE)","v":{"$error":"#N/A"}}]
[null,null,null,null,null,null,null,null,null,null,null,null,"no email",{"$error":"#VALUE!"},{"$error":"#VALUE!"},{"$f":"VLOOKUP(K1053,references!$A$1:$B$7,2,FALSE)","v":{"$error":"#N/A"}}]
[null,null,null,null,null,null,null,null,null,null,null,null,"no email",{"$error":"#VALUE!"},{"$error":"#VALUE!"},{"$f":"VLOOKUP(K1054,references!$A$1:$B$7,2,FALSE)","v":{"$error":"#N/A"}}]
[null,null,null,null,null,null,null,null,null,null,null,null,"no email",{"$error":"#VALUE!"},{"$error":"#VALUE!"},{"$f":"VLOOKUP(K1055,references!$A$1:$B$7,2,FALSE)","v":{"$error":"#N/A"}}]
[null,null,null,null,null,null,null,null,null,null,null,null,"no email",{"$error":"#VALUE!"},{"$error":"#VALUE!"},{"$f":"VLOOKUP(K1056,references!$A$1:$B$7,2,FALSE)","v":{"$error":"#N/A"}}]
[null,null,null,null,null,null,null,null,null,null,null,null,"no email",{"$error":"#VALUE!"},{"$error":"#VALUE!"},{"$f":"VLOOKUP(K1057,references!$A$1:$B$7,2,FALSE)","v":{"$error":"#N/A"}}]
[null,null,null,null,null,null,null,null,null,null,null,null,"no email",{"$error":"#VALUE!"},{"$error":"#VALUE!"},{"$f":"VLOOKUP(K1058,references!$A$1:$B$7,2,FALSE)","v":{"$error":"#N/A"}}]
[null,null,null,null,null,null,null,null,null,null,null,null,"no email",{"$error":"#VALUE!"},{"$error":"#VALUE!"},{"$f":"VLOOKUP(K1059,references!$A$1:$B$7,2,FALSE)","v":{"$error":"#N/A"}}]
[null,null,null,null,null,null,null,null,null,null,null,null,"no email",{"$error":"#VALUE!"},{"$error":"#VALUE!"},{"$f":"VLOOKUP(K1060,references!$A$1:$B$7,2,FALSE)","v":{"$error":"#N/A"}}]
[null,null,null,null,null,null,null,null,null,null,null,null,"no email",{"$error":"#VALUE!"},{"$error":"#VALUE!"},{"$f":"VLOOKUP(K1061,references!$A$1:$B$7,2,FALSE)","v":{"$error":"#N/A"}}]
[null,null,null,null,null,null,null,null,null,null,null,null,"no email",{"$error":"#VALUE!"},{"$error":"#VALUE!"},{"$f":"VLOOKUP(K1062,references!$A$1:$B$7,2,FALSE)","v":{"$error":"#N/A"}}]
[null,null,null,null,null,null,null,null,null,null,null,null,"no email",{"$error":"#VALUE!"},{"$error":"#VALUE!"},{"$f":"VLOOKUP(K1063,references!$A$1:$B$7,2,FALSE)","v":{"$error":"#N/A"}}]
[null,null,null,null,null,null,null,null,null,null,null,null,"no email",{"$error":"#VALUE!"},{"$error":"#VALUE!"},{"$f":"VLOOKUP(K1064,references!$A$1:$B$7,2,FALSE)","v":{"$error":"#N/A"}}]
[null,null,null,null,null,null,null,null,null,null,null,null,"no email",{"$error":"#VALUE!"},{"$error":"#VALUE!"},{"$f":"VLOOKUP(K1065,references!$A$1:$B$7,2,FALSE)","v":{"$error":"#N/A"}}]
[null,null,null,null,null,null,null,null,null,null,null,null,"no email",{"$error":"#VALUE!"},{"$error":"#VALUE!"},{"$f":"VLOOKUP(K1066,references!$A$1:$B$7,2,FALSE)","v":{"$error":"#N/A"}}]
[null,null,null,null,null,null,null,null,null,null,null,null,"no email",{"$error":"#VALUE!"},{"$error":"#VALUE!"},{"$f":"VLOOKUP(K1067,references!$A$1:$B$7,2,FALSE)","v":{"$error":"#N/A"}}]
[null,null,null,null,null,null,null,null,null,null,null,null,"no email",{"$error":"#VALUE!"},{"$error":"#VALUE!"},{"$f":"VLOOKUP(K1068,references!$A$1:$B$7,2,FALSE)","v":{"$error":"#N/A"}}]
[null,null,null,null,null,null,null,null,null,null,null,null,"no email",{"$error":"#VALUE!"},{"$error":"#VALUE!"},{"$f":"VLOOKUP(K1069,references!$A$1:$B$7,2,FALSE)","v":{"$error":"#N/A"}}]
[null,null,null,null,null,null,null,null,null,null,null,null,"no email",{"$error":"#VALUE!"},{"$error":"#VALUE!"},{"$f":"VLOOKUP(K1070,references!$A$1:$B$7,2,FALSE)","v":{"$error":"#N/A"}}]
[null,null,null,null,null,null,null,null,null,null,null,null,"no email",{"$error":"#VALUE!"},{"$error":"#VALUE!"},{"$f":"VLOOKUP(K1071,references!$A$1:$B$7,2,FALSE)","v":{"$error":"#N/A"}}]
[null,null,null,null,null,null,null,null,null,null,null,null,"no email",{"$error":"#VALUE!"},{"$error":"#VALUE!"},{"$f":"VLOOKUP(K1072,references!$A$1:$B$7,2,FALSE)","v":{"$error":"#N/A"}}]
[null,null,null,null,null,null,null,null,null,null,null,null,"no email",{"$error":"#VALUE!"},{"$error":"#VALUE!"},{"$f":"VLOOKUP(K1073,references!$A$1:$B$7,2,FALSE)","v":{"$error":"#N/A"}}]
[null,null,null,null,null,null,null,null,null,null,null,null,"no email",{"$error":"#VALUE!"},{"$error":"#VALUE!"},{"$f":"VLOOKUP(K1074,references!$A$1:$B$7,2,FALSE)","v":{"$error":"#N/A"}}]
[null,null,null,null,null,null,null,null,null,null,null,null,"no email",{"$error":"#VALUE!"},{"$error":"#VALUE!"},{"$f":"VLOOKUP(K1075,references!$A$1:$B$7,2,FALSE)","v":{"$error":"#N/A"}}]
[null,null,null,null,null,null,null,null,null,null,null,null,"no email",{"$error":"#VALUE!"},{"$error":"#VALUE!"},{"$f":"VLOOKUP(K1076,references!$A$1:$B$7,2,FALSE)","v":{"$error":"#N/A"}}]
[null,null,null,null,null,null,null,null,null,null,null,null,"no email",{"$error":"#VALUE!"},{"$error":"#VALUE!"},{"$f":"VLOOKUP(K1077,references!$A$1:$B$7,2,FALSE)","v":{"$error":"#N/A"}}]
[null,null,null,null,null,null,null,null,null,null,null,null,"no email",{"$error":"#VALUE!"},{"$error":"#VALUE!"},{"$f":"VLOOKUP(K1078,references!$A$1:$B$7,2,FALSE)","v":{"$error":"#N/A"}}]
[null,null,null,null,null,null,null,null,null,null,null,null,"no email",{"$error":"#VALUE!"},{"$error":"#VALUE!"},{"$f":"VLOOKUP(K1079,references!$A$1:$B$7,2,FALSE)","v":{"$error":"#N/A"}}]
[null,null,null,null,null,null,null,null,null,null,null,null,"no email",{"$error":"#VALUE!"},{"$error":"#VALUE!"},{"$f":"VLOOKUP(K1080,references!$A$1:$B$7,2,FALSE)","v":{"$error":"#N/A"}}]
[null,null,null,null,null,null,null,null,null,null,null,null,"no email",{"$error":"#VALUE!"},{"$error":"#VALUE!"},{"$f":"VLOOKUP(K1081,references!$A$1:$B$7,2,FALSE)","v":{"$error":"#N/A"}}]
[null,null,null,null,null,null,null,null,null,null,null,null,"no email",{"$error":"#VALUE!"},{"$error":"#VALUE!"},{"$f":"VLOOKUP(K1082,references!$A$1:$B$7,2,FALSE)","v":{"$error":"#N/A"}}]
[null,null,null,null,null,null,null,null,null,null,null,null,"no email",{"$error":"#VALUE!"},{"$error":"#VALUE!"},{"$f":"VLOOKUP(K1083,references!$A$1:$B$7,2,FALSE)","v":{"$error":"#N/A"}}]
[null,null,null,null,null,null,null,null,null,null,null,null,"no email",{"$error":"#VALUE!"},{"$error":"#VALUE!"},{"$f":"VLOOKUP(K1084,references!$A$1:$B$7,2,FALSE)","v":{"$error":"#N/A"}}]
[null,null,null,null,null,null,null,null,null,null,null,null,"no email",{"$error":"#VALUE!"},{"$error":"#VALUE!"},{"$f":"VLOOKUP(K1085,references!$A$1:$B$7,2,FALSE)","v":{"$error":"#N/A"}}]
[null,null,null,null,null,null,null,null,null,null,null,null,"no email",{"$error":"#VALUE!"},{"$error":"#VALUE!"},{"$f":"VLOOKUP(K1086,references!$A$1:$B$7,2,FALSE)","v":{"$error":"#N/A"}}]
[null,null,null,null,null,null,null,null,null,null,null,null,"no email",{"$error":"#VALUE!"},{"$error":"#VALUE!"},{"$f":"VLOOKUP(K1087,references!$A$1:$B$7,2,FALSE)","v":{"$error":"#N/A"}}]
[null,null,null,null,null,null,null,null,null,null,null,null,"no email",{"$error":"#VALUE!"},{"$error":"#VALUE!"},{"$f":"VLOOKUP(K1088,references!$A$1:$B$7,2,FALSE)","v":{"$error":"#N/A"}}]
[null,null,null,null,null,null,null,null,null,null,null,null,"no email",{"$error":"#VALUE!"},{"$error":"#VALUE!"},{"$f":"VLOOKUP(K1089,references!$A$1:$B$7,2,FALSE)","v":{"$error":"#N/A"}}]
[null,null,null,null,null,null,null,null,null,null,null,null,{"$f":"IF(L1090=\"\", \"no email\",LOWER(L1090))","v":"no email"},{"$f":"LEFT(A1090, SEARCH(\",\",A1090,1)-1)","v":{"$error":"#VALUE!"}},{"$f":"RIGHT(A1090, LEN(A1090) -SEARCH(\",\",A1090,1)-1)","v":{"$error":"#VALUE!"}},{"$f":"VLOOKUP(K1090,references!$A$1:$B$7,2,FALSE)","v":{"$error":"#N/A"}}]
[null,null,null,null,null,null,null,null,null,null,null,null,"no email",{"$error":"#VALUE!"},{"$error":"#VALUE!"},{"$f":"VLOOKUP(K1091,references!$A$1:$B$7,2,FALSE)","v":{"$error":"#N/A"}}]
[null,null,null,null,null,null,null,null,null,null,null,null,"no email",{"$error":"#VALUE!"},{"$error":"#VALUE!"},{"$f":"VLOOKUP(K1092,references!$A$1:$B$7,2,FALSE)","v":{"$error":"#N/A"}}]
[null,null,null,null,null,null,null,null,null,null,null,null,"no email",{"$error":"#VALUE!"},{"$error":"#VALUE!"},{"$f":"VLOOKUP(K1093,references!$A$1:$B$7,2,FALSE)","v":{"$error":"#N/A"}}]
[null,null,null,null,null,null,null,null,null,null,null,null,"no email",{"$error":"#VALUE!"},{"$error":"#VALUE!"},{"$f":"VLOOKUP(K1094,references!$A$1:$B$7,2,FALSE)","v":{"$error":"#N/A"}}]
[null,null,null,null,null,null,null,null,null,null,null,null,"no email",{"$error":"#VALUE!"},{"$error":"#VALUE!"},{"$f":"VLOOKUP(K1095,references!$A$1:$B$7,2,FALSE)","v":{"$error":"#N/A"}}]
[null,null,null,null,null,null,null,null,null,null,null,null,"no email",{"$error":"#VALUE!"},{"$error":"#VALUE!"},{"$f":"VLOOKUP(K1096,references!$A$1:$B$7,2,FALSE)","v":{"$error":"#N/A"}}]
[null,null,null,null,null,null,null,null,null,null,null,null,"no email",{"$error":"#VALUE!"},{"$error":"#VALUE!"},{"$f":"VLOOKUP(K1097,references!$A$1:$B$7,2,FALSE)","v":{"$error":"#N/A"}}]
[null,null,null,null,null,null,null,null,null,null,null,null,"no email",{"$error":"#VALUE!"},{"$error":"#VALUE!"},{"$f":"VLOOKUP(K1098,references!$A$1:$B$7,2,FALSE)","v":{"$error":"#N/A"}}]
[null,null,null,null,null,null,null,null,null,null,null,null,"no email",{"$error":"#VALUE!"},{"$error":"#VALUE!"},{"$f":"VLOOKUP(K1099,references!$A$1:$B$7,2,FALSE)","v":{"$error":"#N/A"}}]
[null,null,null,null,null,null,null,null,null,null,null,null,"no email",{"$error":"#VALUE!"},{"$error":"#VALUE!"},{"$f":"VLOOKUP(K1100,references!$A$1:$B$7,2,FALSE)","v":{"$error":"#N/A"}}]
[null,null,null,null,null,null,null,null,null,null,null,null,"no email",{"$error":"#VALUE!"},{"$error":"#VALUE!"},{"$f":"VLOOKUP(K1101,references!$A$1:$B$7,2,FALSE)","v":{"$error":"#N/A"}}]
[null,null,null,null,null,null,null,null,null,null,null,null,"no email",{"$error":"#VALUE!"},{"$error":"#VALUE!"},{"$f":"VLOOKUP(K1102,references!$A$1:$B$7,2,FALSE)","v":{"$error":"#N/A"}}]
[null,null,null,null,null,null,null,null,null,null,null,null,"no email",{"$error":"#VALUE!"},{"$error":"#VALUE!"},{"$f":"VLOOKUP(K1103,references!$A$1:$B$7,2,FALSE)","v":{"$error":"#N/A"}}]
[null,null,null,null,null,null,null,null,null,null,null,null,"no email",{"$error":"#VALUE!"},{"$error":"#VALUE!"},{"$f":"VLOOKUP(K1104,references!$A$1:$B$7,2,FALSE)","v":{"$error":"#N/A"}}]
[null,null,null,null,null,null,null,null,null,null,null,null,"no email",{"$error":"#VALUE!"},{"$error":"#VALUE!"},{"$f":"VLOOKUP(K1105,references!$A$1:$B$7,2,FALSE)","v":{"$error":"#N/A"}}]
[null,null,null,null,null,null,null,null,null,null,null,null,"no email",{"$error":"#VALUE!"},{"$error":"#VALUE!"},{"$f":"VLOOKUP(K1106,references!$A$1:$B$7,2,FALSE)","v":{"$error":"#N/A"}}]
[null,null,null,null,null,null,null,null,null,null,null,null,"no email",{"$error":"#VALUE!"},{"$error":"#VALUE!"},{"$f":"VLOOKUP(K1107,references!$A$1:$B$7,2,FALSE)","v":{"$error":"#N/A"}}]
[null,null,null,null,null,null,null,null,null,null,null,null,"no email",{"$error":"#VALUE!"},{"$error":"#VALUE!"},{"$f":"VLOOKUP(K1108,references!$A$1:$B$7,2,FALSE)","v":{"$error":"#N/A"}}]
[null,null,null,null,null,null,null,null,null,null,null,null,"no email",{"$error":"#VALUE!"},{"$error":"#VALUE!"},{"$f":"VLOOKUP(K1109,references!$A$1:$B$7,2,FALSE)","v":{"$error":"#N/A"}}]
[null,null,null,null,null,null,null,null,null,null,null,null,"no email",{"$error":"#VALUE!"},{"$error":"#VALUE!"},{"$f":"VLOOKUP(K1110,references!$A$1:$B$7,2,FALSE)","v":{"$error":"#N/A"}}]
[null,null,null,null,null,null,null,null,null,null,null,null,"no email",{"$error":"#VALUE!"},{"$error":"#VALUE!"},{"$f":"VLOOKUP(K1111,references!$A$1:$B$7,2,FALSE)","v":{"$error":"#N/A"}}]
[null,null,null,null,null,null,null,null,null,null,null,null,"no email",{"$error":"#VALUE!"},{"$error":"#VALUE!"},{"$f":"VLOOKUP(K1112,references!$A$1:$B$7,2,FALSE)","v":{"$error":"#N/A"}}]
[null,null,null,null,null,null,null,null,null,null,null,null,"no email",{"$error":"#VALUE!"},{"$error":"#VALUE!"},{"$f":"VLOOKUP(K1113,references!$A$1:$B$7,2,FALSE)","v":{"$error":"#N/A"}}]
[null,null,null,null,null,null,null,null,null,null,null,null,"no email",{"$error":"#VALUE!"},{"$error":"#VALUE!"},{"$f":"VLOOKUP(K1114,references!$A$1:$B$7,2,FALSE)","v":{"$error":"#N/A"}}]
[null,null,null,null,null,null,null,null,null,null,null,null,"no email",{"$error":"#VALUE!"},{"$error":"#VALUE!"},{"$f":"VLOOKUP(K1115,references!$A$1:$B$7,2,FALSE)","v":{"$error":"#N/A"}}]
[null,null,null,null,null,null,null,null,null,null,null,null,"no email",{"$error":"#VALUE!"},{"$error":"#VALUE!"},{"$f":"VLOOKUP(K1116,references!$A$1:$B$7,2,FALSE)","v":{"$error":"#N/A"}}]
[null,null,null,null,null,null,null,null,null,null,null,null,"no email",{"$error":"#VALUE!"},{"$error":"#VALUE!"},{"$f":"VLOOKUP(K1117,references!$A$1:$B$7,2,FALSE)","v":{"$error":"#N/A"}}]
[null,null,null,null,null,null,null,null,null,null,null,null,"no email",{"$error":"#VALUE!"},{"$error":"#VALUE!"},{"$f":"VLOOKUP(K1118,references!$A$1:$B$7,2,FALSE)","v":{"$error":"#N/A"}}]
[null,null,null,null,null,null,null,null,null,null,null,null,"no email",{"$error":"#VALUE!"},{"$error":"#VALUE!"},{"$f":"VLOOKUP(K1119,references!$A$1:$B$7,2,FALSE)","v":{"$error":"#N/A"}}]
[null,null,null,null,null,null,null,null,null,null,null,null,"no email",{"$error":"#VALUE!"},{"$error":"#VALUE!"},{"$f":"VLOOKUP(K1120,references!$A$1:$B$7,2,FALSE)","v":{"$error":"#N/A"}}]
[null,null,null,null,null,null,null,null,null,null,null,null,"no email",{"$error":"#VALUE!"},{"$error":"#VALUE!"},{"$f":"VLOOKUP(K1121,references!$A$1:$B$7,2,FALSE)","v":{"$error":"#N/A"}}]
[null,null,null,null,null,null,null,null,null,null,null,null,"no email",{"$error":"#VALUE!"},{"$error":"#VALUE!"},{"$f":"VLOOKUP(K1122,references!$A$1:$B$7,2,FALSE)","v":{"$error":"#N/A"}}]
[null,null,null,null,null,null,null,null,null,null,null,null,"no email",{"$error":"#VALUE!"},{"$error":"#VALUE!"},{"$f":"VLOOKUP(K1123,references!$A$1:$B$7,2,FALSE)","v":{"$error":"#N/A"}}]
[null,null,null,null,null,null,null,null,null,null,null,null,"no email",{"$error":"#VALUE!"},{"$error":"#VALUE!"},{"$f":"VLOOKUP(K1124,references!$A$1:$B$7,2,FALSE)","v":{"$error":"#N/A"}}]
[null,null,null,null,null,null,null,null,null,null,null,null,"no email",{"$error":"#VALUE!"},{"$error":"#VALUE!"},{"$f":"VLOOKUP(K1125,references!$A$1:$B$7,2,FALSE)","v":{"$error":"#N/A"}}]
[null,null,null,null,null,null,null,null,null,null,null,null,"no email",{"$error":"#VALUE!"},{"$error":"#VALUE!"},{"$f":"VLOOKUP(K1126,references!$A$1:$B$7,2,FALSE)","v":{"$error":"#N/A"}}]
[null,null,null,null,null,null,null,null,null,null,null,null,"no email",{"$error":"#VALUE!"},{"$error":"#VALUE!"},{"$f":"VLOOKUP(K1127,references!$A$1:$B$7,2,FALSE)","v":{"$error":"#N/A"}}]
[null,null,null,null,null,null,null,null,null,null,null,null,"no email",{"$error":"#VALUE!"},{"$error":"#VALUE!"},{"$f":"VLOOKUP(K1128,references!$A$1:$B$7,2,FALSE)","v":{"$error":"#N/A"}}]
[null,null,null,null,null,null,null,null,null,null,null,null,"no email",{"$error":"#VALUE!"},{"$error":"#VALUE!"},{"$f":"VLOOKUP(K1129,references!$A$1:$B$7,2,FALSE)","v":{"$error":"#N/A"}}]
[null,null,null,null,null,null,null,null,null,null,null,null,"no email",{"$error":"#VALUE!"},{"$error":"#VALUE!"},{"$f":"VLOOKUP(K1130,references!$A$1:$B$7,2,FALSE)","v":{"$error":"#N/A"}}]
[null,null,null,null,null,null,null,null,null,null,null,null,"no email",{"$error":"#VALUE!"},{"$error":"#VALUE!"},{"$f":"VLOOKUP(K1131,references!$A$1:$B$7,2,FALSE)","v":{"$error":"#N/A"}}]
[null,null,null,null,null,null,null,null,null,null,null,null,"no email",{"$error":"#VALUE!"},{"$error":"#VALUE!"},{"$f":"VLOOKUP(K1132,references!$A$1:$B$7,2,FALSE)","v":{"$error":"#N/A"}}]
[null,null,null,null,null,null,null,null,null,null,null,null,"no email",{"$error":"#VALUE!"},{"$error":"#VALUE!"},{"$f":"VLOOKUP(K1133,references!$A$1:$B$7,2,FALSE)","v":{"$error":"#N/A"}}]
[null,null,null,null,null,null,null,null,null,null,null,null,"no email",{"$error":"#VALUE!"},{"$error":"#VALUE!"},{"$f":"VLOOKUP(K1134,references!$A$1:$B$7,2,FALSE)","v":{"$error":"#N/A"}}]
[null,null,null,null,null,null,null,null,null,null,null,null,"no email",{"$error":"#VALUE!"},{"$error":"#VALUE!"},{"$f":"VLOOKUP(K1135,references!$A$1:$B$7,2,FALSE)","v":{"$error":"#N/A"}}]
[null,null,null,null,null,null,null,null,null,null,null,null,"no email",{"$error":"#VALUE!"},{"$error":"#VALUE!"},{"$f":"VLOOKUP(K1136,references!$A$1:$B$7,2,FALSE)","v":{"$error":"#N/A"}}]
[null,null,null,null,null,null,null,null,null,null,null,null,"no email",{"$error":"#VALUE!"},{"$error":"#VALUE!"},{"$f":"VLOOKUP(K1137,references!$A$1:$B$7,2,FALSE)","v":{"$error":"#N/A"}}]
[null,null,null,null,null,null,null,null,null,null,null,null,"no email",{"$error":"#VALUE!"},{"$error":"#VALUE!"},{"$f":"VLOOKUP(K1138,references!$A$1:$B$7,2,FALSE)","v":{"$error":"#N/A"}}]
[null,null,null,null,null,null,null,null,null,null,null,null,"no email",{"$error":"#VALUE!"},{"$error":"#VALUE!"},{"$f":"VLOOKUP(K1139,references!$A$1:$B$7,2,FALSE)","v":{"$error":"#N/A"}}]
[null,null,null,null,null,null,null,null,null,null,null,null,"no email",{"$error":"#VALUE!"},{"$error":"#VALUE!"},{"$f":"VLOOKUP(K1140,references!$A$1:$B$7,2,FALSE)","v":{"$error":"#N/A"}}]
[null,null,null,null,null,null,null,null,null,null,null,null,"no email",{"$error":"#VALUE!"},{"$error":"#VALUE!"},{"$f":"VLOOKUP(K1141,references!$A$1:$B$7,2,FALSE)","v":{"$error":"#N/A"}}]
[null,null,null,null,null,null,null,null,null,null,null,null,"no email",{"$error":"#VALUE!"},{"$error":"#VALUE!"},{"$f":"VLOOKUP(K1142,references!$A$1:$B$7,2,FALSE)","v":{"$error":"#N/A"}}]
[null,null,null,null,null,null,null,null,null,null,null,null,"no email",{"$error":"#VALUE!"},{"$error":"#VALUE!"},{"$f":"VLOOKUP(K1143,references!$A$1:$B$7,2,FALSE)","v":{"$error":"#N/A"}}]
[null,null,null,null,null,null,null,null,null,null,null,null,"no email",{"$error":"#VALUE!"},{"$error":"#VALUE!"},{"$f":"VLOOKUP(K1144,references!$A$1:$B$7,2,FALSE)","v":{"$error":"#N/A"}}]
[null,null,null,null,null,null,null,null,null,null,null,null,"no email",{"$error":"#VALUE!"},{"$error":"#VALUE!"},{"$f":"VLOOKUP(K1145,references!$A$1:$B$7,2,FALSE)","v":{"$error":"#N/A"}}]
[null,null,null,null,null,null,null,null,null,null,null,null,"no email",{"$error":"#VALUE!"},{"$error":"#VALUE!"},{"$f":"VLOOKUP(K1146,references!$A$1:$B$7,2,FALSE)","v":{"$error":"#N/A"}}]
[null,null,null,null,null,null,null,null,null,null,null,null,"no email",{"$error":"#VALUE!"},{"$error":"#VALUE!"},{"$f":"VLOOKUP(K1147,references!$A$1:$B$7,2,FALSE)","v":{"$error":"#N/A"}}]
[null,null,null,null,null,null,null,null,null,null,null,null,"no email",{"$error":"#VALUE!"},{"$error":"#VALUE!"},{"$f":"VLOOKUP(K1148,references!$A$1:$B$7,2,FALSE)","v":{"$error":"#N/A"}}]
[null,null,null,null,null,null,null,null,null,null,null,null,"no email",{"$error":"#VALUE!"},{"$error":"#VALUE!"},{"$f":"VLOOKUP(K1149,references!$A$1:$B$7,2,FALSE)","v":{"$error":"#N/A"}}]
[null,null,null,null,null,null,null,null,null,null,null,null,"no email",{"$error":"#VALUE!"},{"$error":"#VALUE!"},{"$f":"VLOOKUP(K1150,references!$A$1:$B$7,2,FALSE)","v":{"$error":"#N/A"}}]
[null,null,null,null,null,null,null,null,null,null,null,null,"no email",{"$error":"#VALUE!"},{"$error":"#VALUE!"},{"$f":"VLOOKUP(K1151,references!$A$1:$B$7,2,FALSE)","v":{"$error":"#N/A"}}]
[null,null,null,null,null,null,null,null,null,null,null,null,"no email",{"$error":"#VALUE!"},{"$error":"#VALUE!"},{"$f":"VLOOKUP(K1152,references!$A$1:$B$7,2,FALSE)","v":{"$error":"#N/A"}}]
[null,null,null,null,null,null,null,null,null,null,null,null,"no email",{"$error":"#VALUE!"},{"$error":"#VALUE!"},{"$f":"VLOOKUP(K1153,references!$A$1:$B$7,2,FALSE)","v":{"$error":"#N/A"}}]
[null,null,null,null,null,null,null,null,null,null,null,null,{"$f":"IF(L1154=\"\", \"no email\",LOWER(L1154))","v":"no email"},{"$f":"LEFT(A1154, SEARCH(\",\",A1154,1)-1)","v":{"$error":"#VALUE!"}},{"$f":"RIGHT(A1154, LEN(A1154) -SEARCH(\",\",A1154,1)-1)","v":{"$error":"#VALUE!"}},{"$f":"VLOOKUP(K1154,references!$A$1:$B$7,2,FALSE)","v":{"$error":"#N/A"}}]
[null,null,null,null,null,null,null,null,null,null,null,null,"no email",{"$error":"#VALUE!"},{"$error":"#VALUE!"},{"$f":"VLOOKUP(K1155,references!$A$1:$B$7,2,FALSE)","v":{"$error":"#N/A"}}]
[null,null,null,null,null,null,null,null,null,null,null,null,"no email",{"$error":"#VALUE!"},{"$error":"#VALUE!"},{"$f":"VLOOKUP(K1156,references!$A$1:$B$7,2,FALSE)","v":{"$error":"#N/A"}}]
[null,null,null,null,null,null,null,null,null,null,null,null,"no email",{"$error":"#VALUE!"},{"$error":"#VALUE!"},{"$f":"VLOOKUP(K1157,references!$A$1:$B$7,2,FALSE)","v":{"$error":"#N/A"}}]
[null,null,null,null,null,null,null,null,null,null,null,null,"no email",{"$error":"#VALUE!"},{"$error":"#VALUE!"},{"$f":"VLOOKUP(K1158,references!$A$1:$B$7,2,FALSE)","v":{"$error":"#N/A"}}]
[null,null,null,null,null,null,null,null,null,null,null,null,"no email",{"$error":"#VALUE!"},{"$error":"#VALUE!"},{"$f":"VLOOKUP(K1159,references!$A$1:$B$7,2,FALSE)","v":{"$error":"#N/A"}}]
[null,null,null,null,null,null,null,null,null,null,null,null,"no email",{"$error":"#VALUE!"},{"$error":"#VALUE!"},{"$f":"VLOOKUP(K1160,references!$A$1:$B$7,2,FALSE)","v":{"$error":"#N/A"}}]
[null,null,null,null,null,null,null,null,null,null,null,null,"no email",{"$error":"#VALUE!"},{"$error":"#VALUE!"},{"$f":"VLOOKUP(K1161,references!$A$1:$B$7,2,FALSE)","v":{"$error":"#N/A"}}]
[null,null,null,null,null,null,null,null,null,null,null,null,"no email",{"$error":"#VALUE!"},{"$error":"#VALUE!"},{"$f":"VLOOKUP(K1162,references!$A$1:$B$7,2,FALSE)","v":{"$error":"#N/A"}}]
[null,null,null,null,null,null,null,null,null,null,null,null,"no email",{"$error":"#VALUE!"},{"$error":"#VALUE!"},{"$f":"VLOOKUP(K1163,references!$A$1:$B$7,2,FALSE)","v":{"$error":"#N/A"}}]
[null,null,null,null,null,null,null,null,null,null,null,null,"no email",{"$error":"#VALUE!"},{"$error":"#VALUE!"},{"$f":"VLOOKUP(K1164,references!$A$1:$B$7,2,FALSE)","v":{"$error":"#N/A"}}]
[null,null,null,null,null,null,null,null,null,null,null,null,"no email",{"$error":"#VALUE!"},{"$error":"#VALUE!"},{"$f":"VLOOKUP(K1165,references!$A$1:$B$7,2,FALSE)","v":{"$error":"#N/A"}}]
[null,null,null,null,null,null,null,null,null,null,null,null,"no email",{"$error":"#VALUE!"},{"$error":"#VALUE!"},{"$f":"VLOOKUP(K1166,references!$A$1:$B$7,2,FALSE)","v":{"$error":"#N/A"}}]
[null,null,null,null,null,null,null,null,null,null,null,null,"no email",{"$error":"#VALUE!"},{"$error":"#VALUE!"},{"$f":"VLOOKUP(K1167,references!$A$1:$B$7,2,FALSE)","v":{"$error":"#N/A"}}]
[null,null,null,null,null,null,null,null,null,null,null,null,"no email",{"$error":"#VALUE!"},{"$error":"#VALUE!"},{"$f":"VLOOKUP(K1168,references!$A$1:$B$7,2,FALSE)","v":{"$error":"#N/A"}}]
[null,null,null,null,null,null,null,null,null,null,null,null,"no email",{"$error":"#VALUE!"},{"$error":"#VALUE!"},{"$f":"VLOOKUP(K1169,references!$A$1:$B$7,2,FALSE)","v":{"$error":"#N/A"}}]
[null,null,null,null,null,null,null,null,null,null,null,null,"no email",{"$error":"#VALUE!"},{"$error":"#VALUE!"},{"$f":"VLOOKUP(K1170,references!$A$1:$B$7,2,FALSE)","v":{"$error":"#N/A"}}]
[null,null,null,null,null,null,null,null,null,null,null,null,"no email",{"$error":"#VALUE!"},{"$error":"#VALUE!"},{"$f":"VLOOKUP(K1171,references!$A$1:$B$7,2,FALSE)","v":{"$error":"#N/A"}}]
[null,null,null,null,null,null,null,null,null,null,null,null,"no email",{"$error":"#VALUE!"},{"$error":"#VALUE!"},{"$f":"VLOOKUP(K1172,references!$A$1:$B$7,2,FALSE)","v":{"$error":"#N/A"}}]
[null,null,null,null,null,null,null,null,null,null,null,null,"no email",{"$error":"#VALUE!"},{"$error":"#VALUE!"},{"$f":"VLOOKUP(K1173,references!$A$1:$B$7,2,FALSE)","v":{"$error":"#N/A"}}]
[null,null,null,null,null,null,null,null,null,null,null,null,"no email",{"$error":"#VALUE!"},{"$error":"#VALUE!"},{"$f":"VLOOKUP(K1174,references!$A$1:$B$7,2,FALSE)","v":{"$error":"#N/A"}}]
[null,null,null,null,null,null,null,null,null,null,null,null,"no email",{"$error":"#VALUE!"},{"$error":"#VALUE!"},{"$f":"VLOOKUP(K1175,references!$A$1:$B$7,2,FALSE)","v":{"$error":"#N/A"}}]
[null,null,null,null,null,null,null,null,null,null,null,null,"no email",{"$error":"#VALUE!"},{"$error":"#VALUE!"},{"$f":"VLOOKUP(K1176,references!$A$1:$B$7,2,FALSE)","v":{"$error":"#N/A"}}]
[null,null,null,null,null,null,null,null,null,null,null,null,"no email",{"$error":"#VALUE!"},{"$error":"#VALUE!"},{"$f":"VLOOKUP(K1177,references!$A$1:$B$7,2,FALSE)","v":{"$error":"#N/A"}}]
[null,null,null,null,null,null,null,null,null,null,null,null,"no email",{"$error":"#VALUE!"},{"$error":"#VALUE!"},{"$f":"VLOOKUP(K1178,references!$A$1:$B$7,2,FALSE)","v":{"$error":"#N/A"}}]
[null,null,null,null,null,null,null,null,null,null,null,null,"no email",{"$error":"#VALUE!"},{"$error":"#VALUE!"},{"$f":"VLOOKUP(K1179,references!$A$1:$B$7,2,FALSE)","v":{"$error":"#N/A"}}]
[null,null,null,null,null,null,null,null,null,null,null,null,"no email",{"$error":"#VALUE!"},{"$error":"#VALUE!"},{"$f":"VLOOKUP(K1180,references!$A$1:$B$7,2,FALSE)","v":{"$error":"#N/A"}}]
[null,null,null,null,null,null,null,null,null,null,null,null,"no email",{"$error":"#VALUE!"},{"$error":"#VALUE!"},{"$f":"VLOOKUP(K1181,references!$A$1:$B$7,2,FALSE)","v":{"$error":"#N/A"}}]
[null,null,null,null,null,null,null,null,null,null,null,null,"no email",{"$error":"#VALUE!"},{"$error":"#VALUE!"},{"$f":"VLOOKUP(K1182,references!$A$1:$B$7,2,FALSE)","v":{"$error":"#N/A"}}]
[null,null,null,null,null,null,null,null,null,null,null,null,"no email",{"$error":"#VALUE!"},{"$error":"#VALUE!"},{"$f":"VLOOKUP(K1183,references!$A$1:$B$7,2,FALSE)","v":{"$error":"#N/A"}}]
[null,null,null,null,null,null,null,null,null,null,null,null,"no email",{"$error":"#VALUE!"},{"$error":"#VALUE!"},{"$f":"VLOOKUP(K1184,references!$A$1:$B$7,2,FALSE)","v":{"$error":"#N/A"}}]
[null,null,null,null,null,null,null,null,null,null,null,null,"no email",{"$error":"#VALUE!"},{"$error":"#VALUE!"},{"$f":"VLOOKUP(K1185,references!$A$1:$B$7,2,FALSE)","v":{"$error":"#N/A"}}]
[null,null,null,null,null,null,null,null,null,null,null,null,"no email",{"$error":"#VALUE!"},{"$error":"#VALUE!"},{"$f":"VLOOKUP(K1186,references!$A$1:$B$7,2,FALSE)","v":{"$error":"#N/A"}}]
[null,null,null,null,null,null,null,null,null,null,null,null,"no email",{"$error":"#VALUE!"},{"$error":"#VALUE!"},{"$f":"VLOOKUP(K1187,references!$A$1:$B$7,2,FALSE)","v":{"$error":"#N/A"}}]
[null,null,null,null,null,null,null,null,null,null,null,null,"no email",{"$error":"#VALUE!"},{"$error":"#VALUE!"},{"$f":"VLOOKUP(K1188,references!$A$1:$B$7,2,FALSE)","v":{"$error":"#N/A"}}]
[null,null,null,null,null,null,null,null,null,null,null,null,"no email",{"$error":"#VALUE!"},{"$error":"#VALUE!"},{"$f":"VLOOKUP(K1189,references!$A$1:$B$7,2,FALSE)","v":{"$error":"#N/A"}}]
[null,null,null,null,null,null,null,null,null,null,null,null,"no email",{"$error":"#VALUE!"},{"$error":"#VALUE!"},{"$f":"VLOOKUP(K1190,references!$A$1:$B$7,2,FALSE)","v":{"$error":"#N/A"}}]
[null,null,null,null,null,null,null,null,null,null,null,null,"no email",{"$error":"#VALUE!"},{"$error":"#VALUE!"},{"$f":"VLOOKUP(K1191,references!$A$1:$B$7,2,FALSE)","v":{"$error":"#N/A"}}]
[null,null,null,null,null,null,null,null,null,null,null,null,"no email",{"$error":"#VALUE!"},{"$error":"#VALUE!"},{"$f":"VLOOKUP(K1192,references!$A$1:$B$7,2,FALSE)","v":{"$error":"#N/A"}}]
[null,null,null,null,null,null,null,null,null,null,null,null,"no email",{"$error":"#VALUE!"},{"$error":"#VALUE!"},{"$f":"VLOOKUP(K1193,references!$A$1:$B$7,2,FALSE)","v":{"$error":"#N/A"}}]
[null,null,null,null,null,null,null,null,null,null,null,null,"no email",{"$error":"#VALUE!"},{"$error":"#VALUE!"},{"$f":"VLOOKUP(K1194,references!$A$1:$B$7,2,FALSE)","v":{"$error":"#N/A"}}]
[null,null,null,null,null,null,null,null,null,null,null,null,"no email",{"$error":"#VALUE!"},{"$error":"#VALUE!"},{"$f":"VLOOKUP(K1195,references!$A$1:$B$7,2,FALSE)","v":{"$error":"#N/A"}}]
[null,null,null,null,null,null,null,null,null,null,null,null,"no email",{"$error":"#VALUE!"},{"$error":"#VALUE!"},{"$f":"VLOOKUP(K1196,references!$A$1:$B$7,2,FALSE)","v":{"$error":"#N/A"}}]
[null,null,null,null,null,null,null,null,null,null,null,null,"no email",{"$error":"#VALUE!"},{"$error":"#VALUE!"},{"$f":"VLOOKUP(K1197,references!$A$1:$B$7,2,FALSE)","v":{"$error":"#N/A"}}]
[null,null,null,null,null,null,null,null,null,null,null,null,"no email",{"$error":"#VALUE!"},{"$error":"#VALUE!"},{"$f":"VLOOKUP(K1198,references!$A$1:$B$7,2,FALSE)","v":{"$error":"#N/A"}}]
[null,null,null,null,null,null,null,null,null,null,null,null,"no email",{"$error":"#VALUE!"},{"$error":"#VALUE!"},{"$f":"VLOOKUP(K1199,references!$A$1:$B$7,2,FALSE)","v":{"$error":"#N/A"}}]
[null,null,null,null,null,null,null,null,null,null,null,null,"no email",{"$error":"#VALUE!"},{"$error":"#VALUE!"},{"$f":"VLOOKUP(K1200,references!$A$1:$B$7,2,FALSE)","v":{"$error":"#N/A"}}]
[null,null,null,null,null,null,null,null,null,null,null,null,"no email",{"$error":"#VALUE!"},{"$error":"#VALUE!"},{"$f":"VLOOKUP(K1201,references!$A$1:$B$7,2,FALSE)","v":{"$error":"#N/A"}}]
[null,null,null,null,null,null,null,null,null,null,null,null,"no email",{"$error":"#VALUE!"},{"$error":"#VALUE!"},{"$f":"VLOOKUP(K1202,references!$A$1:$B$7,2,FALSE)","v":{"$error":"#N/A"}}]
[null,null,null,null,null,null,null,null,null,null,null,null,"no email",{"$error":"#VALUE!"},{"$error":"#VALUE!"},{"$f":"VLOOKUP(K1203,references!$A$1:$B$7,2,FALSE)","v":{"$error":"#N/A"}}]
[null,null,null,null,null,null,null,null,null,null,null,null,"no email",{"$error":"#VALUE!"},{"$error":"#VALUE!"},{"$f":"VLOOKUP(K1204,references!$A$1:$B$7,2,FALSE)","v":{"$error":"#N/A"}}]
[null,null,null,null,null,null,null,null,null,null,null,null,"no email",{"$error":"#VALUE!"},{"$error":"#VALUE!"},{"$f":"VLOOKUP(K1205,references!$A$1:$B$7,2,FALSE)","v":{"$error":"#N/A"}}]
[null,null,null,null,null,null,null,null,null,null,null,null,"no email",{"$error":"#VALUE!"},{"$error":"#VALUE!"},{"$f":"VLOOKUP(K1206,references!$A$1:$B$7,2,FALSE)","v":{"$error":"#N/A"}}]
[null,null,null,null,null,null,null,null,null,null,null,null,"no email",{"$error":"#VALUE!"},{"$error":"#VALUE!"},{"$f":"VLOOKUP(K1207,references!$A$1:$B$7,2,FALSE)","v":{"$error":"#N/A"}}]
[null,null,null,null,null,null,null,null,null,null,null,null,"no email",{"$error":"#VALUE!"},{"$error":"#VALUE!"},{"$f":"VLOOKUP(K1208,references!$A$1:$B$7,2,FALSE)","v":{"$error":"#N/A"}}]
[null,null,null,null,null,null,null,null,null,null,null,null,"no email",{"$error":"#VALUE!"},{"$error":"#VALUE!"},{"$f":"VLOOKUP(K1209,references!$A$1:$B$7,2,FALSE)","v":{"$error":"#N/A"}}]
[null,null,null,null,null,null,null,null,null,null,null,null,"no email",{"$error":"#VALUE!"},{"$error":"#VALUE!"},{"$f":"VLOOKUP(K1210,references!$A$1:$B$7,2,FALSE)","v":{"$error":"#N/A"}}]
[null,null,null,null,null,null,null,null,null,null,null,null,"no email",{"$error":"#VALUE!"},{"$error":"#VALUE!"},{"$f":"VLOOKUP(K1211,references!$A$1:$B$7,2,FALSE)","v":{"$error":"#N/A"}}]
[null,null,null,null,null,null,null,null,null,null,null,null,"no email",{"$error":"#VALUE!"},{"$error":"#VALUE!"},{"$f":"VLOOKUP(K1212,references!$A$1:$B$7,2,FALSE)","v":{"$error":"#N/A"}}]
[null,null,null,null,null,null,null,null,null,null,null,null,"no email",{"$error":"#VALUE!"},{"$error":"#VALUE!"},{"$f":"VLOOKUP(K1213,references!$A$1:$B$7,2,FALSE)","v":{"$error":"#N/A"}}]
[null,null,null,null,null,null,null,null,null,null,null,null,"no email",{"$error":"#VALUE!"},{"$error":"#VALUE!"},{"$f":"VLOOKUP(K1214,references!$A$1:$B$7,2,FALSE)","v":{"$error":"#N/A"}}]
[null,null,null,null,null,null,null,null,null,null,null,null,"no email",{"$error":"#VALUE!"},{"$error":"#VALUE!"},{"$f":"VLOOKUP(K1215,references!$A$1:$B$7,2,FALSE)","v":{"$error":"#N/A"}}]
[null,null,null,null,null,null,null,null,null,null,null,null,"no email",{"$error":"#VALUE!"},{"$error":"#VALUE!"},{"$f":"VLOOKUP(K1216,references!$A$1:$B$7,2,FALSE)","v":{"$error":"#N/A"}}]
[null,null,null,null,null,null,null,null,null,null,null,null,"no email",{"$error":"#VALUE!"},{"$error":"#VALUE!"},{"$f":"VLOOKUP(K1217,references!$A$1:$B$7,2,FALSE)","v":{"$error":"#N/A"}}]
[null,null,null,null,null,null,null,null,null,null,null,null,{"$f":"IF(L1218=\"\", \"no email\",LOWER(L1218))","v":"no email"},{"$f":"LEFT(A1218, SEARCH(\",\",A1218,1)-1)","v":{"$error":"#VALUE!"}},{"$f":"RIGHT(A1218, LEN(A1218) -SEARCH(\",\",A1218,1)-1)","v":{"$error":"#VALUE!"}},{"$f":"VLOOKUP(K1218,references!$A$1:$B$7,2,FALSE)","v":{"$error":"#N/A"}}]
[null,null,null,null,null,null,null,null,null,null,null,null,"no email",{"$error":"#VALUE!"},{"$error":"#VALUE!"},{"$f":"VLOOKUP(K1219,references!$A$1:$B$7,2,FALSE)","v":{"$error":"#N/A"}}]
[null,null,null,null,null,null,null,null,null,null,null,null,"no email",{"$error":"#VALUE!"},{"$error":"#VALUE!"},{"$f":"VLOOKUP(K1220,references!$A$1:$B$7,2,FALSE)","v":{"$error":"#N/A"}}]
[null,null,null,null,null,null,null,null,null,null,null,null,"no email",{"$error":"#VALUE!"},{"$error":"#VALUE!"},{"$f":"VLOOKUP(K1221,references!$A$1:$B$7,2,FALSE)","v":{"$error":"#N/A"}}]
[null,null,null,null,null,null,null,null,null,null,null,null,"no email",{"$error":"#VALUE!"},{"$error":"#VALUE!"},{"$f":"VLOOKUP(K1222,references!$A$1:$B$7,2,FALSE)","v":{"$error":"#N/A"}}]
[null,null,null,null,null,null,null,null,null,null,null,null,"no email",{"$error":"#VALUE!"},{"$error":"#VALUE!"},{"$f":"VLOOKUP(K1223,references!$A$1:$B$7,2,FALSE)","v":{"$error":"#N/A"}}]
[null,null,null,null,null,null,null,null,null,null,null,null,"no email",{"$error":"#VALUE!"},{"$error":"#VALUE!"},{"$f":"VLOOKUP(K1224,references!$A$1:$B$7,2,FALSE)","v":{"$error":"#N/A"}}]
[null,null,null,null,null,null,null,null,null,null,null,null,"no email",{"$error":"#VALUE!"},{"$error":"#VALUE!"},{"$f":"VLOOKUP(K1225,references!$A$1:$B$7,2,FALSE)","v":{"$error":"#N/A"}}]
[null,null,null,null,null,null,null,null,null,null,null,null,"no email",{"$error":"#VALUE!"},{"$error":"#VALUE!"},{"$f":"VLOOKUP(K1226,references!$A$1:$B$7,2,FALSE)","v":{"$error":"#N/A"}}]
[null,null,null,null,null,null,null,null,null,null,null,null,"no email",{"$error":"#VALUE!"},{"$error":"#VALUE!"},{"$f":"VLOOKUP(K1227,references!$A$1:$B$7,2,FALSE)","v":{"$error":"#N/A"}}]
[null,null,null,null,null,null,null,null,null,null,null,null,"no email",{"$error":"#VALUE!"},{"$error":"#VALUE!"},{"$f":"VLOOKUP(K1228,references!$A$1:$B$7,2,FALSE)","v":{"$error":"#N/A"}}]
[null,null,null,null,null,null,null,null,null,null,null,null,"no email",{"$error":"#VALUE!"},{"$error":"#VALUE!"},{"$f":"VLOOKUP(K1229,references!$A$1:$B$7,2,FALSE)","v":{"$error":"#N/A"}}]
[null,null,null,null,null,null,null,null,null,null,null,null,"no email",{"$error":"#VALUE!"},{"$error":"#VALUE!"},{"$f":"VLOOKUP(K1230,references!$A$1:$B$7,2,FALSE)","v":{"$error":"#N/A"}}]
[null,null,null,null,null,null,null,null,null,null,null,null,"no email",{"$error":"#VALUE!"},{"$error":"#VALUE!"},{"$f":"VLOOKUP(K1231,references!$A$1:$B$7,2,FALSE)","v":{"$error":"#N/A"}}]
[null,null,null,null,null,null,null,null,null,null,null,null,"no email",{"$error":"#VALUE!"},{"$error":"#VALUE!"},{"$f":"VLOOKUP(K1232,references!$A$1:$B$7,2,FALSE)","v":{"$error":"#N/A"}}]
[null,null,null,null,null,null,null,null,null,null,null,null,"no email",{"$error":"#VALUE!"},{"$error":"#VALUE!"},{"$f":"VLOOKUP(K1233,references!$A$1:$B$7,2,FALSE)","v":{"$error":"#N/A"}}]
[null,null,null,null,null,null,null,null,null,null,null,null,"no email",{"$error":"#VALUE!"},{"$error":"#VALUE!"},{"$f":"VLOOKUP(K1234,references!$A$1:$B$7,2,FALSE)","v":{"$error":"#N/A"}}]
[null,null,null,null,null,null,null,null,null,null,null,null,"no email",{"$error":"#VALUE!"},{"$error":"#VALUE!"},{"$f":"VLOOKUP(K1235,references!$A$1:$B$7,2,FALSE)","v":{"$error":"#N/A"}}]
[null,null,null,null,null,null,null,null,null,null,null,null,"no email",{"$error":"#VALUE!"},{"$error":"#VALUE!"},{"$f":"VLOOKUP(K1236,references!$A$1:$B$7,2,FALSE)","v":{"$error":"#N/A"}}]
[null,null,null,null,null,null,null,null,null,null,null,null,"no email",{"$error":"#VALUE!"},{"$error":"#VALUE!"},{"$f":"VLOOKUP(K1237,references!$A$1:$B$7,2,FALSE)","v":{"$error":"#N/A"}}]
[null,null,null,null,null,null,null,null,null,null,null,null,"no email",{"$error":"#VALUE!"},{"$error":"#VALUE!"},{"$f":"VLOOKUP(K1238,references!$A$1:$B$7,2,FALSE)","v":{"$error":"#N/A"}}]
[null,null,null,null,null,null,null,null,null,null,null,null,"no email",{"$error":"#VALUE!"},{"$error":"#VALUE!"},{"$f":"VLOOKUP(K1239,references!$A$1:$B$7,2,FALSE)","v":{"$error":"#N/A"}}]
[null,null,null,null,null,null,null,null,null,null,null,null,"no email",{"$error":"#VALUE!"},{"$error":"#VALUE!"},{"$f":"VLOOKUP(K1240,references!$A$1:$B$7,2,FALSE)","v":{"$error":"#N/A"}}]
[null,null,null,null,null,null,null,null,null,null,null,null,"no email",{"$error":"#VALUE!"},{"$error":"#VALUE!"},{"$f":"VLOOKUP(K1241,references!$A$1:$B$7,2,FALSE)","v":{"$error":"#N/A"}}]
[null,null,null,null,null,null,null,null,null,null,null,null,"no email",{"$error":"#VALUE!"},{"$error":"#VALUE!"},{"$f":"VLOOKUP(K1242,references!$A$1:$B$7,2,FALSE)","v":{"$error":"#N/A"}}]
[null,null,null,null,null,null,null,null,null,null,null,null,"no email",{"$error":"#VALUE!"},{"$error":"#VALUE!"},{"$f":"VLOOKUP(K1243,references!$A$1:$B$7,2,FALSE)","v":{"$error":"#N/A"}}]
[null,null,null,null,null,null,null,null,null,null,null,null,"no email",{"$error":"#VALUE!"},{"$error":"#VALUE!"},{"$f":"VLOOKUP(K1244,references!$A$1:$B$7,2,FALSE)","v":{"$error":"#N/A"}}]
[null,null,null,null,null,null,null,null,null,null,null,null,"no email",{"$error":"#VALUE!"},{"$error":"#VALUE!"},{"$f":"VLOOKUP(K1245,references!$A$1:$B$7,2,FALSE)","v":{"$error":"#N/A"}}]
[null,null,null,null,null,null,null,null,null,null,null,null,"no email",{"$error":"#VALUE!"},{"$error":"#VALUE!"},{"$f":"VLOOKUP(K1246,references!$A$1:$B$7,2,FALSE)","v":{"$error":"#N/A"}}]
[null,null,null,null,null,null,null,null,null,null,null,null,"no email",{"$error":"#VALUE!"},{"$error":"#VALUE!"},{"$f":"VLOOKUP(K1247,references!$A$1:$B$7,2,FALSE)","v":{"$error":"#N/A"}}]
[null,null,null,null,null,null,null,null,null,null,null,null,"no email",{"$error":"#VALUE!"},{"$error":"#VALUE!"},{"$f":"VLOOKUP(K1248,references!$A$1:$B$7,2,FALSE)","v":{"$error":"#N/A"}}]
[null,null,null,null,null,null,null,null,null,null,null,null,"no email",{"$error":"#VALUE!"},{"$error":"#VALUE!"},{"$f":"VLOOKUP(K1249,references!$A$1:$B$7,2,FALSE)","v":{"$error":"#N/A"}}]
[null,null,null,null,null,null,null,null,null,null,null,null,"no email",{"$error":"#VALUE!"},{"$error":"#VALUE!"},{"$f":"VLOOKUP(K1250,references!$A$1:$B$7,2,FALSE)","v":{"$error":"#N/A"}}]
[null,null,null,null,null,null,null,null,null,null,null,null,"no email",{"$error":"#VALUE!"},{"$error":"#VALUE!"},{"$f":"VLOOKUP(K1251,references!$A$1:$B$7,2,FALSE)","v":{"$error":"#N/A"}}]
[null,null,null,null,null,null,null,null,null,null,null,null,"no email",{"$error":"#VALUE!"},{"$error":"#VALUE!"},{"$f":"VLOOKUP(K1252,references!$A$1:$B$7,2,FALSE)","v":{"$error":"#N/A"}}]
[null,null,null,null,null,null,null,null,null,null,null,null,"no email",{"$error":"#VALUE!"},{"$error":"#VALUE!"},{"$f":"VLOOKUP(K1253,references!$A$1:$B$7,2,FALSE)","v":{"$error":"#N/A"}}]
[null,null,null,null,null,null,null,null,null,null,null,null,"no email",{"$error":"#VALUE!"},{"$error":"#VALUE!"},{"$f":"VLOOKUP(K1254,references!$A$1:$B$7,2,FALSE)","v":{"$error":"#N/A"}}]
[null,null,null,null,null,null,null,null,null,null,null,null,"no email",{"$error":"#VALUE!"},{"$error":"#VALUE!"},{"$f":"VLOOKUP(K1255,references!$A$1:$B$7,2,FALSE)","v":{"$error":"#N/A"}}]
[null,null,null,null,null,null,null,null,null,null,null,null,"no email",{"$error":"#VALUE!"},{"$error":"#VALUE!"},{"$f":"VLOOKUP(K1256,references!$A$1:$B$7,2,FALSE)","v":{"$error":"#N/A"}}]
[null,null,null,null,null,null,null,null,null,null,null,null,"no email",{"$error":"#VALUE!"},{"$error":"#VALUE!"},{"$f":"VLOOKUP(K1257,references!$A$1:$B$7,2,FALSE)","v":{"$error":"#N/A"}}]
[null,null,null,null,null,null,null,null,null,null,null,null,"no email",{"$error":"#VALUE!"},{"$error":"#VALUE!"},{"$f":"VLOOKUP(K1258,references!$A$1:$B$7,2,FALSE)","v":{"$error":"#N/A"}}]
[null,null,null,null,null,null,null,null,null,null,null,null,"no email",{"$error":"#VALUE!"},{"$error":"#VALUE!"},{"$f":"VLOOKUP(K1259,references!$A$1:$B$7,2,FALSE)","v":{"$error":"#N/A"}}]
[null,null,null,null,null,null,null,null,null,null,null,null,"no email",{"$error":"#VALUE!"},{"$error":"#VALUE!"},{"$f":"VLOOKUP(K1260,references!$A$1:$B$7,2,FALSE)","v":{"$error":"#N/A"}}]
[null,null,null,null,null,null,null,null,null,null,null,null,"no email",{"$error":"#VALUE!"},{"$error":"#VALUE!"},{"$f":"VLOOKUP(K1261,references!$A$1:$B$7,2,FALSE)","v":{"$error":"#N/A"}}]
[null,null,null,null,null,null,null,null,null,null,null,null,"no email",{"$error":"#VALUE!"},{"$error":"#VALUE!"},{"$f":"VLOOKUP(K1262,references!$A$1:$B$7,2,FALSE)","v":{"$error":"#N/A"}}]
[null,null,null,null,null,null,null,null,null,null,null,null,"no email",{"$error":"#VALUE!"},{"$error":"#VALUE!"},{"$f":"VLOOKUP(K1263,references!$A$1:$B$7,2,FALSE)","v":{"$error":"#N/A"}}]
[null,null,null,null,null,null,null,null,null,null,null,null,"no email",{"$error":"#VALUE!"},{"$error":"#VALUE!"},{"$f":"VLOOKUP(K1264,references!$A$1:$B$7,2,FALSE)","v":{"$error":"#N/A"}}]
[null,null,null,null,null,null,null,null,null,null,null,null,"no email",{"$error":"#VALUE!"},{"$error":"#VALUE!"},{"$f":"VLOOKUP(K1265,references!$A$1:$B$7,2,FALSE)","v":{"$error":"#N/A"}}]
[null,null,null,null,null,null,null,null,null,null,null,null,"no email",{"$error":"#VALUE!"},{"$error":"#VALUE!"},{"$f":"VLOOKUP(K1266,references!$A$1:$B$7,2,FALSE)","v":{"$error":"#N/A"}}]
[null,null,null,null,null,null,null,null,null,null,null,null,"no email",{"$error":"#VALUE!"},{"$error":"#VALUE!"},{"$f":"VLOOKUP(K1267,references!$A$1:$B$7,2,FALSE)","v":{"$error":"#N/A"}}]
[null,null,null,null,null,null,null,null,null,null,null,null,"no email",{"$error":"#VALUE!"},{"$error":"#VALUE!"},{"$f":"VLOOKUP(K1268,references!$A$1:$B$7,2,FALSE)","v":{"$error":"#N/A"}}]
[null,null,null,null,null,null,null,null,null,null,null,null,"no email",{"$error":"#VALUE!"},{"$error":"#VALUE!"},{"$f":"VLOOKUP(K1269,references!$A$1:$B$7,2,FALSE)","v":{"$error":"#N/A"}}]
[null,null,null,null,null,null,null,null,null,null,null,null,"no email",{"$error":"#VALUE!"},{"$error":"#VALUE!"},{"$f":"VLOOKUP(K1270,references!$A$1:$B$7,2,FALSE)","v":{"$error":"#N/A"}}]
[null,null,null,null,null,null,null,null,null,null,null,null,"no email",{"$error":"#VALUE!"},{"$error":"#VALUE!"},{"$f":"VLOOKUP(K1271,references!$A$1:$B$7,2,FALSE)","v":{"$error":"#N/A"}}]
[null,null,null,null,null,null,null,null,null,null,null,null,"no email",{"$error":"#VALUE!"},{"$error":"#VALUE!"},{"$f":"VLOOKUP(K1272,references!$A$1:$B$7,2,FALSE)","v":{"$error":"#N/A"}}]
[null,null,null,null,null,null,null,null,null,null,null,null,"no email",{"$error":"#VALUE!"},{"$error":"#VALUE!"},{"$f":"VLOOKUP(K1273,references!$A$1:$B$7,2,FALSE)","v":{"$error":"#N/A"}}]
[null,null,null,null,null,null,null,null,null,null,null,null,"no email",{"$error":"#VALUE!"},{"$error":"#VALUE!"},{"$f":"VLOOKUP(K1274,references!$A$1:$B$7,2,FALSE)","v":{"$error":"#N/A"}}]
[null,null,null,null,null,null,null,null,null,null,null,null,"no email",{"$error":"#VALUE!"},{"$error":"#VALUE!"},{"$f":"VLOOKUP(K1275,references!$A$1:$B$7,2,FALSE)","v":{"$error":"#N/A"}}]
[null,null,null,null,null,null,null,null,null,null,null,null,"no email",{"$error":"#VALUE!"},{"$error":"#VALUE!"},{"$f":"VLOOKUP(K1276,references!$A$1:$B$7,2,FALSE)","v":{"$error":"#N/A"}}]
[null,null,null,null,null,null,null,null,null,null,null,null,"no email",{"$error":"#VALUE!"},{"$error":"#VALUE!"},{"$f":"VLOOKUP(K1277,references!$A$1:$B$7,2,FALSE)","v":{"$error":"#N/A"}}]
[null,null,null,null,null,null,null,null,null,null,null,null,"no email",{"$error":"#VALUE!"},{"$error":"#VALUE!"},{"$f":"VLOOKUP(K1278,references!$A$1:$B$7,2,FALSE)","v":{"$error":"#N/A"}}]
[null,null,null,null,null,null,null,null,null,null,null,null,"no email",{"$error":"#VALUE!"},{"$error":"#VALUE!"},{"$f":"VLOOKUP(K1279,references!$A$1:$B$7,2,FALSE)","v":{"$error":"#N/A"}}]
[null,null,null,null,null,null,null,null,null,null,null,null,"no email",{"$error":"#VALUE!"},{"$error":"#VALUE!"},{"$f":"VLOOKUP(K1280,references!$A$1:$B$7,2,FALSE)","v":{"$error":"#N/A"}}]
[null,null,null,null,null,null,null,null,null,null,null,null,"no email",{"$error":"#VALUE!"},{"$error":"#VALUE!"},{"$f":"VLOOKUP(K1281,references!$A$1:$B$7,2,FALSE)","v":{"$error":"#N/A"}}]
[null,null,null,null,null,null,null,null,null,null,null,null,{"$f":"IF(L1282=\"\", \"no email\",LOWER(L1282))","v":"no email"},{"$f":"LEFT(A1282, SEARCH(\",\",A1282,1)-1)","v":{"$error":"#VALUE!"}},{"$f":"RIGHT(A1282, LEN(A1282) -SEARCH(\",\",A1282,1)-1)","v":{"$error":"#VALUE!"}},{"$f":"VLOOKUP(K1282,references!$A$1:$B$7,2,FALSE)","v":{"$error":"#N/A"}}]
[null,null,null,null,null,null,null,null,null,null,null,null,"no email",{"$error":"#VALUE!"},{"$error":"#VALUE!"},{"$f":"VLOOKUP(K1283,references!$A$1:$B$7,2,FALSE)","v":{"$error":"#N/A"}}]
[null,null,null,null,null,null,null,null,null,null,null,null,"no email",{"$error":"#VALUE!"},{"$error":"#VALUE!"},{"$f":"VLOOKUP(K1284,references!$A$1:$B$7,2,FALSE)","v":{"$error":"#N/A"}}]
[null,null,null,null,null,null,null,null,null,null,null,null,"no email",{"$error":"#VALUE!"},{"$error":"#VALUE!"},{"$f":"VLOOKUP(K1285,references!$A$1:$B$7,2,FALSE)","v":{"$error":"#N/A"}}]
[null,null,null,null,null,null,null,null,null,null,null,null,"no email",{"$error":"#VALUE!"},{"$error":"#VALUE!"},{"$f":"VLOOKUP(K1286,references!$A$1:$B$7,2,FALSE)","v":{"$error":"#N/A"}}]
[null,null,null,null,null,null,null,null,null,null,null,null,"no email",{"$error":"#VALUE!"},{"$error":"#VALUE!"},{"$f":"VLOOKUP(K1287,references!$A$1:$B$7,2,FALSE)","v":{"$error":"#N/A"}}]
[null,null,null,null,null,null,null,null,null,null,null,null,"no email",{"$error":"#VALUE!"},{"$error":"#VALUE!"},{"$f":"VLOOKUP(K1288,references!$A$1:$B$7,2,FALSE)","v":{"$error":"#N/A"}}]
[null,null,null,null,null,null,null,null,null,null,null,null,"no email",{"$error":"#VALUE!"},{"$error":"#VALUE!"},{"$f":"VLOOKUP(K1289,references!$A$1:$B$7,2,FALSE)","v":{"$error":"#N/A"}}]
[null,null,null,null,null,null,null,null,null,null,null,null,"no email",{"$error":"#VALUE!"},{"$error":"#VALUE!"},{"$f":"VLOOKUP(K1290,references!$A$1:$B$7,2,FALSE)","v":{"$error":"#N/A"}}]
[null,null,null,null,null,null,null,null,null,null,null,null,"no email",{"$error":"#VALUE!"},{"$error":"#VALUE!"},{"$f":"VLOOKUP(K1291,references!$A$1:$B$7,2,FALSE)","v":{"$error":"#N/A"}}]
[null,null,null,null,null,null,null,null,null,null,null,null,"no email",{"$error":"#VALUE!"},{"$error":"#VALUE!"},{"$f":"VLOOKUP(K1292,references!$A$1:$B$7,2,FALSE)","v":{"$error":"#N/A"}}]
[null,null,null,null,null,null,null,null,null,null,null,null,"no email",{"$error":"#VALUE!"},{"$error":"#VALUE!"},{"$f":"VLOOKUP(K1293,references!$A$1:$B$7,2,FALSE)","v":{"$error":"#N/A"}}]
[null,null,null,null,null,null,null,null,null,null,null,null,"no email",{"$error":"#VALUE!"},{"$error":"#VALUE!"},{"$f":"VLOOKUP(K1294,references!$A$1:$B$7,2,FALSE)","v":{"$error":"#N/A"}}]
[null,null,null,null,null,null,null,null,null,null,null,null,"no email",{"$error":"#VALUE!"},{"$error":"#VALUE!"},{"$f":"VLOOKUP(K1295,references!$A$1:$B$7,2,FALSE)","v":{"$error":"#N/A"}}]
[null,null,null,null,null,null,null,null,null,null,null,null,"no email",{"$error":"#VALUE!"},{"$error":"#VALUE!"},{"$f":"VLOOKUP(K1296,references!$A$1:$B$7,2,FALSE)","v":{"$error":"#N/A"}}]
[null,null,null,null,null,null,null,null,null,null,null,null,"no email",{"$error":"#VALUE!"},{"$error":"#VALUE!"},{"$f":"VLOOKUP(K1297,references!$A$1:$B$7,2,FALSE)","v":{"$error":"#N/A"}}]
[null,null,null,null,null,null,null,null,null,null,null,null,"no email",{"$error":"#VALUE!"},{"$error":"#VALUE!"},{"$f":"VLOOKUP(K1298,references!$A$1:$B$7,2,FALSE)","v":{"$error":"#N/A"}}]
[null,null,null,null,null,null,null,null,null,null,null,null,"no email",{"$error":"#VALUE!"},{"$error":"#VALUE!"},{"$f":"VLOOKUP(K1299,references!$A$1:$B$7,2,FALSE)","v":{"$error":"#N/A"}}]
[null,null,null,null,null,null,null,null,null,null,null,null,"no email",{"$error":"#VALUE!"},{"$error":"#VALUE!"},{"$f":"VLOOKUP(K1300,references!$A$1:$B$7,2,FALSE)","v":{"$error":"#N/A"}}]
[null,null,null,null,null,null,null,null,null,null,null,null,"no email",{"$error":"#VALUE!"},{"$error":"#VALUE!"},{"$f":"VLOOKUP(K1301,references!$A$1:$B$7,2,FALSE)","v":{"$error":"#N/A"}}]
[null,null,null,null,null,null,null,null,null,null,null,null,"no email",{"$error":"#VALUE!"},{"$error":"#VALUE!"},{"$f":"VLOOKUP(K1302,references!$A$1:$B$7,2,FALSE)","v":{"$error":"#N/A"}}]
[null,null,null,null,null,null,null,null,null,null,null,null,"no email",{"$error":"#VALUE!"},{"$error":"#VALUE!"},{"$f":"VLOOKUP(K1303,references!$A$1:$B$7,2,FALSE)","v":{"$error":"#N/A"}}]
[null,null,null,null,null,null,null,null,null,null,null,null,"no email",{"$error":"#VALUE!"},{"$error":"#VALUE!"},{"$f":"VLOOKUP(K1304,references!$A$1:$B$7,2,FALSE)","v":{"$error":"#N/A"}}]
[null,null,null,null,null,null,null,null,null,null,null,null,"no email",{"$error":"#VALUE!"},{"$error":"#VALUE!"},{"$f":"VLOOKUP(K1305,references!$A$1:$B$7,2,FALSE)","v":{"$error":"#N/A"}}]
[null,null,null,null,null,null,null,null,null,null,null,null,"no email",{"$error":"#VALUE!"},{"$error":"#VALUE!"},{"$f":"VLOOKUP(K1306,references!$A$1:$B$7,2,FALSE)","v":{"$error":"#N/A"}}]
[null,null,null,null,null,null,null,null,null,null,null,null,"no email",{"$error":"#VALUE!"},{"$error":"#VALUE!"},{"$f":"VLOOKUP(K1307,references!$A$1:$B$7,2,FALSE)","v":{"$error":"#N/A"}}]
[null,null,null,null,null,null,null,null,null,null,null,null,"no email",{"$error":"#VALUE!"},{"$error":"#VALUE!"},{"$f":"VLOOKUP(K1308,references!$A$1:$B$7,2,FALSE)","v":{"$error":"#N/A"}}]
[null,null,null,null,null,null,null,null,null,null,null,null,"no email",{"$error":"#VALUE!"},{"$error":"#VALUE!"},{"$f":"VLOOKUP(K1309,references!$A$1:$B$7,2,FALSE)","v":{"$error":"#N/A"}}]
[null,null,null,null,null,null,null,null,null,null,null,null,"no email",{"$error":"#VALUE!"},{"$error":"#VALUE!"},{"$f":"VLOOKUP(K1310,references!$A$1:$B$7,2,FALSE)","v":{"$error":"#N/A"}}]
[null,null,null,null,null,null,null,null,null,null,null,null,"no email",{"$error":"#VALUE!"},{"$error":"#VALUE!"},{"$f":"VLOOKUP(K1311,references!$A$1:$B$7,2,FALSE)","v":{"$error":"#N/A"}}]
[null,null,null,null,null,null,null,null,null,null,null,null,"no email",{"$error":"#VALUE!"},{"$error":"#VALUE!"},{"$f":"VLOOKUP(K1312,references!$A$1:$B$7,2,FALSE)","v":{"$error":"#N/A"}}]
[null,null,null,null,null,null,null,null,null,null,null,null,"no email",{"$error":"#VALUE!"},{"$error":"#VALUE!"},{"$f":"VLOOKUP(K1313,references!$A$1:$B$7,2,FALSE)","v":{"$error":"#N/A"}}]
[null,null,null,null,null,null,null,null,null,null,null,null,"no email",{"$error":"#VALUE!"},{"$error":"#VALUE!"},{"$f":"VLOOKUP(K1314,references!$A$1:$B$7,2,FALSE)","v":{"$error":"#N/A"}}]
[null,null,null,null,null,null,null,null,null,null,null,null,"no email",{"$error":"#VALUE!"},{"$error":"#VALUE!"},{"$f":"VLOOKUP(K1315,references!$A$1:$B$7,2,FALSE)","v":{"$error":"#N/A"}}]
[null,null,null,null,null,null,null,null,null,null,null,null,"no email",{"$error":"#VALUE!"},{"$error":"#VALUE!"},{"$f":"VLOOKUP(K1316,references!$A$1:$B$7,2,FALSE)","v":{"$error":"#N/A"}}]
[null,null,null,null,null,null,null,null,null,null,null,null,"no email",{"$error":"#VALUE!"},{"$error":"#VALUE!"},{"$f":"VLOOKUP(K1317,references!$A$1:$B$7,2,FALSE)","v":{"$error":"#N/A"}}]
[null,null,null,null,null,null,null,null,null,null,null,null,"no email",{"$error":"#VALUE!"},{"$error":"#VALUE!"},{"$f":"VLOOKUP(K1318,references!$A$1:$B$7,2,FALSE)","v":{"$error":"#N/A"}}]
[null,null,null,null,null,null,null,null,null,null,null,null,"no email",{"$error":"#VALUE!"},{"$error":"#VALUE!"},{"$f":"VLOOKUP(K1319,references!$A$1:$B$7,2,FALSE)","v":{"$error":"#N/A"}}]
[null,null,null,null,null,null,null,null,null,null,null,null,"no email",{"$error":"#VALUE!"},{"$error":"#VALUE!"},{"$f":"VLOOKUP(K1320,references!$A$1:$B$7,2,FALSE)","v":{"$error":"#N/A"}}]
[null,null,null,null,null,null,null,null,null,null,null,null,"no email",{"$error":"#VALUE!"},{"$error":"#VALUE!"},{"$f":"VLOOKUP(K1321,references!$A$1:$B$7,2,FALSE)","v":{"$error":"#N/A"}}]
[null,null,null,null,null,null,null,null,null,null,null,null,"no email",{"$error":"#VALUE!"},{"$error":"#VALUE!"},{"$f":"VLOOKUP(K1322,references!$A$1:$B$7,2,FALSE)","v":{"$error":"#N/A"}}]
[null,null,null,null,null,null,null,null,null,null,null,null,"no email",{"$error":"#VALUE!"},{"$error":"#VALUE!"},{"$f":"VLOOKUP(K1323,references!$A$1:$B$7,2,FALSE)","v":{"$error":"#N/A"}}]
[null,null,null,null,null,null,null,null,null,null,null,null,"no email",{"$error":"#VALUE!"},{"$error":"#VALUE!"},{"$f":"VLOOKUP(K1324,references!$A$1:$B$7,2,FALSE)","v":{"$error":"#N/A"}}]
[null,null,null,null,null,null,null,null,null,null,null,null,"no email",{"$error":"#VALUE!"},{"$error":"#VALUE!"},{"$f":"VLOOKUP(K1325,references!$A$1:$B$7,2,FALSE)","v":{"$error":"#N/A"}}]
[null,null,null,null,null,null,null,null,null,null,null,null,"no email",{"$error":"#VALUE!"},{"$error":"#VALUE!"},{"$f":"VLOOKUP(K1326,references!$A$1:$B$7,2,FALSE)","v":{"$error":"#N/A"}}]
[null,null,null,null,null,null,null,null,null,null,null,null,"no email",{"$error":"#VALUE!"},{"$error":"#VALUE!"},{"$f":"VLOOKUP(K1327,references!$A$1:$B$7,2,FALSE)","v":{"$error":"#N/A"}}]
[null,null,null,null,null,null,null,null,null,null,null,null,"no email",{"$error":"#VALUE!"},{"$error":"#VALUE!"},{"$f":"VLOOKUP(K1328,references!$A$1:$B$7,2,FALSE)","v":{"$error":"#N/A"}}]
[null,null,null,null,null,null,null,null,null,null,null,null,"no email",{"$error":"#VALUE!"},{"$error":"#VALUE!"},{"$f":"VLOOKUP(K1329,references!$A$1:$B$7,2,FALSE)","v":{"$error":"#N/A"}}]
[null,null,null,null,null,null,null,null,null,null,null,null,"no email",{"$error":"#VALUE!"},{"$error":"#VALUE!"},{"$f":"VLOOKUP(K1330,references!$A$1:$B$7,2,FALSE)","v":{"$error":"#N/A"}}]
[null,null,null,null,null,null,null,null,null,null,null,null,"no email",{"$error":"#VALUE!"},{"$error":"#VALUE!"},{"$f":"VLOOKUP(K1331,references!$A$1:$B$7,2,FALSE)","v":{"$error":"#N/A"}}]
[null,null,null,null,null,null,null,null,null,null,null,null,"no email",{"$error":"#VALUE!"},{"$error":"#VALUE!"},{"$f":"VLOOKUP(K1332,references!$A$1:$B$7,2,FALSE)","v":{"$error":"#N/A"}}]
[null,null,null,null,null,null,null,null,null,null,null,null,"no email",{"$error":"#VALUE!"},{"$error":"#VALUE!"},{"$f":"VLOOKUP(K1333,references!$A$1:$B$7,2,FALSE)","v":{"$error":"#N/A"}}]
[null,null,null,null,null,null,null,null,null,null,null,null,"no email",{"$error":"#VALUE!"},{"$error":"#VALUE!"},{"$f":"VLOOKUP(K1334,references!$A$1:$B$7,2,FALSE)","v":{"$error":"#N/A"}}]
[null,null,null,null,null,null,null,null,null,null,null,null,"no email",{"$error":"#VALUE!"},{"$error":"#VALUE!"},{"$f":"VLOOKUP(K1335,references!$A$1:$B$7,2,FALSE)","v":{"$error":"#N/A"}}]
[null,null,null,null,null,null,null,null,null,null,null,null,"no email",{"$error":"#VALUE!"},{"$error":"#VALUE!"},{"$f":"VLOOKUP(K1336,references!$A$1:$B$7,2,FALSE)","v":{"$error":"#N/A"}}]
[null,null,null,null,null,null,null,null,null,null,null,null,"no email",{"$error":"#VALUE!"},{"$error":"#VALUE!"},{"$f":"VLOOKUP(K1337,references!$A$1:$B$7,2,FALSE)","v":{"$error":"#N/A"}}]
[null,null,null,null,null,null,null,null,null,null,null,null,"no email",{"$error":"#VALUE!"},{"$error":"#VALUE!"},{"$f":"VLOOKUP(K1338,references!$A$1:$B$7,2,FALSE)","v":{"$error":"#N/A"}}]
[null,null,null,null,null,null,null,null,null,null,null,null,"no email",{"$error":"#VALUE!"},{"$error":"#VALUE!"},{"$f":"VLOOKUP(K1339,references!$A$1:$B$7,2,FALSE)","v":{"$error":"#N/A"}}]
[null,null,null,null,null,null,null,null,null,null,null,null,"no email",{"$error":"#VALUE!"},{"$error":"#VALUE!"},{"$f":"VLOOKUP(K1340,references!$A$1:$B$7,2,FALSE)","v":{"$error":"#N/A"}}]
[null,null,null,null,null,null,null,null,null,null,null,null,"no email",{"$error":"#VALUE!"},{"$error":"#VALUE!"},{"$f":"VLOOKUP(K1341,references!$A$1:$B$7,2,FALSE)","v":{"$error":"#N/A"}}]
[null,null,null,null,null,null,null,null,null,null,null,null,"no email",{"$error":"#VALUE!"},{"$error":"#VALUE!"},{"$f":"VLOOKUP(K1342,references!$A$1:$B$7,2,FALSE)","v":{"$error":"#N/A"}}]
[null,null,null,null,null,null,null,null,null,null,null,null,"no email",{"$error":"#VALUE!"},{"$error":"#VALUE!"},{"$f":"VLOOKUP(K1343,references!$A$1:$B$7,2,FALSE)","v":{"$error":"#N/A"}}]
[null,null,null,null,null,null,null,null,null,null,null,null,"no email",{"$error":"#VALUE!"},{"$error":"#VALUE!"},{"$f":"VLOOKUP(K1344,references!$A$1:$B$7,2,FALSE)","v":{"$error":"#N/A"}}]
[null,null,null,null,null,null,null,null,null,null,null,null,"no email",{"$error":"#VALUE!"},{"$error":"#VALUE!"},{"$f":"VLOOKUP(K1345,references!$A$1:$B$7,2,FALSE)","v":{"$error":"#N/A"}}]
[null,null,null,null,null,null,null,null,null,null,null,null,{"$f":"IF(L1346=\"\", \"no email\",LOWER(L1346))","v":"no email"},{"$f":"LEFT(A1346, SEARCH(\",\",A1346,1)-1)","v":{"$error":"#VALUE!"}},{"$f":"RIGHT(A1346, LEN(A1346) -SEARCH(\",\",A1346,1)-1)","v":{"$error":"#VALUE!"}},{"$f":"VLOOKUP(K1346,references!$A$1:$B$7,2,FALSE)","v":{"$error":"#N/A"}}]
[null,null,null,null,null,null,null,null,null,null,null,null,"no email",{"$error":"#VALUE!"},{"$error":"#VALUE!"},{"$f":"VLOOKUP(K1347,references!$A$1:$B$7,2,FALSE)","v":{"$error":"#N/A"}}]
[null,null,null,null,null,null,null,null,null,null,null,null,"no email",{"$error":"#VALUE!"},{"$error":"#VALUE!"},{"$f":"VLOOKUP(K1348,references!$A$1:$B$7,2,FALSE)","v":{"$error":"#N/A"}}]
[null,null,null,null,null,null,null,null,null,null,null,null,"no email",{"$error":"#VALUE!"},{"$error":"#VALUE!"},{"$f":"VLOOKUP(K1349,references!$A$1:$B$7,2,FALSE)","v":{"$error":"#N/A"}}]
[null,null,null,null,null,null,null,null,null,null,null,null,"no email",{"$error":"#VALUE!"},{"$error":"#VALUE!"},{"$f":"VLOOKUP(K1350,references!$A$1:$B$7,2,FALSE)","v":{"$error":"#N/A"}}]
[null,null,null,null,null,null,null,null,null,null,null,null,"no email",{"$error":"#VALUE!"},{"$error":"#VALUE!"},{"$f":"VLOOKUP(K1351,references!$A$1:$B$7,2,FALSE)","v":{"$error":"#N/A"}}]
[null,null,null,null,null,null,null,null,null,null,null,null,"no email",{"$error":"#VALUE!"},{"$error":"#VALUE!"},{"$f":"VLOOKUP(K1352,references!$A$1:$B$7,2,FALSE)","v":{"$error":"#N/A"}}]
[null,null,null,null,null,null,null,null,null,null,null,null,"no email",{"$error":"#VALUE!"},{"$error":"#VALUE!"},{"$f":"VLOOKUP(K1353,references!$A$1:$B$7,2,FALSE)","v":{"$error":"#N/A"}}]
[null,null,null,null,null,null,null,null,null,null,null,null,"no email",{"$error":"#VALUE!"},{"$error":"#VALUE!"},{"$f":"VLOOKUP(K1354,references!$A$1:$B$7,2,FALSE)","v":{"$error":"#N/A"}}]
[null,null,null,null,null,null,null,null,null,null,null,null,"no email",{"$error":"#VALUE!"},{"$error":"#VALUE!"},{"$f":"VLOOKUP(K1355,references!$A$1:$B$7,2,FALSE)","v":{"$error":"#N/A"}}]
[null,null,null,null,null,null,null,null,null,null,null,null,"no email",{"$error":"#VALUE!"},{"$error":"#VALUE!"},{"$f":"VLOOKUP(K1356,references!$A$1:$B$7,2,FALSE)","v":{"$error":"#N/A"}}]
[null,null,null,null,null,null,null,null,null,null,null,null,"no email",{"$error":"#VALUE!"},{"$error":"#VALUE!"},{"$f":"VLOOKUP(K1357,references!$A$1:$B$7,2,FALSE)","v":{"$error":"#N/A"}}]
[null,null,null,null,null,null,null,null,null,null,null,null,"no email",{"$error":"#VALUE!"},{"$error":"#VALUE!"},{"$f":"VLOOKUP(K1358,references!$A$1:$B$7,2,FALSE)","v":{"$error":"#N/A"}}]
[null,null,null,null,null,null,null,null,null,null,null,null,"no email",{"$error":"#VALUE!"},{"$error":"#VALUE!"},{"$f":"VLOOKUP(K1359,references!$A$1:$B$7,2,FALSE)","v":{"$error":"#N/A"}}]
[null,null,null,null,null,null,null,null,null,null,null,null,"no email",{"$error":"#VALUE!"},{"$error":"#VALUE!"},{"$f":"VLOOKUP(K1360,references!$A$1:$B$7,2,FALSE)","v":{"$error":"#N/A"}}]
[null,null,null,null,null,null,null,null,null,null,null,null,"no email",{"$error":"#VALUE!"},{"$error":"#VALUE!"},{"$f":"VLOOKUP(K1361,references!$A$1:$B$7,2,FALSE)","v":{"$error":"#N/A"}}]
[null,null,null,null,null,null,null,null,null,null,null,null,"no email",{"$error":"#VALUE!"},{"$error":"#VALUE!"},{"$f":"VLOOKUP(K1362,references!$A$1:$B$7,2,FALSE)","v":{"$error":"#N/A"}}]
[null,null,null,null,null,null,null,null,null,null,null,null,"no email",{"$error":"#VALUE!"},{"$error":"#VALUE!"},{"$f":"VLOOKUP(K1363,references!$A$1:$B$7,2,FALSE)","v":{"$error":"#N/A"}}]
[null,null,null,null,null,null,null,null,null,null,null,null,"no email",{"$error":"#VALUE!"},{"$error":"#VALUE!"},{"$f":"VLOOKUP(K1364,references!$A$1:$B$7,2,FALSE)","v":{"$error":"#N/A"}}]
[null,null,null,null,null,null,null,null,null,null,null,null,"no email",{"$error":"#VALUE!"},{"$error":"#VALUE!"},{"$f":"VLOOKUP(K1365,references!$A$1:$B$7,2,FALSE)","v":{"$error":"#N/A"}}]
[null,null,null,null,null,null,null,null,null,null,null,null,"no email",{"$error":"#VALUE!"},{"$error":"#VALUE!"},{"$f":"VLOOKUP(K1366,references!$A$1:$B$7,2,FALSE)","v":{"$error":"#N/A"}}]
[null,null,null,null,null,null,null,null,null,null,null,null,"no email",{"$error":"#VALUE!"},{"$error":"#VALUE!"},{"$f":"VLOOKUP(K1367,references!$A$1:$B$7,2,FALSE)","v":{"$error":"#N/A"}}]
[null,null,null,null,null,null,null,null,null,null,null,null,"no email",{"$error":"#VALUE!"},{"$error":"#VALUE!"},{"$f":"VLOOKUP(K1368,references!$A$1:$B$7,2,FALSE)","v":{"$error":"#N/A"}}]
[null,null,null,null,null,null,null,null,null,null,null,null,"no email",{"$error":"#VALUE!"},{"$error":"#VALUE!"},{"$f":"VLOOKUP(K1369,references!$A$1:$B$7,2,FALSE)","v":{"$error":"#N/A"}}]
[null,null,null,null,null,null,null,null,null,null,null,null,"no email",{"$error":"#VALUE!"},{"$error":"#VALUE!"},{"$f":"VLOOKUP(K1370,references!$A$1:$B$7,2,FALSE)","v":{"$error":"#N/A"}}]
[null,null,null,null,null,null,null,null,null,null,null,null,"no email",{"$error":"#VALUE!"},{"$error":"#VALUE!"},{"$f":"VLOOKUP(K1371,references!$A$1:$B$7,2,FALSE)","v":{"$error":"#N/A"}}]
[null,null,null,null,null,null,null,null,null,null,null,null,"no email",{"$error":"#VALUE!"},{"$error":"#VALUE!"},{"$f":"VLOOKUP(K1372,references!$A$1:$B$7,2,FALSE)","v":{"$error":"#N/A"}}]
[null,null,null,null,null,null,null,null,null,null,null,null,"no email",{"$error":"#VALUE!"},{"$error":"#VALUE!"},{"$f":"VLOOKUP(K1373,references!$A$1:$B$7,2,FALSE)","v":{"$error":"#N/A"}}]
[null,null,null,null,null,null,null,null,null,null,null,null,"no email",{"$error":"#VALUE!"},{"$error":"#VALUE!"},{"$f":"VLOOKUP(K1374,references!$A$1:$B$7,2,FALSE)","v":{"$error":"#N/A"}}]
[null,null,null,null,null,null,null,null,null,null,null,null,"no email",{"$error":"#VALUE!"},{"$error":"#VALUE!"},{"$f":"VLOOKUP(K1375,references!$A$1:$B$7,2,FALSE)","v":{"$error":"#N/A"}}]
[null,null,null,null,null,null,null,null,null,null,null,null,"no email",{"$error":"#VALUE!"},{"$error":"#VALUE!"},{"$f":"VLOOKUP(K1376,references!$A$1:$B$7,2,FALSE)","v":{"$error":"#N/A"}}]
[null,null,null,null,null,null,null,null,null,null,null,null,"no email",{"$error":"#VALUE!"},{"$error":"#VALUE!"},{"$f":"VLOOKUP(K1377,references!$A$1:$B$7,2,FALSE)","v":{"$error":"#N/A"}}]
[null,null,null,null,null,null,null,null,null,null,null,null,"no email",{"$error":"#VALUE!"},{"$error":"#VALUE!"},{"$f":"VLOOKUP(K1378,references!$A$1:$B$7,2,FALSE)","v":{"$error":"#N/A"}}]
[null,null,null,null,null,null,null,null,null,null,null,null,"no email",{"$error":"#VALUE!"},{"$error":"#VALUE!"},{"$f":"VLOOKUP(K1379,references!$A$1:$B$7,2,FALSE)","v":{"$error":"#N/A"}}]
[null,null,null,null,null,null,null,null,null,null,null,null,"no email",{"$error":"#VALUE!"},{"$error":"#VALUE!"},{"$f":"VLOOKUP(K1380,references!$A$1:$B$7,2,FALSE)","v":{"$error":"#N/A"}}]
[null,null,null,null,null,null,null,null,null,null,null,null,"no email",{"$error":"#VALUE!"},{"$error":"#VALUE!"},{"$f":"VLOOKUP(K1381,references!$A$1:$B$7,2,FALSE)","v":{"$error":"#N/A"}}]
[null,null,null,null,null,null,null,null,null,null,null,null,"no email",{"$error":"#VALUE!"},{"$error":"#VALUE!"},{"$f":"VLOOKUP(K1382,references!$A$1:$B$7,2,FALSE)","v":{"$error":"#N/A"}}]
[null,null,null,null,null,null,null,null,null,null,null,null,"no email",{"$error":"#VALUE!"},{"$error":"#VALUE!"},{"$f":"VLOOKUP(K1383,references!$A$1:$B$7,2,FALSE)","v":{"$error":"#N/A"}}]
[null,null,null,null,null,null,null,null,null,null,null,null,"no email",{"$error":"#VALUE!"},{"$error":"#VALUE!"},{"$f":"VLOOKUP(K1384,references!$A$1:$B$7,2,FALSE)","v":{"$error":"#N/A"}}]
[null,null,null,null,null,null,null,null,null,null,null,null,"no email",{"$error":"#VALUE!"},{"$error":"#VALUE!"},{"$f":"VLOOKUP(K1385,references!$A$1:$B$7,2,FALSE)","v":{"$error":"#N/A"}}]
[null,null,null,null,null,null,null,null,null,null,null,null,"no email",{"$error":"#VALUE!"},{"$error":"#VALUE!"},{"$f":"VLOOKUP(K1386,references!$A$1:$B$7,2,FALSE)","v":{"$error":"#N/A"}}]
[null,null,null,null,null,null,null,null,null,null,null,null,"no email",{"$error":"#VALUE!"},{"$error":"#VALUE!"},{"$f":"VLOOKUP(K1387,references!$A$1:$B$7,2,FALSE)","v":{"$error":"#N/A"}}]
[null,null,null,null,null,null,null,null,null,null,null,null,"no email",{"$error":"#VALUE!"},{"$error":"#VALUE!"},{"$f":"VLOOKUP(K1388,references!$A$1:$B$7,2,FALSE)","v":{"$error":"#N/A"}}]
[null,null,null,null,null,null,null,null,null,null,null,null,"no email",{"$error":"#VALUE!"},{"$error":"#VALUE!"},{"$f":"VLOOKUP(K1389,references!$A$1:$B$7,2,FALSE)","v":{"$error":"#N/A"}}]
[null,null,null,null,null,null,null,null,null,null,null,null,"no email",{"$error":"#VALUE!"},{"$error":"#VALUE!"},{"$f":"VLOOKUP(K1390,references!$A$1:$B$7,2,FALSE)","v":{"$error":"#N/A"}}]
[null,null,null,null,null,null,null,null,null,null,null,null,"no email",{"$error":"#VALUE!"},{"$error":"#VALUE!"},{"$f":"VLOOKUP(K1391,references!$A$1:$B$7,2,FALSE)","v":{"$error":"#N/A"}}]
[null,null,null,null,null,null,null,null,null,null,null,null,"no email",{"$error":"#VALUE!"},{"$error":"#VALUE!"},{"$f":"VLOOKUP(K1392,references!$A$1:$B$7,2,FALSE)","v":{"$error":"#N/A"}}]
[null,null,null,null,null,null,null,null,null,null,null,null,"no email",{"$error":"#VALUE!"},{"$error":"#VALUE!"},{"$f":"VLOOKUP(K1393,references!$A$1:$B$7,2,FALSE)","v":{"$error":"#N/A"}}]
[null,null,null,null,null,null,null,null,null,null,null,null,"no email",{"$error":"#VALUE!"},{"$error":"#VALUE!"},{"$f":"VLOOKUP(K1394,references!$A$1:$B$7,2,FALSE)","v":{"$error":"#N/A"}}]
[null,null,null,null,null,null,null,null,null,null,null,null,"no email",{"$error":"#VALUE!"},{"$error":"#VALUE!"},{"$f":"VLOOKUP(K1395,references!$A$1:$B$7,2,FALSE)","v":{"$error":"#N/A"}}]
[null,null,null,null,null,null,null,null,null,null,null,null,"no email",{"$error":"#VALUE!"},{"$error":"#VALUE!"},{"$f":"VLOOKUP(K1396,references!$A$1:$B$7,2,FALSE)","v":{"$error":"#N/A"}}]
[null,null,null,null,null,null,null,null,null,null,null,null,"no email",{"$error":"#VALUE!"},{"$error":"#VALUE!"},{"$f":"VLOOKUP(K1397,references!$A$1:$B$7,2,FALSE)","v":{"$error":"#N/A"}}]
[null,null,null,null,null,null,null,null,null,null,null,null,"no email",{"$error":"#VALUE!"},{"$error":"#VALUE!"},{"$f":"VLOOKUP(K1398,references!$A$1:$B$7,2,FALSE)","v":{"$error":"#N/A"}}]
[null,null,null,null,null,null,null,null,null,null,null,null,"no email",{"$error":"#VALUE!"},{"$error":"#VALUE!"},{"$f":"VLOOKUP(K1399,references!$A$1:$B$7,2,FALSE)","v":{"$error":"#N/A"}}]
[null,null,null,null,null,null,null,null,null,null,null,null,"no email",{"$error":"#VALUE!"},{"$error":"#VALUE!"},{"$f":"VLOOKUP(K1400,references!$A$1:$B$7,2,FALSE)","v":{"$error":"#N/A"}}]
[null,null,null,null,null,null,null,null,null,null,null,null,"no email",{"$error":"#VALUE!"},{"$error":"#VALUE!"},{"$f":"VLOOKUP(K1401,references!$A$1:$B$7,2,FALSE)","v":{"$error":"#N/A"}}]
[null,null,null,null,null,null,null,null,null,null,null,null,"no email",{"$error":"#VALUE!"},{"$error":"#VALUE!"},{"$f":"VLOOKUP(K1402,references!$A$1:$B$7,2,FALSE)","v":{"$error":"#N/A"}}]
[null,null,null,null,null,null,null,null,null,null,null,null,"no email",{"$error":"#VALUE!"},{"$error":"#VALUE!"},{"$f":"VLOOKUP(K1403,references!$A$1:$B$7,2,FALSE)","v":{"$error":"#N/A"}}]
[null,null,null,null,null,null,null,null,null,null,null,null,"no email",{"$error":"#VALUE!"},{"$error":"#VALUE!"},{"$f":"VLOOKUP(K1404,references!$A$1:$B$7,2,FALSE)","v":{"$error":"#N/A"}}]
[null,null,null,null,null,null,null,null,null,null,null,null,"no email",{"$error":"#VALUE!"},{"$error":"#VALUE!"},{"$f":"VLOOKUP(K1405,references!$A$1:$B$7,2,FALSE)","v":{"$error":"#N/A"}}]
[null,null,null,null,null,null,null,null,null,null,null,null,"no email",{"$error":"#VALUE!"},{"$error":"#VALUE!"},{"$f":"VLOOKUP(K1406,references!$A$1:$B$7,2,FALSE)","v":{"$error":"#N/A"}}]
[null,null,null,null,null,null,null,null,null,null,null,null,"no email",{"$error":"#VALUE!"},{"$error":"#VALUE!"},{"$f":"VLOOKUP(K1407,references!$A$1:$B$7,2,FALSE)","v":{"$error":"#N/A"}}]
[null,null,null,null,null,null,null,null,null,null,null,null,"no email",{"$error":"#VALUE!"},{"$error":"#VALUE!"},{"$f":"VLOOKUP(K1408,references!$A$1:$B$7,2,FALSE)","v":{"$error":"#N/A"}}]
[null,null,null,null,null,null,null,null,null,null,null,null,"no email",{"$error":"#VALUE!"},{"$error":"#VALUE!"},{"$f":"VLOOKUP(K1409,references!$A$1:$B$7,2,FALSE)","v":{"$error":"#N/A"}}]
[null,null,null,null,null,null,null,null,null,null,null,null,{"$f":"IF(L1410=\"\", \"no email\",LOWER(L1410))","v":"no email"},{"$f":"LEFT(A1410, SEARCH(\",\",A1410,1)-1)","v":{"$error":"#VALUE!"}},{"$f":"RIGHT(A1410, LEN(A1410) -SEARCH(\",\",A1410,1)-1)","v":{"$error":"#VALUE!"}},{"$f":"VLOOKUP(K1410,references!$A$1:$B$7,2,FALSE)","v":{"$error":"#N/A"}}]
[null,null,null,null,null,null,null,null,null,null,null,null,"no email",{"$error":"#VALUE!"},{"$error":"#VALUE!"},{"$f":"VLOOKUP(K1411,references!$A$1:$B$7,2,FALSE)","v":{"$error":"#N/A"}}]
[null,null,null,null,null,null,null,null,null,null,null,null,"no email",{"$error":"#VALUE!"},{"$error":"#VALUE!"},{"$f":"VLOOKUP(K1412,references!$A$1:$B$7,2,FALSE)","v":{"$error":"#N/A"}}]
[null,null,null,null,null,null,null,null,null,null,null,null,"no email",{"$error":"#VALUE!"},{"$error":"#VALUE!"},{"$f":"VLOOKUP(K1413,references!$A$1:$B$7,2,FALSE)","v":{"$error":"#N/A"}}]
[null,null,null,null,null,null,null,null,null,null,null,null,"no email",{"$error":"#VALUE!"},{"$error":"#VALUE!"},{"$f":"VLOOKUP(K1414,references!$A$1:$B$7,2,FALSE)","v":{"$error":"#N/A"}}]
[null,null,null,null,null,null,null,null,null,null,null,null,"no email",{"$error":"#VALUE!"},{"$error":"#VALUE!"},{"$f":"VLOOKUP(K1415,references!$A$1:$B$7,2,FALSE)","v":{"$error":"#N/A"}}]
[null,null,null,null,null,null,null,null,null,null,null,null,"no email",{"$error":"#VALUE!"},{"$error":"#VALUE!"},{"$f":"VLOOKUP(K1416,references!$A$1:$B$7,2,FALSE)","v":{"$error":"#N/A"}}]
[null,null,null,null,null,null,null,null,null,null,null,null,"no email",{"$error":"#VALUE!"},{"$error":"#VALUE!"},{"$f":"VLOOKUP(K1417,references!$A$1:$B$7,2,FALSE)","v":{"$error":"#N/A"}}]
[null,null,null,null,null,null,null,null,null,null,null,null,"no email",{"$error":"#VALUE!"},{"$error":"#VALUE!"},{"$f":"VLOOKUP(K1418,references!$A$1:$B$7,2,FALSE)","v":{"$error":"#N/A"}}]
[null,null,null,null,null,null,null,null,null,null,null,null,"no email",{"$error":"#VALUE!"},{"$error":"#VALUE!"},{"$f":"VLOOKUP(K1419,references!$A$1:$B$7,2,FALSE)","v":{"$error":"#N/A"}}]
[null,null,null,null,null,null,null,null,null,null,null,null,"no email",{"$error":"#VALUE!"},{"$error":"#VALUE!"},{"$f":"VLOOKUP(K1420,references!$A$1:$B$7,2,FALSE)","v":{"$error":"#N/A"}}]
[null,null,null,null,null,null,null,null,null,null,null,null,"no email",{"$error":"#VALUE!"},{"$error":"#VALUE!"},{"$f":"VLOOKUP(K1421,references!$A$1:$B$7,2,FALSE)","v":{"$error":"#N/A"}}]
[null,null,null,null,null,null,null,null,null,null,null,null,"no email",{"$error":"#VALUE!"},{"$error":"#VALUE!"},{"$f":"VLOOKUP(K1422,references!$A$1:$B$7,2,FALSE)","v":{"$error":"#N/A"}}]
[null,null,null,null,null,null,null,null,null,null,null,null,"no email",{"$error":"#VALUE!"},{"$error":"#VALUE!"},{"$f":"VLOOKUP(K1423,references!$A$1:$B$7,2,FALSE)","v":{"$error":"#N/A"}}]
[null,null,null,null,null,null,null,null,null,null,null,null,"no email",{"$error":"#VALUE!"},{"$error":"#VALUE!"},{"$f":"VLOOKUP(K1424,references!$A$1:$B$7,2,FALSE)","v":{"$error":"#N/A"}}]
[null,null,null,null,null,null,null,null,null,null,null,null,"no email",{"$error":"#VALUE!"},{"$error":"#VALUE!"},{"$f":"VLOOKUP(K1425,references!$A$1:$B$7,2,FALSE)","v":{"$error":"#N/A"}}]
[null,null,null,null,null,null,null,null,null,null,null,null,"no email",{"$error":"#VALUE!"},{"$error":"#VALUE!"},{"$f":"VLOOKUP(K1426,references!$A$1:$B$7,2,FALSE)","v":{"$error":"#N/A"}}]
[null,null,null,null,null,null,null,null,null,null,null,null,"no email",{"$error":"#VALUE!"},{"$error":"#VALUE!"},{"$f":"VLOOKUP(K1427,references!$A$1:$B$7,2,FALSE)","v":{"$error":"#N/A"}}]
[null,null,null,null,null,null,null,null,null,null,null,null,"no email",{"$error":"#VALUE!"},{"$error":"#VALUE!"},{"$f":"VLOOKUP(K1428,references!$A$1:$B$7,2,FALSE)","v":{"$error":"#N/A"}}]
[null,null,null,null,null,null,null,null,null,null,null,null,"no email",{"$error":"#VALUE!"},{"$error":"#VALUE!"},{"$f":"VLOOKUP(K1429,references!$A$1:$B$7,2,FALSE)","v":{"$error":"#N/A"}}]
[null,null,null,null,null,null,null,null,null,null,null,null,"no email",{"$error":"#VALUE!"},{"$error":"#VALUE!"},{"$f":"VLOOKUP(K1430,references!$A$1:$B$7,2,FALSE)","v":{"$error":"#N/A"}}]
[null,null,null,null,null,null,null,null,null,null,null,null,"no email",{"$error":"#VALUE!"},{"$error":"#VALUE!"},{"$f":"VLOOKUP(K1431,references!$A$1:$B$7,2,FALSE)","v":{"$error":"#N/A"}}]
[null,null,null,null,null,null,null,null,null,null,null,null,"no email",{"$error":"#VALUE!"},{"$error":"#VALUE!"},{"$f":"VLOOKUP(K1432,references!$A$1:$B$7,2,FALSE)","v":{"$error":"#N/A"}}]
[null,null,null,null,null,null,null,null,null,null,null,null,"no email",{"$error":"#VALUE!"},{"$error":"#VALUE!"},{"$f":"VLOOKUP(K1433,references!$A$1:$B$7,2,FALSE)","v":{"$error":"#N/A"}}]
[null,null,null,null,null,null,null,null,null,null,null,null,"no email",{"$error":"#VALUE!"},{"$error":"#VALUE!"},{"$f":"VLOOKUP(K1434,references!$A$1:$B$7,2,FALSE)","v":{"$error":"#N/A"}}]
[null,null,null,null,null,null,null,null,null,null,null,null,"no email",{"$error":"#VALUE!"},{"$error":"#VALUE!"},{"$f":"VLOOKUP(K1435,references!$A$1:$B$7,2,FALSE)","v":{"$error":"#N/A"}}]
[null,null,null,null,null,null,null,null,null,null,null,null,"no email",{"$error":"#VALUE!"},{"$error":"#VALUE!"},{"$f":"VLOOKUP(K1436,references!$A$1:$B$7,2,FALSE)","v":{"$error":"#N/A"}}]
[null,null,null,null,null,null,null,null,null,null,null,null,"no email",{"$error":"#VALUE!"},{"$error":"#VALUE!"},{"$f":"VLOOKUP(K1437,references!$A$1:$B$7,2,FALSE)","v":{"$error":"#N/A"}}]
[null,null,null,null,null,null,null,null,null,null,null,null,"no email",{"$error":"#VALUE!"},{"$error":"#VALUE!"},{"$f":"VLOOKUP(K1438,references!$A$1:$B$7,2,FALSE)","v":{"$error":"#N/A"}}]
[null,null,null,null,null,null,null,null,null,null,null,null,"no email",{"$error":"#VALUE!"},{"$error":"#VALUE!"},{"$f":"VLOOKUP(K1439,references!$A$1:$B$7,2,FALSE)","v":{"$error":"#N/A"}}]
[null,null,null,null,null,null,null,null,null,null,null,null,"no email",{"$error":"#VALUE!"},{"$error":"#VALUE!"},{"$f":"VLOOKUP(K1440,references!$A$1:$B$7,2,FALSE)","v":{"$error":"#N/A"}}]
[null,null,null,null,null,null,null,null,null,null,null,null,"no email",{"$error":"#VALUE!"},{"$error":"#VALUE!"},{"$f":"VLOOKUP(K1441,references!$A$1:$B$7,2,FALSE)","v":{"$error":"#N/A"}}]
[null,null,null,null,null,null,null,null,null,null,null,null,"no email",{"$error":"#VALUE!"},{"$error":"#VALUE!"},{"$f":"VLOOKUP(K1442,references!$A$1:$B$7,2,FALSE)","v":{"$error":"#N/A"}}]
[null,null,null,null,null,null,null,null,null,null,null,null,"no email",{"$error":"#VALUE!"},{"$error":"#VALUE!"},{"$f":"VLOOKUP(K1443,references!$A$1:$B$7,2,FALSE)","v":{"$error":"#N/A"}}]
[null,null,null,null,null,null,null,null,null,null,null,null,"no email",{"$error":"#VALUE!"},{"$error":"#VALUE!"},{"$f":"VLOOKUP(K1444,references!$A$1:$B$7,2,FALSE)","v":{"$error":"#N/A"}}]
[null,null,null,null,null,null,null,null,null,null,null,null,"no email",{"$error":"#VALUE!"},{"$error":"#VALUE!"},{"$f":"VLOOKUP(K1445,references!$A$1:$B$7,2,FALSE)","v":{"$error":"#N/A"}}]
[null,null,null,null,null,null,null,null,null,null,null,null,"no email",{"$error":"#VALUE!"},{"$error":"#VALUE!"},{"$f":"VLOOKUP(K1446,references!$A$1:$B$7,2,FALSE)","v":{"$error":"#N/A"}}]
[null,null,null,null,null,null,null,null,null,null,null,null,"no email",{"$error":"#VALUE!"},{"$error":"#VALUE!"},{"$f":"VLOOKUP(K1447,references!$A$1:$B$7,2,FALSE)","v":{"$error":"#N/A"}}]
[null,null,null,null,null,null,null,null,null,null,null,null,"no email",{"$error":"#VALUE!"},{"$error":"#VALUE!"},{"$f":"VLOOKUP(K1448,references!$A$1:$B$7,2,FALSE)","v":{"$error":"#N/A"}}]
[null,null,null,null,null,null,null,null,null,null,null,null,"no email",{"$error":"#VALUE!"},{"$error":"#VALUE!"},{"$f":"VLOOKUP(K1449,references!$A$1:$B$7,2,FALSE)","v":{"$error":"#N/A"}}]
[null,null,null,null,null,null,null,null,null,null,null,null,"no email",{"$error":"#VALUE!"},{"$error":"#VALUE!"},{"$f":"VLOOKUP(K1450,references!$A$1:$B$7,2,FALSE)","v":{"$error":"#N/A"}}]
[null,null,null,null,null,null,null,null,null,null,null,null,"no email",{"$error":"#VALUE!"},{"$error":"#VALUE!"},{"$f":"VLOOKUP(K1451,references!$A$1:$B$7,2,FALSE)","v":{"$error":"#N/A"}}]
[null,null,null,null,null,null,null,null,null,null,null,null,"no email",{"$error":"#VALUE!"},{"$error":"#VALUE!"},{"$f":"VLOOKUP(K1452,references!$A$1:$B$7,2,FALSE)","v":{"$error":"#N/A"}}]
[null,null,null,null,null,null,null,null,null,null,null,null,"no email",{"$error":"#VALUE!"},{"$error":"#VALUE!"},{"$f":"VLOOKUP(K1453,references!$A$1:$B$7,2,FALSE)","v":{"$error":"#N/A"}}]
[null,null,null,null,null,null,null,null,null,null,null,null,"no email",{"$error":"#VALUE!"},{"$error":"#VALUE!"},{"$f":"VLOOKUP(K1454,references!$A$1:$B$7,2,FALSE)","v":{"$error":"#N/A"}}]
[null,null,null,null,null,null,null,null,null,null,null,null,"no email",{"$error":"#VALUE!"},{"$error":"#VALUE!"},{"$f":"VLOOKUP(K1455,references!$A$1:$B$7,2,FALSE)","v":{"$error":"#N/A"}}]
[null,null,null,null,null,null,null,null,null,null,null,null,"no email",{"$error":"#VALUE!"},{"$error":"#VALUE!"},{"$f":"VLOOKUP(K1456,references!$A$1:$B$7,2,FALSE)","v":{"$error":"#N/A"}}]
[null,null,null,null,null,null,null,null,null,null,null,null,"no email",{"$error":"#VALUE!"},{"$error":"#VALUE!"},{"$f":"VLOOKUP(K1457,references!$A$1:$B$7,2,FALSE)","v":{"$error":"#N/A"}}]
[null,null,null,null,null,null,null,null,null,null,null,null,"no email",{"$error":"#VALUE!"},{"$error":"#VALUE!"},{"$f":"VLOOKUP(K1458,references!$A$1:$B$7,2,FALSE)","v":{"$error":"#N/A"}}]
[null,null,null,null,null,null,null,null,null,null,null,null,"no email",{"$error":"#VALUE!"},{"$error":"#VALUE!"},{"$f":"VLOOKUP(K1459,references!$A$1:$B$7,2,FALSE)","v":{"$error":"#N/A"}}]
[null,null,null,null,null,null,null,null,null,null,null,null,"no email",{"$error":"#VALUE!"},{"$error":"#VALUE!"},{"$f":"VLOOKUP(K1460,references!$A$1:$B$7,2,FALSE)","v":{"$error":"#N/A"}}]
[null,null,null,null,null,null,null,null,null,null,null,null,"no email",{"$error":"#VALUE!"},{"$error":"#VALUE!"},{"$f":"VLOOKUP(K1461,references!$A$1:$B$7,2,FALSE)","v":{"$error":"#N/A"}}]
[null,null,null,null,null,null,null,null,null,null,null,null,"no email",{"$error":"#VALUE!"},{"$error":"#VALUE!"},{"$f":"VLOOKUP(K1462,references!$A$1:$B$7,2,FALSE)","v":{"$error":"#N/A"}}]
[null,null,null,null,null,null,null,null,null,null,null,null,"no email",{"$error":"#VALUE!"},{"$error":"#VALUE!"},{"$f":"VLOOKUP(K1463,references!$A$1:$B$7,2,FALSE)","v":{"$error":"#N/A"}}]
[null,null,null,null,null,null,null,null,null,null,null,null,"no email",{"$error":"#VALUE!"},{"$error":"#VALUE!"},{"$f":"VLOOKUP(K1464,references!$A$1:$B$7,2,FALSE)","v":{"$error":"#N/A"}}]
[null,null,null,null,null,null,null,null,null,null,null,null,"no email",{"$error":"#VALUE!"},{"$error":"#VALUE!"},{"$f":"VLOOKUP(K1465,references!$A$1:$B$7,2,FALSE)","v":{"$error":"#N/A"}}]
[null,null,null,null,null,null,null,null,null,null,null,null,"no email",{"$error":"#VALUE!"},{"$error":"#VALUE!"},{"$f":"VLOOKUP(K1466,references!$A$1:$B$7,2,FALSE)","v":{"$error":"#N/A"}}]
[null,null,null,null,null,null,null,null,null,null,null,null,"no email",{"$error":"#VALUE!"},{"$error":"#VALUE!"},{"$f":"VLOOKUP(K1467,references!$A$1:$B$7,2,FALSE)","v":{"$error":"#N/A"}}]
[null,null,null,null,null,null,null,null,null,null,null,null,"no email",{"$error":"#VALUE!"},{"$error":"#VALUE!"},{"$f":"VLOOKUP(K1468,references!$A$1:$B$7,2,FALSE)","v":{"$error":"#N/A"}}]
[null,null,null,null,null,null,null,null,null,null,null,null,"no email",{"$error":"#VALUE!"},{"$error":"#VALUE!"},{"$f":"VLOOKUP(K1469,references!$A$1:$B$7,2,FALSE)","v":{"$error":"#N/A"}}]
[null,null,null,null,null,null,null,null,null,null,null,null,"no email",{"$error":"#VALUE!"},{"$error":"#VALUE!"},{"$f":"VLOOKUP(K1470,references!$A$1:$B$7,2,FALSE)","v":{"$error":"#N/A"}}]
[null,null,null,null,null,null,null,null,null,null,null,null,"no email",{"$error":"#VALUE!"},{"$error":"#VALUE!"},{"$f":"VLOOKUP(K1471,references!$A$1:$B$7,2,FALSE)","v":{"$error":"#N/A"}}]
[null,null,null,null,null,null,null,null,null,null,null,null,"no email",{"$error":"#VALUE!"},{"$error":"#VALUE!"},{"$f":"VLOOKUP(K1472,references!$A$1:$B$7,2,FALSE)","v":{"$error":"#N/A"}}]
[null,null,null,null,null,null,null,null,null,null,null,null,"no email",{"$error":"#VALUE!"},{"$error":"#VALUE!"},{"$f":"VLOOKUP(K1473,references!$A$1:$B$7,2,FALSE)","v":{"$error":"#N/A"}}]
[null,null,null,null,null,null,null,null,null,null,null,null,{"$f":"IF(L1474=\"\", \"no email\",LOWER(L1474))","v":"no email"},{"$f":"LEFT(A1474, SEARCH(\",\",A1474,1)-1)","v":{"$error":"#VALUE!"}},{"$f":"RIGHT(A1474, LEN(A1474) -SEARCH(\",\",A1474,1)-1)","v":{"$error":"#VALUE!"}},{"$f":"VLOOKUP(K1474,references!$A$1:$B$7,2,FALSE)","v":{"$error":"#N/A"}}]
[null,null,null,null,null,null,null,null,null,null,null,null,"no email",{"$error":"#VALUE!"},{"$error":"#VALUE!"},{"$f":"VLOOKUP(K1475,references!$A$1:$B$7,2,FALSE)","v":{"$error":"#N/A"}}]
[null,null,null,null,null,null,null,null,null,null,null,null,"no email",{"$error":"#VALUE!"},{"$error":"#VALUE!"},{"$f":"VLOOKUP(K1476,references!$A$1:$B$7,2,FALSE)","v":{"$error":"#N/A"}}]
[null,null,null,null,null,null,null,null,null,null,null,null,"no email",{"$error":"#VALUE!"},{"$error":"#VALUE!"},{"$f":"VLOOKUP(K1477,references!$A$1:$B$7,2,FALSE)","v":{"$error":"#N/A"}}]
[null,null,null,null,null,null,null,null,null,null,null,null,"no email",{"$error":"#VALUE!"},{"$error":"#VALUE!"},{"$f":"VLOOKUP(K1478,references!$A$1:$B$7,2,FALSE)","v":{"$error":"#N/A"}}]
[null,null,null,null,null,null,null,null,null,null,null,null,"no email",{"$error":"#VALUE!"},{"$error":"#VALUE!"},{"$f":"VLOOKUP(K1479,references!$A$1:$B$7,2,FALSE)","v":{"$error":"#N/A"}}]
[null,null,null,null,null,null,null,null,null,null,null,null,"no email",{"$error":"#VALUE!"},{"$error":"#VALUE!"},{"$f":"VLOOKUP(K1480,references!$A$1:$B$7,2,FALSE)","v":{"$error":"#N/A"}}]
[null,null,null,null,null,null,null,null,null,null,null,null,"no email",{"$error":"#VALUE!"},{"$error":"#VALUE!"},{"$f":"VLOOKUP(K1481,references!$A$1:$B$7,2,FALSE)","v":{"$error":"#N/A"}}]
[null,null,null,null,null,null,null,null,null,null,null,null,"no email",{"$error":"#VALUE!"},{"$error":"#VALUE!"},{"$f":"VLOOKUP(K1482,references!$A$1:$B$7,2,FALSE)","v":{"$error":"#N/A"}}]
[null,null,null,null,null,null,null,null,null,null,null,null,"no email",{"$error":"#VALUE!"},{"$error":"#VALUE!"},{"$f":"VLOOKUP(K1483,references!$A$1:$B$7,2,FALSE)","v":{"$error":"#N/A"}}]
[null,null,null,null,null,null,null,null,null,null,null,null,"no email",{"$error":"#VALUE!"},{"$error":"#VALUE!"},{"$f":"VLOOKUP(K1484,references!$A$1:$B$7,2,FALSE)","v":{"$error":"#N/A"}}]
[null,null,null,null,null,null,null,null,null,null,null,null,"no email",{"$error":"#VALUE!"},{"$error":"#VALUE!"},{"$f":"VLOOKUP(K1485,references!$A$1:$B$7,2,FALSE)","v":{"$error":"#N/A"}}]
[null,null,null,null,null,null,null,null,null,null,null,null,"no email",{"$error":"#VALUE!"},{"$error":"#VALUE!"},{"$f":"VLOOKUP(K1486,references!$A$1:$B$7,2,FALSE)","v":{"$error":"#N/A"}}]
[null,null,null,null,null,null,null,null,null,null,null,null,"no email",{"$error":"#VALUE!"},{"$error":"#VALUE!"},{"$f":"VLOOKUP(K1487,references!$A$1:$B$7,2,FALSE)","v":{"$error":"#N/A"}}]
[null,null,null,null,null,null,null,null,null,null,null,null,"no email",{"$error":"#VALUE!"},{"$error":"#VALUE!"},{"$f":"VLOOKUP(K1488,references!$A$1:$B$7,2,FALSE)","v":{"$error":"#N/A"}}]
[null,null,null,null,null,null,null,null,null,null,null,null,"no email",{"$error":"#VALUE!"},{"$error":"#VALUE!"},{"$f":"VLOOKUP(K1489,references!$A$1:$B$7,2,FALSE)","v":{"$error":"#N/A"}}]
[null,null,null,null,null,null,null,null,null,null,null,null,"no email",{"$error":"#VALUE!"},{"$error":"#VALUE!"},{"$f":"VLOOKUP(K1490,references!$A$1:$B$7,2,FALSE)","v":{"$error":"#N/A"}}]
[null,null,null,null,null,null,null,null,null,null,null,null,"no email",{"$error":"#VALUE!"},{"$error":"#VALUE!"},{"$f":"VLOOKUP(K1491,references!$A$1:$B$7,2,FALSE)","v":{"$error":"#N/A"}}]
[null,null,null,null,null,null,null,null,null,null,null,null,"no email",{"$error":"#VALUE!"},{"$error":"#VALUE!"},{"$f":"VLOOKUP(K1492,references!$A$1:$B$7,2,FALSE)","v":{"$error":"#N/A"}}]
[null,null,null,null,null,null,null,null,null,null,null,null,"no email",{"$error":"#VALUE!"},{"$error":"#VALUE!"},{"$f":"VLOOKUP(K1493,references!$A$1:$B$7,2,FALSE)","v":{"$error":"#N/A"}}]
[null,null,null,null,null,null,null,null,null,null,null,null,"no email",{"$error":"#VALUE!"},{"$error":"#VALUE!"},{"$f":"VLOOKUP(K1494,references!$A$1:$B$7,2,FALSE)","v":{"$error":"#N/A"}}]
[null,null,null,null,null,null,null,null,null,null,null,null,"no email",{"$error":"#VALUE!"},{"$error":"#VALUE!"},{"$f":"VLOOKUP(K1495,references!$A$1:$B$7,2,FALSE)","v":{"$error":"#N/A"}}]
[null,null,null,null,null,null,null,null,null,null,null,null,"no email",{"$error":"#VALUE!"},{"$error":"#VALUE!"},{"$f":"VLOOKUP(K1496,references!$A$1:$B$7,2,FALSE)","v":{"$error":"#N/A"}}]
[null,null,null,null,null,null,null,null,null,null,null,null,"no email",{"$error":"#VALUE!"},{"$error":"#VALUE!"},{"$f":"VLOOKUP(K1497,references!$A$1:$B$7,2,FALSE)","v":{"$error":"#N/A"}}]
[null,null,null,null,null,null,null,null,null,null,null,null,"no email",{"$error":"#VALUE!"},{"$error":"#VALUE!"},{"$f":"VLOOKUP(K1498,references!$A$1:$B$7,2,FALSE)","v":{"$error":"#N/A"}}]
[null,null,null,null,null,null,null,null,null,null,null,null,"no email",{"$error":"#VALUE!"},{"$error":"#VALUE!"},{"$f":"VLOOKUP(K1499,references!$A$1:$B$7,2,FALSE)","v":{"$error":"#N/A"}}]
[null,null,null,null,null,null,null,null,null,null,null,null,"no email",{"$error":"#VALUE!"},{"$error":"#VALUE!"},{"$f":"VLOOKUP(K1500,references!$A$1:$B$7,2,FALSE)","v":{"$error":"#N/A"}}]
[null,null,null,null,null,null,null,null,null,null,null,null,"no email",{"$error":"#VALUE!"},{"$error":"#VALUE!"},{"$f":"VLOOKUP(K1501,references!$A$1:$B$7,2,FALSE)","v":{"$error":"#N/A"}}]
[null,null,null,null,null,null,null,null,null,null,null,null,"no email",{"$error":"#VALUE!"},{"$error":"#VALUE!"},{"$f":"VLOOKUP(K1502,references!$A$1:$B$7,2,FALSE)","v":{"$error":"#N/A"}}]
[null,null,null,null,null,null,null,null,null,null,null,null,"no email",{"$error":"#VALUE!"},{"$error":"#VALUE!"},{"$f":"VLOOKUP(K1503,references!$A$1:$B$7,2,FALSE)","v":{"$error":"#N/A"}}]
[null,null,null,null,null,null,null,null,null,null,null,null,"no email",{"$error":"#VALUE!"},{"$error":"#VALUE!"},{"$f":"VLOOKUP(K1504,references!$A$1:$B$7,2,FALSE)","v":{"$error":"#N/A"}}]
[null,null,null,null,null,null,null,null,null,null,null,null,"no email",{"$error":"#VALUE!"},{"$error":"#VALUE!"},{"$f":"VLOOKUP(K1505,references!$A$1:$B$7,2,FALSE)","v":{"$error":"#N/A"}}]
[null,null,null,null,null,null,null,null,null,null,null,null,"no email",{"$error":"#VALUE!"},{"$error":"#VALUE!"},{"$f":"VLOOKUP(K1506,references!$A$1:$B$7,2,FALSE)","v":{"$error":"#N/A"}}]
[null,null,null,null,null,null,null,null,null,null,null,null,"no email",{"$error":"#VALUE!"},{"$error":"#VALUE!"},{"$f":"VLOOKUP(K1507,references!$A$1:$B$7,2,FALSE)","v":{"$error":"#N/A"}}]
[null,null,null,null,null,null,null,null,null,null,null,null,"no email",{"$error":"#VALUE!"},{"$error":"#VALUE!"},{"$f":"VLOOKUP(K1508,references!$A$1:$B$7,2,FALSE)","v":{"$error":"#N/A"}}]
[null,null,null,null,null,null,null,null,null,null,null,null,"no email",{"$error":"#VALUE!"},{"$error":"#VALUE!"},{"$f":"VLOOKUP(K1509,references!$A$1:$B$7,2,FALSE)","v":{"$error":"#N/A"}}]
[null,null,null,null,null,null,null,null,null,null,null,null,"no email",{"$error":"#VALUE!"},{"$error":"#VALUE!"},{"$f":"VLOOKUP(K1510,references!$A$1:$B$7,2,FALSE)","v":{"$error":"#N/A"}}]
[null,null,null,null,null,null,null,null,null,null,null,null,"no email",{"$error":"#VALUE!"},{"$error":"#VALUE!"},{"$f":"VLOOKUP(K1511,references!$A$1:$B$7,2,FALSE)","v":{"$error":"#N/A"}}]
[null,null,null,null,null,null,null,null,null,null,null,null,"no email",{"$error":"#VALUE!"},{"$error":"#VALUE!"},{"$f":"VLOOKUP(K1512,references!$A$1:$B$7,2,FALSE)","v":{"$error":"#N/A"}}]
[null,null,null,null,null,null,null,null,null,null,null,null,"no email",{"$error":"#VALUE!"},{"$error":"#VALUE!"},{"$f":"VLOOKUP(K1513,references!$A$1:$B$7,2,FALSE)","v":{"$error":"#N/A"}}]
[null,null,null,null,null,null,null,null,null,null,null,null,"no email",{"$error":"#VALUE!"},{"$error":"#VALUE!"},{"$f":"VLOOKUP(K1514,references!$A$1:$B$7,2,FALSE)","v":{"$error":"#N/A"}}]
[null,null,null,null,null,null,null,null,null,null,null,null,"no email",{"$error":"#VALUE!"},{"$error":"#VALUE!"},{"$f":"VLOOKUP(K1515,references!$A$1:$B$7,2,FALSE)","v":{"$error":"#N/A"}}]
[null,null,null,null,null,null,null,null,null,null,null,null,"no email",{"$error":"#VALUE!"},{"$error":"#VALUE!"},{"$f":"VLOOKUP(K1516,references!$A$1:$B$7,2,FALSE)","v":{"$error":"#N/A"}}]
[null,null,null,null,null,null,null,null,null,null,null,null,"no email",{"$error":"#VALUE!"},{"$error":"#VALUE!"},{"$f":"VLOOKUP(K1517,references!$A$1:$B$7,2,FALSE)","v":{"$error":"#N/A"}}]
[null,null,null,null,null,null,null,null,null,null,null,null,"no email",{"$error":"#VALUE!"},{"$error":"#VALUE!"},{"$f":"VLOOKUP(K1518,references!$A$1:$B$7,2,FALSE)","v":{"$error":"#N/A"}}]
[null,null,null,null,null,null,null,null,null,null,null,null,"no email",{"$error":"#VALUE!"},{"$error":"#VALUE!"},{"$f":"VLOOKUP(K1519,references!$A$1:$B$7,2,FALSE)","v":{"$error":"#N/A"}}]
[null,null,null,null,null,null,null,null,null,null,null,null,"no email",{"$error":"#VALUE!"},{"$error":"#VALUE!"},{"$f":"VLOOKUP(K1520,references!$A$1:$B$7,2,FALSE)","v":{"$error":"#N/A"}}]
[null,null,null,null,null,null,null,null,null,null,null,null,"no email",{"$error":"#VALUE!"},{"$error":"#VALUE!"},{"$f":"VLOOKUP(K1521,references!$A$1:$B$7,2,FALSE)","v":{"$error":"#N/A"}}]
[null,null,null,null,null,null,null,null,null,null,null,null,"no email",{"$error":"#VALUE!"},{"$error":"#VALUE!"},{"$f":"VLOOKUP(K1522,references!$A$1:$B$7,2,FALSE)","v":{"$error":"#N/A"}}]
[null,null,null,null,null,null,null,null,null,null,null,null,"no email",{"$error":"#VALUE!"},{"$error":"#VALUE!"},{"$f":"VLOOKUP(K1523,references!$A$1:$B$7,2,FALSE)","v":{"$error":"#N/A"}}]
[null,null,null,null,null,null,null,null,null,null,null,null,"no email",{"$error":"#VALUE!"},{"$error":"#VALUE!"},{"$f":"VLOOKUP(K1524,references!$A$1:$B$7,2,FALSE)","v":{"$error":"#N/A"}}]
[null,null,null,null,null,null,null,null,null,null,null,null,"no email",{"$error":"#VALUE!"},{"$error":"#VALUE!"},{"$f":"VLOOKUP(K1525,references!$A$1:$B$7,2,FALSE)","v":{"$error":"#N/A"}}]
[null,null,null,null,null,null,null,null,null,null,null,null,"no email",{"$error":"#VALUE!"},{"$error":"#VALUE!"},{"$f":"VLOOKUP(K1526,references!$A$1:$B$7,2,FALSE)","v":{"$error":"#N/A"}}]
[null,null,null,null,null,null,null,null,null,null,null,null,"no email",{"$error":"#VALUE!"},{"$error":"#VALUE!"},{"$f":"VLOOKUP(K1527,references!$A$1:$B$7,2,FALSE)","v":{"$error":"#N/A"}}]
[null,null,null,null,null,null,null,null,null,null,null,null,"no email",{"$error":"#VALUE!"},{"$error":"#VALUE!"},{"$f":"VLOOKUP(K1528,references!$A$1:$B$7,2,FALSE)","v":{"$error":"#N/A"}}]
[null,null,null,null,null,null,null,null,null,null,null,null,"no email",{"$error":"#VALUE!"},{"$error":"#VALUE!"},{"$f":"VLOOKUP(K1529,references!$A$1:$B$7,2,FALSE)","v":{"$error":"#N/A"}}]
[null,null,null,null,null,null,null,null,null,null,null,null,"no email",{"$error":"#VALUE!"},{"$error":"#VALUE!"},{"$f":"VLOOKUP(K1530,references!$A$1:$B$7,2,FALSE)","v":{"$error":"#N/A"}}]
[null,null,null,null,null,null,null,null,null,null,null,null,"no email",{"$error":"#VALUE!"},{"$error":"#VALUE!"},{"$f":"VLOOKUP(K1531,references!$A$1:$B$7,2,FALSE)","v":{"$error":"#N/A"}}]
[null,null,null,null,null,null,null,null,null,null,null,null,"no email",{"$error":"#VALUE!"},{"$error":"#VALUE!"},{"$f":"VLOOKUP(K1532,references!$A$1:$B$7,2,FALSE)","v":{"$error":"#N/A"}}]
[null,null,null,null,null,null,null,null,null,null,null,null,"no email",{"$error":"#VALUE!"},{"$error":"#VALUE!"},{"$f":"VLOOKUP(K1533,references!$A$1:$B$7,2,FALSE)","v":{"$error":"#N/A"}}]
[null,null,null,null,null,null,null,null,null,null,null,null,"no email",{"$error":"#VALUE!"},{"$error":"#VALUE!"},{"$f":"VLOOKUP(K1534,references!$A$1:$B$7,2,FALSE)","v":{"$error":"#N/A"}}]
[null,null,null,null,null,null,null,null,null,null,null,null,"no email",{"$error":"#VALUE!"},{"$error":"#VALUE!"},{"$f":"VLOOKUP(K1535,references!$A$1:$B$7,2,FALSE)","v":{"$error":"#N/A"}}]
[null,null,null,null,null,null,null,null,null,null,null,null,"no email",{"$error":"#VALUE!"},{"$error":"#VALUE!"},{"$f":"VLOOKUP(K1536,references!$A$1:$B$7,2,FALSE)","v":{"$error":"#N/A"}}]
[null,null,null,null,null,null,null,null,null,null,null,null,"no email",{"$error":"#VALUE!"},{"$error":"#VALUE!"},{"$f":"VLOOKUP(K1537,references!$A$1:$B$7,2,FALSE)","v":{"$error":"#N/A"}}]
[null,null,null,null,null,null,null,null,null,null,null,null,{"$f":"IF(L1538=\"\", \"no email\",LOWER(L1538))","v":"no email"},{"$f":"LEFT(A1538, SEARCH(\",\",A1538,1)-1)","v":{"$error":"#VALUE!"}},{"$f":"RIGHT(A1538, LEN(A1538) -SEARCH(\",\",A1538,1)-1)","v":{"$error":"#VALUE!"}},{"$f":"VLOOKUP(K1538,references!$A$1:$B$7,2,FALSE)","v":{"$error":"#N/A"}}]
[null,null,null,null,null,null,null,null,null,null,null,null,"no email",{"$error":"#VALUE!"},{"$error":"#VALUE!"},{"$f":"VLOOKUP(K1539,references!$A$1:$B$7,2,FALSE)","v":{"$error":"#N/A"}}]
[null,null,null,null,null,null,null,null,null,null,null,null,"no email",{"$error":"#VALUE!"},{"$error":"#VALUE!"},{"$f":"VLOOKUP(K1540,references!$A$1:$B$7,2,FALSE)","v":{"$error":"#N/A"}}]
[null,null,null,null,null,null,null,null,null,null,null,null,"no email",{"$error":"#VALUE!"},{"$error":"#VALUE!"},{"$f":"VLOOKUP(K1541,references!$A$1:$B$7,2,FALSE)","v":{"$error":"#N/A"}}]
[null,null,null,null,null,null,null,null,null,null,null,null,"no email",{"$error":"#VALUE!"},{"$error":"#VALUE!"},{"$f":"VLOOKUP(K1542,references!$A$1:$B$7,2,FALSE)","v":{"$error":"#N/A"}}]
[null,null,null,null,null,null,null,null,null,null,null,null,"no email",{"$error":"#VALUE!"},{"$error":"#VALUE!"},{"$f":"VLOOKUP(K1543,references!$A$1:$B$7,2,FALSE)","v":{"$error":"#N/A"}}]
[null,null,null,null,null,null,null,null,null,null,null,null,"no email",{"$error":"#VALUE!"},{"$error":"#VALUE!"},{"$f":"VLOOKUP(K1544,references!$A$1:$B$7,2,FALSE)","v":{"$error":"#N/A"}}]
[null,null,null,null,null,null,null,null,null,null,null,null,"no email",{"$error":"#VALUE!"},{"$error":"#VALUE!"},{"$f":"VLOOKUP(K1545,references!$A$1:$B$7,2,FALSE)","v":{"$error":"#N/A"}}]
[null,null,null,null,null,null,null,null,null,null,null,null,"no email",{"$error":"#VALUE!"},{"$error":"#VALUE!"},{"$f":"VLOOKUP(K1546,references!$A$1:$B$7,2,FALSE)","v":{"$error":"#N/A"}}]
[null,null,null,null,null,null,null,null,null,null,null,null,"no email",{"$error":"#VALUE!"},{"$error":"#VALUE!"},{"$f":"VLOOKUP(K1547,references!$A$1:$B$7,2,FALSE)","v":{"$error":"#N/A"}}]
[null,null,null,null,null,null,null,null,null,null,null,null,"no email",{"$error":"#VALUE!"},{"$error":"#VALUE!"},{"$f":"VLOOKUP(K1548,references!$A$1:$B$7,2,FALSE)","v":{"$error":"#N/A"}}]
[null,null,null,null,null,null,null,null,null,null,null,null,"no email",{"$error":"#VALUE!"},{"$error":"#VALUE!"},{"$f":"VLOOKUP(K1549,references!$A$1:$B$7,2,FALSE)","v":{"$error":"#N/A"}}]
[null,null,null,null,null,null,null,null,null,null,null,null,"no email",{"$error":"#VALUE!"},{"$error":"#VALUE!"},{"$f":"VLOOKUP(K1550,references!$A$1:$B$7,2,FALSE)","v":{"$error":"#N/A"}}]
[null,null,null,null,null,null,null,null,null,null,null,null,"no email",{"$error":"#VALUE!"},{"$error":"#VALUE!"},{"$f":"VLOOKUP(K1551,references!$A$1:$B$7,2,FALSE)","v":{"$error":"#N/A"}}]
[null,null,null,null,null,null,null,null,null,null,null,null,"no email",{"$error":"#VALUE!"},{"$error":"#VALUE!"},{"$f":"VLOOKUP(K1552,references!$A$1:$B$7,2,FALSE)","v":{"$error":"#N/A"}}]
[null,null,null,null,null,null,null,null,null,null,null,null,"no email",{"$error":"#VALUE!"},{"$error":"#VALUE!"},{"$f":"VLOOKUP(K1553,references!$A$1:$B$7,2,FALSE)","v":{"$error":"#N/A"}}]
[null,null,null,null,null,null,null,null,null,null,null,null,"no email",{"$error":"#VALUE!"},{"$error":"#VALUE!"},{"$f":"VLOOKUP(K1554,references!$A$1:$B$7,2,FALSE)","v":{"$error":"#N/A"}}]
[null,null,null,null,null,null,null,null,null,null,null,null,"no email",{"$error":"#VALUE!"},{"$error":"#VALUE!"},{"$f":"VLOOKUP(K1555,references!$A$1:$B$7,2,FALSE)","v":{"$error":"#N/A"}}]
[null,null,null,null,null,null,null,null,null,null,null,null,"no email",{"$error":"#VALUE!"},{"$error":"#VALUE!"},{"$f":"VLOOKUP(K1556,references!$A$1:$B$7,2,FALSE)","v":{"$error":"#N/A"}}]
[null,null,null,null,null,null,null,null,null,null,null,null,"no email",{"$error":"#VALUE!"},{"$error":"#VALUE!"},{"$f":"VLOOKUP(K1557,references!$A$1:$B$7,2,FALSE)","v":{"$error":"#N/A"}}]
[null,null,null,null,null,null,null,null,null,null,null,null,"no email",{"$error":"#VALUE!"},{"$error":"#VALUE!"},{"$f":"VLOOKUP(K1558,references!$A$1:$B$7,2,FALSE)","v":{"$error":"#N/A"}}]
[null,null,null,null,null,null,null,null,null,null,null,null,"no email",{"$error":"#VALUE!"},{"$error":"#VALUE!"},{"$f":"VLOOKUP(K1559,references!$A$1:$B$7,2,FALSE)","v":{"$error":"#N/A"}}]
[null,null,null,null,null,null,null,null,null,null,null,null,"no email",{"$error":"#VALUE!"},{"$error":"#VALUE!"},{"$f":"VLOOKUP(K1560,references!$A$1:$B$7,2,FALSE)","v":{"$error":"#N/A"}}]
[null,null,null,null,null,null,null,null,null,null,null,null,"no email",{"$error":"#VALUE!"},{"$error":"#VALUE!"},{"$f":"VLOOKUP(K1561,references!$A$1:$B$7,2,FALSE)","v":{"$error":"#N/A"}}]
[null,null,null,null,null,null,null,null,null,null,null,null,"no email",{"$error":"#VALUE!"},{"$error":"#VALUE!"},{"$f":"VLOOKUP(K1562,references!$A$1:$B$7,2,FALSE)","v":{"$error":"#N/A"}}]
[null,null,null,null,null,null,null,null,null,null,null,null,"no email",{"$error":"#VALUE!"},{"$error":"#VALUE!"},{"$f":"VLOOKUP(K1563,references!$A$1:$B$7,2,FALSE)","v":{"$error":"#N/A"}}]
[null,null,null,null,null,null,null,null,null,null,null,null,"no email",{"$error":"#VALUE!"},{"$error":"#VALUE!"},{"$f":"VLOOKUP(K1564,references!$A$1:$B$7,2,FALSE)","v":{"$error":"#N/A"}}]
[null,null,null,null,null,null,null,null,null,null,null,null,"no email",{"$error":"#VALUE!"},{"$error":"#VALUE!"},{"$f":"VLOOKUP(K1565,references!$A$1:$B$7,2,FALSE)","v":{"$error":"#N/A"}}]
[null,null,null,null,null,null,null,null,null,null,null,null,"no email",{"$error":"#VALUE!"},{"$error":"#VALUE!"},{"$f":"VLOOKUP(K1566,references!$A$1:$B$7,2,FALSE)","v":{"$error":"#N/A"}}]
[null,null,null,null,null,null,null,null,null,null,null,null,"no email",{"$error":"#VALUE!"},{"$error":"#VALUE!"},{"$f":"VLOOKUP(K1567,references!$A$1:$B$7,2,FALSE)","v":{"$error":"#N/A"}}]
[null,null,null,null,null,null,null,null,null,null,null,null,"no email",{"$error":"#VALUE!"},{"$error":"#VALUE!"},{"$f":"VLOOKUP(K1568,references!$A$1:$B$7,2,FALSE)","v":{"$error":"#N/A"}}]
[null,null,null,null,null,null,null,null,null,null,null,null,"no email",{"$error":"#VALUE!"},{"$error":"#VALUE!"},{"$f":"VLOOKUP(K1569,references!$A$1:$B$7,2,FALSE)","v":{"$error":"#N/A"}}]
[null,null,null,null,null,null,null,null,null,null,null,null,"no email",{"$error":"#VALUE!"},{"$error":"#VALUE!"},{"$f":"VLOOKUP(K1570,references!$A$1:$B$7,2,FALSE)","v":{"$error":"#N/A"}}]
[null,null,null,null,null,null,null,null,null,null,null,null,"no email",{"$error":"#VALUE!"},{"$error":"#VALUE!"},{"$f":"VLOOKUP(K1571,references!$A$1:$B$7,2,FALSE)","v":{"$error":"#N/A"}}]
[null,null,null,null,null,null,null,null,null,null,null,null,"no email",{"$error":"#VALUE!"},{"$error":"#VALUE!"},{"$f":"VLOOKUP(K1572,references!$A$1:$B$7,2,FALSE)","v":{"$error":"#N/A"}}]
[null,null,null,null,null,null,null,null,null,null,null,null,"no email",{"$error":"#VALUE!"},{"$error":"#VALUE!"},{"$f":"VLOOKUP(K1573,references!$A$1:$B$7,2,FALSE)","v":{"$error":"#N/A"}}]
[null,null,null,null,null,null,null,null,null,null,null,null,"no email",{"$error":"#VALUE!"},{"$error":"#VALUE!"},{"$f":"VLOOKUP(K1574,references!$A$1:$B$7,2,FALSE)","v":{"$error":"#N/A"}}]
[null,null,null,null,null,null,null,null,null,null,null,null,"no email",{"$error":"#VALUE!"},{"$error":"#VALUE!"},{"$f":"VLOOKUP(K1575,references!$A$1:$B$7,2,FALSE)","v":{"$error":"#N/A"}}]
[null,null,null,null,null,null,null,null,null,null,null,null,"no email",{"$error":"#VALUE!"},{"$error":"#VALUE!"},{"$f":"VLOOKUP(K1576,references!$A$1:$B$7,2,FALSE)","v":{"$error":"#N/A"}}]
[null,null,null,null,null,null,null,null,null,null,null,null,"no email",{"$error":"#VALUE!"},{"$error":"#VALUE!"},{"$f":"VLOOKUP(K1577,references!$A$1:$B$7,2,FALSE)","v":{"$error":"#N/A"}}]
[null,null,null,null,null,null,null,null,null,null,null,null,"no email",{"$error":"#VALUE!"},{"$error":"#VALUE!"},{"$f":"VLOOKUP(K1578,references!$A$1:$B$7,2,FALSE)","v":{"$error":"#N/A"}}]
[null,null,null,null,null,null,null,null,null,null,null,null,"no email",{"$error":"#VALUE!"},{"$error":"#VALUE!"},{"$f":"VLOOKUP(K1579,references!$A$1:$B$7,2,FALSE)","v":{"$error":"#N/A"}}]
[null,null,null,null,null,null,null,null,null,null,null,null,"no email",{"$error":"#VALUE!"},{"$error":"#VALUE!"},{"$f":"VLOOKUP(K1580,references!$A$1:$B$7,2,FALSE)","v":{"$error":"#N/A"}}]
[null,null,null,null,null,null,null,null,null,null,null,null,"no email",{"$error":"#VALUE!"},{"$error":"#VALUE!"},{"$f":"VLOOKUP(K1581,references!$A$1:$B$7,2,FALSE)","v":{"$error":"#N/A"}}]
[null,null,null,null,null,null,null,null,null,null,null,null,"no email",{"$error":"#VALUE!"},{"$error":"#VALUE!"},{"$f":"VLOOKUP(K1582,references!$A$1:$B$7,2,FALSE)","v":{"$error":"#N/A"}}]
[null,null,null,null,null,null,null,null,null,null,null,null,"no email",{"$error":"#VALUE!"},{"$error":"#VALUE!"},{"$f":"VLOOKUP(K1583,references!$A$1:$B$7,2,FALSE)","v":{"$error":"#N/A"}}]
[null,null,null,null,null,null,null,null,null,null,null,null,"no email",{"$error":"#VALUE!"},{"$error":"#VALUE!"},{"$f":"VLOOKUP(K1584,references!$A$1:$B$7,2,FALSE)","v":{"$error":"#N/A"}}]
[null,null,null,null,null,null,null,null,null,null,null,null,"no email",{"$error":"#VALUE!"},{"$error":"#VALUE!"},{"$f":"VLOOKUP(K1585,references!$A$1:$B$7,2,FALSE)","v":{"$error":"#N/A"}}]
[null,null,null,null,null,null,null,null,null,null,null,null,"no email",{"$error":"#VALUE!"},{"$error":"#VALUE!"},{"$f":"VLOOKUP(K1586,references!$A$1:$B$7,2,FALSE)","v":{"$error":"#N/A"}}]
[null,null,null,null,null,null,null,null,null,null,null,null,"no email",{"$error":"#VALUE!"},{"$error":"#VALUE!"},{"$f":"VLOOKUP(K1587,references!$A$1:$B$7,2,FALSE)","v":{"$error":"#N/A"}}]
[null,null,null,null,null,null,null,null,null,null,null,null,"no email",{"$error":"#VALUE!"},{"$error":"#VALUE!"},{"$f":"VLOOKUP(K1588,references!$A$1:$B$7,2,FALSE)","v":{"$error":"#N/A"}}]
[null,null,null,null,null,null,null,null,null,null,null,null,"no email",{"$error":"#VALUE!"},{"$error":"#VALUE!"},{"$f":"VLOOKUP(K1589,references!$A$1:$B$7,2,FALSE)","v":{"$error":"#N/A"}}]
[null,null,null,null,null,null,null,null,null,null,null,null,"no email",{"$error":"#VALUE!"},{"$error":"#VALUE!"},{"$f":"VLOOKUP(K1590,references!$A$1:$B$7,2,FALSE)","v":{"$error":"#N/A"}}]
[null,null,null,null,null,null,null,null,null,null,null,null,"no email",{"$error":"#VALUE!"},{"$error":"#VALUE!"},{"$f":"VLOOKUP(K1591,references!$A$1:$B$7,2,FALSE)","v":{"$error":"#N/A"}}]
[null,null,null,null,null,null,null,null,null,null,null,null,"no email",{"$error":"#VALUE!"},{"$error":"#VALUE!"},{"$f":"VLOOKUP(K1592,references!$A$1:$B$7,2,FALSE)","v":{"$error":"#N/A"}}]
[null,null,null,null,null,null,null,null,null,null,null,null,"no email",{"$error":"#VALUE!"},{"$error":"#VALUE!"},{"$f":"VLOOKUP(K1593,references!$A$1:$B$7,2,FALSE)","v":{"$error":"#N/A"}}]
[null,null,null,null,null,null,null,null,null,null,null,null,"no email",{"$error":"#VALUE!"},{"$error":"#VALUE!"},{"$f":"VLOOKUP(K1594,references!$A$1:$B$7,2,FALSE)","v":{"$error":"#N/A"}}]
[null,null,null,null,null,null,null,null,null,null,null,null,"no email",{"$error":"#VALUE!"},{"$error":"#VALUE!"},{"$f":"VLOOKUP(K1595,references!$A$1:$B$7,2,FALSE)","v":{"$error":"#N/A"}}]
[null,null,null,null,null,null,null,null,null,null,null,null,"no email",{"$error":"#VALUE!"},{"$error":"#VALUE!"},{"$f":"VLOOKUP(K1596,references!$A$1:$B$7,2,FALSE)","v":{"$error":"#N/A"}}]
[null,null,null,null,null,null,null,null,null,null,null,null,"no email",{"$error":"#VALUE!"},{"$error":"#VALUE!"},{"$f":"VLOOKUP(K1597,references!$A$1:$B$7,2,FALSE)","v":{"$error":"#N/A"}}]
[null,null,null,null,null,null,null,null,null,null,null,null,"no email",{"$error":"#VALUE!"},{"$error":"#VALUE!"},{"$f":"VLOOKUP(K1598,references!$A$1:$B$7,2,FALSE)","v":{"$error":"#N/A"}}]
[null,null,null,null,null,null,null,null,null,null,null,null,"no email",{"$error":"#VALUE!"},{"$error":"#VALUE!"},{"$f":"VLOOKUP(K1599,references!$A$1:$B$7,2,FALSE)","v":{"$error":"#N/A"}}]
[null,null,null,null,null,null,null,null,null,null,null,null,"no email",{"$error":"#VALUE!"},{"$error":"#VALUE!"},{"$f":"VLOOKUP(K1600,references!$A$1:$B$7,2,FALSE)","v":{"$error":"#N/A"}}]
[null,null,null,null,null,null,null,null,null,null,null,null,"no email",{"$error":"#VALUE!"},{"$error":"#VALUE!"},{"$f":"VLOOKUP(K1601,references!$A$1:$B$7,2,FALSE)","v":{"$error":"#N/A"}}]
[null,null,null,null,null,null,null,null,null,null,null,null,{"$f":"IF(L1602=\"\", \"no email\",LOWER(L1602))","v":"no email"},{"$f":"LEFT(A1602, SEARCH(\",\",A1602,1)-1)","v":{"$error":"#VALUE!"}},{"$f":"RIGHT(A1602, LEN(A1602) -SEARCH(\",\",A1602,1)-1)","v":{"$error":"#VALUE!"}},{"$f":"VLOOKUP(K1602,references!$A$1:$B$7,2,FALSE)","v":{"$error":"#N/A"}}]
[null,null,null,null,null,null,null,null,null,null,null,null,"no email",{"$error":"#VALUE!"},{"$error":"#VALUE!"},{"$f":"VLOOKUP(K1603,references!$A$1:$B$7,2,FALSE)","v":{"$error":"#N/A"}}]
[null,null,null,null,null,null,null,null,null,null,null,null,"no email",{"$error":"#VALUE!"},{"$error":"#VALUE!"},{"$f":"VLOOKUP(K1604,references!$A$1:$B$7,2,FALSE)","v":{"$error":"#N/A"}}]
[null,null,null,null,null,null,null,null,null,null,null,null,"no email",{"$error":"#VALUE!"},{"$error":"#VALUE!"},{"$f":"VLOOKUP(K1605,references!$A$1:$B$7,2,FALSE)","v":{"$error":"#N/A"}}]
[null,null,null,null,null,null,null,null,null,null,null,null,"no email",{"$error":"#VALUE!"},{"$error":"#VALUE!"},{"$f":"VLOOKUP(K1606,references!$A$1:$B$7,2,FALSE)","v":{"$error":"#N/A"}}]
[null,null,null,null,null,null,null,null,null,null,null,null,"no email",{"$error":"#VALUE!"},{"$error":"#VALUE!"},{"$f":"VLOOKUP(K1607,references!$A$1:$B$7,2,FALSE)","v":{"$error":"#N/A"}}]
[null,null,null,null,null,null,null,null,null,null,null,null,"no email",{"$error":"#VALUE!"},{"$error":"#VALUE!"},{"$f":"VLOOKUP(K1608,references!$A$1:$B$7,2,FALSE)","v":{"$error":"#N/A"}}]
[null,null,null,null,null,null,null,null,null,null,null,null,"no email",{"$error":"#VALUE!"},{"$error":"#VALUE!"},{"$f":"VLOOKUP(K1609,references!$A$1:$B$7,2,FALSE)","v":{"$error":"#N/A"}}]
[null,null,null,null,null,null,null,null,null,null,null,null,"no email",{"$error":"#VALUE!"},{"$error":"#VALUE!"},{"$f":"VLOOKUP(K1610,references!$A$1:$B$7,2,FALSE)","v":{"$error":"#N/A"}}]
[null,null,null,null,null,null,null,null,null,null,null,null,"no email",{"$error":"#VALUE!"},{"$error":"#VALUE!"},{"$f":"VLOOKUP(K1611,references!$A$1:$B$7,2,FALSE)","v":{"$error":"#N/A"}}]
[null,null,null,null,null,null,null,null,null,null,null,null,"no email",{"$error":"#VALUE!"},{"$error":"#VALUE!"},{"$f":"VLOOKUP(K1612,references!$A$1:$B$7,2,FALSE)","v":{"$error":"#N/A"}}]
[null,null,null,null,null,null,null,null,null,null,null,null,"no email",{"$error":"#VALUE!"},{"$error":"#VALUE!"},{"$f":"VLOOKUP(K1613,references!$A$1:$B$7,2,FALSE)","v":{"$error":"#N/A"}}]
[null,null,null,null,null,null,null,null,null,null,null,null,"no email",{"$error":"#VALUE!"},{"$error":"#VALUE!"},{"$f":"VLOOKUP(K1614,references!$A$1:$B$7,2,FALSE)","v":{"$error":"#N/A"}}]
[null,null,null,null,null,null,null,null,null,null,null,null,"no email",{"$error":"#VALUE!"},{"$error":"#VALUE!"},{"$f":"VLOOKUP(K1615,references!$A$1:$B$7,2,FALSE)","v":{"$error":"#N/A"}}]
[null,null,null,null,null,null,null,null,null,null,null,null,"no email",{"$error":"#VALUE!"},{"$error":"#VALUE!"},{"$f":"VLOOKUP(K1616,references!$A$1:$B$7,2,FALSE)","v":{"$error":"#N/A"}}]
[null,null,null,null,null,null,null,null,null,null,null,null,"no email",{"$error":"#VALUE!"},{"$error":"#VALUE!"},{"$f":"VLOOKUP(K1617,references!$A$1:$B$7,2,FALSE)","v":{"$error":"#N/A"}}]
[null,null,null,null,null,null,null,null,null,null,null,null,"no email",{"$error":"#VALUE!"},{"$error":"#VALUE!"},{"$f":"VLOOKUP(K1618,references!$A$1:$B$7,2,FALSE)","v":{"$error":"#N/A"}}]
[null,null,null,null,null,null,null,null,null,null,null,null,"no email",{"$error":"#VALUE!"},{"$error":"#VALUE!"},{"$f":"VLOOKUP(K1619,references!$A$1:$B$7,2,FALSE)","v":{"$error":"#N/A"}}]
[null,null,null,null,null,null,null,null,null,null,null,null,"no email",{"$error":"#VALUE!"},{"$error":"#VALUE!"},{"$f":"VLOOKUP(K1620,references!$A$1:$B$7,2,FALSE)","v":{"$error":"#N/A"}}]
[null,null,null,null,null,null,null,null,null,null,null,null,"no email",{"$error":"#VALUE!"},{"$error":"#VALUE!"},{"$f":"VLOOKUP(K1621,references!$A$1:$B$7,2,FALSE)","v":{"$error":"#N/A"}}]
[null,null,null,null,null,null,null,null,null,null,null,null,"no email",{"$error":"#VALUE!"},{"$error":"#VALUE!"},{"$f":"VLOOKUP(K1622,references!$A$1:$B$7,2,FALSE)","v":{"$error":"#N/A"}}]
[null,null,null,null,null,null,null,null,null,null,null,null,"no email",{"$error":"#VALUE!"},{"$error":"#VALUE!"},{"$f":"VLOOKUP(K1623,references!$A$1:$B$7,2,FALSE)","v":{"$error":"#N/A"}}]
[null,null,null,null,null,null,null,null,null,null,null,null,"no email",{"$error":"#VALUE!"},{"$error":"#VALUE!"},{"$f":"VLOOKUP(K1624,references!$A$1:$B$7,2,FALSE)","v":{"$error":"#N/A"}}]
[null,null,null,null,null,null,null,null,null,null,null,null,"no email",{"$error":"#VALUE!"},{"$error":"#VALUE!"},{"$f":"VLOOKUP(K1625,references!$A$1:$B$7,2,FALSE)","v":{"$error":"#N/A"}}]
[null,null,null,null,null,null,null,null,null,null,null,null,"no email",{"$error":"#VALUE!"},{"$error":"#VALUE!"},{"$f":"VLOOKUP(K1626,references!$A$1:$B$7,2,FALSE)","v":{"$error":"#N/A"}}]
[null,null,null,null,null,null,null,null,null,null,null,null,"no email",{"$error":"#VALUE!"},{"$error":"#VALUE!"},{"$f":"VLOOKUP(K1627,references!$A$1:$B$7,2,FALSE)","v":{"$error":"#N/A"}}]
[null,null,null,null,null,null,null,null,null,null,null,null,"no email",{"$error":"#VALUE!"},{"$error":"#VALUE!"},{"$f":"VLOOKUP(K1628,references!$A$1:$B$7,2,FALSE)","v":{"$error":"#N/A"}}]
[null,null,null,null,null,null,null,null,null,null,null,null,"no email",{"$error":"#VALUE!"},{"$error":"#VALUE!"},{"$f":"VLOOKUP(K1629,references!$A$1:$B$7,2,FALSE)","v":{"$error":"#N/A"}}]
[null,null,null,null,null,null,null,null,null,null,null,null,"no email",{"$error":"#VALUE!"},{"$error":"#VALUE!"},{"$f":"VLOOKUP(K1630,references!$A$1:$B$7,2,FALSE)","v":{"$error":"#N/A"}}]
[null,null,null,null,null,null,null,null,null,null,null,null,"no email",{"$error":"#VALUE!"},{"$error":"#VALUE!"},{"$f":"VLOOKUP(K1631,references!$A$1:$B$7,2,FALSE)","v":{"$error":"#N/A"}}]
[null,null,null,null,null,null,null,null,null,null,null,null,"no email",{"$error":"#VALUE!"},{"$error":"#VALUE!"},{"$f":"VLOOKUP(K1632,references!$A$1:$B$7,2,FALSE)","v":{"$error":"#N/A"}}]
[null,null,null,null,null,null,null,null,null,null,null,null,"no email",{"$error":"#VALUE!"},{"$error":"#VALUE!"},{"$f":"VLOOKUP(K1633,references!$A$1:$B$7,2,FALSE)","v":{"$error":"#N/A"}}]
[null,null,null,null,null,null,null,null,null,null,null,null,"no email",{"$error":"#VALUE!"},{"$error":"#VALUE!"},{"$f":"VLOOKUP(K1634,references!$A$1:$B$7,2,FALSE)","v":{"$error":"#N/A"}}]
[null,null,null,null,null,null,null,null,null,null,null,null,"no email",{"$error":"#VALUE!"},{"$error":"#VALUE!"},{"$f":"VLOOKUP(K1635,references!$A$1:$B$7,2,FALSE)","v":{"$error":"#N/A"}}]
[null,null,null,null,null,null,null,null,null,null,null,null,"no email",{"$error":"#VALUE!"},{"$error":"#VALUE!"},{"$f":"VLOOKUP(K1636,references!$A$1:$B$7,2,FALSE)","v":{"$error":"#N/A"}}]
[null,null,null,null,null,null,null,null,null,null,null,null,"no email",{"$error":"#VALUE!"},{"$error":"#VALUE!"},{"$f":"VLOOKUP(K1637,references!$A$1:$B$7,2,FALSE)","v":{"$error":"#N/A"}}]
[null,null,null,null,null,null,null,null,null,null,null,null,"no email",{"$error":"#VALUE!"},{"$error":"#VALUE!"},{"$f":"VLOOKUP(K1638,references!$A$1:$B$7,2,FALSE)","v":{"$error":"#N/A"}}]
[null,null,null,null,null,null,null,null,null,null,null,null,"no email",{"$error":"#VALUE!"},{"$error":"#VALUE!"},{"$f":"VLOOKUP(K1639,references!$A$1:$B$7,2,FALSE)","v":{"$error":"#N/A"}}]
[null,null,null,null,null,null,null,null,null,null,null,null,"no email",{"$error":"#VALUE!"},{"$error":"#VALUE!"},{"$f":"VLOOKUP(K1640,references!$A$1:$B$7,2,FALSE)","v":{"$error":"#N/A"}}]
[null,null,null,null,null,null,null,null,null,null,null,null,"no email",{"$error":"#VALUE!"},{"$error":"#VALUE!"},{"$f":"VLOOKUP(K1641,references!$A$1:$B$7,2,FALSE)","v":{"$error":"#N/A"}}]
[null,null,null,null,null,null,null,null,null,null,null,null,"no email",{"$error":"#VALUE!"},{"$error":"#VALUE!"},{"$f":"VLOOKUP(K1642,references!$A$1:$B$7,2,FALSE)","v":{"$error":"#N/A"}}]
[null,null,null,null,null,null,null,null,null,null,null,null,"no email",{"$error":"#VALUE!"},{"$error":"#VALUE!"},{"$f":"VLOOKUP(K1643,references!$A$1:$B$7,2,FALSE)","v":{"$error":"#N/A"}}]
[null,null,null,null,null,null,null,null,null,null,null,null,"no email",{"$error":"#VALUE!"},{"$error":"#VALUE!"},{"$f":"VLOOKUP(K1644,references!$A$1:$B$7,2,FALSE)","v":{"$error":"#N/A"}}]
[null,null,null,null,null,null,null,null,null,null,null,null,"no email",{"$error":"#VALUE!"},{"$error":"#VALUE!"},{"$f":"VLOOKUP(K1645,references!$A$1:$B$7,2,FALSE)","v":{"$error":"#N/A"}}]
[null,null,null,null,null,null,null,null,null,null,null,null,"no email",{"$error":"#VALUE!"},{"$error":"#VALUE!"},{"$f":"VLOOKUP(K1646,references!$A$1:$B$7,2,FALSE)","v":{"$error":"#N/A"}}]
[null,null,null,null,null,null,null,null,null,null,null,null,"no email",{"$error":"#VALUE!"},{"$error":"#VALUE!"},{"$f":"VLOOKUP(K1647,references!$A$1:$B$7,2,FALSE)","v":{"$error":"#N/A"}}]
[null,null,null,null,null,null,null,null,null,null,null,null,"no email",{"$error":"#VALUE!"},{"$error":"#VALUE!"},{"$f":"VLOOKUP(K1648,references!$A$1:$B$7,2,FALSE)","v":{"$error":"#N/A"}}]
[null,null,null,null,null,null,null,null,null,null,null,null,"no email",{"$error":"#VALUE!"},{"$error":"#VALUE!"},{"$f":"VLOOKUP(K1649,references!$A$1:$B$7,2,FALSE)","v":{"$error":"#N/A"}}]
[null,null,null,null,null,null,null,null,null,null,null,null,"no email",{"$error":"#VALUE!"},{"$error":"#VALUE!"},{"$f":"VLOOKUP(K1650,references!$A$1:$B$7,2,FALSE)","v":{"$error":"#N/A"}}]
[null,null,null,null,null,null,null,null,null,null,null,null,"no email",{"$error":"#VALUE!"},{"$error":"#VALUE!"},{"$f":"VLOOKUP(K1651,references!$A$1:$B$7,2,FALSE)","v":{"$error":"#N/A"}}]
[null,null,null,null,null,null,null,null,null,null,null,null,"no email",{"$error":"#VALUE!"},{"$error":"#VALUE!"},{"$f":"VLOOKUP(K1652,references!$A$1:$B$7,2,FALSE)","v":{"$error":"#N/A"}}]
[null,null,null,null,null,null,null,null,null,null,null,null,"no email",{"$error":"#VALUE!"},{"$error":"#VALUE!"},{"$f":"VLOOKUP(K1653,references!$A$1:$B$7,2,FALSE)","v":{"$error":"#N/A"}}]
[null,null,null,null,null,null,null,null,null,null,null,null,"no email",{"$error":"#VALUE!"},{"$error":"#VALUE!"},{"$f":"VLOOKUP(K1654,references!$A$1:$B$7,2,FALSE)","v":{"$error":"#N/A"}}]
[null,null,null,null,null,null,null,null,null,null,null,null,"no email",{"$error":"#VALUE!"},{"$error":"#VALUE!"},{"$f":"VLOOKUP(K1655,references!$A$1:$B$7,2,FALSE)","v":{"$error":"#N/A"}}]
[null,null,null,null,null,null,null,null,null,null,null,null,"no email",{"$error":"#VALUE!"},{"$error":"#VALUE!"},{"$f":"VLOOKUP(K1656,references!$A$1:$B$7,2,FALSE)","v":{"$error":"#N/A"}}]
[null,null,null,null,null,null,null,null,null,null,null,null,"no email",{"$error":"#VALUE!"},{"$error":"#VALUE!"},{"$f":"VLOOKUP(K1657,references!$A$1:$B$7,2,FALSE)","v":{"$error":"#N/A"}}]
[null,null,null,null,null,null,null,null,null,null,null,null,"no email",{"$error":"#VALUE!"},{"$error":"#VALUE!"},{"$f":"VLOOKUP(K1658,references!$A$1:$B$7,2,FALSE)","v":{"$error":"#N/A"}}]
[null,null,null,null,null,null,null,null,null,null,null,null,"no email",{"$error":"#VALUE!"},{"$error":"#VALUE!"},{"$f":"VLOOKUP(K1659,references!$A$1:$B$7,2,FALSE)","v":{"$error":"#N/A"}}]
[null,null,null,null,null,null,null,null,null,null,null,null,"no email",{"$error":"#VALUE!"},{"$error":"#VALUE!"},{"$f":"VLOOKUP(K1660,references!$A$1:$B$7,2,FALSE)","v":{"$error":"#N/A"}}]
[null,null,null,null,null,null,null,null,null,null,null,null,"no email",{"$error":"#VALUE!"},{"$error":"#VALUE!"},{"$f":"VLOOKUP(K1661,references!$A$1:$B$7,2,FALSE)","v":{"$error":"#N/A"}}]
[null,null,null,null,null,null,null,null,null,null,null,null,"no email",{"$error":"#VALUE!"},{"$error":"#VALUE!"},{"$f":"VLOOKUP(K1662,references!$A$1:$B$7,2,FALSE)","v":{"$error":"#N/A"}}]
[null,null,null,null,null,null,null,null,null,null,null,null,"no email",{"$error":"#VALUE!"},{"$error":"#VALUE!"},{"$f":"VLOOKUP(K1663,references!$A$1:$B$7,2,FALSE)","v":{"$error":"#N/A"}}]
[null,null,null,null,null,null,null,null,null,null,null,null,"no email",{"$error":"#VALUE!"},{"$error":"#VALUE!"},{"$f":"VLOOKUP(K1664,references!$A$1:$B$7,2,FALSE)","v":{"$error":"#N/A"}}]
[null,null,null,null,null,null,null,null,null,null,null,null,"no email",{"$error":"#VALUE!"},{"$error":"#VALUE!"},{"$f":"VLOOKUP(K1665,references!$A$1:$B$7,2,FALSE)","v":{"$error":"#N/A"}}]
[null,null,null,null,null,null,null,null,null,null,null,null,{"$f":"IF(L1666=\"\", \"no email\",LOWER(L1666))","v":"no email"},{"$f":"LEFT(A1666, SEARCH(\",\",A1666,1)-1)","v":{"$error":"#VALUE!"}},{"$f":"RIGHT(A1666, LEN(A1666) -SEARCH(\",\",A1666,1)-1)","v":{"$error":"#VALUE!"}},{"$f":"VLOOKUP(K1666,references!$A$1:$B$7,2,FALSE)","v":{"$error":"#N/A"}}]
[null,null,null,null,null,null,null,null,null,null,null,null,"no email",{"$error":"#VALUE!"},{"$error":"#VALUE!"},{"$f":"VLOOKUP(K1667,references!$A$1:$B$7,2,FALSE)","v":{"$error":"#N/A"}}]
[null,null,null,null,null,null,null,null,null,null,null,null,"no email",{"$error":"#VALUE!"},{"$error":"#VALUE!"},{"$f":"VLOOKUP(K1668,references!$A$1:$B$7,2,FALSE)","v":{"$error":"#N/A"}}]
[null,null,null,null,null,null,null,null,null,null,null,null,"no email",{"$error":"#VALUE!"},{"$error":"#VALUE!"},{"$f":"VLOOKUP(K1669,references!$A$1:$B$7,2,FALSE)","v":{"$error":"#N/A"}}]
[null,null,null,null,null,null,null,null,null,null,null,null,"no email",{"$error":"#VALUE!"},{"$error":"#VALUE!"},{"$f":"VLOOKUP(K1670,references!$A$1:$B$7,2,FALSE)","v":{"$error":"#N/A"}}]
[null,null,null,null,null,null,null,null,null,null,null,null,"no email",{"$error":"#VALUE!"},{"$error":"#VALUE!"},{"$f":"VLOOKUP(K1671,references!$A$1:$B$7,2,FALSE)","v":{"$error":"#N/A"}}]
[null,null,null,null,null,null,null,null,null,null,null,null,"no email",{"$error":"#VALUE!"},{"$error":"#VALUE!"},{"$f":"VLOOKUP(K1672,references!$A$1:$B$7,2,FALSE)","v":{"$error":"#N/A"}}]
[null,null,null,null,null,null,null,null,null,null,null,null,"no email",{"$error":"#VALUE!"},{"$error":"#VALUE!"},{"$f":"VLOOKUP(K1673,references!$A$1:$B$7,2,FALSE)","v":{"$error":"#N/A"}}]
[null,null,null,null,null,null,null,null,null,null,null,null,"no email",{"$error":"#VALUE!"},{"$error":"#VALUE!"},{"$f":"VLOOKUP(K1674,references!$A$1:$B$7,2,FALSE)","v":{"$error":"#N/A"}}]
[null,null,null,null,null,null,null,null,null,null,null,null,"no email",{"$error":"#VALUE!"},{"$error":"#VALUE!"},{"$f":"VLOOKUP(K1675,references!$A$1:$B$7,2,FALSE)","v":{"$error":"#N/A"}}]
[null,null,null,null,null,null,null,null,null,null,null,null,"no email",{"$error":"#VALUE!"},{"$error":"#VALUE!"},{"$f":"VLOOKUP(K1676,references!$A$1:$B$7,2,FALSE)","v":{"$error":"#N/A"}}]
[null,null,null,null,null,null,null,null,null,null,null,null,"no email",{"$error":"#VALUE!"},{"$error":"#VALUE!"},{"$f":"VLOOKUP(K1677,references!$A$1:$B$7,2,FALSE)","v":{"$error":"#N/A"}}]
[null,null,null,null,null,null,null,null,null,null,null,null,"no email",{"$error":"#VALUE!"},{"$error":"#VALUE!"},{"$f":"VLOOKUP(K1678,references!$A$1:$B$7,2,FALSE)","v":{"$error":"#N/A"}}]
[null,null,null,null,null,null,null,null,null,null,null,null,"no email",{"$error":"#VALUE!"},{"$error":"#VALUE!"},{"$f":"VLOOKUP(K1679,references!$A$1:$B$7,2,FALSE)","v":{"$error":"#N/A"}}]
[null,null,null,null,null,null,null,null,null,null,null,null,"no email",{"$error":"#VALUE!"},{"$error":"#VALUE!"},{"$f":"VLOOKUP(K1680,references!$A$1:$B$7,2,FALSE)","v":{"$error":"#N/A"}}]
[null,null,null,null,null,null,null,null,null,null,null,null,"no email",{"$error":"#VALUE!"},{"$error":"#VALUE!"},{"$f":"VLOOKUP(K1681,references!$A$1:$B$7,2,FALSE)","v":{"$error":"#N/A"}}]
[null,null,null,null,null,null,null,null,null,null,null,null,"no email",{"$error":"#VALUE!"},{"$error":"#VALUE!"},{"$f":"VLOOKUP(K1682,references!$A$1:$B$7,2,FALSE)","v":{"$error":"#N/A"}}]
[null,null,null,null,null,null,null,null,null,null,null,null,"no email",{"$error":"#VALUE!"},{"$error":"#VALUE!"},{"$f":"VLOOKUP(K1683,references!$A$1:$B$7,2,FALSE)","v":{"$error":"#N/A"}}]
[null,null,null,null,null,null,null,null,null,null,null,null,"no email",{"$error":"#VALUE!"},{"$error":"#VALUE!"},{"$f":"VLOOKUP(K1684,references!$A$1:$B$7,2,FALSE)","v":{"$error":"#N/A"}}]
[null,null,null,null,null,null,null,null,null,null,null,null,"no email",{"$error":"#VALUE!"},{"$error":"#VALUE!"},{"$f":"VLOOKUP(K1685,references!$A$1:$B$7,2,FALSE)","v":{"$error":"#N/A"}}]
[null,null,null,null,null,null,null,null,null,null,null,null,"no email",{"$error":"#VALUE!"},{"$error":"#VALUE!"},{"$f":"VLOOKUP(K1686,references!$A$1:$B$7,2,FALSE)","v":{"$error":"#N/A"}}]
[null,null,null,null,null,null,null,null,null,null,null,null,"no email",{"$error":"#VALUE!"},{"$error":"#VALUE!"},{"$f":"VLOOKUP(K1687,references!$A$1:$B$7,2,FALSE)","v":{"$error":"#N/A"}}]
[null,null,null,null,null,null,null,null,null,null,null,null,"no email",{"$error":"#VALUE!"},{"$error":"#VALUE!"},{"$f":"VLOOKUP(K1688,references!$A$1:$B$7,2,FALSE)","v":{"$error":"#N/A"}}]
[null,null,null,null,null,null,null,null,null,null,null,null,"no email",{"$error":"#VALUE!"},{"$error":"#VALUE!"},{"$f":"VLOOKUP(K1689,references!$A$1:$B$7,2,FALSE)","v":{"$error":"#N/A"}}]
[null,null,null,null,null,null,null,null,null,null,null,null,"no email",{"$error":"#VALUE!"},{"$error":"#VALUE!"},{"$f":"VLOOKUP(K1690,references!$A$1:$B$7,2,FALSE)","v":{"$error":"#N/A"}}]
[null,null,null,null,null,null,null,null,null,null,null,null,"no email",{"$error":"#VALUE!"},{"$error":"#VALUE!"},{"$f":"VLOOKUP(K1691,references!$A$1:$B$7,2,FALSE)","v":{"$error":"#N/A"}}]
[null,null,null,null,null,null,null,null,null,null,null,null,"no email",{"$error":"#VALUE!"},{"$error":"#VALUE!"},{"$f":"VLOOKUP(K1692,references!$A$1:$B$7,2,FALSE)","v":{"$error":"#N/A"}}]
[null,null,null,null,null,null,null,null,null,null,null,null,"no email",{"$error":"#VALUE!"},{"$error":"#VALUE!"},{"$f":"VLOOKUP(K1693,references!$A$1:$B$7,2,FALSE)","v":{"$error":"#N/A"}}]
[null,null,null,null,null,null,null,null,null,null,null,null,"no email",{"$error":"#VALUE!"},{"$error":"#VALUE!"},{"$f":"VLOOKUP(K1694,references!$A$1:$B$7,2,FALSE)","v":{"$error":"#N/A"}}]
[null,null,null,null,null,null,null,null,null,null,null,null,"no email",{"$error":"#VALUE!"},{"$error":"#VALUE!"},{"$f":"VLOOKUP(K1695,references!$A$1:$B$7,2,FALSE)","v":{"$error":"#N/A"}}]
[null,null,null,null,null,null,null,null,null,null,null,null,"no email",{"$error":"#VALUE!"},{"$error":"#VALUE!"},{"$f":"VLOOKUP(K1696,references!$A$1:$B$7,2,FALSE)","v":{"$error":"#N/A"}}]
[null,null,null,null,null,null,null,null,null,null,null,null,"no email",{"$error":"#VALUE!"},{"$error":"#VALUE!"},{"$f":"VLOOKUP(K1697,references!$A$1:$B$7,2,FALSE)","v":{"$error":"#N/A"}}]
[null,null,null,null,null,null,null,null,null,null,null,null,"no email",{"$error":"#VALUE!"},{"$error":"#VALUE!"},{"$f":"VLOOKUP(K1698,references!$A$1:$B$7,2,FALSE)","v":{"$error":"#N/A"}}]
[null,null,null,null,null,null,null,null,null,null,null,null,"no email",{"$error":"#VALUE!"},{"$error":"#VALUE!"},{"$f":"VLOOKUP(K1699,references!$A$1:$B$7,2,FALSE)","v":{"$error":"#N/A"}}]
[null,null,null,null,null,null,null,null,null,null,null,null,"no email",{"$error":"#VALUE!"},{"$error":"#VALUE!"},{"$f":"VLOOKUP(K1700,references!$A$1:$B$7,2,FALSE)","v":{"$error":"#N/A"}}]
[null,null,null,null,null,null,null,null,null,null,null,null,"no email",{"$error":"#VALUE!"},{"$error":"#VALUE!"},{"$f":"VLOOKUP(K1701,references!$A$1:$B$7,2,FALSE)","v":{"$error":"#N/A"}}]
[null,null,null,null,null,null,null,null,null,null,null,null,"no email",{"$error":"#VALUE!"},{"$error":"#VALUE!"},{"$f":"VLOOKUP(K1702,references!$A$1:$B$7,2,FALSE)","v":{"$error":"#N/A"}}]
[null,null,null,null,null,null,null,null,null,null,null,null,"no email",{"$error":"#VALUE!"},{"$error":"#VALUE!"},{"$f":"VLOOKUP(K1703,references!$A$1:$B$7,2,FALSE)","v":{"$error":"#N/A"}}]
[null,null,null,null,null,null,null,null,null,null,null,null,"no email",{"$error":"#VALUE!"},{"$error":"#VALUE!"},{"$f":"VLOOKUP(K1704,references!$A$1:$B$7,2,FALSE)","v":{"$error":"#N/A"}}]
[null,null,null,null,null,null,null,null,null,null,null,null,"no email",{"$error":"#VALUE!"},{"$error":"#VALUE!"},{"$f":"VLOOKUP(K1705,references!$A$1:$B$7,2,FALSE)","v":{"$error":"#N/A"}}]
[null,null,null,null,null,null,null,null,null,null,null,null,"no email",{"$error":"#VALUE!"},{"$error":"#VALUE!"},{"$f":"VLOOKUP(K1706,references!$A$1:$B$7,2,FALSE)","v":{"$error":"#N/A"}}]
[null,null,null,null,null,null,null,null,null,null,null,null,"no email",{"$error":"#VALUE!"},{"$error":"#VALUE!"},{"$f":"VLOOKUP(K1707,references!$A$1:$B$7,2,FALSE)","v":{"$error":"#N/A"}}]
[null,null,null,null,null,null,null,null,null,null,null,null,"no email",{"$error":"#VALUE!"},{"$error":"#VALUE!"},{"$f":"VLOOKUP(K1708,references!$A$1:$B$7,2,FALSE)","v":{"$error":"#N/A"}}]
[null,null,null,null,null,null,null,null,null,null,null,null,"no email",{"$error":"#VALUE!"},{"$error":"#VALUE!"},{"$f":"VLOOKUP(K1709,references!$A$1:$B$7,2,FALSE)","v":{"$error":"#N/A"}}]
[null,null,null,null,null,null,null,null,null,null,null,null,"no email",{"$error":"#VALUE!"},{"$error":"#VALUE!"},{"$f":"VLOOKUP(K1710,references!$A$1:$B$7,2,FALSE)","v":{"$error":"#N/A"}}]
[null,null,null,null,null,null,null,null,null,null,null,null,"no email",{"$error":"#VALUE!"},{"$error":"#VALUE!"},{"$f":"VLOOKUP(K1711,references!$A$1:$B$7,2,FALSE)","v":{"$error":"#N/A"}}]
[null,null,null,null,null,null,null,null,null,null,null,null,"no email",{"$error":"#VALUE!"},{"$error":"#VALUE!"},{"$f":"VLOOKUP(K1712,references!$A$1:$B$7,2,FALSE)","v":{"$error":"#N/A"}}]
[null,null,null,null,null,null,null,null,null,null,null,null,"no email",{"$error":"#VALUE!"},{"$error":"#VALUE!"},{"$f":"VLOOKUP(K1713,references!$A$1:$B$7,2,FALSE)","v":{"$error":"#N/A"}}]
[null,null,null,null,null,null,null,null,null,null,null,null,"no email",{"$error":"#VALUE!"},{"$error":"#VALUE!"},{"$f":"VLOOKUP(K1714,references!$A$1:$B$7,2,FALSE)","v":{"$error":"#N/A"}}]
[null,null,null,null,null,null,null,null,null,null,null,null,"no email",{"$error":"#VALUE!"},{"$error":"#VALUE!"},{"$f":"VLOOKUP(K1715,references!$A$1:$B$7,2,FALSE)","v":{"$error":"#N/A"}}]
[null,null,null,null,null,null,null,null,null,null,null,null,"no email",{"$error":"#VALUE!"},{"$error":"#VALUE!"},{"$f":"VLOOKUP(K1716,references!$A$1:$B$7,2,FALSE)","v":{"$error":"#N/A"}}]
[null,null,null,null,null,null,null,null,null,null,null,null,"no email",{"$error":"#VALUE!"},{"$error":"#VALUE!"},{"$f":"VLOOKUP(K1717,references!$A$1:$B$7,2,FALSE)","v":{"$error":"#N/A"}}]
[null,null,null,null,null,null,null,null,null,null,null,null,"no email",{"$error":"#VALUE!"},{"$error":"#VALUE!"},{"$f":"VLOOKUP(K1718,references!$A$1:$B$7,2,FALSE)","v":{"$error":"#N/A"}}]
[null,null,null,null,null,null,null,null,null,null,null,null,"no email",{"$error":"#VALUE!"},{"$error":"#VALUE!"},{"$f":"VLOOKUP(K1719,references!$A$1:$B$7,2,FALSE)","v":{"$error":"#N/A"}}]
[null,null,null,null,null,null,null,null,null,null,null,null,"no email",{"$error":"#VALUE!"},{"$error":"#VALUE!"},{"$f":"VLOOKUP(K1720,references!$A$1:$B$7,2,FALSE)","v":{"$error":"#N/A"}}]
[null,null,null,null,null,null,null,null,null,null,null,null,"no email",{"$error":"#VALUE!"},{"$error":"#VALUE!"},{"$f":"VLOOKUP(K1721,references!$A$1:$B$7,2,FALSE)","v":{"$error":"#N/A"}}]
[null,null,null,null,null,null,null,null,null,null,null,null,"no email",{"$error":"#VALUE!"},{"$error":"#VALUE!"},{"$f":"VLOOKUP(K1722,references!$A$1:$B$7,2,FALSE)","v":{"$error":"#N/A"}}]
[null,null,null,null,null,null,null,null,null,null,null,null,"no email",{"$error":"#VALUE!"},{"$error":"#VALUE!"},{"$f":"VLOOKUP(K1723,references!$A$1:$B$7,2,FALSE)","v":{"$error":"#N/A"}}]
[null,null,null,null,null,null,null,null,null,null,null,null,"no email",{"$error":"#VALUE!"},{"$error":"#VALUE!"},{"$f":"VLOOKUP(K1724,references!$A$1:$B$7,2,FALSE)","v":{"$error":"#N/A"}}]
[null,null,null,null,null,null,null,null,null,null,null,null,"no email",{"$error":"#VALUE!"},{"$error":"#VALUE!"},{"$f":"VLOOKUP(K1725,references!$A$1:$B$7,2,FALSE)","v":{"$error":"#N/A"}}]
[null,null,null,null,null,null,null,null,null,null,null,null,"no email",{"$error":"#VALUE!"},{"$error":"#VALUE!"},{"$f":"VLOOKUP(K1726,references!$A$1:$B$7,2,FALSE)","v":{"$error":"#N/A"}}]
[null,null,null,null,null,null,null,null,null,null,null,null,"no email",{"$error":"#VALUE!"},{"$error":"#VALUE!"},{"$f":"VLOOKUP(K1727,references!$A$1:$B$7,2,FALSE)","v":{"$error":"#N/A"}}]
[null,null,null,null,null,null,null,null,null,null,null,null,"no email",{"$error":"#VALUE!"},{"$error":"#VALUE!"},{"$f":"VLOOKUP(K1728,references!$A$1:$B$7,2,FALSE)","v":{"$error":"#N/A"}}]
[null,null,null,null,null,null,null,null,null,null,null,null,"no email",{"$error":"#VALUE!"},{"$error":"#VALUE!"},{"$f":"VLOOKUP(K1729,references!$A$1:$B$7,2,FALSE)","v":{"$error":"#N/A"}}]
[null,null,null,null,null,null,null,null,null,null,null,null,{"$f":"IF(L1730=\"\", \"no email\",LOWER(L1730))","v":"no email"},{"$f":"LEFT(A1730, SEARCH(\",\",A1730,1)-1)","v":{"$error":"#VALUE!"}},{"$f":"RIGHT(A1730, LEN(A1730) -SEARCH(\",\",A1730,1)-1)","v":{"$error":"#VALUE!"}},{"$f":"VLOOKUP(K1730,references!$A$1:$B$7,2,FALSE)","v":{"$error":"#N/A"}}]
[null,null,null,null,null,null,null,null,null,null,null,null,"no email",{"$error":"#VALUE!"},{"$error":"#VALUE!"},{"$f":"VLOOKUP(K1731,references!$A$1:$B$7,2,FALSE)","v":{"$error":"#N/A"}}]
[null,null,null,null,null,null,null,null,null,null,null,null,"no email",{"$error":"#VALUE!"},{"$error":"#VALUE!"},{"$f":"VLOOKUP(K1732,references!$A$1:$B$7,2,FALSE)","v":{"$error":"#N/A"}}]
[null,null,null,null,null,null,null,null,null,null,null,null,"no email",{"$error":"#VALUE!"},{"$error":"#VALUE!"},{"$f":"VLOOKUP(K1733,references!$A$1:$B$7,2,FALSE)","v":{"$error":"#N/A"}}]
[null,null,null,null,null,null,null,null,null,null,null,null,"no email",{"$error":"#VALUE!"},{"$error":"#VALUE!"},{"$f":"VLOOKUP(K1734,references!$A$1:$B$7,2,FALSE)","v":{"$error":"#N/A"}}]
[null,null,null,null,null,null,null,null,null,null,null,null,"no email",{"$error":"#VALUE!"},{"$error":"#VALUE!"},{"$f":"VLOOKUP(K1735,references!$A$1:$B$7,2,FALSE)","v":{"$error":"#N/A"}}]
[null,null,null,null,null,null,null,null,null,null,null,null,"no email",{"$error":"#VALUE!"},{"$error":"#VALUE!"},{"$f":"VLOOKUP(K1736,references!$A$1:$B$7,2,FALSE)","v":{"$error":"#N/A"}}]
[null,null,null,null,null,null,null,null,null,null,null,null,"no email",{"$error":"#VALUE!"},{"$error":"#VALUE!"},{"$f":"VLOOKUP(K1737,references!$A$1:$B$7,2,FALSE)","v":{"$error":"#N/A"}}]
[null,null,null,null,null,null,null,null,null,null,null,null,"no email",{"$error":"#VALUE!"},{"$error":"#VALUE!"},{"$f":"VLOOKUP(K1738,references!$A$1:$B$7,2,FALSE)","v":{"$error":"#N/A"}}]
[null,null,null,null,null,null,null,null,null,null,null,null,"no email",{"$error":"#VALUE!"},{"$error":"#VALUE!"},{"$f":"VLOOKUP(K1739,references!$A$1:$B$7,2,FALSE)","v":{"$error":"#N/A"}}]
[null,null,null,null,null,null,null,null,null,null,null,null,"no email",{"$error":"#VALUE!"},{"$error":"#VALUE!"},{"$f":"VLOOKUP(K1740,references!$A$1:$B$7,2,FALSE)","v":{"$error":"#N/A"}}]
[null,null,null,null,null,null,null,null,null,null,null,null,"no email",{"$error":"#VALUE!"},{"$error":"#VALUE!"},{"$f":"VLOOKUP(K1741,references!$A$1:$B$7,2,FALSE)","v":{"$error":"#N/A"}}]
[null,null,null,null,null,null,null,null,null,null,null,null,"no email",{"$error":"#VALUE!"},{"$error":"#VALUE!"},{"$f":"VLOOKUP(K1742,references!$A$1:$B$7,2,FALSE)","v":{"$error":"#N/A"}}]
[null,null,null,null,null,null,null,null,null,null,null,null,"no email",{"$error":"#VALUE!"},{"$error":"#VALUE!"},{"$f":"VLOOKUP(K1743,references!$A$1:$B$7,2,FALSE)","v":{"$error":"#N/A"}}]
[null,null,null,null,null,null,null,null,null,null,null,null,"no email",{"$error":"#VALUE!"},{"$error":"#VALUE!"},{"$f":"VLOOKUP(K1744,references!$A$1:$B$7,2,FALSE)","v":{"$error":"#N/A"}}]
[null,null,null,null,null,null,null,null,null,null,null,null,"no email",{"$error":"#VALUE!"},{"$error":"#VALUE!"},{"$f":"VLOOKUP(K1745,references!$A$1:$B$7,2,FALSE)","v":{"$error":"#N/A"}}]
[null,null,null,null,null,null,null,null,null,null,null,null,"no email",{"$error":"#VALUE!"},{"$error":"#VALUE!"},{"$f":"VLOOKUP(K1746,references!$A$1:$B$7,2,FALSE)","v":{"$error":"#N/A"}}]
[null,null,null,null,null,null,null,null,null,null,null,null,"no email",{"$error":"#VALUE!"},{"$error":"#VALUE!"},{"$f":"VLOOKUP(K1747,references!$A$1:$B$7,2,FALSE)","v":{"$error":"#N/A"}}]
[null,null,null,null,null,null,null,null,null,null,null,null,"no email",{"$error":"#VALUE!"},{"$error":"#VALUE!"},{"$f":"VLOOKUP(K1748,references!$A$1:$B$7,2,FALSE)","v":{"$error":"#N/A"}}]
[null,null,null,null,null,null,null,null,null,null,null,null,"no email",{"$error":"#VALUE!"},{"$error":"#VALUE!"},{"$f":"VLOOKUP(K1749,references!$A$1:$B$7,2,FALSE)","v":{"$error":"#N/A"}}]
[null,null,null,null,null,null,null,null,null,null,null,null,"no email",{"$error":"#VALUE!"},{"$error":"#VALUE!"},{"$f":"VLOOKUP(K1750,references!$A$1:$B$7,2,FALSE)","v":{"$error":"#N/A"}}]
[null,null,null,null,null,null,null,null,null,null,null,null,"no email",{"$error":"#VALUE!"},{"$error":"#VALUE!"},{"$f":"VLOOKUP(K1751,references!$A$1:$B$7,2,FALSE)","v":{"$error":"#N/A"}}]
[null,null,null,null,null,null,null,null,null,null,null,null,"no email",{"$error":"#VALUE!"},{"$error":"#VALUE!"},{"$f":"VLOOKUP(K1752,references!$A$1:$B$7,2,FALSE)","v":{"$error":"#N/A"}}]
[null,null,null,null,null,null,null,null,null,null,null,null,"no email",{"$error":"#VALUE!"},{"$error":"#VALUE!"},{"$f":"VLOOKUP(K1753,references!$A$1:$B$7,2,FALSE)","v":{"$error":"#N/A"}}]
[null,null,null,null,null,null,null,null,null,null,null,null,"no email",{"$error":"#VALUE!"},{"$error":"#VALUE!"},{"$f":"VLOOKUP(K1754,references!$A$1:$B$7,2,FALSE)","v":{"$error":"#N/A"}}]
[null,null,null,null,null,null,null,null,null,null,null,null,"no email",{"$error":"#VALUE!"},{"$error":"#VALUE!"},{"$f":"VLOOKUP(K1755,references!$A$1:$B$7,2,FALSE)","v":{"$error":"#N/A"}}]
[null,null,null,null,null,null,null,null,null,null,null,null,"no email",{"$error":"#VALUE!"},{"$error":"#VALUE!"},{"$f":"VLOOKUP(K1756,references!$A$1:$B$7,2,FALSE)","v":{"$error":"#N/A"}}]
[null,null,null,null,null,null,null,null,null,null,null,null,"no email",{"$error":"#VALUE!"},{"$error":"#VALUE!"},{"$f":"VLOOKUP(K1757,references!$A$1:$B$7,2,FALSE)","v":{"$error":"#N/A"}}]
[null,null,null,null,null,null,null,null,null,null,null,null,"no email",{"$error":"#VALUE!"},{"$error":"#VALUE!"},{"$f":"VLOOKUP(K1758,references!$A$1:$B$7,2,FALSE)","v":{"$error":"#N/A"}}]
[null,null,null,null,null,null,null,null,null,null,null,null,"no email",{"$error":"#VALUE!"},{"$error":"#VALUE!"},{"$f":"VLOOKUP(K1759,references!$A$1:$B$7,2,FALSE)","v":{"$error":"#N/A"}}]
[null,null,null,null,null,null,null,null,null,null,null,null,"no email",{"$error":"#VALUE!"},{"$error":"#VALUE!"},{"$f":"VLOOKUP(K1760,references!$A$1:$B$7,2,FALSE)","v":{"$error":"#N/A"}}]
[null,null,null,null,null,null,null,null,null,null,null,null,"no email",{"$error":"#VALUE!"},{"$error":"#VALUE!"},{"$f":"VLOOKUP(K1761,references!$A$1:$B$7,2,FALSE)","v":{"$error":"#N/A"}}]
[null,null,null,null,null,null,null,null,null,null,null,null,"no email",{"$error":"#VALUE!"},{"$error":"#VALUE!"},{"$f":"VLOOKUP(K1762,references!$A$1:$B$7,2,FALSE)","v":{"$error":"#N/A"}}]
[null,null,null,null,null,null,null,null,null,null,null,null,"no email",{"$error":"#VALUE!"},{"$error":"#VALUE!"},{"$f":"VLOOKUP(K1763,references!$A$1:$B$7,2,FALSE)","v":{"$error":"#N/A"}}]
[null,null,null,null,null,null,null,null,null,null,null,null,"no email",{"$error":"#VALUE!"},{"$error":"#VALUE!"},{"$f":"VLOOKUP(K1764,references!$A$1:$B$7,2,FALSE)","v":{"$error":"#N/A"}}]
[null,null,null,null,null,null,null,null,null,null,null,null,"no email",{"$error":"#VALUE!"},{"$error":"#VALUE!"},{"$f":"VLOOKUP(K1765,references!$A$1:$B$7,2,FALSE)","v":{"$error":"#N/A"}}]
[null,null,null,null,null,null,null,null,null,null,null,null,"no email",{"$error":"#VALUE!"},{"$error":"#VALUE!"},{"$f":"VLOOKUP(K1766,references!$A$1:$B$7,2,FALSE)","v":{"$error":"#N/A"}}]
[null,null,null,null,null,null,null,null,null,null,null,null,"no email",{"$error":"#VALUE!"},{"$error":"#VALUE!"},{"$f":"VLOOKUP(K1767,references!$A$1:$B$7,2,FALSE)","v":{"$error":"#N/A"}}]
[null,null,null,null,null,null,null,null,null,null,null,null,"no email",{"$error":"#VALUE!"},{"$error":"#VALUE!"},{"$f":"VLOOKUP(K1768,references!$A$1:$B$7,2,FALSE)","v":{"$error":"#N/A"}}]
[null,null,null,null,null,null,null,null,null,null,null,null,"no email",{"$error":"#VALUE!"},{"$error":"#VALUE!"},{"$f":"VLOOKUP(K1769,references!$A$1:$B$7,2,FALSE)","v":{"$error":"#N/A"}}]
[null,null,null,null,null,null,null,null,null,null,null,null,"no email",{"$error":"#VALUE!"},{"$error":"#VALUE!"},{"$f":"VLOOKUP(K1770,references!$A$1:$B$7,2,FALSE)","v":{"$error":"#N/A"}}]
[null,null,null,null,null,null,null,null,null,null,null,null,"no email",{"$error":"#VALUE!"},{"$error":"#VALUE!"},{"$f":"VLOOKUP(K1771,references!$A$1:$B$7,2,FALSE)","v":{"$error":"#N/A"}}]
[null,null,null,null,null,null,null,null,null,null,null,null,"no email",{"$error":"#VALUE!"},{"$error":"#VALUE!"},{"$f":"VLOOKUP(K1772,references!$A$1:$B$7,2,FALSE)","v":{"$error":"#N/A"}}]
[null,null,null,null,null,null,null,null,null,null,null,null,"no email",{"$error":"#VALUE!"},{"$error":"#VALUE!"},{"$f":"VLOOKUP(K1773,references!$A$1:$B$7,2,FALSE)","v":{"$error":"#N/A"}}]
[null,null,null,null,null,null,null,null,null,null,null,null,"no email",{"$error":"#VALUE!"},{"$error":"#VALUE!"},{"$f":"VLOOKUP(K1774,references!$A$1:$B$7,2,FALSE)","v":{"$error":"#N/A"}}]
[null,null,null,null,null,null,null,null,null,null,null,null,"no email",{"$error":"#VALUE!"},{"$error":"#VALUE!"},{"$f":"VLOOKUP(K1775,references!$A$1:$B$7,2,FALSE)","v":{"$error":"#N/A"}}]
[null,null,null,null,null,null,null,null,null,null,null,null,"no email",{"$error":"#VALUE!"},{"$error":"#VALUE!"},{"$f":"VLOOKUP(K1776,references!$A$1:$B$7,2,FALSE)","v":{"$error":"#N/A"}}]
[null,null,null,null,null,null,null,null,null,null,null,null,"no email",{"$error":"#VALUE!"},{"$error":"#VALUE!"},{"$f":"VLOOKUP(K1777,references!$A$1:$B$7,2,FALSE)","v":{"$error":"#N/A"}}]
[null,null,null,null,null,null,null,null,null,null,null,null,"no email",{"$error":"#VALUE!"},{"$error":"#VALUE!"},{"$f":"VLOOKUP(K1778,references!$A$1:$B$7,2,FALSE)","v":{"$error":"#N/A"}}]
[null,null,null,null,null,null,null,null,null,null,null,null,"no email",{"$error":"#VALUE!"},{"$error":"#VALUE!"},{"$f":"VLOOKUP(K1779,references!$A$1:$B$7,2,FALSE)","v":{"$error":"#N/A"}}]
[null,null,null,null,null,null,null,null,null,null,null,null,"no email",{"$error":"#VALUE!"},{"$error":"#VALUE!"},{"$f":"VLOOKUP(K1780,references!$A$1:$B$7,2,FALSE)","v":{"$error":"#N/A"}}]
[null,null,null,null,null,null,null,null,null,null,null,null,"no email",{"$error":"#VALUE!"},{"$error":"#VALUE!"},{"$f":"VLOOKUP(K1781,references!$A$1:$B$7,2,FALSE)","v":{"$error":"#N/A"}}]
[null,null,null,null,null,null,null,null,null,null,null,null,"no email",{"$error":"#VALUE!"},{"$error":"#VALUE!"},{"$f":"VLOOKUP(K1782,references!$A$1:$B$7,2,FALSE)","v":{"$error":"#N/A"}}]
[null,null,null,null,null,null,null,null,null,null,null,null,"no email",{"$error":"#VALUE!"},{"$error":"#VALUE!"},{"$f":"VLOOKUP(K1783,references!$A$1:$B$7,2,FALSE)","v":{"$error":"#N/A"}}]
[null,null,null,null,null,null,null,null,null,null,null,null,"no email",{"$error":"#VALUE!"},{"$error":"#VALUE!"},{"$f":"VLOOKUP(K1784,references!$A$1:$B$7,2,FALSE)","v":{"$error":"#N/A"}}]
[null,null,null,null,null,null,null,null,null,null,null,null,"no email",{"$error":"#VALUE!"},{"$error":"#VALUE!"},{"$f":"VLOOKUP(K1785,references!$A$1:$B$7,2,FALSE)","v":{"$error":"#N/A"}}]
[null,null,null,null,null,null,null,null,null,null,null,null,"no email",{"$error":"#VALUE!"},{"$error":"#VALUE!"},{"$f":"VLOOKUP(K1786,references!$A$1:$B$7,2,FALSE)","v":{"$error":"#N/A"}}]
[null,null,null,null,null,null,null,null,null,null,null,null,"no email",{"$error":"#VALUE!"},{"$error":"#VALUE!"},{"$f":"VLOOKUP(K1787,references!$A$1:$B$7,2,FALSE)","v":{"$error":"#N/A"}}]
[null,null,null,null,null,null,null,null,null,null,null,null,"no email",{"$error":"#VALUE!"},{"$error":"#VALUE!"},{"$f":"VLOOKUP(K1788,references!$A$1:$B$7,2,FALSE)","v":{"$error":"#N/A"}}]
[null,null,null,null,null,null,null,null,null,null,null,null,"no email",{"$error":"#VALUE!"},{"$error":"#VALUE!"},{"$f":"VLOOKUP(K1789,references!$A$1:$B$7,2,FALSE)","v":{"$error":"#N/A"}}]
[null,null,null,null,null,null,null,null,null,null,null,null,"no email",{"$error":"#VALUE!"},{"$error":"#VALUE!"},{"$f":"VLOOKUP(K1790,references!$A$1:$B$7,2,FALSE)","v":{"$error":"#N/A"}}]
[null,null,null,null,null,null,null,null,null,null,null,null,"no email",{"$error":"#VALUE!"},{"$error":"#VALUE!"},{"$f":"VLOOKUP(K1791,references!$A$1:$B$7,2,FALSE)","v":{"$error":"#N/A"}}]
[null,null,null,null,null,null,null,null,null,null,null,null,"no email",{"$error":"#VALUE!"},{"$error":"#VALUE!"},{"$f":"VLOOKUP(K1792,references!$A$1:$B$7,2,FALSE)","v":{"$error":"#N/A"}}]
[null,null,null,null,null,null,null,null,null,null,null,null,"no email",{"$error":"#VALUE!"},{"$error":"#VALUE!"},{"$f":"VLOOKUP(K1793,references!$A$1:$B$7,2,FALSE)","v":{"$error":"#N/A"}}]
[null,null,null,null,null,null,null,null,null,null,null,null,{"$f":"IF(L1794=\"\", \"no email\",LOWER(L1794))","v":"no email"},{"$f":"LEFT(A1794, SEARCH(\",\",A1794,1)-1)","v":{"$error":"#VALUE!"}},{"$f":"RIGHT(A1794, LEN(A1794) -SEARCH(\",\",A1794,1)-1)","v":{"$error":"#VALUE!"}},{"$f":"VLOOKUP(K1794,references!$A$1:$B$7,2,FALSE)","v":{"$error":"#N/A"}}]
[null,null,null,null,null,null,null,null,null,null,null,null,"no email",{"$error":"#VALUE!"},{"$error":"#VALUE!"},{"$f":"VLOOKUP(K1795,references!$A$1:$B$7,2,FALSE)","v":{"$error":"#N/A"}}]
[null,null,null,null,null,null,null,null,null,null,null,null,"no email",{"$error":"#VALUE!"},{"$error":"#VALUE!"},{"$f":"VLOOKUP(K1796,references!$A$1:$B$7,2,FALSE)","v":{"$error":"#N/A"}}]
[null,null,null,null,null,null,null,null,null,null,null,null,"no email",{"$error":"#VALUE!"},{"$error":"#VALUE!"},{"$f":"VLOOKUP(K1797,references!$A$1:$B$7,2,FALSE)","v":{"$error":"#N/A"}}]
[null,null,null,null,null,null,null,null,null,null,null,null,"no email",{"$error":"#VALUE!"},{"$error":"#VALUE!"},{"$f":"VLOOKUP(K1798,references!$A$1:$B$7,2,FALSE)","v":{"$error":"#N/A"}}]
[null,null,null,null,null,null,null,null,null,null,null,null,"no email",{"$error":"#VALUE!"},{"$error":"#VALUE!"},{"$f":"VLOOKUP(K1799,references!$A$1:$B$7,2,FALSE)","v":{"$error":"#N/A"}}]
[null,null,null,null,null,null,null,null,null,null,null,null,"no email",{"$error":"#VALUE!"},{"$error":"#VALUE!"},{"$f":"VLOOKUP(K1800,references!$A$1:$B$7,2,FALSE)","v":{"$error":"#N/A"}}]
[null,null,null,null,null,null,null,null,null,null,null,null,"no email",{"$error":"#VALUE!"},{"$error":"#VALUE!"},{"$f":"VLOOKUP(K1801,references!$A$1:$B$7,2,FALSE)","v":{"$error":"#N/A"}}]
[null,null,null,null,null,null,null,null,null,null,null,null,"no email",{"$error":"#VALUE!"},{"$error":"#VALUE!"},{"$f":"VLOOKUP(K1802,references!$A$1:$B$7,2,FALSE)","v":{"$error":"#N/A"}}]
[null,null,null,null,null,null,null,null,null,null,null,null,"no email",{"$error":"#VALUE!"},{"$error":"#VALUE!"},{"$f":"VLOOKUP(K1803,references!$A$1:$B$7,2,FALSE)","v":{"$error":"#N/A"}}]
[null,null,null,null,null,null,null,null,null,null,null,null,"no email",{"$error":"#VALUE!"},{"$error":"#VALUE!"},{"$f":"VLOOKUP(K1804,references!$A$1:$B$7,2,FALSE)","v":{"$error":"#N/A"}}]
[null,null,null,null,null,null,null,null,null,null,null,null,"no email",{"$error":"#VALUE!"},{"$error":"#VALUE!"},{"$f":"VLOOKUP(K1805,references!$A$1:$B$7,2,FALSE)","v":{"$error":"#N/A"}}]
[null,null,null,null,null,null,null,null,null,null,null,null,"no email",{"$error":"#VALUE!"},{"$error":"#VALUE!"},{"$f":"VLOOKUP(K1806,references!$A$1:$B$7,2,FALSE)","v":{"$error":"#N/A"}}]
[null,null,null,null,null,null,null,null,null,null,null,null,"no email",{"$error":"#VALUE!"},{"$error":"#VALUE!"},{"$f":"VLOOKUP(K1807,references!$A$1:$B$7,2,FALSE)","v":{"$error":"#N/A"}}]
[null,null,null,null,null,null,null,null,null,null,null,null,"no email",{"$error":"#VALUE!"},{"$error":"#VALUE!"},{"$f":"VLOOKUP(K1808,references!$A$1:$B$7,2,FALSE)","v":{"$error":"#N/A"}}]
[null,null,null,null,null,null,null,null,null,null,null,null,"no email",{"$error":"#VALUE!"},{"$error":"#VALUE!"},{"$f":"VLOOKUP(K1809,references!$A$1:$B$7,2,FALSE)","v":{"$error":"#N/A"}}]
[null,null,null,null,null,null,null,null,null,null,null,null,"no email",{"$error":"#VALUE!"},{"$error":"#VALUE!"},{"$f":"VLOOKUP(K1810,references!$A$1:$B$7,2,FALSE)","v":{"$error":"#N/A"}}]
[null,null,null,null,null,null,null,null,null,null,null,null,"no email",{"$error":"#VALUE!"},{"$error":"#VALUE!"},{"$f":"VLOOKUP(K1811,references!$A$1:$B$7,2,FALSE)","v":{"$error":"#N/A"}}]
[null,null,null,null,null,null,null,null,null,null,null,null,"no email",{"$error":"#VALUE!"},{"$error":"#VALUE!"},{"$f":"VLOOKUP(K1812,references!$A$1:$B$7,2,FALSE)","v":{"$error":"#N/A"}}]
[null,null,null,null,null,null,null,null,null,null,null,null,"no email",{"$error":"#VALUE!"},{"$error":"#VALUE!"},{"$f":"VLOOKUP(K1813,references!$A$1:$B$7,2,FALSE)","v":{"$error":"#N/A"}}]
[null,null,null,null,null,null,null,null,null,null,null,null,"no email",{"$error":"#VALUE!"},{"$error":"#VALUE!"},{"$f":"VLOOKUP(K1814,references!$A$1:$B$7,2,FALSE)","v":{"$error":"#N/A"}}]
[null,null,null,null,null,null,null,null,null,null,null,null,"no email",{"$error":"#VALUE!"},{"$error":"#VALUE!"},{"$f":"VLOOKUP(K1815,references!$A$1:$B$7,2,FALSE)","v":{"$error":"#N/A"}}]
[null,null,null,null,null,null,null,null,null,null,null,null,"no email",{"$error":"#VALUE!"},{"$error":"#VALUE!"},{"$f":"VLOOKUP(K1816,references!$A$1:$B$7,2,FALSE)","v":{"$error":"#N/A"}}]
[null,null,null,null,null,null,null,null,null,null,null,null,"no email",{"$error":"#VALUE!"},{"$error":"#VALUE!"},{"$f":"VLOOKUP(K1817,references!$A$1:$B$7,2,FALSE)","v":{"$error":"#N/A"}}]
[null,null,null,null,null,null,null,null,null,null,null,null,"no email",{"$error":"#VALUE!"},{"$error":"#VALUE!"},{"$f":"VLOOKUP(K1818,references!$A$1:$B$7,2,FALSE)","v":{"$error":"#N/A"}}]
[null,null,null,null,null,null,null,null,null,null,null,null,"no email",{"$error":"#VALUE!"},{"$error":"#VALUE!"},{"$f":"VLOOKUP(K1819,references!$A$1:$B$7,2,FALSE)","v":{"$error":"#N/A"}}]
[null,null,null,null,null,null,null,null,null,null,null,null,"no email",{"$error":"#VALUE!"},{"$error":"#VALUE!"},{"$f":"VLOOKUP(K1820,references!$A$1:$B$7,2,FALSE)","v":{"$error":"#N/A"}}]
[null,null,null,null,null,null,null,null,null,null,null,null,"no email",{"$error":"#VALUE!"},{"$error":"#VALUE!"},{"$f":"VLOOKUP(K1821,references!$A$1:$B$7,2,FALSE)","v":{"$error":"#N/A"}}]
[null,null,null,null,null,null,null,null,null,null,null,null,"no email",{"$error":"#VALUE!"},{"$error":"#VALUE!"},{"$f":"VLOOKUP(K1822,references!$A$1:$B$7,2,FALSE)","v":{"$error":"#N/A"}}]
[null,null,null,null,null,null,null,null,null,null,null,null,"no email",{"$error":"#VALUE!"},{"$error":"#VALUE!"},{"$f":"VLOOKUP(K1823,references!$A$1:$B$7,2,FALSE)","v":{"$error":"#N/A"}}]
[null,null,null,null,null,null,null,null,null,null,null,null,"no email",{"$error":"#VALUE!"},{"$error":"#VALUE!"},{"$f":"VLOOKUP(K1824,references!$A$1:$B$7,2,FALSE)","v":{"$error":"#N/A"}}]
[null,null,null,null,null,null,null,null,null,null,null,null,"no email",{"$error":"#VALUE!"},{"$error":"#VALUE!"},{"$f":"VLOOKUP(K1825,references!$A$1:$B$7,2,FALSE)","v":{"$error":"#N/A"}}]
[null,null,null,null,null,null,null,null,null,null,null,null,"no email",{"$error":"#VALUE!"},{"$error":"#VALUE!"},{"$f":"VLOOKUP(K1826,references!$A$1:$B$7,2,FALSE)","v":{"$error":"#N/A"}}]
[null,null,null,null,null,null,null,null,null,null,null,null,"no email",{"$error":"#VALUE!"},{"$error":"#VALUE!"},{"$f":"VLOOKUP(K1827,references!$A$1:$B$7,2,FALSE)","v":{"$error":"#N/A"}}]
[null,null,null,null,null,null,null,null,null,null,null,null,"no email",{"$error":"#VALUE!"},{"$error":"#VALUE!"},{"$f":"VLOOKUP(K1828,references!$A$1:$B$7,2,FALSE)","v":{"$error":"#N/A"}}]
[null,null,null,null,null,null,null,null,null,null,null,null,"no email",{"$error":"#VALUE!"},{"$error":"#VALUE!"},{"$f":"VLOOKUP(K1829,references!$A$1:$B$7,2,FALSE)","v":{"$error":"#N/A"}}]
[null,null,null,null,null,null,null,null,null,null,null,null,"no email",{"$error":"#VALUE!"},{"$error":"#VALUE!"},{"$f":"VLOOKUP(K1830,references!$A$1:$B$7,2,FALSE)","v":{"$error":"#N/A"}}]
[null,null,null,null,null,null,null,null,null,null,null,null,"no email",{"$error":"#VALUE!"},{"$error":"#VALUE!"},{"$f":"VLOOKUP(K1831,references!$A$1:$B$7,2,FALSE)","v":{"$error":"#N/A"}}]
[null,null,null,null,null,null,null,null,null,null,null,null,"no email",{"$error":"#VALUE!"},{"$error":"#VALUE!"},{"$f":"VLOOKUP(K1832,references!$A$1:$B$7,2,FALSE)","v":{"$error":"#N/A"}}]
[null,null,null,null,null,null,null,null,null,null,null,null,"no email",{"$error":"#VALUE!"},{"$error":"#VALUE!"},{"$f":"VLOOKUP(K1833,references!$A$1:$B$7,2,FALSE)","v":{"$error":"#N/A"}}]
[null,null,null,null,null,null,null,null,null,null,null,null,"no email",{"$error":"#VALUE!"},{"$error":"#VALUE!"},{"$f":"VLOOKUP(K1834,references!$A$1:$B$7,2,FALSE)","v":{"$error":"#N/A"}}]
[null,null,null,null,null,null,null,null,null,null,null,null,"no email",{"$error":"#VALUE!"},{"$error":"#VALUE!"},{"$f":"VLOOKUP(K1835,references!$A$1:$B$7,2,FALSE)","v":{"$error":"#N/A"}}]
[null,null,null,null,null,null,null,null,null,null,null,null,"no email",{"$error":"#VALUE!"},{"$error":"#VALUE!"},{"$f":"VLOOKUP(K1836,references!$A$1:$B$7,2,FALSE)","v":{"$error":"#N/A"}}]
[null,null,null,null,null,null,null,null,null,null,null,null,"no email",{"$error":"#VALUE!"},{"$error":"#VALUE!"},{"$f":"VLOOKUP(K1837,references!$A$1:$B$7,2,FALSE)","v":{"$error":"#N/A"}}]
[null,null,null,null,null,null,null,null,null,null,null,null,"no email",{"$error":"#VALUE!"},{"$error":"#VALUE!"},{"$f":"VLOOKUP(K1838,references!$A$1:$B$7,2,FALSE)","v":{"$error":"#N/A"}}]
[null,null,null,null,null,null,null,null,null,null,null,null,"no email",{"$error":"#VALUE!"},{"$error":"#VALUE!"},{"$f":"VLOOKUP(K1839,references!$A$1:$B$7,2,FALSE)","v":{"$error":"#N/A"}}]
[null,null,null,null,null,null,null,null,null,null,null,null,"no email",{"$error":"#VALUE!"},{"$error":"#VALUE!"},{"$f":"VLOOKUP(K1840,references!$A$1:$B$7,2,FALSE)","v":{"$error":"#N/A"}}]
[null,null,null,null,null,null,null,null,null,null,null,null,"no email",{"$error":"#VALUE!"},{"$error":"#VALUE!"},{"$f":"VLOOKUP(K1841,references!$A$1:$B$7,2,FALSE)","v":{"$error":"#N/A"}}]
[null,null,null,null,null,null,null,null,null,null,null,null,"no email",{"$error":"#VALUE!"},{"$error":"#VALUE!"},{"$f":"VLOOKUP(K1842,references!$A$1:$B$7,2,FALSE)","v":{"$error":"#N/A"}}]
[null,null,null,null,null,null,null,null,null,null,null,null,"no email",{"$error":"#VALUE!"},{"$error":"#VALUE!"},{"$f":"VLOOKUP(K1843,references!$A$1:$B$7,2,FALSE)","v":{"$error":"#N/A"}}]
[null,null,null,null,null,null,null,null,null,null,null,null,"no email",{"$error":"#VALUE!"},{"$error":"#VALUE!"},{"$f":"VLOOKUP(K1844,references!$A$1:$B$7,2,FALSE)","v":{"$error":"#N/A"}}]
[null,null,null,null,null,null,null,null,null,null,null,null,"no email",{"$error":"#VALUE!"},{"$error":"#VALUE!"},{"$f":"VLOOKUP(K1845,references!$A$1:$B$7,2,FALSE)","v":{"$error":"#N/A"}}]
[null,null,null,null,null,null,null,null,null,null,null,null,"no email",{"$error":"#VALUE!"},{"$error":"#VALUE!"},{"$f":"VLOOKUP(K1846,references!$A$1:$B$7,2,FALSE)","v":{"$error":"#N/A"}}]
[null,null,null,null,null,null,null,null,null,null,null,null,"no email",{"$error":"#VALUE!"},{"$error":"#VALUE!"},{"$f":"VLOOKUP(K1847,references!$A$1:$B$7,2,FALSE)","v":{"$error":"#N/A"}}]
[null,null,null,null,null,null,null,null,null,null,null,null,"no email",{"$error":"#VALUE!"},{"$error":"#VALUE!"},{"$f":"VLOOKUP(K1848,references!$A$1:$B$7,2,FALSE)","v":{"$error":"#N/A"}}]
[null,null,null,null,null,null,null,null,null,null,null,null,"no email",{"$error":"#VALUE!"},{"$error":"#VALUE!"},{"$f":"VLOOKUP(K1849,references!$A$1:$B$7,2,FALSE)","v":{"$error":"#N/A"}}]
[null,null,null,null,null,null,null,null,null,null,null,null,"no email",{"$error":"#VALUE!"},{"$error":"#VALUE!"},{"$f":"VLOOKUP(K1850,references!$A$1:$B$7,2,FALSE)","v":{"$error":"#N/A"}}]
[null,null,null,null,null,null,null,null,null,null,null,null,"no email",{"$error":"#VALUE!"},{"$error":"#VALUE!"},{"$f":"VLOOKUP(K1851,references!$A$1:$B$7,2,FALSE)","v":{"$error":"#N/A"}}]
[null,null,null,null,null,null,null,null,null,null,null,null,"no email",{"$error":"#VALUE!"},{"$error":"#VALUE!"},{"$f":"VLOOKUP(K1852,references!$A$1:$B$7,2,FALSE)","v":{"$error":"#N/A"}}]
[null,null,null,null,null,null,null,null,null,null,null,null,"no email",{"$error":"#VALUE!"},{"$error":"#VALUE!"},{"$f":"VLOOKUP(K1853,references!$A$1:$B$7,2,FALSE)","v":{"$error":"#N/A"}}]
[null,null,null,null,null,null,null,null,null,null,null,null,"no email",{"$error":"#VALUE!"},{"$error":"#VALUE!"},{"$f":"VLOOKUP(K1854,references!$A$1:$B$7,2,FALSE)","v":{"$error":"#N/A"}}]
[null,null,null,null,null,null,null,null,null,null,null,null,"no email",{"$error":"#VALUE!"},{"$error":"#VALUE!"},{"$f":"VLOOKUP(K1855,references!$A$1:$B$7,2,FALSE)","v":{"$error":"#N/A"}}]
[null,null,null,null,null,null,null,null,null,null,null,null,"no email",{"$error":"#VALUE!"},{"$error":"#VALUE!"},{"$f":"VLOOKUP(K1856,references!$A$1:$B$7,2,FALSE)","v":{"$error":"#N/A"}}]
[null,null,null,null,null,null,null,null,null,null,null,null,"no email",{"$error":"#VALUE!"},{"$error":"#VALUE!"},{"$f":"VLOOKUP(K1857,references!$A$1:$B$7,2,FALSE)","v":{"$error":"#N/A"}}]
[null,null,null,null,null,null,null,null,null,null,null,null,{"$f":"IF(L1858=\"\", \"no email\",LOWER(L1858))","v":"no email"},{"$f":"LEFT(A1858, SEARCH(\",\",A1858,1)-1)","v":{"$error":"#VALUE!"}},{"$f":"RIGHT(A1858, LEN(A1858) -SEARCH(\",\",A1858,1)-1)","v":{"$error":"#VALUE!"}},{"$f":"VLOOKUP(K1858,references!$A$1:$B$7,2,FALSE)","v":{"$error":"#N/A"}}]
[null,null,null,null,null,null,null,null,null,null,null,null,"no email",{"$error":"#VALUE!"},{"$error":"#VALUE!"},{"$f":"VLOOKUP(K1859,references!$A$1:$B$7,2,FALSE)","v":{"$error":"#N/A"}}]
[null,null,null,null,null,null,null,null,null,null,null,null,"no email",{"$error":"#VALUE!"},{"$error":"#VALUE!"},{"$f":"VLOOKUP(K1860,references!$A$1:$B$7,2,FALSE)","v":{"$error":"#N/A"}}]
[null,null,null,null,null,null,null,null,null,null,null,null,"no email",{"$error":"#VALUE!"},{"$error":"#VALUE!"},{"$f":"VLOOKUP(K1861,references!$A$1:$B$7,2,FALSE)","v":{"$error":"#N/A"}}]
[null,null,null,null,null,null,null,null,null,null,null,null,"no email",{"$error":"#VALUE!"},{"$error":"#VALUE!"},{"$f":"VLOOKUP(K1862,references!$A$1:$B$7,2,FALSE)","v":{"$error":"#N/A"}}]
[null,null,null,null,null,null,null,null,null,null,null,null,"no email",{"$error":"#VALUE!"},{"$error":"#VALUE!"},{"$f":"VLOOKUP(K1863,references!$A$1:$B$7,2,FALSE)","v":{"$error":"#N/A"}}]
[null,null,null,null,null,null,null,null,null,null,null,null,"no email",{"$error":"#VALUE!"},{"$error":"#VALUE!"},{"$f":"VLOOKUP(K1864,references!$A$1:$B$7,2,FALSE)","v":{"$error":"#N/A"}}]
[null,null,null,null,null,null,null,null,null,null,null,null,"no email",{"$error":"#VALUE!"},{"$error":"#VALUE!"},{"$f":"VLOOKUP(K1865,references!$A$1:$B$7,2,FALSE)","v":{"$error":"#N/A"}}]
[null,null,null,null,null,null,null,null,null,null,null,null,"no email",{"$error":"#VALUE!"},{"$error":"#VALUE!"},{"$f":"VLOOKUP(K1866,references!$A$1:$B$7,2,FALSE)","v":{"$error":"#N/A"}}]
[null,null,null,null,null,null,null,null,null,null,null,null,"no email",{"$error":"#VALUE!"},{"$error":"#VALUE!"},{"$f":"VLOOKUP(K1867,references!$A$1:$B$7,2,FALSE)","v":{"$error":"#N/A"}}]
[null,null,null,null,null,null,null,null,null,null,null,null,"no email",{"$error":"#VALUE!"},{"$error":"#VALUE!"},{"$f":"VLOOKUP(K1868,references!$A$1:$B$7,2,FALSE)","v":{"$error":"#N/A"}}]
[null,null,null,null,null,null,null,null,null,null,null,null,"no email",{"$error":"#VALUE!"},{"$error":"#VALUE!"},{"$f":"VLOOKUP(K1869,references!$A$1:$B$7,2,FALSE)","v":{"$error":"#N/A"}}]
[null,null,null,null,null,null,null,null,null,null,null,null,"no email",{"$error":"#VALUE!"},{"$error":"#VALUE!"},{"$f":"VLOOKUP(K1870,references!$A$1:$B$7,2,FALSE)","v":{"$error":"#N/A"}}]
[null,null,null,null,null,null,null,null,null,null,null,null,"no email",{"$error":"#VALUE!"},{"$error":"#VALUE!"},{"$f":"VLOOKUP(K1871,references!$A$1:$B$7,2,FALSE)","v":{"$error":"#N/A"}}]
[null,null,null,null,null,null,null,null,null,null,null,null,"no email",{"$error":"#VALUE!"},{"$error":"#VALUE!"},{"$f":"VLOOKUP(K1872,references!$A$1:$B$7,2,FALSE)","v":{"$error":"#N/A"}}]
[null,null,null,null,null,null,null,null,null,null,null,null,"no email",{"$error":"#VALUE!"},{"$error":"#VALUE!"},{"$f":"VLOOKUP(K1873,references!$A$1:$B$7,2,FALSE)","v":{"$error":"#N/A"}}]
[null,null,null,null,null,null,null,null,null,null,null,null,"no email",{"$error":"#VALUE!"},{"$error":"#VALUE!"},{"$f":"VLOOKUP(K1874,references!$A$1:$B$7,2,FALSE)","v":{"$error":"#N/A"}}]
[null,null,null,null,null,null,null,null,null,null,null,null,"no email",{"$error":"#VALUE!"},{"$error":"#VALUE!"},{"$f":"VLOOKUP(K1875,references!$A$1:$B$7,2,FALSE)","v":{"$error":"#N/A"}}]
[null,null,null,null,null,null,null,null,null,null,null,null,"no email",{"$error":"#VALUE!"},{"$error":"#VALUE!"},{"$f":"VLOOKUP(K1876,references!$A$1:$B$7,2,FALSE)","v":{"$error":"#N/A"}}]
[null,null,null,null,null,null,null,null,null,null,null,null,"no email",{"$error":"#VALUE!"},{"$error":"#VALUE!"},{"$f":"VLOOKUP(K1877,references!$A$1:$B$7,2,FALSE)","v":{"$error":"#N/A"}}]
[null,null,null,null,null,null,null,null,null,null,null,null,"no email",{"$error":"#VALUE!"},{"$error":"#VALUE!"},{"$f":"VLOOKUP(K1878,references!$A$1:$B$7,2,FALSE)","v":{"$error":"#N/A"}}]
[null,null,null,null,null,null,null,null,null,null,null,null,"no email",{"$error":"#VALUE!"},{"$error":"#VALUE!"},{"$f":"VLOOKUP(K1879,references!$A$1:$B$7,2,FALSE)","v":{"$error":"#N/A"}}]
[null,null,null,null,null,null,null,null,null,null,null,null,"no email",{"$error":"#VALUE!"},{"$error":"#VALUE!"},{"$f":"VLOOKUP(K1880,references!$A$1:$B$7,2,FALSE)","v":{"$error":"#N/A"}}]
[null,null,null,null,null,null,null,null,null,null,null,null,"no email",{"$error":"#VALUE!"},{"$error":"#VALUE!"},{"$f":"VLOOKUP(K1881,references!$A$1:$B$7,2,FALSE)","v":{"$error":"#N/A"}}]
[null,null,null,null,null,null,null,null,null,null,null,null,"no email",{"$error":"#VALUE!"},{"$error":"#VALUE!"},{"$f":"VLOOKUP(K1882,references!$A$1:$B$7,2,FALSE)","v":{"$error":"#N/A"}}]
[null,null,null,null,null,null,null,null,null,null,null,null,"no email",{"$error":"#VALUE!"},{"$error":"#VALUE!"},{"$f":"VLOOKUP(K1883,references!$A$1:$B$7,2,FALSE)","v":{"$error":"#N/A"}}]
[null,null,null,null,null,null,null,null,null,null,null,null,"no email",{"$error":"#VALUE!"},{"$error":"#VALUE!"},{"$f":"VLOOKUP(K1884,references!$A$1:$B$7,2,FALSE)","v":{"$error":"#N/A"}}]
[null,null,null,null,null,null,null,null,null,null,null,null,"no email",{"$error":"#VALUE!"},{"$error":"#VALUE!"},{"$f":"VLOOKUP(K1885,references!$A$1:$B$7,2,FALSE)","v":{"$error":"#N/A"}}]
[null,null,null,null,null,null,null,null,null,null,null,null,"no email",{"$error":"#VALUE!"},{"$error":"#VALUE!"},{"$f":"VLOOKUP(K1886,references!$A$1:$B$7,2,FALSE)","v":{"$error":"#N/A"}}]
[null,null,null,null,null,null,null,null,null,null,null,null,"no email",{"$error":"#VALUE!"},{"$error":"#VALUE!"},{"$f":"VLOOKUP(K1887,references!$A$1:$B$7,2,FALSE)","v":{"$error":"#N/A"}}]
[null,null,null,null,null,null,null,null,null,null,null,null,"no email",{"$error":"#VALUE!"},{"$error":"#VALUE!"},{"$f":"VLOOKUP(K1888,references!$A$1:$B$7,2,FALSE)","v":{"$error":"#N/A"}}]
[null,null,null,null,null,null,null,null,null,null,null,null,"no email",{"$error":"#VALUE!"},{"$error":"#VALUE!"},{"$f":"VLOOKUP(K1889,references!$A$1:$B$7,2,FALSE)","v":{"$error":"#N/A"}}]
[null,null,null,null,null,null,null,null,null,null,null,null,"no email",{"$error":"#VALUE!"},{"$error":"#VALUE!"},{"$f":"VLOOKUP(K1890,references!$A$1:$B$7,2,FALSE)","v":{"$error":"#N/A"}}]
[null,null,null,null,null,null,null,null,null,null,null,null,"no email",{"$error":"#VALUE!"},{"$error":"#VALUE!"},{"$f":"VLOOKUP(K1891,references!$A$1:$B$7,2,FALSE)","v":{"$error":"#N/A"}}]
[null,null,null,null,null,null,null,null,null,null,null,null,"no email",{"$error":"#VALUE!"},{"$error":"#VALUE!"},{"$f":"VLOOKUP(K1892,references!$A$1:$B$7,2,FALSE)","v":{"$error":"#N/A"}}]
[null,null,null,null,null,null,null,null,null,null,null,null,"no email",{"$error":"#VALUE!"},{"$error":"#VALUE!"},{"$f":"VLOOKUP(K1893,references!$A$1:$B$7,2,FALSE)","v":{"$error":"#N/A"}}]
[null,null,null,null,null,null,null,null,null,null,null,null,"no email",{"$error":"#VALUE!"},{"$error":"#VALUE!"},{"$f":"VLOOKUP(K1894,references!$A$1:$B$7,2,FALSE)","v":{"$error":"#N/A"}}]
[null,null,null,null,null,null,null,null,null,null,null,null,"no email",{"$error":"#VALUE!"},{"$error":"#VALUE!"},{"$f":"VLOOKUP(K1895,references!$A$1:$B$7,2,FALSE)","v":{"$error":"#N/A"}}]
[null,null,null,null,null,null,null,null,null,null,null,null,"no email",{"$error":"#VALUE!"},{"$error":"#VALUE!"},{"$f":"VLOOKUP(K1896,references!$A$1:$B$7,2,FALSE)","v":{"$error":"#N/A"}}]
[null,null,null,null,null,null,null,null,null,null,null,null,"no email",{"$error":"#VALUE!"},{"$error":"#VALUE!"},{"$f":"VLOOKUP(K1897,references!$A$1:$B$7,2,FALSE)","v":{"$error":"#N/A"}}]
[null,null,null,null,null,null,null,null,null,null,null,null,"no email",{"$error":"#VALUE!"},{"$error":"#VALUE!"},{"$f":"VLOOKUP(K1898,references!$A$1:$B$7,2,FALSE)","v":{"$error":"#N/A"}}]
[null,null,null,null,null,null,null,null,null,null,null,null,"no email",{"$error":"#VALUE!"},{"$error":"#VALUE!"},{"$f":"VLOOKUP(K1899,references!$A$1:$B$7,2,FALSE)","v":{"$error":"#N/A"}}]
[null,null,null,null,null,null,null,null,null,null,null,null,"no email",{"$error":"#VALUE!"},{"$error":"#VALUE!"},{"$f":"VLOOKUP(K1900,references!$A$1:$B$7,2,FALSE)","v":{"$error":"#N/A"}}]
[null,null,null,null,null,null,null,null,null,null,null,null,"no email",{"$error":"#VALUE!"},{"$error":"#VALUE!"},{"$f":"VLOOKUP(K1901,references!$A$1:$B$7,2,FALSE)","v":{"$error":"#N/A"}}]
[null,null,null,null,null,null,null,null,null,null,null,null,"no email",{"$error":"#VALUE!"},{"$error":"#VALUE!"},{"$f":"VLOOKUP(K1902,references!$A$1:$B$7,2,FALSE)","v":{"$error":"#N/A"}}]
[null,null,null,null,null,null,null,null,null,null,null,null,"no email",{"$error":"#VALUE!"},{"$error":"#VALUE!"},{"$f":"VLOOKUP(K1903,references!$A$1:$B$7,2,FALSE)","v":{"$error":"#N/A"}}]
[null,null,null,null,null,null,null,null,null,null,null,null,"no email",{"$error":"#VALUE!"},{"$error":"#VALUE!"},{"$f":"VLOOKUP(K1904,references!$A$1:$B$7,2,FALSE)","v":{"$error":"#N/A"}}]
[null,null,null,null,null,null,null,null,null,null,null,null,"no email",{"$error":"#VALUE!"},{"$error":"#VALUE!"},{"$f":"VLOOKUP(K1905,references!$A$1:$B$7,2,FALSE)","v":{"$error":"#N/A"}}]
[null,null,null,null,null,null,null,null,null,null,null,null,"no email",{"$error":"#VALUE!"},{"$error":"#VALUE!"},{"$f":"VLOOKUP(K1906,references!$A$1:$B$7,2,FALSE)","v":{"$error":"#N/A"}}]
[null,null,null,null,null,null,null,null,null,null,null,null,"no email",{"$error":"#VALUE!"},{"$error":"#VALUE!"},{"$f":"VLOOKUP(K1907,references!$A$1:$B$7,2,FALSE)","v":{"$error":"#N/A"}}]
[null,null,null,null,null,null,null,null,null,null,null,null,"no email",{"$error":"#VALUE!"},{"$error":"#VALUE!"},{"$f":"VLOOKUP(K1908,references!$A$1:$B$7,2,FALSE)","v":{"$error":"#N/A"}}]
[null,null,null,null,null,null,null,null,null,null,null,null,"no email",{"$error":"#VALUE!"},{"$error":"#VALUE!"},{"$f":"VLOOKUP(K1909,references!$A$1:$B$7,2,FALSE)","v":{"$error":"#N/A"}}]
[null,null,null,null,null,null,null,null,null,null,null,null,"no email",{"$error":"#VALUE!"},{"$error":"#VALUE!"},{"$f":"VLOOKUP(K1910,references!$A$1:$B$7,2,FALSE)","v":{"$error":"#N/A"}}]
[null,null,null,null,null,null,null,null,null,null,null,null,"no email",{"$error":"#VALUE!"},{"$error":"#VALUE!"},{"$f":"VLOOKUP(K1911,references!$A$1:$B$7,2,FALSE)","v":{"$error":"#N/A"}}]
[null,null,null,null,null,null,null,null,null,null,null,null,"no email",{"$error":"#VALUE!"},{"$error":"#VALUE!"},{"$f":"VLOOKUP(K1912,references!$A$1:$B$7,2,FALSE)","v":{"$error":"#N/A"}}]
[null,null,null,null,null,null,null,null,null,null,null,null,"no email",{"$error":"#VALUE!"},{"$error":"#VALUE!"},{"$f":"VLOOKUP(K1913,references!$A$1:$B$7,2,FALSE)","v":{"$error":"#N/A"}}]
[null,null,null,null,null,null,null,null,null,null,null,null,"no email",{"$error":"#VALUE!"},{"$error":"#VALUE!"},{"$f":"VLOOKUP(K1914,references!$A$1:$B$7,2,FALSE)","v":{"$error":"#N/A"}}]
[null,null,null,null,null,null,null,null,null,null,null,null,"no email",{"$error":"#VALUE!"},{"$error":"#VALUE!"},{"$f":"VLOOKUP(K1915,references!$A$1:$B$7,2,FALSE)","v":{"$error":"#N/A"}}]
[null,null,null,null,null,null,null,null,null,null,null,null,"no email",{"$error":"#VALUE!"},{"$error":"#VALUE!"},{"$f":"VLOOKUP(K1916,references!$A$1:$B$7,2,FALSE)","v":{"$error":"#N/A"}}]
[null,null,null,null,null,null,null,null,null,null,null,null,"no email",{"$error":"#VALUE!"},{"$error":"#VALUE!"},{"$f":"VLOOKUP(K1917,references!$A$1:$B$7,2,FALSE)","v":{"$error":"#N/A"}}]
[null,null,null,null,null,null,null,null,null,null,null,null,"no email",{"$error":"#VALUE!"},{"$error":"#VALUE!"},{"$f":"VLOOKUP(K1918,references!$A$1:$B$7,2,FALSE)","v":{"$error":"#N/A"}}]
[null,null,null,null,null,null,null,null,null,null,null,null,"no email",{"$error":"#VALUE!"},{"$error":"#VALUE!"},{"$f":"VLOOKUP(K1919,references!$A$1:$B$7,2,FALSE)","v":{"$error":"#N/A"}}]
[null,null,null,null,null,null,null,null,null,null,null,null,"no email",{"$error":"#VALUE!"},{"$error":"#VALUE!"},{"$f":"VLOOKUP(K1920,references!$A$1:$B$7,2,FALSE)","v":{"$error":"#N/A"}}]
[null,null,null,null,null,null,null,null,null,null,null,null,"no email",{"$error":"#VALUE!"},{"$error":"#VALUE!"},{"$f":"VLOOKUP(K1921,references!$A$1:$B$7,2,FALSE)","v":{"$error":"#N/A"}}]
[null,null,null,null,null,null,null,null,null,null,null,null,{"$f":"IF(L1922=\"\", \"no email\",LOWER(L1922))","v":"no email"},{"$f":"LEFT(A1922, SEARCH(\",\",A1922,1)-1)","v":{"$error":"#VALUE!"}},{"$f":"RIGHT(A1922, LEN(A1922) -SEARCH(\",\",A1922,1)-1)","v":{"$error":"#VALUE!"}},{"$f":"VLOOKUP(K1922,references!$A$1:$B$7,2,FALSE)","v":{"$error":"#N/A"}}]
[null,null,null,null,null,null,null,null,null,null,null,null,"no email",{"$error":"#VALUE!"},{"$error":"#VALUE!"},{"$f":"VLOOKUP(K1923,references!$A$1:$B$7,2,FALSE)","v":{"$error":"#N/A"}}]
[null,null,null,null,null,null,null,null,null,null,null,null,"no email",{"$error":"#VALUE!"},{"$error":"#VALUE!"},{"$f":"VLOOKUP(K1924,references!$A$1:$B$7,2,FALSE)","v":{"$error":"#N/A"}}]
[null,null,null,null,null,null,null,null,null,null,null,null,"no email",{"$error":"#VALUE!"},{"$error":"#VALUE!"},{"$f":"VLOOKUP(K1925,references!$A$1:$B$7,2,FALSE)","v":{"$error":"#N/A"}}]
[null,null,null,null,null,null,null,null,null,null,null,null,"no email",{"$error":"#VALUE!"},{"$error":"#VALUE!"},{"$f":"VLOOKUP(K1926,references!$A$1:$B$7,2,FALSE)","v":{"$error":"#N/A"}}]
[null,null,null,null,null,null,null,null,null,null,null,null,"no email",{"$error":"#VALUE!"},{"$error":"#VALUE!"},{"$f":"VLOOKUP(K1927,references!$A$1:$B$7,2,FALSE)","v":{"$error":"#N/A"}}]
[null,null,null,null,null,null,null,null,null,null,null,null,"no email",{"$error":"#VALUE!"},{"$error":"#VALUE!"},{"$f":"VLOOKUP(K1928,references!$A$1:$B$7,2,FALSE)","v":{"$error":"#N/A"}}]
[null,null,null,null,null,null,null,null,null,null,null,null,"no email",{"$error":"#VALUE!"},{"$error":"#VALUE!"},{"$f":"VLOOKUP(K1929,references!$A$1:$B$7,2,FALSE)","v":{"$error":"#N/A"}}]
[null,null,null,null,null,null,null,null,null,null,null,null,"no email",{"$error":"#VALUE!"},{"$error":"#VALUE!"},{"$f":"VLOOKUP(K1930,references!$A$1:$B$7,2,FALSE)","v":{"$error":"#N/A"}}]
[null,null,null,null,null,null,null,null,null,null,null,null,"no email",{"$error":"#VALUE!"},{"$error":"#VALUE!"},{"$f":"VLOOKUP(K1931,references!$A$1:$B$7,2,FALSE)","v":{"$error":"#N/A"}}]
[null,null,null,null,null,null,null,null,null,null,null,null,"no email",{"$error":"#VALUE!"},{"$error":"#VALUE!"},{"$f":"VLOOKUP(K1932,references!$A$1:$B$7,2,FALSE)","v":{"$error":"#N/A"}}]
[null,null,null,null,null,null,null,null,null,null,null,null,"no email",{"$error":"#VALUE!"},{"$error":"#VALUE!"},{"$f":"VLOOKUP(K1933,references!$A$1:$B$7,2,FALSE)","v":{"$error":"#N/A"}}]
[null,null,null,null,null,null,null,null,null,null,null,null,"no email",{"$error":"#VALUE!"},{"$error":"#VALUE!"},{"$f":"VLOOKUP(K1934,references!$A$1:$B$7,2,FALSE)","v":{"$error":"#N/A"}}]
[null,null,null,null,null,null,null,null,null,null,null,null,"no email",{"$error":"#VALUE!"},{"$error":"#VALUE!"},{"$f":"VLOOKUP(K1935,references!$A$1:$B$7,2,FALSE)","v":{"$error":"#N/A"}}]
[null,null,null,null,null,null,null,null,null,null,null,null,"no email",{"$error":"#VALUE!"},{"$error":"#VALUE!"},{"$f":"VLOOKUP(K1936,references!$A$1:$B$7,2,FALSE)","v":{"$error":"#N/A"}}]
[null,null,null,null,null,null,null,null,null,null,null,null,"no email",{"$error":"#VALUE!"},{"$error":"#VALUE!"},{"$f":"VLOOKUP(K1937,references!$A$1:$B$7,2,FALSE)","v":{"$error":"#N/A"}}]
[null,null,null,null,null,null,null,null,null,null,null,null,"no email",{"$error":"#VALUE!"},{"$error":"#VALUE!"},{"$f":"VLOOKUP(K1938,references!$A$1:$B$7,2,FALSE)","v":{"$error":"#N/A"}}]
[null,null,null,null,null,null,null,null,null,null,null,null,"no email",{"$error":"#VALUE!"},{"$error":"#VALUE!"},{"$f":"VLOOKUP(K1939,references!$A$1:$B$7,2,FALSE)","v":{"$error":"#N/A"}}]
[null,null,null,null,null,null,null,null,null,null,null,null,"no email",{"$error":"#VALUE!"},{"$error":"#VALUE!"},{"$f":"VLOOKUP(K1940,references!$A$1:$B$7,2,FALSE)","v":{"$error":"#N/A"}}]
[null,null,null,null,null,null,null,null,null,null,null,null,"no email",{"$error":"#VALUE!"},{"$error":"#VALUE!"},{"$f":"VLOOKUP(K1941,references!$A$1:$B$7,2,FALSE)","v":{"$error":"#N/A"}}]
[null,null,null,null,null,null,null,null,null,null,null,null,"no email",{"$error":"#VALUE!"},{"$error":"#VALUE!"},{"$f":"VLOOKUP(K1942,references!$A$1:$B$7,2,FALSE)","v":{"$error":"#N/A"}}]
[null,null,null,null,null,null,null,null,null,null,null,null,"no email",{"$error":"#VALUE!"},{"$error":"#VALUE!"},{"$f":"VLOOKUP(K1943,references!$A$1:$B$7,2,FALSE)","v":{"$error":"#N/A"}}]
[null,null,null,null,null,null,null,null,null,null,null,null,"no email",{"$error":"#VALUE!"},{"$error":"#VALUE!"},{"$f":"VLOOKUP(K1944,references!$A$1:$B$7,2,FALSE)","v":{"$error":"#N/A"}}]
[null,null,null,null,null,null,null,null,null,null,null,null,"no email",{"$error":"#VALUE!"},{"$error":"#VALUE!"},{"$f":"VLOOKUP(K1945,references!$A$1:$B$7,2,FALSE)","v":{"$error":"#N/A"}}]
[null,null,null,null,null,null,null,null,null,null,null,null,"no email",{"$error":"#VALUE!"},{"$error":"#VALUE!"},{"$f":"VLOOKUP(K1946,references!$A$1:$B$7,2,FALSE)","v":{"$error":"#N/A"}}]
[null,null,null,null,null,null,null,null,null,null,null,null,"no email",{"$error":"#VALUE!"},{"$error":"#VALUE!"},{"$f":"VLOOKUP(K1947,references!$A$1:$B$7,2,FALSE)","v":{"$error":"#N/A"}}]
[null,null,null,null,null,null,null,null,null,null,null,null,"no email",{"$error":"#VALUE!"},{"$error":"#VALUE!"},{"$f":"VLOOKUP(K1948,references!$A$1:$B$7,2,FALSE)","v":{"$error":"#N/A"}}]
[null,null,null,null,null,null,null,null,null,null,null,null,"no email",{"$error":"#VALUE!"},{"$error":"#VALUE!"},{"$f":"VLOOKUP(K1949,references!$A$1:$B$7,2,FALSE)","v":{"$error":"#N/A"}}]
[null,null,null,null,null,null,null,null,null,null,null,null,"no email",{"$error":"#VALUE!"},{"$error":"#VALUE!"},{"$f":"VLOOKUP(K1950,references!$A$1:$B$7,2,FALSE)","v":{"$error":"#N/A"}}]
[null,null,null,null,null,null,null,null,null,null,null,null,"no email",{"$error":"#VALUE!"},{"$error":"#VALUE!"},{"$f":"VLOOKUP(K1951,references!$A$1:$B$7,2,FALSE)","v":{"$error":"#N/A"}}]
[null,null,null,null,null,null,null,null,null,null,null,null,"no email",{"$error":"#VALUE!"},{"$error":"#VALUE!"},{"$f":"VLOOKUP(K1952,references!$A$1:$B$7,2,FALSE)","v":{"$error":"#N/A"}}]
[null,null,null,null,null,null,null,null,null,null,null,null,"no email",{"$error":"#VALUE!"},{"$error":"#VALUE!"},{"$f":"VLOOKUP(K1953,references!$A$1:$B$7,2,FALSE)","v":{"$error":"#N/A"}}]
[null,null,null,null,null,null,null,null,null,null,null,null,"no email",{"$error":"#VALUE!"},{"$error":"#VALUE!"},{"$f":"VLOOKUP(K1954,references!$A$1:$B$7,2,FALSE)","v":{"$error":"#N/A"}}]
[null,null,null,null,null,null,null,null,null,null,null,null,"no email",{"$error":"#VALUE!"},{"$error":"#VALUE!"},{"$f":"VLOOKUP(K1955,references!$A$1:$B$7,2,FALSE)","v":{"$error":"#N/A"}}]
[null,null,null,null,null,null,null,null,null,null,null,null,"no email",{"$error":"#VALUE!"},{"$error":"#VALUE!"},{"$f":"VLOOKUP(K1956,references!$A$1:$B$7,2,FALSE)","v":{"$error":"#N/A"}}]
[null,null,null,null,null,null,null,null,null,null,null,null,"no email",{"$error":"#VALUE!"},{"$error":"#VALUE!"},{"$f":"VLOOKUP(K1957,references!$A$1:$B$7,2,FALSE)","v":{"$error":"#N/A"}}]
[null,null,null,null,null,null,null,null,null,null,null,null,"no email",{"$error":"#VALUE!"},{"$error":"#VALUE!"},{"$f":"VLOOKUP(K1958,references!$A$1:$B$7,2,FALSE)","v":{"$error":"#N/A"}}]
[null,null,null,null,null,null,null,null,null,null,null,null,"no email",{"$error":"#VALUE!"},{"$error":"#VALUE!"},{"$f":"VLOOKUP(K1959,references!$A$1:$B$7,2,FALSE)","v":{"$error":"#N/A"}}]
[null,null,null,null,null,null,null,null,null,null,null,null,"no email",{"$error":"#VALUE!"},{"$error":"#VALUE!"},{"$f":"VLOOKUP(K1960,references!$A$1:$B$7,2,FALSE)","v":{"$error":"#N/A"}}]
[null,null,null,null,null,null,null,null,null,null,null,null,"no email",{"$error":"#VALUE!"},{"$error":"#VALUE!"},{"$f":"VLOOKUP(K1961,references!$A$1:$B$7,2,FALSE)","v":{"$error":"#N/A"}}]
[null,null,null,null,null,null,null,null,null,null,null,null,"no email",{"$error":"#VALUE!"},{"$error":"#VALUE!"},{"$f":"VLOOKUP(K1962,references!$A$1:$B$7,2,FALSE)","v":{"$error":"#N/A"}}]
[null,null,null,null,null,null,null,null,null,null,null,null,"no email",{"$error":"#VALUE!"},{"$error":"#VALUE!"},{"$f":"VLOOKUP(K1963,references!$A$1:$B$7,2,FALSE)","v":{"$error":"#N/A"}}]
[null,null,null,null,null,null,null,null,null,null,null,null,"no email",{"$error":"#VALUE!"},{"$error":"#VALUE!"},{"$f":"VLOOKUP(K1964,references!$A$1:$B$7,2,FALSE)","v":{"$error":"#N/A"}}]
[null,null,null,null,null,null,null,null,null,null,null,null,"no email",{"$error":"#VALUE!"},{"$error":"#VALUE!"},{"$f":"VLOOKUP(K1965,references!$A$1:$B$7,2,FALSE)","v":{"$error":"#N/A"}}]
[null,null,null,null,null,null,null,null,null,null,null,null,"no email",{"$error":"#VALUE!"},{"$error":"#VALUE!"},{"$f":"VLOOKUP(K1966,references!$A$1:$B$7,2,FALSE)","v":{"$error":"#N/A"}}]
[null,null,null,null,null,null,null,null,null,null,null,null,"no email",{"$error":"#VALUE!"},{"$error":"#VALUE!"},{"$f":"VLOOKUP(K1967,references!$A$1:$B$7,2,FALSE)","v":{"$error":"#N/A"}}]
[null,null,null,null,null,null,null,null,null,null,null,null,"no email",{"$error":"#VALUE!"},{"$error":"#VALUE!"},{"$f":"VLOOKUP(K1968,references!$A$1:$B$7,2,FALSE)","v":{"$error":"#N/A"}}]
[null,null,null,null,null,null,null,null,null,null,null,null,"no email",{"$error":"#VALUE!"},{"$error":"#VALUE!"},{"$f":"VLOOKUP(K1969,references!$A$1:$B$7,2,FALSE)","v":{"$error":"#N/A"}}]
[null,null,null,null,null,null,null,null,null,null,null,null,"no email",{"$error":"#VALUE!"},{"$error":"#VALUE!"},{"$f":"VLOOKUP(K1970,references!$A$1:$B$7,2,FALSE)","v":{"$error":"#N/A"}}]
[null,null,null,null,null,null,null,null,null,null,null,null,"no email",{"$error":"#VALUE!"},{"$error":"#VALUE!"},{"$f":"VLOOKUP(K1971,references!$A$1:$B$7,2,FALSE)","v":{"$error":"#N/A"}}]
[null,null,null,null,null,null,null,null,null,null,null,null,"no email",{"$error":"#VALUE!"},{"$error":"#VALUE!"},{"$f":"VLOOKUP(K1972,references!$A$1:$B$7,2,FALSE)","v":{"$error":"#N/A"}}]
[null,null,null,null,null,null,null,null,null,null,null,null,"no email",{"$error":"#VALUE!"},{"$error":"#VALUE!"},{"$f":"VLOOKUP(K1973,references!$A$1:$B$7,2,FALSE)","v":{"$error":"#N/A"}}]
[null,null,null,null,null,null,null,null,null,null,null,null,"no email",{"$error":"#VALUE!"},{"$error":"#VALUE!"},{"$f":"VLOOKUP(K1974,references!$A$1:$B$7,2,FALSE)","v":{"$error":"#N/A"}}]
[null,null,null,null,null,null,null,null,null,null,null,null,"no email",{"$error":"#VALUE!"},{"$error":"#VALUE!"},{"$f":"VLOOKUP(K1975,references!$A$1:$B$7,2,FALSE)","v":{"$error":"#N/A"}}]
[null,null,null,null,null,null,null,null,null,null,null,null,"no email",{"$error":"#VALUE!"},{"$error":"#VALUE!"},{"$f":"VLOOKUP(K1976,references!$A$1:$B$7,2,FALSE)","v":{"$error":"#N/A"}}]
[null,null,null,null,null,null,null,null,null,null,null,null,"no email",{"$error":"#VALUE!"},{"$error":"#VALUE!"},{"$f":"VLOOKUP(K1977,references!$A$1:$B$7,2,FALSE)","v":{"$error":"#N/A"}}]
[null,null,null,null,null,null,null,null,null,null,null,null,"no email",{"$error":"#VALUE!"},{"$error":"#VALUE!"},{"$f":"VLOOKUP(K1978,references!$A$1:$B$7,2,FALSE)","v":{"$error":"#N/A"}}]
[null,null,null,null,null,null,null,null,null,null,null,null,"no email",{"$error":"#VALUE!"},{"$error":"#VALUE!"},{"$f":"VLOOKUP(K1979,references!$A$1:$B$7,2,FALSE)","v":{"$error":"#N/A"}}]
[null,null,null,null,null,null,null,null,null,null,null,null,"no email",{"$error":"#VALUE!"},{"$error":"#VALUE!"},{"$f":"VLOOKUP(K1980,references!$A$1:$B$7,2,FALSE)","v":{"$error":"#N/A"}}]
[null,null,null,null,null,null,null,null,null,null,null,null,"no email",{"$error":"#VALUE!"},{"$error":"#VALUE!"},{"$f":"VLOOKUP(K1981,references!$A$1:$B$7,2,FALSE)","v":{"$error":"#N/A"}}]
[null,null,null,null,null,null,null,null,null,null,null,null,"no email",{"$error":"#VALUE!"},{"$error":"#VALUE!"},{"$f":"VLOOKUP(K1982,references!$A$1:$B$7,2,FALSE)","v":{"$error":"#N/A"}}]
[null,null,null,null,null,null,null,null,null,null,null,null,"no email",{"$error":"#VALUE!"},{"$error":"#VALUE!"},{"$f":"VLOOKUP(K1983,references!$A$1:$B$7,2,FALSE)","v":{"$error":"#N/A"}}]
[null,null,null,null,null,null,null,null,null,null,null,null,"no email",{"$error":"#VALUE!"},{"$error":"#VALUE!"},{"$f":"VLOOKUP(K1984,references!$A$1:$B$7,2,FALSE)","v":{"$error":"#N/A"}}]
[null,null,null,null,null,null,null,null,null,null,null,null,"no email",{"$error":"#VALUE!"},{"$error":"#VALUE!"},{"$f":"VLOOKUP(K1985,references!$A$1:$B$7,2,FALSE)","v":{"$error":"#N/A"}}]
[null,null,null,null,null,null,null,null,null,null,null,null,{"$f":"IF(L1986=\"\", \"no email\",LOWER(L1986))","v":"no email"},{"$f":"LEFT(A1986, SEARCH(\",\",A1986,1)-1)","v":{"$error":"#VALUE!"}},{"$f":"RIGHT(A1986, LEN(A1986) -SEARCH(\",\",A1986,1)-1)","v":{"$error":"#VALUE!"}},{"$f":"VLOOKUP(K1986,references!$A$1:$B$7,2,FALSE)","v":{"$error":"#N/A"}}]
[null,null,null,null,null,null,null,null,null,null,null,null,"no email",{"$error":"#VALUE!"},{"$error":"#VALUE!"},{"$f":"VLOOKUP(K1987,references!$A$1:$B$7,2,FALSE)","v":{"$error":"#N/A"}}]
[null,null,null,null,null,null,null,null,null,null,null,null,"no email",{"$error":"#VALUE!"},{"$error":"#VALUE!"},{"$f":"VLOOKUP(K1988,references!$A$1:$B$7,2,FALSE)","v":{"$error":"#N/A"}}]
[null,null,null,null,null,null,null,null,null,null,null,null,"no email",{"$error":"#VALUE!"},{"$error":"#VALUE!"},{"$f":"VLOOKUP(K1989,references!$A$1:$B$7,2,FALSE)","v":{"$error":"#N/A"}}]
[null,null,null,null,null,null,null,null,null,null,null,null,"no email",{"$error":"#VALUE!"},{"$error":"#VALUE!"},{"$f":"VLOOKUP(K1990,references!$A$1:$B$7,2,FALSE)","v":{"$error":"#N/A"}}]
[null,null,null,null,null,null,null,null,null,null,null,null,"no email",{"$error":"#VALUE!"},{"$error":"#VALUE!"},{"$f":"VLOOKUP(K1991,references!$A$1:$B$7,2,FALSE)","v":{"$error":"#N/A"}}]
[null,null,null,null,null,null,null,null,null,null,null,null,"no email",{"$error":"#VALUE!"},{"$error":"#VALUE!"},{"$f":"VLOOKUP(K1992,references!$A$1:$B$7,2,FALSE)","v":{"$error":"#N/A"}}]
[null,null,null,null,null,null,null,null,null,null,null,null,"no email",{"$error":"#VALUE!"},{"$error":"#VALUE!"},{"$f":"VLOOKUP(K1993,references!$A$1:$B$7,2,FALSE)","v":{"$error":"#N/A"}}]
[null,null,null,null,null,null,null,null,null,null,null,null,"no email",{"$error":"#VALUE!"},{"$error":"#VALUE!"},{"$f":"VLOOKUP(K1994,references!$A$1:$B$7,2,FALSE)","v":{"$error":"#N/A"}}]
[null,null,null,null,null,null,null,null,null,null,null,null,"no email",{"$error":"#VALUE!"},{"$error":"#VALUE!"},{"$f":"VLOOKUP(K1995,references!$A$1:$B$7,2,FALSE)","v":{"$error":"#N/A"}}]
[null,null,null,null,null,null,null,null,null,null,null,null,"no email",{"$error":"#VALUE!"},{"$error":"#VALUE!"},{"$f":"VLOOKUP(K1996,references!$A$1:$B$7,2,FALSE)","v":{"$error":"#N/A"}}]
[null,null,null,null,null,null,null,null,null,null,null,null,"no email",{"$error":"#VALUE!"},{"$error":"#VALUE!"},{"$f":"VLOOKUP(K1997,references!$A$1:$B$7,2,FALSE)","v":{"$error":"#N/A"}}]
[null,null,null,null,null,null,null,null,null,null,null,null,"no email",{"$error":"#VALUE!"},{"$error":"#VALUE!"},{"$f":"VLOOKUP(K1998,references!$A$1:$B$7,2,FALSE)","v":{"$error":"#N/A"}}]
[null,null,null,null,null,null,null,null,null,null,null,null,"no email",{"$error":"#VALUE!"},{"$error":"#VALUE!"},{"$f":"VLOOKUP(K1999,references!$A$1:$B$7,2,FALSE)","v":{"$error":"#N/A"}}]
[null,null,null,null,null,null,null,null,null,null,null,null,"no email",{"$error":"#VALUE!"},{"$error":"#VALUE!"},{"$f":"VLOOKUP(K2000,references!$A$1:$B$7,2,FALSE)","v":{"$error":"#N/A"}}]
[null,null,null,null,null,null,null,null,null,null,null,null,"no email",{"$error":"#VALUE!"},{"$error":"#VALUE!"},{"$f":"VLOOKUP(K2001,references!$A$1:$B$7,2,FALSE)","v":{"$error":"#N/A"}}]
[null,null,null,null,null,null,null,null,null,null,null,null,"no email",{"$error":"#VALUE!"},{"$error":"#VALUE!"},{"$f":"VLOOKUP(K2002,references!$A$1:$B$7,2,FALSE)","v":{"$error":"#N/A"}}]
[null,null,null,null,null,null,null,null,null,null,null,null,"no email",{"$error":"#VALUE!"},{"$error":"#VALUE!"},{"$f":"VLOOKUP(K2003,references!$A$1:$B$7,2,FALSE)","v":{"$error":"#N/A"}}]
[null,null,null,null,null,null,null,null,null,null,null,null,"no email",{"$error":"#VALUE!"},{"$error":"#VALUE!"},{"$f":"VLOOKUP(K2004,references!$A$1:$B$7,2,FALSE)","v":{"$error":"#N/A"}}]
[null,null,null,null,null,null,null,null,null,null,null,null,"no email",{"$error":"#VALUE!"},{"$error":"#VALUE!"},{"$f":"VLOOKUP(K2005,references!$A$1:$B$7,2,FALSE)","v":{"$error":"#N/A"}}]
[null,null,null,null,null,null,null,null,null,null,null,null,"no email",{"$error":"#VALUE!"},{"$error":"#VALUE!"},{"$f":"VLOOKUP(K2006,references!$A$1:$B$7,2,FALSE)","v":{"$error":"#N/A"}}]
[null,null,null,null,null,null,null,null,null,null,null,null,"no email",{"$error":"#VALUE!"},{"$error":"#VALUE!"},{"$f":"VLOOKUP(K2007,references!$A$1:$B$7,2,FALSE)","v":{"$error":"#N/A"}}]
[null,null,null,null,null,null,null,null,null,null,null,null,"no email",{"$error":"#VALUE!"},{"$error":"#VALUE!"},{"$f":"VLOOKUP(K2008,references!$A$1:$B$7,2,FALSE)","v":{"$error":"#N/A"}}]
[null,null,null,null,null,null,null,null,null,null,null,null,"no email",{"$error":"#VALUE!"},{"$error":"#VALUE!"},{"$f":"VLOOKUP(K2009,references!$A$1:$B$7,2,FALSE)","v":{"$error":"#N/A"}}]
[null,null,null,null,null,null,null,null,null,null,null,null,"no email",{"$error":"#VALUE!"},{"$error":"#VALUE!"},{"$f":"VLOOKUP(K2010,references!$A$1:$B$7,2,FALSE)","v":{"$error":"#N/A"}}]
[null,null,null,null,null,null,null,null,null,null,null,null,"no email",{"$error":"#VALUE!"},{"$error":"#VALUE!"},{"$f":"VLOOKUP(K2011,references!$A$1:$B$7,2,FALSE)","v":{"$error":"#N/A"}}]
[null,null,null,null,null,null,null,null,null,null,null,null,"no email",{"$error":"#VALUE!"},{"$error":"#VALUE!"},{"$f":"VLOOKUP(K2012,references!$A$1:$B$7,2,FALSE)","v":{"$error":"#N/A"}}]
[null,null,null,null,null,null,null,null,null,null,null,null,"no email",{"$error":"#VALUE!"},{"$error":"#VALUE!"},{"$f":"VLOOKUP(K2013,references!$A$1:$B$7,2,FALSE)","v":{"$error":"#N/A"}}]
[null,null,null,null,null,null,null,null,null,null,null,null,"no email",{"$error":"#VALUE!"},{"$error":"#VALUE!"},{"$f":"VLOOKUP(K2014,references!$A$1:$B$7,2,FALSE)","v":{"$error":"#N/A"}}]
[null,null,null,null,null,null,null,null,null,null,null,null,"no email",{"$error":"#VALUE!"},{"$error":"#VALUE!"},{"$f":"VLOOKUP(K2015,references!$A$1:$B$7,2,FALSE)","v":{"$error":"#N/A"}}]
[null,null,null,null,null,null,null,null,null,null,null,null,"no email",{"$error":"#VALUE!"},{"$error":"#VALUE!"},{"$f":"VLOOKUP(K2016,references!$A$1:$B$7,2,FALSE)","v":{"$error":"#N/A"}}]
[null,null,null,null,null,null,null,null,null,null,null,null,"no email",{"$error":"#VALUE!"},{"$error":"#VALUE!"},{"$f":"VLOOKUP(K2017,references!$A$1:$B$7,2,FALSE)","v":{"$error":"#N/A"}}]
[null,null,null,null,null,null,null,null,null,null,null,null,"no email",{"$error":"#VALUE!"},{"$error":"#VALUE!"},{"$f":"VLOOKUP(K2018,references!$A$1:$B$7,2,FALSE)","v":{"$error":"#N/A"}}]
[null,null,null,null,null,null,null,null,null,null,null,null,"no email",{"$error":"#VALUE!"},{"$error":"#VALUE!"},{"$f":"VLOOKUP(K2019,references!$A$1:$B$7,2,FALSE)","v":{"$error":"#N/A"}}]
[null,null,null,null,null,null,null,null,null,null,null,null,"no email",{"$error":"#VALUE!"},{"$error":"#VALUE!"},{"$f":"VLOOKUP(K2020,references!$A$1:$B$7,2,FALSE)","v":{"$error":"#N/A"}}]
[null,null,null,null,null,null,null,null,null,null,null,null,"no email",{"$error":"#VALUE!"},{"$error":"#VALUE!"},{"$f":"VLOOKUP(K2021,references!$A$1:$B$7,2,FALSE)","v":{"$error":"#N/A"}}]
[null,null,null,null,null,null,null,null,null,null,null,null,"no email",{"$error":"#VALUE!"},{"$error":"#VALUE!"},{"$f":"VLOOKUP(K2022,references!$A$1:$B$7,2,FALSE)","v":{"$error":"#N/A"}}]
[null,null,null,null,null,null,null,null,null,null,null,null,"no email",{"$error":"#VALUE!"},{"$error":"#VALUE!"},{"$f":"VLOOKUP(K2023,references!$A$1:$B$7,2,FALSE)","v":{"$error":"#N/A"}}]
[null,null,null,null,null,null,null,null,null,null,null,null,"no email",{"$error":"#VALUE!"},{"$error":"#VALUE!"},{"$f":"VLOOKUP(K2024,references!$A$1:$B$7,2,FALSE)","v":{"$error":"#N/A"}}]
[null,null,null,null,null,null,null,null,null,null,null,null,"no email",{"$error":"#VALUE!"},{"$error":"#VALUE!"},{"$f":"VLOOKUP(K2025,references!$A$1:$B$7,2,FALSE)","v":{"$error":"#N/A"}}]
[null,null,null,null,null,null,null,null,null,null,null,null,"no email",{"$error":"#VALUE!"},{"$error":"#VALUE!"},{"$f":"VLOOKUP(K2026,references!$A$1:$B$7,2,FALSE)","v":{"$error":"#N/A"}}]
[null,null,null,null,null,null,null,null,null,null,null,null,"no email",{"$error":"#VALUE!"},{"$error":"#VALUE!"},{"$f":"VLOOKUP(K2027,references!$A$1:$B$7,2,FALSE)","v":{"$error":"#N/A"}}]
[null,null,null,null,null,null,null,null,null,null,null,null,"no email",{"$error":"#VALUE!"},{"$error":"#VALUE!"},{"$f":"VLOOKUP(K2028,references!$A$1:$B$7,2,FALSE)","v":{"$error":"#N/A"}}]
[null,null,null,null,null,null,null,null,null,null,null,null,"no email",{"$error":"#VALUE!"},{"$error":"#VALUE!"},{"$f":"VLOOKUP(K2029,references!$A$1:$B$7,2,FALSE)","v":{"$error":"#N/A"}}]
[null,null,null,null,null,null,null,null,null,null,null,null,"no email",{"$error":"#VALUE!"},{"$error":"#VALUE!"},{"$f":"VLOOKUP(K2030,references!$A$1:$B$7,2,FALSE)","v":{"$error":"#N/A"}}]
[null,null,null,null,null,null,null,null,null,null,null,null,"no email",{"$error":"#VALUE!"},{"$error":"#VALUE!"},{"$f":"VLOOKUP(K2031,references!$A$1:$B$7,2,FALSE)","v":{"$error":"#N/A"}}]
[null,null,null,null,null,null,null,null,null,null,null,null,"no email",{"$error":"#VALUE!"},{"$error":"#VALUE!"},{"$f":"VLOOKUP(K2032,references!$A$1:$B$7,2,FALSE)","v":{"$error":"#N/A"}}]
[null,null,null,null,null,null,null,null,null,null,null,null,"no email",{"$error":"#VALUE!"},{"$error":"#VALUE!"},{"$f":"VLOOKUP(K2033,references!$A$1:$B$7,2,FALSE)","v":{"$error":"#N/A"}}]
[null,null,null,null,null,null,null,null,null,null,null,null,"no email",{"$error":"#VALUE!"},{"$error":"#VALUE!"},{"$f":"VLOOKUP(K2034,references!$A$1:$B$7,2,FALSE)","v":{"$error":"#N/A"}}]
[null,null,null,null,null,null,null,null,null,null,null,null,"no email",{"$error":"#VALUE!"},{"$error":"#VALUE!"},{"$f":"VLOOKUP(K2035,references!$A$1:$B$7,2,FALSE)","v":{"$error":"#N/A"}}]
[null,null,null,null,null,null,null,null,null,null,null,null,"no email",{"$error":"#VALUE!"},{"$error":"#VALUE!"},{"$f":"VLOOKUP(K2036,references!$A$1:$B$7,2,FALSE)","v":{"$error":"#N/A"}}]
[null,null,null,null,null,null,null,null,null,null,null,null,"no email",{"$error":"#VALUE!"},{"$error":"#VALUE!"},{"$f":"VLOOKUP(K2037,references!$A$1:$B$7,2,FALSE)","v":{"$error":"#N/A"}}]
[null,null,null,null,null,null,null,null,null,null,null,null,"no email",{"$error":"#VALUE!"},{"$error":"#VALUE!"},{"$f":"VLOOKUP(K2038,references!$A$1:$B$7,2,FALSE)","v":{"$error":"#N/A"}}]
[null,null,null,null,null,null,null,null,null,null,null,null,"no email",{"$error":"#VALUE!"},{"$error":"#VALUE!"},{"$f":"VLOOKUP(K2039,references!$A$1:$B$7,2,FALSE)","v":{"$error":"#N/A"}}]
[null,null,null,null,null,null,null,null,null,null,null,null,"no email",{"$error":"#VALUE!"},{"$error":"#VALUE!"},{"$f":"VLOOKUP(K2040,references!$A$1:$B$7,2,FALSE)","v":{"$error":"#N/A"}}]
[null,null,null,null,null,null,null,null,null,null,null,null,"no email",{"$error":"#VALUE!"},{"$error":"#VALUE!"},{"$f":"VLOOKUP(K2041,references!$A$1:$B$7,2,FALSE)","v":{"$error":"#N/A"}}]
[null,null,null,null,null,null,null,null,null,null,null,null,"no email",{"$error":"#VALUE!"},{"$error":"#VALUE!"},{"$f":"VLOOKUP(K2042,references!$A$1:$B$7,2,FALSE)","v":{"$error":"#N/A"}}]
[null,null,null,null,null,null,null,null,null,null,null,null,"no email",{"$error":"#VALUE!"},{"$error":"#VALUE!"},{"$f":"VLOOKUP(K2043,references!$A$1:$B$7,2,FALSE)","v":{"$error":"#N/A"}}]
[null,null,null,null,null,null,null,null,null,null,null,null,"no email",{"$error":"#VALUE!"},{"$error":"#VALUE!"},{"$f":"VLOOKUP(K2044,references!$A$1:$B$7,2,FALSE)","v":{"$error":"#N/A"}}]
[null,null,null,null,null,null,null,null,null,null,null,null,"no email",{"$error":"#VALUE!"},{"$error":"#VALUE!"},{"$f":"VLOOKUP(K2045,references!$A$1:$B$7,2,FALSE)","v":{"$error":"#N/A"}}]
[null,null,null,null,null,null,null,null,null,null,null,null,"no email",{"$error":"#VALUE!"},{"$error":"#VALUE!"},{"$f":"VLOOKUP(K2046,references!$A$1:$B$7,2,FALSE)","v":{"$error":"#N/A"}}]
[null,null,null,null,null,null,null,null,null,null,null,null,"no email",{"$error":"#VALUE!"},{"$error":"#VALUE!"},{"$f":"VLOOKUP(K2047,references!$A$1:$B$7,2,FALSE)","v":{"$error":"#N/A"}}]
[null,null,null,null,null,null,null,null,null,null,null,null,"no email",{"$error":"#VALUE!"},{"$error":"#VALUE!"},{"$f":"VLOOKUP(K2048,references!$A$1:$B$7,2,FALSE)","v":{"$error":"#N/A"}}]
[null,null,null,null,null,null,null,null,null,null,null,null,"no email",{"$error":"#VALUE!"},{"$error":"#VALUE!"},{"$f":"VLOOKUP(K2049,references!$A$1:$B$7,2,FALSE)","v":{"$error":"#N/A"}}]
[null,null,null,null,null,null,null,null,null,null,null,null,{"$f":"IF(L2050=\"\", \"no email\",LOWER(L2050))","v":"no email"},{"$f":"LEFT(A2050, SEARCH(\",\",A2050,1)-1)","v":{"$error":"#VALUE!"}},{"$f":"RIGHT(A2050, LEN(A2050) -SEARCH(\",\",A2050,1)-1)","v":{"$error":"#VALUE!"}},{"$f":"VLOOKUP(K2050,references!$A$1:$B$7,2,FALSE)","v":{"$error":"#N/A"}}]
[null,null,null,null,null,null,null,null,null,null,null,null,"no email",{"$error":"#VALUE!"},{"$error":"#VALUE!"},{"$f":"VLOOKUP(K2051,references!$A$1:$B$7,2,FALSE)","v":{"$error":"#N/A"}}]
[null,null,null,null,null,null,null,null,null,null,null,null,"no email",{"$error":"#VALUE!"},{"$error":"#VALUE!"},{"$f":"VLOOKUP(K2052,references!$A$1:$B$7,2,FALSE)","v":{"$error":"#N/A"}}]
[null,null,null,null,null,null,null,null,null,null,null,null,"no email",{"$error":"#VALUE!"},{"$error":"#VALUE!"},{"$f":"VLOOKUP(K2053,references!$A$1:$B$7,2,FALSE)","v":{"$error":"#N/A"}}]
[null,null,null,null,null,null,null,null,null,null,null,null,"no email",{"$error":"#VALUE!"},{"$error":"#VALUE!"},{"$f":"VLOOKUP(K2054,references!$A$1:$B$7,2,FALSE)","v":{"$error":"#N/A"}}]
[null,null,null,null,null,null,null,null,null,null,null,null,"no email",{"$error":"#VALUE!"},{"$error":"#VALUE!"},{"$f":"VLOOKUP(K2055,references!$A$1:$B$7,2,FALSE)","v":{"$error":"#N/A"}}]
[null,null,null,null,null,null,null,null,null,null,null,null,"no email",{"$error":"#VALUE!"},{"$error":"#VALUE!"},{"$f":"VLOOKUP(K2056,references!$A$1:$B$7,2,FALSE)","v":{"$error":"#N/A"}}]
[null,null,null,null,null,null,null,null,null,null,null,null,"no email",{"$error":"#VALUE!"},{"$error":"#VALUE!"},{"$f":"VLOOKUP(K2057,references!$A$1:$B$7,2,FALSE)","v":{"$error":"#N/A"}}]
[null,null,null,null,null,null,null,null,null,null,null,null,"no email",{"$error":"#VALUE!"},{"$error":"#VALUE!"},{"$f":"VLOOKUP(K2058,references!$A$1:$B$7,2,FALSE)","v":{"$error":"#N/A"}}]
[null,null,null,null,null,null,null,null,null,null,null,null,"no email",{"$error":"#VALUE!"},{"$error":"#VALUE!"},{"$f":"VLOOKUP(K2059,references!$A$1:$B$7,2,FALSE)","v":{"$error":"#N/A"}}]
[null,null,null,null,null,null,null,null,null,null,null,null,"no email",{"$error":"#VALUE!"},{"$error":"#VALUE!"},{"$f":"VLOOKUP(K2060,references!$A$1:$B$7,2,FALSE)","v":{"$error":"#N/A"}}]
[null,null,null,null,null,null,null,null,null,null,null,null,"no email",{"$error":"#VALUE!"},{"$error":"#VALUE!"},{"$f":"VLOOKUP(K2061,references!$A$1:$B$7,2,FALSE)","v":{"$error":"#N/A"}}]
[null,null,null,null,null,null,null,null,null,null,null,null,"no email",{"$error":"#VALUE!"},{"$error":"#VALUE!"},{"$f":"VLOOKUP(K2062,references!$A$1:$B$7,2,FALSE)","v":{"$error":"#N/A"}}]
[null,null,null,null,null,null,null,null,null,null,null,null,"no email",{"$error":"#VALUE!"},{"$error":"#VALUE!"},{"$f":"VLOOKUP(K2063,references!$A$1:$B$7,2,FALSE)","v":{"$error":"#N/A"}}]
[null,null,null,null,null,null,null,null,null,null,null,null,"no email",{"$error":"#VALUE!"},{"$error":"#VALUE!"},{"$f":"VLOOKUP(K2064,references!$A$1:$B$7,2,FALSE)","v":{"$error":"#N/A"}}]
[null,null,null,null,null,null,null,null,null,null,null,null,"no email",{"$error":"#VALUE!"},{"$error":"#VALUE!"},{"$f":"VLOOKUP(K2065,references!$A$1:$B$7,2,FALSE)","v":{"$error":"#N/A"}}]
[null,null,null,null,null,null,null,null,null,null,null,null,"no email",{"$error":"#VALUE!"},{"$error":"#VALUE!"},{"$f":"VLOOKUP(K2066,references!$A$1:$B$7,2,FALSE)","v":{"$error":"#N/A"}}]
[null,null,null,null,null,null,null,null,null,null,null,null,"no email",{"$error":"#VALUE!"},{"$error":"#VALUE!"},{"$f":"VLOOKUP(K2067,references!$A$1:$B$7,2,FALSE)","v":{"$error":"#N/A"}}]
[null,null,null,null,null,null,null,null,null,null,null,null,"no email",{"$error":"#VALUE!"},{"$error":"#VALUE!"},{"$f":"VLOOKUP(K2068,references!$A$1:$B$7,2,FALSE)","v":{"$error":"#N/A"}}]
[null,null,null,null,null,null,null,null,null,null,null,null,"no email",{"$error":"#VALUE!"},{"$error":"#VALUE!"},{"$f":"VLOOKUP(K2069,references!$A$1:$B$7,2,FALSE)","v":{"$error":"#N/A"}}]
[null,null,null,null,null,null,null,null,null,null,null,null,"no email",{"$error":"#VALUE!"},{"$error":"#VALUE!"},{"$f":"VLOOKUP(K2070,references!$A$1:$B$7,2,FALSE)","v":{"$error":"#N/A"}}]
[null,null,null,null,null,null,null,null,null,null,null,null,"no email",{"$error":"#VALUE!"},{"$error":"#VALUE!"},{"$f":"VLOOKUP(K2071,references!$A$1:$B$7,2,FALSE)","v":{"$error":"#N/A"}}]
[null,null,null,null,null,null,null,null,null,null,null,null,"no email",{"$error":"#VALUE!"},{"$error":"#VALUE!"},{"$f":"VLOOKUP(K2072,references!$A$1:$B$7,2,FALSE)","v":{"$error":"#N/A"}}]
[null,null,null,null,null,null,null,null,null,null,null,null,"no email",{"$error":"#VALUE!"},{"$error":"#VALUE!"},{"$f":"VLOOKUP(K2073,references!$A$1:$B$7,2,FALSE)","v":{"$error":"#N/A"}}]
[null,null,null,null,null,null,null,null,null,null,null,null,"no email",{"$error":"#VALUE!"},{"$error":"#VALUE!"},{"$f":"VLOOKUP(K2074,references!$A$1:$B$7,2,FALSE)","v":{"$error":"#N/A"}}]
[null,null,null,null,null,null,null,null,null,null,null,null,"no email",{"$error":"#VALUE!"},{"$error":"#VALUE!"},{"$f":"VLOOKUP(K2075,references!$A$1:$B$7,2,FALSE)","v":{"$error":"#N/A"}}]
[null,null,null,null,null,null,null,null,null,null,null,null,"no email",{"$error":"#VALUE!"},{"$error":"#VALUE!"},{"$f":"VLOOKUP(K2076,references!$A$1:$B$7,2,FALSE)","v":{"$error":"#N/A"}}]
[null,null,null,null,null,null,null,null,null,null,null,null,"no email",{"$error":"#VALUE!"},{"$error":"#VALUE!"},{"$f":"VLOOKUP(K2077,references!$A$1:$B$7,2,FALSE)","v":{"$error":"#N/A"}}]
[null,null,null,null,null,null,null,null,null,null,null,null,"no email",{"$error":"#VALUE!"},{"$error":"#VALUE!"},{"$f":"VLOOKUP(K2078,references!$A$1:$B$7,2,FALSE)","v":{"$error":"#N/A"}}]
[null,null,null,null,null,null,null,null,null,null,null,null,"no email",{"$error":"#VALUE!"},{"$error":"#VALUE!"},{"$f":"VLOOKUP(K2079,references!$A$1:$B$7,2,FALSE)","v":{"$error":"#N/A"}}]
[null,null,null,null,null,null,null,null,null,null,null,null,"no email",{"$error":"#VALUE!"},{"$error":"#VALUE!"},{"$f":"VLOOKUP(K2080,references!$A$1:$B$7,2,FALSE)","v":{"$error":"#N/A"}}]
[null,null,null,null,null,null,null,null,null,null,null,null,"no email",{"$error":"#VALUE!"},{"$error":"#VALUE!"},{"$f":"VLOOKUP(K2081,references!$A$1:$B$7,2,FALSE)","v":{"$error":"#N/A"}}]
[null,null,null,null,null,null,null,null,null,null,null,null,"no email",{"$error":"#VALUE!"},{"$error":"#VALUE!"},{"$f":"VLOOKUP(K2082,references!$A$1:$B$7,2,FALSE)","v":{"$error":"#N/A"}}]
[null,null,null,null,null,null,null,null,null,null,null,null,"no email",{"$error":"#VALUE!"},{"$error":"#VALUE!"},{"$f":"VLOOKUP(K2083,references!$A$1:$B$7,2,FALSE)","v":{"$error":"#N/A"}}]
[null,null,null,null,null,null,null,null,null,null,null,null,"no email",{"$error":"#VALUE!"},{"$error":"#VALUE!"},{"$f":"VLOOKUP(K2084,references!$A$1:$B$7,2,FALSE)","v":{"$error":"#N/A"}}]
[null,null,null,null,null,null,null,null,null,null,null,null,"no email",{"$error":"#VALUE!"},{"$error":"#VALUE!"},{"$f":"VLOOKUP(K2085,references!$A$1:$B$7,2,FALSE)","v":{"$error":"#N/A"}}]
[null,null,null,null,null,null,null,null,null,null,null,null,"no email",{"$error":"#VALUE!"},{"$error":"#VALUE!"},{"$f":"VLOOKUP(K2086,references!$A$1:$B$7,2,FALSE)","v":{"$error":"#N/A"}}]
[null,null,null,null,null,null,null,null,null,null,null,null,"no email",{"$error":"#VALUE!"},{"$error":"#VALUE!"},{"$f":"VLOOKUP(K2087,references!$A$1:$B$7,2,FALSE)","v":{"$error":"#N/A"}}]
[null,null,null,null,null,null,null,null,null,null,null,null,"no email",{"$error":"#VALUE!"},{"$error":"#VALUE!"},{"$f":"VLOOKUP(K2088,references!$A$1:$B$7,2,FALSE)","v":{"$error":"#N/A"}}]
[null,null,null,null,null,null,null,null,null,null,null,null,"no email",{"$error":"#VALUE!"},{"$error":"#VALUE!"},{"$f":"VLOOKUP(K2089,references!$A$1:$B$7,2,FALSE)","v":{"$error":"#N/A"}}]
[null,null,null,null,null,null,null,null,null,null,null,null,"no email",{"$error":"#VALUE!"},{"$error":"#VALUE!"},{"$f":"VLOOKUP(K2090,references!$A$1:$B$7,2,FALSE)","v":{"$error":"#N/A"}}]
[null,null,null,null,null,null,null,null,null,null,null,null,"no email",{"$error":"#VALUE!"},{"$error":"#VALUE!"},{"$f":"VLOOKUP(K2091,references!$A$1:$B$7,2,FALSE)","v":{"$error":"#N/A"}}]
[null,null,null,null,null,null,null,null,null,null,null,null,"no email",{"$error":"#VALUE!"},{"$error":"#VALUE!"},{"$f":"VLOOKUP(K2092,references!$A$1:$B$7,2,FALSE)","v":{"$error":"#N/A"}}]
[null,null,null,null,null,null,null,null,null,null,null,null,"no email",{"$error":"#VALUE!"},{"$error":"#VALUE!"},{"$f":"VLOOKUP(K2093,references!$A$1:$B$7,2,FALSE)","v":{"$error":"#N/A"}}]
[null,null,null,null,null,null,null,null,null,null,null,null,"no email",{"$error":"#VALUE!"},{"$error":"#VALUE!"},{"$f":"VLOOKUP(K2094,references!$A$1:$B$7,2,FALSE)","v":{"$error":"#N/A"}}]
[null,null,null,null,null,null,null,null,null,null,null,null,"no email",{"$error":"#VALUE!"},{"$error":"#VALUE!"},{"$f":"VLOOKUP(K2095,references!$A$1:$B$7,2,FALSE)","v":{"$error":"#N/A"}}]
[null,null,null,null,null,null,null,null,null,null,null,null,"no email",{"$error":"#VALUE!"},{"$error":"#VALUE!"},{"$f":"VLOOKUP(K2096,references!$A$1:$B$7,2,FALSE)","v":{"$error":"#N/A"}}]
[null,null,null,null,null,null,null,null,null,null,null,null,"no email",{"$error":"#VALUE!"},{"$error":"#VALUE!"},{"$f":"VLOOKUP(K2097,references!$A$1:$B$7,2,FALSE)","v":{"$error":"#N/A"}}]
[null,null,null,null,null,null,null,null,null,null,null,null,"no email",{"$error":"#VALUE!"},{"$error":"#VALUE!"},{"$f":"VLOOKUP(K2098,references!$A$1:$B$7,2,FALSE)","v":{"$error":"#N/A"}}]
[null,null,null,null,null,null,null,null,null,null,null,null,"no email",{"$error":"#VALUE!"},{"$error":"#VALUE!"},{"$f":"VLOOKUP(K2099,references!$A$1:$B$7,2,FALSE)","v":{"$error":"#N/A"}}]
[null,null,null,null,null,null,null,null,null,null,null,null,"no email",{"$error":"#VALUE!"},{"$error":"#VALUE!"},{"$f":"VLOOKUP(K2100,references!$A$1:$B$7,2,FALSE)","v":{"$error":"#N/A"}}]
[null,null,null,null,null,null,null,null,null,null,null,null,"no email",{"$error":"#VALUE!"},{"$error":"#VALUE!"},{"$f":"VLOOKUP(K2101,references!$A$1:$B$7,2,FALSE)","v":{"$error":"#N/A"}}]
[null,null,null,null,null,null,null,null,null,null,null,null,"no email",{"$error":"#VALUE!"},{"$error":"#VALUE!"},{"$f":"VLOOKUP(K2102,references!$A$1:$B$7,2,FALSE)","v":{"$error":"#N/A"}}]
[null,null,null,null,null,null,null,null,null,null,null,null,"no email",{"$error":"#VALUE!"},{"$error":"#VALUE!"},{"$f":"VLOOKUP(K2103,references!$A$1:$B$7,2,FALSE)","v":{"$error":"#N/A"}}]
[null,null,null,null,null,null,null,null,null,null,null,null,"no email",{"$error":"#VALUE!"},{"$error":"#VALUE!"},{"$f":"VLOOKUP(K2104,references!$A$1:$B$7,2,FALSE)","v":{"$error":"#N/A"}}]
[null,null,null,null,null,null,null,null,null,null,null,null,"no email",{"$error":"#VALUE!"},{"$error":"#VALUE!"},{"$f":"VLOOKUP(K2105,references!$A$1:$B$7,2,FALSE)","v":{"$error":"#N/A"}}]
[null,null,null,null,null,null,null,null,null,null,null,null,"no email",{"$error":"#VALUE!"},{"$error":"#VALUE!"},{"$f":"VLOOKUP(K2106,references!$A$1:$B$7,2,FALSE)","v":{"$error":"#N/A"}}]
[null,null,null,null,null,null,null,null,null,null,null,null,"no email",{"$error":"#VALUE!"},{"$error":"#VALUE!"},{"$f":"VLOOKUP(K2107,references!$A$1:$B$7,2,FALSE)","v":{"$error":"#N/A"}}]
[null,null,null,null,null,null,null,null,null,null,null,null,"no email",{"$error":"#VALUE!"},{"$error":"#VALUE!"},{"$f":"VLOOKUP(K2108,references!$A$1:$B$7,2,FALSE)","v":{"$error":"#N/A"}}]
[null,null,null,null,null,null,null,null,null,null,null,null,"no email",{"$error":"#VALUE!"},{"$error":"#VALUE!"},{"$f":"VLOOKUP(K2109,references!$A$1:$B$7,2,FALSE)","v":{"$error":"#N/A"}}]
[null,null,null,null,null,null,null,null,null,null,null,null,"no email",{"$error":"#VALUE!"},{"$error":"#VALUE!"},{"$f":"VLOOKUP(K2110,references!$A$1:$B$7,2,FALSE)","v":{"$error":"#N/A"}}]
[null,null,null,null,null,null,null,null,null,null,null,null,"no email",{"$error":"#VALUE!"},{"$error":"#VALUE!"},{"$f":"VLOOKUP(K2111,references!$A$1:$B$7,2,FALSE)","v":{"$error":"#N/A"}}]
[null,null,null,null,null,null,null,null,null,null,null,null,"no email",{"$error":"#VALUE!"},{"$error":"#VALUE!"},{"$f":"VLOOKUP(K2112,references!$A$1:$B$7,2,FALSE)","v":{"$error":"#N/A"}}]
[null,null,null,null,null,null,null,null,null,null,null,null,"no email",{"$error":"#VALUE!"},{"$error":"#VALUE!"},{"$f":"VLOOKUP(K2113,references!$A$1:$B$7,2,FALSE)","v":{"$error":"#N/A"}}]
[null,null,null,null,null,null,null,null,null,null,null,null,{"$f":"IF(L2114=\"\", \"no email\",LOWER(L2114))","v":"no email"},{"$f":"LEFT(A2114, SEARCH(\",\",A2114,1)-1)","v":{"$error":"#VALUE!"}},{"$f":"RIGHT(A2114, LEN(A2114) -SEARCH(\",\",A2114,1)-1)","v":{"$error":"#VALUE!"}},{"$f":"VLOOKUP(K2114,references!$A$1:$B$7,2,FALSE)","v":{"$error":"#N/A"}}]
[null,null,null,null,null,null,null,null,null,null,null,null,"no email",{"$error":"#VALUE!"},{"$error":"#VALUE!"},{"$f":"VLOOKUP(K2115,references!$A$1:$B$7,2,FALSE)","v":{"$error":"#N/A"}}]
[null,null,null,null,null,null,null,null,null,null,null,null,"no email",{"$error":"#VALUE!"},{"$error":"#VALUE!"},{"$f":"VLOOKUP(K2116,references!$A$1:$B$7,2,FALSE)","v":{"$error":"#N/A"}}]
[null,null,null,null,null,null,null,null,null,null,null,null,"no email",{"$error":"#VALUE!"},{"$error":"#VALUE!"},{"$f":"VLOOKUP(K2117,references!$A$1:$B$7,2,FALSE)","v":{"$error":"#N/A"}}]
[null,null,null,null,null,null,null,null,null,null,null,null,"no email",{"$error":"#VALUE!"},{"$error":"#VALUE!"},{"$f":"VLOOKUP(K2118,references!$A$1:$B$7,2,FALSE)","v":{"$error":"#N/A"}}]
[null,null,null,null,null,null,null,null,null,null,null,null,"no email",{"$error":"#VALUE!"},{"$error":"#VALUE!"},{"$f":"VLOOKUP(K2119,references!$A$1:$B$7,2,FALSE)","v":{"$error":"#N/A"}}]
[null,null,null,null,null,null,null,null,null,null,null,null,"no email",{"$error":"#VALUE!"},{"$error":"#VALUE!"},{"$f":"VLOOKUP(K2120,references!$A$1:$B$7,2,FALSE)","v":{"$error":"#N/A"}}]
[null,null,null,null,null,null,null,null,null,null,null,null,"no email",{"$error":"#VALUE!"},{"$error":"#VALUE!"},{"$f":"VLOOKUP(K2121,references!$A$1:$B$7,2,FALSE)","v":{"$error":"#N/A"}}]
[null,null,null,null,null,null,null,null,null,null,null,null,"no email",{"$error":"#VALUE!"},{"$error":"#VALUE!"},{"$f":"VLOOKUP(K2122,references!$A$1:$B$7,2,FALSE)","v":{"$error":"#N/A"}}]
[null,null,null,null,null,null,null,null,null,null,null,null,"no email",{"$error":"#VALUE!"},{"$error":"#VALUE!"},{"$f":"VLOOKUP(K2123,references!$A$1:$B$7,2,FALSE)","v":{"$error":"#N/A"}}]
[null,null,null,null,null,null,null,null,null,null,null,null,"no email",{"$error":"#VALUE!"},{"$error":"#VALUE!"},{"$f":"VLOOKUP(K2124,references!$A$1:$B$7,2,FALSE)","v":{"$error":"#N/A"}}]
[null,null,null,null,null,null,null,null,null,null,null,null,"no email",{"$error":"#VALUE!"},{"$error":"#VALUE!"},{"$f":"VLOOKUP(K2125,references!$A$1:$B$7,2,FALSE)","v":{"$error":"#N/A"}}]
[null,null,null,null,null,null,null,null,null,null,null,null,"no email",{"$error":"#VALUE!"},{"$error":"#VALUE!"},{"$f":"VLOOKUP(K2126,references!$A$1:$B$7,2,FALSE)","v":{"$error":"#N/A"}}]
[null,null,null,null,null,null,null,null,null,null,null,null,"no email",{"$error":"#VALUE!"},{"$error":"#VALUE!"},{"$f":"VLOOKUP(K2127,references!$A$1:$B$7,2,FALSE)","v":{"$error":"#N/A"}}]
[null,null,null,null,null,null,null,null,null,null,null,null,"no email",{"$error":"#VALUE!"},{"$error":"#VALUE!"},{"$f":"VLOOKUP(K2128,references!$A$1:$B$7,2,FALSE)","v":{"$error":"#N/A"}}]
[null,null,null,null,null,null,null,null,null,null,null,null,"no email",{"$error":"#VALUE!"},{"$error":"#VALUE!"},{"$f":"VLOOKUP(K2129,references!$A$1:$B$7,2,FALSE)","v":{"$error":"#N/A"}}]
[null,null,null,null,null,null,null,null,null,null,null,null,"no email",{"$error":"#VALUE!"},{"$error":"#VALUE!"},{"$f":"VLOOKUP(K2130,references!$A$1:$B$7,2,FALSE)","v":{"$error":"#N/A"}}]
[null,null,null,null,null,null,null,null,null,null,null,null,"no email",{"$error":"#VALUE!"},{"$error":"#VALUE!"},{"$f":"VLOOKUP(K2131,references!$A$1:$B$7,2,FALSE)","v":{"$error":"#N/A"}}]
[null,null,null,null,null,null,null,null,null,null,null,null,"no email",{"$error":"#VALUE!"},{"$error":"#VALUE!"},{"$f":"VLOOKUP(K2132,references!$A$1:$B$7,2,FALSE)","v":{"$error":"#N/A"}}]
[null,null,null,null,null,null,null,null,null,null,null,null,"no email",{"$error":"#VALUE!"},{"$error":"#VALUE!"},{"$f":"VLOOKUP(K2133,references!$A$1:$B$7,2,FALSE)","v":{"$error":"#N/A"}}]
[null,null,null,null,null,null,null,null,null,null,null,null,"no email",{"$error":"#VALUE!"},{"$error":"#VALUE!"},{"$f":"VLOOKUP(K2134,references!$A$1:$B$7,2,FALSE)","v":{"$error":"#N/A"}}]
[null,null,null,null,null,null,null,null,null,null,null,null,"no email",{"$error":"#VALUE!"},{"$error":"#VALUE!"},{"$f":"VLOOKUP(K2135,references!$A$1:$B$7,2,FALSE)","v":{"$error":"#N/A"}}]
[null,null,null,null,null,null,null,null,null,null,null,null,"no email",{"$error":"#VALUE!"},{"$error":"#VALUE!"},{"$f":"VLOOKUP(K2136,references!$A$1:$B$7,2,FALSE)","v":{"$error":"#N/A"}}]
[null,null,null,null,null,null,null,null,null,null,null,null,"no email",{"$error":"#VALUE!"},{"$error":"#VALUE!"},{"$f":"VLOOKUP(K2137,references!$A$1:$B$7,2,FALSE)","v":{"$error":"#N/A"}}]
[null,null,null,null,null,null,null,null,null,null,null,null,"no email",{"$error":"#VALUE!"},{"$error":"#VALUE!"},{"$f":"VLOOKUP(K2138,references!$A$1:$B$7,2,FALSE)","v":{"$error":"#N/A"}}]
[null,null,null,null,null,null,null,null,null,null,null,null,"no email",{"$error":"#VALUE!"},{"$error":"#VALUE!"},{"$f":"VLOOKUP(K2139,references!$A$1:$B$7,2,FALSE)","v":{"$error":"#N/A"}}]
[null,null,null,null,null,null,null,null,null,null,null,null,"no email",{"$error":"#VALUE!"},{"$error":"#VALUE!"},{"$f":"VLOOKUP(K2140,references!$A$1:$B$7,2,FALSE)","v":{"$error":"#N/A"}}]
[null,null,null,null,null,null,null,null,null,null,null,null,"no email",{"$error":"#VALUE!"},{"$error":"#VALUE!"},{"$f":"VLOOKUP(K2141,references!$A$1:$B$7,2,FALSE)","v":{"$error":"#N/A"}}]
[null,null,null,null,null,null,null,null,null,null,null,null,"no email",{"$error":"#VALUE!"},{"$error":"#VALUE!"},{"$f":"VLOOKUP(K2142,references!$A$1:$B$7,2,FALSE)","v":{"$error":"#N/A"}}]
[null,null,null,null,null,null,null,null,null,null,null,null,"no email",{"$error":"#VALUE!"},{"$error":"#VALUE!"},{"$f":"VLOOKUP(K2143,references!$A$1:$B$7,2,FALSE)","v":{"$error":"#N/A"}}]
[null,null,null,null,null,null,null,null,null,null,null,null,"no email",{"$error":"#VALUE!"},{"$error":"#VALUE!"},{"$f":"VLOOKUP(K2144,references!$A$1:$B$7,2,FALSE)","v":{"$error":"#N/A"}}]
[null,null,null,null,null,null,null,null,null,null,null,null,"no email",{"$error":"#VALUE!"},{"$error":"#VALUE!"},{"$f":"VLOOKUP(K2145,references!$A$1:$B$7,2,FALSE)","v":{"$error":"#N/A"}}]
[null,null,null,null,null,null,null,null,null,null,null,null,"no email",{"$error":"#VALUE!"},{"$error":"#VALUE!"},{"$f":"VLOOKUP(K2146,references!$A$1:$B$7,2,FALSE)","v":{"$error":"#N/A"}}]
[null,null,null,null,null,null,null,null,null,null,null,null,"no email",{"$error":"#VALUE!"},{"$error":"#VALUE!"},{"$f":"VLOOKUP(K2147,references!$A$1:$B$7,2,FALSE)","v":{"$error":"#N/A"}}]
[null,null,null,null,null,null,null,null,null,null,null,null,"no email",{"$error":"#VALUE!"},{"$error":"#VALUE!"},{"$f":"VLOOKUP(K2148,references!$A$1:$B$7,2,FALSE)","v":{"$error":"#N/A"}}]
[null,null,null,null,null,null,null,null,null,null,null,null,"no email",{"$error":"#VALUE!"},{"$error":"#VALUE!"},{"$f":"VLOOKUP(K2149,references!$A$1:$B$7,2,FALSE)","v":{"$error":"#N/A"}}]
[null,null,null,null,null,null,null,null,null,null,null,null,"no email",{"$error":"#VALUE!"},{"$error":"#VALUE!"},{"$f":"VLOOKUP(K2150,references!$A$1:$B$7,2,FALSE)","v":{"$error":"#N/A"}}]
[null,null,null,null,null,null,null,null,null,null,null,null,"no email",{"$error":"#VALUE!"},{"$error":"#VALUE!"},{"$f":"VLOOKUP(K2151,references!$A$1:$B$7,2,FALSE)","v":{"$error":"#N/A"}}]
[null,null,null,null,null,null,null,null,null,null,null,null,"no email",{"$error":"#VALUE!"},{"$error":"#VALUE!"},{"$f":"VLOOKUP(K2152,references!$A$1:$B$7,2,FALSE)","v":{"$error":"#N/A"}}]
[null,null,null,null,null,null,null,null,null,null,null,null,"no email",{"$error":"#VALUE!"},{"$error":"#VALUE!"},{"$f":"VLOOKUP(K2153,references!$A$1:$B$7,2,FALSE)","v":{"$error":"#N/A"}}]
[null,null,null,null,null,null,null,null,null,null,null,null,"no email",{"$error":"#VALUE!"},{"$error":"#VALUE!"},{"$f":"VLOOKUP(K2154,references!$A$1:$B$7,2,FALSE)","v":{"$error":"#N/A"}}]
[null,null,null,null,null,null,null,null,null,null,null,null,"no email",{"$error":"#VALUE!"},{"$error":"#VALUE!"},{"$f":"VLOOKUP(K2155,references!$A$1:$B$7,2,FALSE)","v":{"$error":"#N/A"}}]
[null,null,null,null,null,null,null,null,null,null,null,null,"no email",{"$error":"#VALUE!"},{"$error":"#VALUE!"},{"$f":"VLOOKUP(K2156,references!$A$1:$B$7,2,FALSE)","v":{"$error":"#N/A"}}]
[null,null,null,null,null,null,null,null,null,null,null,null,"no email",{"$error":"#VALUE!"},{"$error":"#VALUE!"},{"$f":"VLOOKUP(K2157,references!$A$1:$B$7,2,FALSE)","v":{"$error":"#N/A"}}]
[null,null,null,null,null,null,null,null,null,null,null,null,"no email",{"$error":"#VALUE!"},{"$error":"#VALUE!"},{"$f":"VLOOKUP(K2158,references!$A$1:$B$7,2,FALSE)","v":{"$error":"#N/A"}}]
[null,null,null,null,null,null,null,null,null,null,null,null,"no email",{"$error":"#VALUE!"},{"$error":"#VALUE!"},{"$f":"VLOOKUP(K2159,references!$A$1:$B$7,2,FALSE)","v":{"$error":"#N/A"}}]
[null,null,null,null,null,null,null,null,null,null,null,null,"no email",{"$error":"#VALUE!"},{"$error":"#VALUE!"},{"$f":"VLOOKUP(K2160,references!$A$1:$B$7,2,FALSE)","v":{"$error":"#N/A"}}]
[null,null,null,null,null,null,null,null,null,null,null,null,"no email",{"$error":"#VALUE!"},{"$error":"#VALUE!"},{"$f":"VLOOKUP(K2161,references!$A$1:$B$7,2,FALSE)","v":{"$error":"#N/A"}}]
[null,null,null,null,null,null,null,null,null,null,null,null,"no email",{"$error":"#VALUE!"},{"$error":"#VALUE!"},{"$f":"VLOOKUP(K2162,references!$A$1:$B$7,2,FALSE)","v":{"$error":"#N/A"}}]
[null,null,null,null,null,null,null,null,null,null,null,null,"no email",{"$error":"#VALUE!"},{"$error":"#VALUE!"},{"$f":"VLOOKUP(K2163,references!$A$1:$B$7,2,FALSE)","v":{"$error":"#N/A"}}]
[null,null,null,null,null,null,null,null,null,null,null,null,"no email",{"$error":"#VALUE!"},{"$error":"#VALUE!"},{"$f":"VLOOKUP(K2164,references!$A$1:$B$7,2,FALSE)","v":{"$error":"#N/A"}}]
[null,null,null,null,null,null,null,null,null,null,null,null,"no email",{"$error":"#VALUE!"},{"$error":"#VALUE!"},{"$f":"VLOOKUP(K2165,references!$A$1:$B$7,2,FALSE)","v":{"$error":"#N/A"}}]
[null,null,null,null,null,null,null,null,null,null,null,null,"no email",{"$error":"#VALUE!"},{"$error":"#VALUE!"},{"$f":"VLOOKUP(K2166,references!$A$1:$B$7,2,FALSE)","v":{"$error":"#N/A"}}]
[null,null,null,null,null,null,null,null,null,null,null,null,"no email",{"$error":"#VALUE!"},{"$error":"#VALUE!"},{"$f":"VLOOKUP(K2167,references!$A$1:$B$7,2,FALSE)","v":{"$error":"#N/A"}}]
[null,null,null,null,null,null,null,null,null,null,null,null,"no email",{"$error":"#VALUE!"},{"$error":"#VALUE!"},{"$f":"VLOOKUP(K2168,references!$A$1:$B$7,2,FALSE)","v":{"$error":"#N/A"}}]
[null,null,null,null,null,null,null,null,null,null,null,null,"no email",{"$error":"#VALUE!"},{"$error":"#VALUE!"},{"$f":"VLOOKUP(K2169,references!$A$1:$B$7,2,FALSE)","v":{"$error":"#N/A"}}]
[null,null,null,null,null,null,null,null,null,null,null,null,"no email",{"$error":"#VALUE!"},{"$error":"#VALUE!"},{"$f":"VLOOKUP(K2170,references!$A$1:$B$7,2,FALSE)","v":{"$error":"#N/A"}}]
[null,null,null,null,null,null,null,null,null,null,null,null,"no email",{"$error":"#VALUE!"},{"$error":"#VALUE!"},{"$f":"VLOOKUP(K2171,references!$A$1:$B$7,2,FALSE)","v":{"$error":"#N/A"}}]
[null,null,null,null,null,null,null,null,null,null,null,null,"no email",{"$error":"#VALUE!"},{"$error":"#VALUE!"},{"$f":"VLOOKUP(K2172,references!$A$1:$B$7,2,FALSE)","v":{"$error":"#N/A"}}]
[null,null,null,null,null,null,null,null,null,null,null,null,"no email",{"$error":"#VALUE!"},{"$error":"#VALUE!"},{"$f":"VLOOKUP(K2173,references!$A$1:$B$7,2,FALSE)","v":{"$error":"#N/A"}}]
[null,null,null,null,null,null,null,null,null,null,null,null,"no email",{"$error":"#VALUE!"},{"$error":"#VALUE!"},{"$f":"VLOOKUP(K2174,references!$A$1:$B$7,2,FALSE)","v":{"$error":"#N/A"}}]
[null,null,null,null,null,null,null,null,null,null,null,null,"no email",{"$error":"#VALUE!"},{"$error":"#VALUE!"},{"$f":"VLOOKUP(K2175,references!$A$1:$B$7,2,FALSE)","v":{"$error":"#N/A"}}]
[null,null,null,null,null,null,null,null,null,null,null,null,"no email",{"$error":"#VALUE!"},{"$error":"#VALUE!"},{"$f":"VLOOKUP(K2176,references!$A$1:$B$7,2,FALSE)","v":{"$error":"#N/A"}}]
[null,null,null,null,null,null,null,null,null,null,null,null,"no email",{"$error":"#VALUE!"},{"$error":"#VALUE!"},{"$f":"VLOOKUP(K2177,references!$A$1:$B$7,2,FALSE)","v":{"$error":"#N/A"}}]
[null,null,null,null,null,null,null,null,null,null,null,null,{"$f":"IF(L2178=\"\", \"no email\",LOWER(L2178))","v":"no email"},{"$f":"LEFT(A2178, SEARCH(\",\",A2178,1)-1)","v":{"$error":"#VALUE!"}},{"$f":"RIGHT(A2178, LEN(A2178) -SEARCH(\",\",A2178,1)-1)","v":{"$error":"#VALUE!"}},{"$f":"VLOOKUP(K2178,references!$A$1:$B$7,2,FALSE)","v":{"$error":"#N/A"}}]
[null,null,null,null,null,null,null,null,null,null,null,null,"no email",{"$error":"#VALUE!"},{"$error":"#VALUE!"},{"$f":"VLOOKUP(K2179,references!$A$1:$B$7,2,FALSE)","v":{"$error":"#N/A"}}]
[null,null,null,null,null,null,null,null,null,null,null,null,"no email",{"$error":"#VALUE!"},{"$error":"#VALUE!"},{"$f":"VLOOKUP(K2180,references!$A$1:$B$7,2,FALSE)","v":{"$error":"#N/A"}}]
[null,null,null,null,null,null,null,null,null,null,null,null,"no email",{"$error":"#VALUE!"},{"$error":"#VALUE!"},{"$f":"VLOOKUP(K2181,references!$A$1:$B$7,2,FALSE)","v":{"$error":"#N/A"}}]
[null,null,null,null,null,null,null,null,null,null,null,null,"no email",{"$error":"#VALUE!"},{"$error":"#VALUE!"},{"$f":"VLOOKUP(K2182,references!$A$1:$B$7,2,FALSE)","v":{"$error":"#N/A"}}]
[null,null,null,null,null,null,null,null,null,null,null,null,"no email",{"$error":"#VALUE!"},{"$error":"#VALUE!"},{"$f":"VLOOKUP(K2183,references!$A$1:$B$7,2,FALSE)","v":{"$error":"#N/A"}}]
[null,null,null,null,null,null,null,null,null,null,null,null,"no email",{"$error":"#VALUE!"},{"$error":"#VALUE!"},{"$f":"VLOOKUP(K2184,references!$A$1:$B$7,2,FALSE)","v":{"$error":"#N/A"}}]
[null,null,null,null,null,null,null,null,null,null,null,null,"no email",{"$error":"#VALUE!"},{"$error":"#VALUE!"},{"$f":"VLOOKUP(K2185,references!$A$1:$B$7,2,FALSE)","v":{"$error":"#N/A"}}]
[null,null,null,null,null,null,null,null,null,null,null,null,"no email",{"$error":"#VALUE!"},{"$error":"#VALUE!"},{"$f":"VLOOKUP(K2186,references!$A$1:$B$7,2,FALSE)","v":{"$error":"#N/A"}}]
[null,null,null,null,null,null,null,null,null,null,null,null,"no email",{"$error":"#VALUE!"},{"$error":"#VALUE!"},{"$f":"VLOOKUP(K2187,references!$A$1:$B$7,2,FALSE)","v":{"$error":"#N/A"}}]
[null,null,null,null,null,null,null,null,null,null,null,null,"no email",{"$error":"#VALUE!"},{"$error":"#VALUE!"},{"$f":"VLOOKUP(K2188,references!$A$1:$B$7,2,FALSE)","v":{"$error":"#N/A"}}]
[null,null,null,null,null,null,null,null,null,null,null,null,"no email",{"$error":"#VALUE!"},{"$error":"#VALUE!"},{"$f":"VLOOKUP(K2189,references!$A$1:$B$7,2,FALSE)","v":{"$error":"#N/A"}}]
[null,null,null,null,null,null,null,null,null,null,null,null,"no email",{"$error":"#VALUE!"},{"$error":"#VALUE!"},{"$f":"VLOOKUP(K2190,references!$A$1:$B$7,2,FALSE)","v":{"$error":"#N/A"}}]
[null,null,null,null,null,null,null,null,null,null,null,null,"no email",{"$error":"#VALUE!"},{"$error":"#VALUE!"},{"$f":"VLOOKUP(K2191,references!$A$1:$B$7,2,FALSE)","v":{"$error":"#N/A"}}]
[null,null,null,null,null,null,null,null,null,null,null,null,"no email",{"$error":"#VALUE!"},{"$error":"#VALUE!"},{"$f":"VLOOKUP(K2192,references!$A$1:$B$7,2,FALSE)","v":{"$error":"#N/A"}}]
[null,null,null,null,null,null,null,null,null,null,null,null,"no email",{"$error":"#VALUE!"},{"$error":"#VALUE!"},{"$f":"VLOOKUP(K2193,references!$A$1:$B$7,2,FALSE)","v":{"$error":"#N/A"}}]
[null,null,null,null,null,null,null,null,null,null,null,null,"no email",{"$error":"#VALUE!"},{"$error":"#VALUE!"},{"$f":"VLOOKUP(K2194,references!$A$1:$B$7,2,FALSE)","v":{"$error":"#N/A"}}]
[null,null,null,null,null,null,null,null,null,null,null,null,"no email",{"$error":"#VALUE!"},{"$error":"#VALUE!"},{"$f":"VLOOKUP(K2195,references!$A$1:$B$7,2,FALSE)","v":{"$error":"#N/A"}}]
[null,null,null,null,null,null,null,null,null,null,null,null,"no email",{"$error":"#VALUE!"},{"$error":"#VALUE!"},{"$f":"VLOOKUP(K2196,references!$A$1:$B$7,2,FALSE)","v":{"$error":"#N/A"}}]
[null,null,null,null,null,null,null,null,null,null,null,null,"no email",{"$error":"#VALUE!"},{"$error":"#VALUE!"},{"$f":"VLOOKUP(K2197,references!$A$1:$B$7,2,FALSE)","v":{"$error":"#N/A"}}]
[null,null,null,null,null,null,null,null,null,null,null,null,"no email",{"$error":"#VALUE!"},{"$error":"#VALUE!"},{"$f":"VLOOKUP(K2198,references!$A$1:$B$7,2,FALSE)","v":{"$error":"#N/A"}}]
[null,null,null,null,null,null,null,null,null,null,null,null,"no email",{"$error":"#VALUE!"},{"$error":"#VALUE!"},{"$f":"VLOOKUP(K2199,references!$A$1:$B$7,2,FALSE)","v":{"$error":"#N/A"}}]
[null,null,null,null,null,null,null,null,null,null,null,null,"no email",{"$error":"#VALUE!"},{"$error":"#VALUE!"},{"$f":"VLOOKUP(K2200,references!$A$1:$B$7,2,FALSE)","v":{"$error":"#N/A"}}]
[null,null,null,null,null,null,null,null,null,null,null,null,"no email",{"$error":"#VALUE!"},{"$error":"#VALUE!"},{"$f":"VLOOKUP(K2201,references!$A$1:$B$7,2,FALSE)","v":{"$error":"#N/A"}}]
[null,null,null,null,null,null,null,null,null,null,null,null,"no email",{"$error":"#VALUE!"},{"$error":"#VALUE!"},{"$f":"VLOOKUP(K2202,references!$A$1:$B$7,2,FALSE)","v":{"$error":"#N/A"}}]
[null,null,null,null,null,null,null,null,null,null,null,null,"no email",{"$error":"#VALUE!"},{"$error":"#VALUE!"},{"$f":"VLOOKUP(K2203,references!$A$1:$B$7,2,FALSE)","v":{"$error":"#N/A"}}]
[null,null,null,null,null,null,null,null,null,null,null,null,"no email",{"$error":"#VALUE!"},{"$error":"#VALUE!"},{"$f":"VLOOKUP(K2204,references!$A$1:$B$7,2,FALSE)","v":{"$error":"#N/A"}}]
[null,null,null,null,null,null,null,null,null,null,null,null,"no email",{"$error":"#VALUE!"},{"$error":"#VALUE!"},{"$f":"VLOOKUP(K2205,references!$A$1:$B$7,2,FALSE)","v":{"$error":"#N/A"}}]
[null,null,null,null,null,null,null,null,null,null,null,null,"no email",{"$error":"#VALUE!"},{"$error":"#VALUE!"},{"$f":"VLOOKUP(K2206,references!$A$1:$B$7,2,FALSE)","v":{"$error":"#N/A"}}]
[null,null,null,null,null,null,null,null,null,null,null,null,"no email",{"$error":"#VALUE!"},{"$error":"#VALUE!"},{"$f":"VLOOKUP(K2207,references!$A$1:$B$7,2,FALSE)","v":{"$error":"#N/A"}}]
[null,null,null,null,null,null,null,null,null,null,null,null,"no email",{"$error":"#VALUE!"},{"$error":"#VALUE!"},{"$f":"VLOOKUP(K2208,references!$A$1:$B$7,2,FALSE)","v":{"$error":"#N/A"}}]
[null,null,null,null,null,null,null,null,null,null,null,null,"no email",{"$error":"#VALUE!"},{"$error":"#VALUE!"},{"$f":"VLOOKUP(K2209,references!$A$1:$B$7,2,FALSE)","v":{"$error":"#N/A"}}]
[null,null,null,null,null,null,null,null,null,null,null,null,"no email",{"$error":"#VALUE!"},{"$error":"#VALUE!"},{"$f":"VLOOKUP(K2210,references!$A$1:$B$7,2,FALSE)","v":{"$error":"#N/A"}}]
[null,null,null,null,null,null,null,null,null,null,null,null,"no email",{"$error":"#VALUE!"},{"$error":"#VALUE!"},{"$f":"VLOOKUP(K2211,references!$A$1:$B$7,2,FALSE)","v":{"$error":"#N/A"}}]
[null,null,null,null,null,null,null,null,null,null,null,null,"no email",{"$error":"#VALUE!"},{"$error":"#VALUE!"},{"$f":"VLOOKUP(K2212,references!$A$1:$B$7,2,FALSE)","v":{"$error":"#N/A"}}]
[null,null,null,null,null,null,null,null,null,null,null,null,"no email",{"$error":"#VALUE!"},{"$error":"#VALUE!"},{"$f":"VLOOKUP(K2213,references!$A$1:$B$7,2,FALSE)","v":{"$error":"#N/A"}}]
[null,null,null,null,null,null,null,null,null,null,null,null,"no email",{"$error":"#VALUE!"},{"$error":"#VALUE!"},{"$f":"VLOOKUP(K2214,references!$A$1:$B$7,2,FALSE)","v":{"$error":"#N/A"}}]
[null,null,null,null,null,null,null,null,null,null,null,null,"no email",{"$error":"#VALUE!"},{"$error":"#VALUE!"},{"$f":"VLOOKUP(K2215,references!$A$1:$B$7,2,FALSE)","v":{"$error":"#N/A"}}]
[null,null,null,null,null,null,null,null,null,null,null,null,"no email",{"$error":"#VALUE!"},{"$error":"#VALUE!"},{"$f":"VLOOKUP(K2216,references!$A$1:$B$7,2,FALSE)","v":{"$error":"#N/A"}}]
[null,null,null,null,null,null,null,null,null,null,null,null,"no email",{"$error":"#VALUE!"},{"$error":"#VALUE!"},{"$f":"VLOOKUP(K2217,references!$A$1:$B$7,2,FALSE)","v":{"$error":"#N/A"}}]
[null,null,null,null,null,null,null,null,null,null,null,null,"no email",{"$error":"#VALUE!"},{"$error":"#VALUE!"},{"$f":"VLOOKUP(K2218,references!$A$1:$B$7,2,FALSE)","v":{"$error":"#N/A"}}]
[null,null,null,null,null,null,null,null,null,null,null,null,"no email",{"$error":"#VALUE!"},{"$error":"#VALUE!"},{"$f":"VLOOKUP(K2219,references!$A$1:$B$7,2,FALSE)","v":{"$error":"#N/A"}}]
[null,null,null,null,null,null,null,null,null,null,null,null,"no email",{"$error":"#VALUE!"},{"$error":"#VALUE!"},{"$f":"VLOOKUP(K2220,references!$A$1:$B$7,2,FALSE)","v":{"$error":"#N/A"}}]
[null,null,null,null,null,null,null,null,null,null,null,null,"no email",{"$error":"#VALUE!"},{"$error":"#VALUE!"},{"$f":"VLOOKUP(K2221,references!$A$1:$B$7,2,FALSE)","v":{"$error":"#N/A"}}]
[null,null,null,null,null,null,null,null,null,null,null,null,"no email",{"$error":"#VALUE!"},{"$error":"#VALUE!"},{"$f":"VLOOKUP(K2222,references!$A$1:$B$7,2,FALSE)","v":{"$error":"#N/A"}}]
[null,null,null,null,null,null,null,null,null,null,null,null,"no email",{"$error":"#VALUE!"},{"$error":"#VALUE!"},{"$f":"VLOOKUP(K2223,references!$A$1:$B$7,2,FALSE)","v":{"$error":"#N/A"}}]
[null,null,null,null,null,null,null,null,null,null,null,null,"no email",{"$error":"#VALUE!"},{"$error":"#VALUE!"},{"$f":"VLOOKUP(K2224,references!$A$1:$B$7,2,FALSE)","v":{"$error":"#N/A"}}]
[null,null,null,null,null,null,null,null,null,null,null,null,"no email",{"$error":"#VALUE!"},{"$error":"#VALUE!"},{"$f":"VLOOKUP(K2225,references!$A$1:$B$7,2,FALSE)","v":{"$error":"#N/A"}}]
[null,null,null,null,null,null,null,null,null,null,null,null,"no email",{"$error":"#VALUE!"},{"$error":"#VALUE!"},{"$f":"VLOOKUP(K2226,references!$A$1:$B$7,2,FALSE)","v":{"$error":"#N/A"}}]
[null,null,null,null,null,null,null,null,null,null,null,null,"no email",{"$error":"#VALUE!"},{"$error":"#VALUE!"},{"$f":"VLOOKUP(K2227,references!$A$1:$B$7,2,FALSE)","v":{"$error":"#N/A"}}]
[null,null,null,null,null,null,null,null,null,null,null,null,"no email",{"$error":"#VALUE!"},{"$error":"#VALUE!"},{"$f":"VLOOKUP(K2228,references!$A$1:$B$7,2,FALSE)","v":{"$error":"#N/A"}}]
[null,null,null,null,null,null,null,null,null,null,null,null,"no email",{"$error":"#VALUE!"},{"$error":"#VALUE!"},{"$f":"VLOOKUP(K2229,references!$A$1:$B$7,2,FALSE)","v":{"$error":"#N/A"}}]
[null,null,null,null,null,null,null,null,null,null,null,null,"no email",{"$error":"#VALUE!"},{"$error":"#VALUE!"},{"$f":"VLOOKUP(K2230,references!$A$1:$B$7,2,FALSE)","v":{"$error":"#N/A"}}]
[null,null,null,null,null,null,null,null,null,null,null,null,"no email",{"$error":"#VALUE!"},{"$error":"#VALUE!"},{"$f":"VLOOKUP(K2231,references!$A$1:$B$7,2,FALSE)","v":{"$error":"#N/A"}}]
[null,null,null,null,null,null,null,null,null,null,null,null,"no email",{"$error":"#VALUE!"},{"$error":"#VALUE!"},{"$f":"VLOOKUP(K2232,references!$A$1:$B$7,2,FALSE)","v":{"$error":"#N/A"}}]
[null,null,null,null,null,null,null,null,null,null,null,null,"no email",{"$error":"#VALUE!"},{"$error":"#VALUE!"},{"$f":"VLOOKUP(K2233,references!$A$1:$B$7,2,FALSE)","v":{"$error":"#N/A"}}]
[null,null,null,null,null,null,null,null,null,null,null,null,"no email",{"$error":"#VALUE!"},{"$error":"#VALUE!"},{"$f":"VLOOKUP(K2234,references!$A$1:$B$7,2,FALSE)","v":{"$error":"#N/A"}}]
[null,null,null,null,null,null,null,null,null,null,null,null,"no email",{"$error":"#VALUE!"},{"$error":"#VALUE!"},{"$f":"VLOOKUP(K2235,references!$A$1:$B$7,2,FALSE)","v":{"$error":"#N/A"}}]
[null,null,null,null,null,null,null,null,null,null,null,null,"no email",{"$error":"#VALUE!"},{"$error":"#VALUE!"},{"$f":"VLOOKUP(K2236,references!$A$1:$B$7,2,FALSE)","v":{"$error":"#N/A"}}]
[null,null,null,null,null,null,null,null,null,null,null,null,"no email",{"$error":"#VALUE!"},{"$error":"#VALUE!"},{"$f":"VLOOKUP(K2237,references!$A$1:$B$7,2,FALSE)","v":{"$error":"#N/A"}}]
[null,null,null,null,null,null,null,null,null,null,null,null,"no email",{"$error":"#VALUE!"},{"$error":"#VALUE!"},{"$f":"VLOOKUP(K2238,references!$A$1:$B$7,2,FALSE)","v":{"$error":"#N/A"}}]
[null,null,null,null,null,null,null,null,null,null,null,null,"no email",{"$error":"#VALUE!"},{"$error":"#VALUE!"},{"$f":"VLOOKUP(K2239,references!$A$1:$B$7,2,FALSE)","v":{"$error":"#N/A"}}]
[null,null,null,null,null,null,null,null,null,null,null,null,"no email",{"$error":"#VALUE!"},{"$error":"#VALUE!"},{"$f":"VLOOKUP(K2240,references!$A$1:$B$7,2,FALSE)","v":{"$error":"#N/A"}}]
[null,null,null,null,null,null,null,null,null,null,null,null,"no email",{"$error":"#VALUE!"},{"$error":"#VALUE!"},{"$f":"VLOOKUP(K2241,references!$A$1:$B$7,2,FALSE)","v":{"$error":"#N/A"}}]
[null,null,null,null,null,null,null,null,null,null,null,null,{"$f":"IF(L2242=\"\", \"no email\",LOWER(L2242))","v":"no email"},{"$f":"LEFT(A2242, SEARCH(\",\",A2242,1)-1)","v":{"$error":"#VALUE!"}},{"$f":"RIGHT(A2242, LEN(A2242) -SEARCH(\",\",A2242,1)-1)","v":{"$error":"#VALUE!"}},{"$f":"VLOOKUP(K2242,references!$A$1:$B$7,2,FALSE)","v":{"$error":"#N/A"}}]
[null,null,null,null,null,null,null,null,null,null,null,null,"no email",{"$error":"#VALUE!"},{"$error":"#VALUE!"},{"$f":"VLOOKUP(K2243,references!$A$1:$B$7,2,FALSE)","v":{"$error":"#N/A"}}]
[null,null,null,null,null,null,null,null,null,null,null,null,"no email",{"$error":"#VALUE!"},{"$error":"#VALUE!"},{"$f":"VLOOKUP(K2244,references!$A$1:$B$7,2,FALSE)","v":{"$error":"#N/A"}}]
[null,null,null,null,null,null,null,null,null,null,null,null,"no email",{"$error":"#VALUE!"},{"$error":"#VALUE!"},{"$f":"VLOOKUP(K2245,references!$A$1:$B$7,2,FALSE)","v":{"$error":"#N/A"}}]
[null,null,null,null,null,null,null,null,null,null,null,null,"no email",{"$error":"#VALUE!"},{"$error":"#VALUE!"},{"$f":"VLOOKUP(K2246,references!$A$1:$B$7,2,FALSE)","v":{"$error":"#N/A"}}]
[null,null,null,null,null,null,null,null,null,null,null,null,"no email",{"$error":"#VALUE!"},{"$error":"#VALUE!"},{"$f":"VLOOKUP(K2247,references!$A$1:$B$7,2,FALSE)","v":{"$error":"#N/A"}}]
[null,null,null,null,null,null,null,null,null,null,null,null,"no email",{"$error":"#VALUE!"},{"$error":"#VALUE!"},{"$f":"VLOOKUP(K2248,references!$A$1:$B$7,2,FALSE)","v":{"$error":"#N/A"}}]
[null,null,null,null,null,null,null,null,null,null,null,null,"no email",{"$error":"#VALUE!"},{"$error":"#VALUE!"},{"$f":"VLOOKUP(K2249,references!$A$1:$B$7,2,FALSE)","v":{"$error":"#N/A"}}]
[null,null,null,null,null,null,null,null,null,null,null,null,"no email",{"$error":"#VALUE!"},{"$error":"#VALUE!"},{"$f":"VLOOKUP(K2250,references!$A$1:$B$7,2,FALSE)","v":{"$error":"#N/A"}}]
[null,null,null,null,null,null,null,null,null,null,null,null,"no email",{"$error":"#VALUE!"},{"$error":"#VALUE!"},{"$f":"VLOOKUP(K2251,references!$A$1:$B$7,2,FALSE)","v":{"$error":"#N/A"}}]
[null,null,null,null,null,null,null,null,null,null,null,null,"no email",{"$error":"#VALUE!"},{"$error":"#VALUE!"},{"$f":"VLOOKUP(K2252,references!$A$1:$B$7,2,FALSE)","v":{"$error":"#N/A"}}]
[null,null,null,null,null,null,null,null,null,null,null,null,"no email",{"$error":"#VALUE!"},{"$error":"#VALUE!"},{"$f":"VLOOKUP(K2253,references!$A$1:$B$7,2,FALSE)","v":{"$error":"#N/A"}}]
[null,null,null,null,null,null,null,null,null,null,null,null,"no email",{"$error":"#VALUE!"},{"$error":"#VALUE!"},{"$f":"VLOOKUP(K2254,references!$A$1:$B$7,2,FALSE)","v":{"$error":"#N/A"}}]
[null,null,null,null,null,null,null,null,null,null,null,null,"no email",{"$error":"#VALUE!"},{"$error":"#VALUE!"},{"$f":"VLOOKUP(K2255,references!$A$1:$B$7,2,FALSE)","v":{"$error":"#N/A"}}]
[null,null,null,null,null,null,null,null,null,null,null,null,"no email",{"$error":"#VALUE!"},{"$error":"#VALUE!"},{"$f":"VLOOKUP(K2256,references!$A$1:$B$7,2,FALSE)","v":{"$error":"#N/A"}}]
[null,null,null,null,null,null,null,null,null,null,null,null,"no email",{"$error":"#VALUE!"},{"$error":"#VALUE!"},{"$f":"VLOOKUP(K2257,references!$A$1:$B$7,2,FALSE)","v":{"$error":"#N/A"}}]
[null,null,null,null,null,null,null,null,null,null,null,null,"no email",{"$error":"#VALUE!"},{"$error":"#VALUE!"},{"$f":"VLOOKUP(K2258,references!$A$1:$B$7,2,FALSE)","v":{"$error":"#N/A"}}]
[null,null,null,null,null,null,null,null,null,null,null,null,"no email",{"$error":"#VALUE!"},{"$error":"#VALUE!"},{"$f":"VLOOKUP(K2259,references!$A$1:$B$7,2,FALSE)","v":{"$error":"#N/A"}}]
[null,null,null,null,null,null,null,null,null,null,null,null,"no email",{"$error":"#VALUE!"},{"$error":"#VALUE!"},{"$f":"VLOOKUP(K2260,references!$A$1:$B$7,2,FALSE)","v":{"$error":"#N/A"}}]
[null,null,null,null,null,null,null,null,null,null,null,null,"no email",{"$error":"#VALUE!"},{"$error":"#VALUE!"},{"$f":"VLOOKUP(K2261,references!$A$1:$B$7,2,FALSE)","v":{"$error":"#N/A"}}]
[null,null,null,null,null,null,null,null,null,null,null,null,"no email",{"$error":"#VALUE!"},{"$error":"#VALUE!"},{"$f":"VLOOKUP(K2262,references!$A$1:$B$7,2,FALSE)","v":{"$error":"#N/A"}}]
[null,null,null,null,null,null,null,null,null,null,null,null,"no email",{"$error":"#VALUE!"},{"$error":"#VALUE!"},{"$f":"VLOOKUP(K2263,references!$A$1:$B$7,2,FALSE)","v":{"$error":"#N/A"}}]
[null,null,null,null,null,null,null,null,null,null,null,null,"no email",{"$error":"#VALUE!"},{"$error":"#VALUE!"},{"$f":"VLOOKUP(K2264,references!$A$1:$B$7,2,FALSE)","v":{"$error":"#N/A"}}]
[null,null,null,null,null,null,null,null,null,null,null,null,"no email",{"$error":"#VALUE!"},{"$error":"#VALUE!"},{"$f":"VLOOKUP(K2265,references!$A$1:$B$7,2,FALSE)","v":{"$error":"#N/A"}}]
[null,null,null,null,null,null,null,null,null,null,null,null,"no email",{"$error":"#VALUE!"},{"$error":"#VALUE!"},{"$f":"VLOOKUP(K2266,references!$A$1:$B$7,2,FALSE)","v":{"$error":"#N/A"}}]
[null,null,null,null,null,null,null,null,null,null,null,null,"no email",{"$error":"#VALUE!"},{"$error":"#VALUE!"},{"$f":"VLOOKUP(K2267,references!$A$1:$B$7,2,FALSE)","v":{"$error":"#N/A"}}]
[null,null,null,null,null,null,null,null,null,null,null,null,"no email",{"$error":"#VALUE!"},{"$error":"#VALUE!"},{"$f":"VLOOKUP(K2268,references!$A$1:$B$7,2,FALSE)","v":{"$error":"#N/A"}}]
[null,null,null,null,null,null,null,null,null,null,null,null,"no email",{"$error":"#VALUE!"},{"$error":"#VALUE!"},{"$f":"VLOOKUP(K2269,references!$A$1:$B$7,2,FALSE)","v":{"$error":"#N/A"}}]
[null,null,null,null,null,null,null,null,null,null,null,null,"no email",{"$error":"#VALUE!"},{"$error":"#VALUE!"},{"$f":"VLOOKUP(K2270,references!$A$1:$B$7,2,FALSE)","v":{"$error":"#N/A"}}]
[null,null,null,null,null,null,null,null,null,null,null,null,"no email",{"$error":"#VALUE!"},{"$error":"#VALUE!"},{"$f":"VLOOKUP(K2271,references!$A$1:$B$7,2,FALSE)","v":{"$error":"#N/A"}}]
[null,null,null,null,null,null,null,null,null,null,null,null,"no email",{"$error":"#VALUE!"},{"$error":"#VALUE!"},{"$f":"VLOOKUP(K2272,references!$A$1:$B$7,2,FALSE)","v":{"$error":"#N/A"}}]
[null,null,null,null,null,null,null,null,null,null,null,null,"no email",{"$error":"#VALUE!"},{"$error":"#VALUE!"},{"$f":"VLOOKUP(K2273,references!$A$1:$B$7,2,FALSE)","v":{"$error":"#N/A"}}]
[null,null,null,null,null,null,null,null,null,null,null,null,"no email",{"$error":"#VALUE!"},{"$error":"#VALUE!"},{"$f":"VLOOKUP(K2274,references!$A$1:$B$7,2,FALSE)","v":{"$error":"#N/A"}}]
[null,null,null,null,null,null,null,null,null,null,null,null,"no email",{"$error":"#VALUE!"},{"$error":"#VALUE!"},{"$f":"VLOOKUP(K2275,references!$A$1:$B$7,2,FALSE)","v":{"$error":"#N/A"}}]
[null,null,null,null,null,null,null,null,null,null,null,null,"no email",{"$error":"#VALUE!"},{"$error":"#VALUE!"},{"$f":"VLOOKUP(K2276,references!$A$1:$B$7,2,FALSE)","v":{"$error":"#N/A"}}]
[null,null,null,null,null,null,null,null,null,null,null,null,"no email",{"$error":"#VALUE!"},{"$error":"#VALUE!"},{"$f":"VLOOKUP(K2277,references!$A$1:$B$7,2,FALSE)","v":{"$error":"#N/A"}}]
[null,null,null,null,null,null,null,null,null,null,null,null,"no email",{"$error":"#VALUE!"},{"$error":"#VALUE!"},{"$f":"VLOOKUP(K2278,references!$A$1:$B$7,2,FALSE)","v":{"$error":"#N/A"}}]
[null,null,null,null,null,null,null,null,null,null,null,null,"no email",{"$error":"#VALUE!"},{"$error":"#VALUE!"},{"$f":"VLOOKUP(K2279,references!$A$1:$B$7,2,FALSE)","v":{"$error":"#N/A"}}]
[null,null,null,null,null,null,null,null,null,null,null,null,"no email",{"$error":"#VALUE!"},{"$error":"#VALUE!"},{"$f":"VLOOKUP(K2280,references!$A$1:$B$7,2,FALSE)","v":{"$error":"#N/A"}}]
[null,null,null,null,null,null,null,null,null,null,null,null,"no email",{"$error":"#VALUE!"},{"$error":"#VALUE!"},{"$f":"VLOOKUP(K2281,references!$A$1:$B$7,2,FALSE)","v":{"$error":"#N/A"}}]
[null,null,null,null,null,null,null,null,null,null,null,null,"no email",{"$error":"#VALUE!"},{"$error":"#VALUE!"},{"$f":"VLOOKUP(K2282,references!$A$1:$B$7,2,FALSE)","v":{"$error":"#N/A"}}]
[null,null,null,null,null,null,null,null,null,null,null,null,"no email",{"$error":"#VALUE!"},{"$error":"#VALUE!"},{"$f":"VLOOKUP(K2283,references!$A$1:$B$7,2,FALSE)","v":{"$error":"#N/A"}}]
[null,null,null,null,null,null,null,null,null,null,null,null,"no email",{"$error":"#VALUE!"},{"$error":"#VALUE!"},{"$f":"VLOOKUP(K2284,references!$A$1:$B$7,2,FALSE)","v":{"$error":"#N/A"}}]
[null,null,null,null,null,null,null,null,null,null,null,null,"no email",{"$error":"#VALUE!"},{"$error":"#VALUE!"},{"$f":"VLOOKUP(K2285,references!$A$1:$B$7,2,FALSE)","v":{"$error":"#N/A"}}]
[null,null,null,null,null,null,null,null,null,null,null,null,"no email",{"$error":"#VALUE!"},{"$error":"#VALUE!"},{"$f":"VLOOKUP(K2286,references!$A$1:$B$7,2,FALSE)","v":{"$error":"#N/A"}}]
[null,null,null,null,null,null,null,null,null,null,null,null,"no email",{"$error":"#VALUE!"},{"$error":"#VALUE!"},{"$f":"VLOOKUP(K2287,references!$A$1:$B$7,2,FALSE)","v":{"$error":"#N/A"}}]
[null,null,null,null,null,null,null,null,null,null,null,null,"no email",{"$error":"#VALUE!"},{"$error":"#VALUE!"},{"$f":"VLOOKUP(K2288,references!$A$1:$B$7,2,FALSE)","v":{"$error":"#N/A"}}]
[null,null,null,null,null,null,null,null,null,null,null,null,"no email",{"$error":"#VALUE!"},{"$error":"#VALUE!"},{"$f":"VLOOKUP(K2289,references!$A$1:$B$7,2,FALSE)","v":{"$error":"#N/A"}}]
[null,null,null,null,null,null,null,null,null,null,null,null,"no email",{"$error":"#VALUE!"},{"$error":"#VALUE!"},{"$f":"VLOOKUP(K2290,references!$A$1:$B$7,2,FALSE)","v":{"$error":"#N/A"}}]
[null,null,null,null,null,null,null,null,null,null,null,null,"no email",{"$error":"#VALUE!"},{"$error":"#VALUE!"},{"$f":"VLOOKUP(K2291,references!$A$1:$B$7,2,FALSE)","v":{"$error":"#N/A"}}]
[null,null,null,null,null,null,null,null,null,null,null,null,"no email",{"$error":"#VALUE!"},{"$error":"#VALUE!"},{"$f":"VLOOKUP(K2292,references!$A$1:$B$7,2,FALSE)","v":{"$error":"#N/A"}}]
[null,null,null,null,null,null,null,null,null,null,null,null,"no email",{"$error":"#VALUE!"},{"$error":"#VALUE!"},{"$f":"VLOOKUP(K2293,references!$A$1:$B$7,2,FALSE)","v":{"$error":"#N/A"}}]
[null,null,null,null,null,null,null,null,null,null,null,null,"no email",{"$error":"#VALUE!"},{"$error":"#VALUE!"},{"$f":"VLOOKUP(K2294,references!$A$1:$B$7,2,FALSE)","v":{"$error":"#N/A"}}]
[null,null,null,null,null,null,null,null,null,null,null,null,"no email",{"$error":"#VALUE!"},{"$error":"#VALUE!"},{"$f":"VLOOKUP(K2295,references!$A$1:$B$7,2,FALSE)","v":{"$error":"#N/A"}}]
[null,null,null,null,null,null,null,null,null,null,null,null,"no email",{"$error":"#VALUE!"},{"$error":"#VALUE!"},{"$f":"VLOOKUP(K2296,references!$A$1:$B$7,2,FALSE)","v":{"$error":"#N/A"}}]
[null,null,null,null,null,null,null,null,null,null,null,null,"no email",{"$error":"#VALUE!"},{"$error":"#VALUE!"},{"$f":"VLOOKUP(K2297,references!$A$1:$B$7,2,FALSE)","v":{"$error":"#N/A"}}]
[null,null,null,null,null,null,null,null,null,null,null,null,"no email",{"$error":"#VALUE!"},{"$error":"#VALUE!"},{"$f":"VLOOKUP(K2298,references!$A$1:$B$7,2,FALSE)","v":{"$error":"#N/A"}}]
[null,null,null,null,null,null,null,null,null,null,null,null,"no email",{"$error":"#VALUE!"},{"$error":"#VALUE!"},{"$f":"VLOOKUP(K2299,references!$A$1:$B$7,2,FALSE)","v":{"$error":"#N/A"}}]
[null,null,null,null,null,null,null,null,null,null,null,null,"no email",{"$error":"#VALUE!"},{"$error":"#VALUE!"},{"$f":"VLOOKUP(K2300,references!$A$1:$B$7,2,FALSE)","v":{"$error":"#N/A"}}]
[null,null,null,null,null,null,null,null,null,null,null,null,"no email",{"$error":"#VALUE!"},{"$error":"#VALUE!"},{"$f":"VLOOKUP(K2301,references!$A$1:$B$7,2,FALSE)","v":{"$error":"#N/A"}}]
[null,null,null,null,null,null,null,null,null,null,null,null,"no email",{"$error":"#VALUE!"},{"$error":"#VALUE!"},{"$f":"VLOOKUP(K2302,references!$A$1:$B$7,2,FALSE)","v":{"$error":"#N/A"}}]
[null,null,null,null,null,null,null,null,null,null,null,null,"no email",{"$error":"#VALUE!"},{"$error":"#VALUE!"},{"$f":"VLOOKUP(K2303,references!$A$1:$B$7,2,FALSE)","v":{"$error":"#N/A"}}]
[null,null,null,null,null,null,null,null,null,null,null,null,"no email",{"$error":"#VALUE!"},{"$error":"#VALUE!"},{"$f":"VLOOKUP(K2304,references!$A$1:$B$7,2,FALSE)","v":{"$error":"#N/A"}}]
[null,null,null,null,null,null,null,null,null,null,null,null,"no email",{"$error":"#VALUE!"},{"$error":"#VALUE!"},{"$f":"VLOOKUP(K2305,references!$A$1:$B$7,2,FALSE)","v":{"$error":"#N/A"}}]
[null,null,null,null,null,null,null,null,null,null,null,null,{"$f":"IF(L2306=\"\", \"no email\",LOWER(L2306))","v":"no email"},{"$f":"LEFT(A2306, SEARCH(\",\",A2306,1)-1)","v":{"$error":"#VALUE!"}},{"$f":"RIGHT(A2306, LEN(A2306) -SEARCH(\",\",A2306,1)-1)","v":{"$error":"#VALUE!"}},{"$f":"VLOOKUP(K2306,references!$A$1:$B$7,2,FALSE)","v":{"$error":"#N/A"}}]
[null,null,null,null,null,null,null,null,null,null,null,null,"no email",{"$error":"#VALUE!"},{"$error":"#VALUE!"},{"$f":"VLOOKUP(K2307,references!$A$1:$B$7,2,FALSE)","v":{"$error":"#N/A"}}]
[null,null,null,null,null,null,null,null,null,null,null,null,"no email",{"$error":"#VALUE!"},{"$error":"#VALUE!"},{"$f":"VLOOKUP(K2308,references!$A$1:$B$7,2,FALSE)","v":{"$error":"#N/A"}}]
[null,null,null,null,null,null,null,null,null,null,null,null,"no email",{"$error":"#VALUE!"},{"$error":"#VALUE!"},{"$f":"VLOOKUP(K2309,references!$A$1:$B$7,2,FALSE)","v":{"$error":"#N/A"}}]
[null,null,null,null,null,null,null,null,null,null,null,null,"no email",{"$error":"#VALUE!"},{"$error":"#VALUE!"},{"$f":"VLOOKUP(K2310,references!$A$1:$B$7,2,FALSE)","v":{"$error":"#N/A"}}]
[null,null,null,null,null,null,null,null,null,null,null,null,"no email",{"$error":"#VALUE!"},{"$error":"#VALUE!"},{"$f":"VLOOKUP(K2311,references!$A$1:$B$7,2,FALSE)","v":{"$error":"#N/A"}}]
[null,null,null,null,null,null,null,null,null,null,null,null,"no email",{"$error":"#VALUE!"},{"$error":"#VALUE!"},{"$f":"VLOOKUP(K2312,references!$A$1:$B$7,2,FALSE)","v":{"$error":"#N/A"}}]
[null,null,null,null,null,null,null,null,null,null,null,null,"no email",{"$error":"#VALUE!"},{"$error":"#VALUE!"},{"$f":"VLOOKUP(K2313,references!$A$1:$B$7,2,FALSE)","v":{"$error":"#N/A"}}]
[null,null,null,null,null,null,null,null,null,null,null,null,"no email",{"$error":"#VALUE!"},{"$error":"#VALUE!"},{"$f":"VLOOKUP(K2314,references!$A$1:$B$7,2,FALSE)","v":{"$error":"#N/A"}}]
[null,null,null,null,null,null,null,null,null,null,null,null,"no email",{"$error":"#VALUE!"},{"$error":"#VALUE!"},{"$f":"VLOOKUP(K2315,references!$A$1:$B$7,2,FALSE)","v":{"$error":"#N/A"}}]
[null,null,null,null,null,null,null,null,null,null,null,null,"no email",{"$error":"#VALUE!"},{"$error":"#VALUE!"},{"$f":"VLOOKUP(K2316,references!$A$1:$B$7,2,FALSE)","v":{"$error":"#N/A"}}]
[null,null,null,null,null,null,null,null,null,null,null,null,"no email",{"$error":"#VALUE!"},{"$error":"#VALUE!"},{"$f":"VLOOKUP(K2317,references!$A$1:$B$7,2,FALSE)","v":{"$error":"#N/A"}}]
[null,null,null,null,null,null,null,null,null,null,null,null,"no email",{"$error":"#VALUE!"},{"$error":"#VALUE!"},{"$f":"VLOOKUP(K2318,references!$A$1:$B$7,2,FALSE)","v":{"$error":"#N/A"}}]
[null,null,null,null,null,null,null,null,null,null,null,null,"no email",{"$error":"#VALUE!"},{"$error":"#VALUE!"},{"$f":"VLOOKUP(K2319,references!$A$1:$B$7,2,FALSE)","v":{"$error":"#N/A"}}]
[null,null,null,null,null,null,null,null,null,null,null,null,"no email",{"$error":"#VALUE!"},{"$error":"#VALUE!"},{"$f":"VLOOKUP(K2320,references!$A$1:$B$7,2,FALSE)","v":{"$error":"#N/A"}}]
[null,null,null,null,null,null,null,null,null,null,null,null,"no email",{"$error":"#VALUE!"},{"$error":"#VALUE!"},{"$f":"VLOOKUP(K2321,references!$A$1:$B$7,2,FALSE)","v":{"$error":"#N/A"}}]
[null,null,null,null,null,null,null,null,null,null,null,null,"no email",{"$error":"#VALUE!"},{"$error":"#VALUE!"},{"$f":"VLOOKUP(K2322,references!$A$1:$B$7,2,FALSE)","v":{"$error":"#N/A"}}]
[null,null,null,null,null,null,null,null,null,null,null,null,"no email",{"$error":"#VALUE!"},{"$error":"#VALUE!"},{"$f":"VLOOKUP(K2323,references!$A$1:$B$7,2,FALSE)","v":{"$error":"#N/A"}}]
[null,null,null,null,null,null,null,null,null,null,null,null,"no email",{"$error":"#VALUE!"},{"$error":"#VALUE!"},{"$f":"VLOOKUP(K2324,references!$A$1:$B$7,2,FALSE)","v":{"$error":"#N/A"}}]
[null,null,null,null,null,null,null,null,null,null,null,null,"no email",{"$error":"#VALUE!"},{"$error":"#VALUE!"},{"$f":"VLOOKUP(K2325,references!$A$1:$B$7,2,FALSE)","v":{"$error":"#N/A"}}]
[null,null,null,null,null,null,null,null,null,null,null,null,"no email",{"$error":"#VALUE!"},{"$error":"#VALUE!"},{"$f":"VLOOKUP(K2326,references!$A$1:$B$7,2,FALSE)","v":{"$error":"#N/A"}}]
[null,null,null,null,null,null,null,null,null,null,null,null,"no email",{"$error":"#VALUE!"},{"$error":"#VALUE!"},{"$f":"VLOOKUP(K2327,references!$A$1:$B$7,2,FALSE)","v":{"$error":"#N/A"}}]
[null,null,null,null,null,null,null,null,null,null,null,null,"no email",{"$error":"#VALUE!"},{"$error":"#VALUE!"},{"$f":"VLOOKUP(K2328,references!$A$1:$B$7,2,FALSE)","v":{"$error":"#N/A"}}]
[null,null,null,null,null,null,null,null,null,null,null,null,"no email",{"$error":"#VALUE!"},{"$error":"#VALUE!"},{"$f":"VLOOKUP(K2329,references!$A$1:$B$7,2,FALSE)","v":{"$error":"#N/A"}}]
[null,null,null,null,null,null,null,null,null,null,null,null,"no email",{"$error":"#VALUE!"},{"$error":"#VALUE!"},{"$f":"VLOOKUP(K2330,references!$A$1:$B$7,2,FALSE)","v":{"$error":"#N/A"}}]
[null,null,null,null,null,null,null,null,null,null,null,null,"no email",{"$error":"#VALUE!"},{"$error":"#VALUE!"},{"$f":"VLOOKUP(K2331,references!$A$1:$B$7,2,FALSE)","v":{"$error":"#N/A"}}]
[null,null,null,null,null,null,null,null,null,null,null,null,"no email",{"$error":"#VALUE!"},{"$error":"#VALUE!"},{"$f":"VLOOKUP(K2332,references!$A$1:$B$7,2,FALSE)","v":{"$error":"#N/A"}}]
[null,null,null,null,null,null,null,null,null,null,null,null,"no email",{"$error":"#VALUE!"},{"$error":"#VALUE!"},{"$f":"VLOOKUP(K2333,references!$A$1:$B$7,2,FALSE)","v":{"$error":"#N/A"}}]
[null,null,null,null,null,null,null,null,null,null,null,null,"no email",{"$error":"#VALUE!"},{"$error":"#VALUE!"},{"$f":"VLOOKUP(K2334,references!$A$1:$B$7,2,FALSE)","v":{"$error":"#N/A"}}]
[null,null,null,null,null,null,null,null,null,null,null,null,"no email",{"$error":"#VALUE!"},{"$error":"#VALUE!"},{"$f":"VLOOKUP(K2335,references!$A$1:$B$7,2,FALSE)","v":{"$error":"#N/A"}}]
[null,null,null,null,null,null,null,null,null,null,null,null,"no email",{"$error":"#VALUE!"},{"$error":"#VALUE!"},{"$f":"VLOOKUP(K2336,references!$A$1:$B$7,2,FALSE)","v":{"$error":"#N/A"}}]
[null,null,null,null,null,null,null,null,null,null,null,null,"no email",{"$error":"#VALUE!"},{"$error":"#VALUE!"},{"$f":"VLOOKUP(K2337,references!$A$1:$B$7,2,FALSE)","v":{"$error":"#N/A"}}]
[null,null,null,null,null,null,null,null,null,null,null,null,"no email",{"$error":"#VALUE!"},{"$error":"#VALUE!"},{"$f":"VLOOKUP(K2338,references!$A$1:$B$7,2,FALSE)","v":{"$error":"#N/A"}}]
[null,null,null,null,null,null,null,null,null,null,null,null,"no email",{"$error":"#VALUE!"},{"$error":"#VALUE!"},{"$f":"VLOOKUP(K2339,references!$A$1:$B$7,2,FALSE)","v":{"$error":"#N/A"}}]
[null,null,null,null,null,null,null,null,null,null,null,null,"no email",{"$error":"#VALUE!"},{"$error":"#VALUE!"},{"$f":"VLOOKUP(K2340,references!$A$1:$B$7,2,FALSE)","v":{"$error":"#N/A"}}]
[null,null,null,null,null,null,null,null,null,null,null,null,"no email",{"$error":"#VALUE!"},{"$error":"#VALUE!"},{"$f":"VLOOKUP(K2341,references!$A$1:$B$7,2,FALSE)","v":{"$error":"#N/A"}}]
[null,null,null,null,null,null,null,null,null,null,null,null,"no email",{"$error":"#VALUE!"},{"$error":"#VALUE!"},{"$f":"VLOOKUP(K2342,references!$A$1:$B$7,2,FALSE)","v":{"$error":"#N/A"}}]
[null,null,null,null,null,null,null,null,null,null,null,null,"no email",{"$error":"#VALUE!"},{"$error":"#VALUE!"},{"$f":"VLOOKUP(K2343,references!$A$1:$B$7,2,FALSE)","v":{"$error":"#N/A"}}]
[null,null,null,null,null,null,null,null,null,null,null,null,"no email",{"$error":"#VALUE!"},{"$error":"#VALUE!"},{"$f":"VLOOKUP(K2344,references!$A$1:$B$7,2,FALSE)","v":{"$error":"#N/A"}}]
[null,null,null,null,null,null,null,null,null,null,null,null,"no email",{"$error":"#VALUE!"},{"$error":"#VALUE!"},{"$f":"VLOOKUP(K2345,references!$A$1:$B$7,2,FALSE)","v":{"$error":"#N/A"}}]
[null,null,null,null,null,null,null,null,null,null,null,null,"no email",{"$error":"#VALUE!"},{"$error":"#VALUE!"},{"$f":"VLOOKUP(K2346,references!$A$1:$B$7,2,FALSE)","v":{"$error":"#N/A"}}]
[null,null,null,null,null,null,null,null,null,null,null,null,"no email",{"$error":"#VALUE!"},{"$error":"#VALUE!"},{"$f":"VLOOKUP(K2347,references!$A$1:$B$7,2,FALSE)","v":{"$error":"#N/A"}}]
[null,null,null,null,null,null,null,null,null,null,null,null,"no email",{"$error":"#VALUE!"},{"$error":"#VALUE!"},{"$f":"VLOOKUP(K2348,references!$A$1:$B$7,2,FALSE)","v":{"$error":"#N/A"}}]
[null,null,null,null,null,null,null,null,null,null,null,null,"no email",{"$error":"#VALUE!"},{"$error":"#VALUE!"},{"$f":"VLOOKUP(K2349,references!$A$1:$B$7,2,FALSE)","v":{"$error":"#N/A"}}]
[null,null,null,null,null,null,null,null,null,null,null,null,"no email",{"$error":"#VALUE!"},{"$error":"#VALUE!"},{"$f":"VLOOKUP(K2350,references!$A$1:$B$7,2,FALSE)","v":{"$error":"#N/A"}}]
[null,null,null,null,null,null,null,null,null,null,null,null,"no email",{"$error":"#VALUE!"},{"$error":"#VALUE!"},{"$f":"VLOOKUP(K2351,references!$A$1:$B$7,2,FALSE)","v":{"$error":"#N/A"}}]
[null,null,null,null,null,null,null,null,null,null,null,null,"no email",{"$error":"#VALUE!"},{"$error":"#VALUE!"},{"$f":"VLOOKUP(K2352,references!$A$1:$B$7,2,FALSE)","v":{"$error":"#N/A"}}]
[null,null,null,null,null,null,null,null,null,null,null,null,"no email",{"$error":"#VALUE!"},{"$error":"#VALUE!"},{"$f":"VLOOKUP(K2353,references!$A$1:$B$7,2,FALSE)","v":{"$error":"#N/A"}}]
[null,null,null,null,null,null,null,null,null,null,null,null,"no email",{"$error":"#VALUE!"},{"$error":"#VALUE!"},{"$f":"VLOOKUP(K2354,references!$A$1:$B$7,2,FALSE)","v":{"$error":"#N/A"}}]
[null,null,null,null,null,null,null,null,null,null,null,null,"no email",{"$error":"#VALUE!"},{"$error":"#VALUE!"},{"$f":"VLOOKUP(K2355,references!$A$1:$B$7,2,FALSE)","v":{"$error":"#N/A"}}]
[null,null,null,null,null,null,null,null,null,null,null,null,"no email",{"$error":"#VALUE!"},{"$error":"#VALUE!"},{"$f":"VLOOKUP(K2356,references!$A$1:$B$7,2,FALSE)","v":{"$error":"#N/A"}}]
[null,null,null,null,null,null,null,null,null,null,null,null,"no email",{"$error":"#VALUE!"},{"$error":"#VALUE!"},{"$f":"VLOOKUP(K2357,references!$A$1:$B$7,2,FALSE)","v":{"$error":"#N/A"}}]
[null,null,null,null,null,null,null,null,null,null,null,null,"no email",{"$error":"#VALUE!"},{"$error":"#VALUE!"},{"$f":"VLOOKUP(K2358,references!$A$1:$B$7,2,FALSE)","v":{"$error":"#N/A"}}]
[null,null,null,null,null,null,null,null,null,null,null,null,"no email",{"$error":"#VALUE!"},{"$error":"#VALUE!"},{"$f":"VLOOKUP(K2359,references!$A$1:$B$7,2,FALSE)","v":{"$error":"#N/A"}}]
[null,null,null,null,null,null,null,null,null,null,null,null,"no email",{"$error":"#VALUE!"},{"$error":"#VALUE!"},{"$f":"VLOOKUP(K2360,references!$A$1:$B$7,2,FALSE)","v":{"$error":"#N/A"}}]
[null,null,null,null,null,null,null,null,null,null,null,null,"no email",{"$error":"#VALUE!"},{"$error":"#VALUE!"},{"$f":"VLOOKUP(K2361,references!$A$1:$B$7,2,FALSE)","v":{"$error":"#N/A"}}]
[null,null,null,null,null,null,null,null,null,null,null,null,"no email",{"$error":"#VALUE!"},{"$error":"#VALUE!"},{"$f":"VLOOKUP(K2362,references!$A$1:$B$7,2,FALSE)","v":{"$error":"#N/A"}}]
[null,null,null,null,null,null,null,null,null,null,null,null,"no email",{"$error":"#VALUE!"},{"$error":"#VALUE!"},{"$f":"VLOOKUP(K2363,references!$A$1:$B$7,2,FALSE)","v":{"$error":"#N/A"}}]
[null,null,null,null,null,null,null,null,null,null,null,null,"no email",{"$error":"#VALUE!"},{"$error":"#VALUE!"},{"$f":"VLOOKUP(K2364,references!$A$1:$B$7,2,FALSE)","v":{"$error":"#N/A"}}]
[null,null,null,null,null,null,null,null,null,null,null,null,"no email",{"$error":"#VALUE!"},{"$error":"#VALUE!"},{"$f":"VLOOKUP(K2365,references!$A$1:$B$7,2,FALSE)","v":{"$error":"#N/A"}}]
[null,null,null,null,null,null,null,null,null,null,null,null,"no email",{"$error":"#VALUE!"},{"$error":"#VALUE!"},{"$f":"VLOOKUP(K2366,references!$A$1:$B$7,2,FALSE)","v":{"$error":"#N/A"}}]
[null,null,null,null,null,null,null,null,null,null,null,null,"no email",{"$error":"#VALUE!"},{"$error":"#VALUE!"},{"$f":"VLOOKUP(K2367,references!$A$1:$B$7,2,FALSE)","v":{"$error":"#N/A"}}]
[null,null,null,null,null,null,null,null,null,null,null,null,"no email",{"$error":"#VALUE!"},{"$error":"#VALUE!"},{"$f":"VLOOKUP(K2368,references!$A$1:$B$7,2,FALSE)","v":{"$error":"#N/A"}}]
[null,null,null,null,null,null,null,null,null,null,null,null,"no email",{"$error":"#VALUE!"},{"$error":"#VALUE!"},{"$f":"VLOOKUP(K2369,references!$A$1:$B$7,2,FALSE)","v":{"$error":"#N/A"}}]
[null,null,null,null,null,null,null,null,null,null,null,null,{"$f":"IF(L2370=\"\", \"no email\",LOWER(L2370))","v":"no email"},{"$f":"LEFT(A2370, SEARCH(\",\",A2370,1)-1)","v":{"$error":"#VALUE!"}},{"$f":"RIGHT(A2370, LEN(A2370) -SEARCH(\",\",A2370,1)-1)","v":{"$error":"#VALUE!"}},{"$f":"VLOOKUP(K2370,references!$A$1:$B$7,2,FALSE)","v":{"$error":"#N/A"}}]
[null,null,null,null,null,null,null,null,null,null,null,null,"no email",{"$error":"#VALUE!"},{"$error":"#VALUE!"},{"$f":"VLOOKUP(K2371,references!$A$1:$B$7,2,FALSE)","v":{"$error":"#N/A"}}]
[null,null,null,null,null,null,null,null,null,null,null,null,"no email",{"$error":"#VALUE!"},{"$error":"#VALUE!"},{"$f":"VLOOKUP(K2372,references!$A$1:$B$7,2,FALSE)","v":{"$error":"#N/A"}}]
[null,null,null,null,null,null,null,null,null,null,null,null,"no email",{"$error":"#VALUE!"},{"$error":"#VALUE!"},{"$f":"VLOOKUP(K2373,references!$A$1:$B$7,2,FALSE)","v":{"$error":"#N/A"}}]
[null,null,null,null,null,null,null,null,null,null,null,null,"no email",{"$error":"#VALUE!"},{"$error":"#VALUE!"},{"$f":"VLOOKUP(K2374,references!$A$1:$B$7,2,FALSE)","v":{"$error":"#N/A"}}]
[null,null,null,null,null,null,null,null,null,null,null,null,"no email",{"$error":"#VALUE!"},{"$error":"#VALUE!"},{"$f":"VLOOKUP(K2375,references!$A$1:$B$7,2,FALSE)","v":{"$error":"#N/A"}}]
[null,null,null,null,null,null,null,null,null,null,null,null,"no email",{"$error":"#VALUE!"},{"$error":"#VALUE!"},{"$f":"VLOOKUP(K2376,references!$A$1:$B$7,2,FALSE)","v":{"$error":"#N/A"}}]
[null,null,null,null,null,null,null,null,null,null,null,null,"no email",{"$error":"#VALUE!"},{"$error":"#VALUE!"},{"$f":"VLOOKUP(K2377,references!$A$1:$B$7,2,FALSE)","v":{"$error":"#N/A"}}]
[null,null,null,null,null,null,null,null,null,null,null,null,"no email",{"$error":"#VALUE!"},{"$error":"#VALUE!"},{"$f":"VLOOKUP(K2378,references!$A$1:$B$7,2,FALSE)","v":{"$error":"#N/A"}}]
[null,null,null,null,null,null,null,null,null,null,null,null,"no email",{"$error":"#VALUE!"},{"$error":"#VALUE!"},{"$f":"VLOOKUP(K2379,references!$A$1:$B$7,2,FALSE)","v":{"$error":"#N/A"}}]
[null,null,null,null,null,null,null,null,null,null,null,null,"no email",{"$error":"#VALUE!"},{"$error":"#VALUE!"},{"$f":"VLOOKUP(K2380,references!$A$1:$B$7,2,FALSE)","v":{"$error":"#N/A"}}]
[null,null,null,null,null,null,null,null,null,null,null,null,"no email",{"$error":"#VALUE!"},{"$error":"#VALUE!"},{"$f":"VLOOKUP(K2381,references!$A$1:$B$7,2,FALSE)","v":{"$error":"#N/A"}}]
[null,null,null,null,null,null,null,null,null,null,null,null,"no email",{"$error":"#VALUE!"},{"$error":"#VALUE!"},{"$f":"VLOOKUP(K2382,references!$A$1:$B$7,2,FALSE)","v":{"$error":"#N/A"}}]
[null,null,null,null,null,null,null,null,null,null,null,null,"no email",{"$error":"#VALUE!"},{"$error":"#VALUE!"},{"$f":"VLOOKUP(K2383,references!$A$1:$B$7,2,FALSE)","v":{"$error":"#N/A"}}]
[null,null,null,null,null,null,null,null,null,null,null,null,"no email",{"$error":"#VALUE!"},{"$error":"#VALUE!"},{"$f":"VLOOKUP(K2384,references!$A$1:$B$7,2,FALSE)","v":{"$error":"#N/A"}}]
[null,null,null,null,null,null,null,null,null,null,null,null,"no email",{"$error":"#VALUE!"},{"$error":"#VALUE!"},{"$f":"VLOOKUP(K2385,references!$A$1:$B$7,2,FALSE)","v":{"$error":"#N/A"}}]
[null,null,null,null,null,null,null,null,null,null,null,null,"no email",{"$error":"#VALUE!"},{"$error":"#VALUE!"},{"$f":"VLOOKUP(K2386,references!$A$1:$B$7,2,FALSE)","v":{"$error":"#N/A"}}]
[null,null,null,null,null,null,null,null,null,null,null,null,"no email",{"$error":"#VALUE!"},{"$error":"#VALUE!"},{"$f":"VLOOKUP(K2387,references!$A$1:$B$7,2,FALSE)","v":{"$error":"#N/A"}}]
[null,null,null,null,null,null,null,null,null,null,null,null,"no email",{"$error":"#VALUE!"},{"$error":"#VALUE!"},{"$f":"VLOOKUP(K2388,references!$A$1:$B$7,2,FALSE)","v":{"$error":"#N/A"}}]
[null,null,null,null,null,null,null,null,null,null,null,null,"no email",{"$error":"#VALUE!"},{"$error":"#VALUE!"},{"$f":"VLOOKUP(K2389,references!$A$1:$B$7,2,FALSE)","v":{"$error":"#N/A"}}]
[null,null,null,null,null,null,null,null,null,null,null,null,"no email",{"$error":"#VALUE!"},{"$error":"#VALUE!"},{"$f":"VLOOKUP(K2390,references!$A$1:$B$7,2,FALSE)","v":{"$error":"#N/A"}}]
[null,null,null,null,null,null,null,null,null,null,null,null,"no email",{"$error":"#VALUE!"},{"$error":"#VALUE!"},{"$f":"VLOOKUP(K2391,references!$A$1:$B$7,2,FALSE)","v":{"$error":"#N/A"}}]
[null,null,null,null,null,null,null,null,null,null,null,null,"no email",{"$error":"#VALUE!"},{"$error":"#VALUE!"},{"$f":"VLOOKUP(K2392,references!$A$1:$B$7,2,FALSE)","v":{"$error":"#N/A"}}]
[null,null,null,null,null,null,null,null,null,null,null,null,"no email",{"$error":"#VALUE!"},{"$error":"#VALUE!"},{"$f":"VLOOKUP(K2393,references!$A$1:$B$7,2,FALSE)","v":{"$error":"#N/A"}}]
[null,null,null,null,null,null,null,null,null,null,null,null,"no email",{"$error":"#VALUE!"},{"$error":"#VALUE!"},{"$f":"VLOOKUP(K2394,references!$A$1:$B$7,2,FALSE)","v":{"$error":"#N/A"}}]
[null,null,null,null,null,null,null,null,null,null,null,null,"no email",{"$error":"#VALUE!"},{"$error":"#VALUE!"},{"$f":"VLOOKUP(K2395,references!$A$1:$B$7,2,FALSE)","v":{"$error":"#N/A"}}]
[null,null,null,null,null,null,null,null,null,null,null,null,"no email",{"$error":"#VALUE!"},{"$error":"#VALUE!"},{"$f":"VLOOKUP(K2396,references!$A$1:$B$7,2,FALSE)","v":{"$error":"#N/A"}}]
[null,null,null,null,null,null,null,null,null,null,null,null,"no email",{"$error":"#VALUE!"},{"$error":"#VALUE!"},{"$f":"VLOOKUP(K2397,references!$A$1:$B$7,2,FALSE)","v":{"$error":"#N/A"}}]
[null,null,null,null,null,null,null,null,null,null,null,null,"no email",{"$error":"#VALUE!"},{"$error":"#VALUE!"},{"$f":"VLOOKUP(K2398,references!$A$1:$B$7,2,FALSE)","v":{"$error":"#N/A"}}]
[null,null,null,null,null,null,null,null,null,null,null,null,"no email",{"$error":"#VALUE!"},{"$error":"#VALUE!"},{"$f":"VLOOKUP(K2399,references!$A$1:$B$7,2,FALSE)","v":{"$error":"#N/A"}}]
[null,null,null,null,null,null,null,null,null,null,null,null,"no email",{"$error":"#VALUE!"},{"$error":"#VALUE!"},{"$f":"VLOOKUP(K2400,references!$A$1:$B$7,2,FALSE)","v":{"$error":"#N/A"}}]
[null,null,null,null,null,null,null,null,null,null,null,null,"no email",{"$error":"#VALUE!"},{"$error":"#VALUE!"},{"$f":"VLOOKUP(K2401,references!$A$1:$B$7,2,FALSE)","v":{"$error":"#N/A"}}]
[null,null,null,null,null,null,null,null,null,null,null,null,"no email",{"$error":"#VALUE!"},{"$error":"#VALUE!"},{"$f":"VLOOKUP(K2402,references!$A$1:$B$7,2,FALSE)","v":{"$error":"#N/A"}}]
[null,null,null,null,null,null,null,null,null,null,null,null,"no email",{"$error":"#VALUE!"},{"$error":"#VALUE!"},{"$f":"VLOOKUP(K2403,references!$A$1:$B$7,2,FALSE)","v":{"$error":"#N/A"}}]
[null,null,null,null,null,null,null,null,null,null,null,null,"no email",{"$error":"#VALUE!"},{"$error":"#VALUE!"},{"$f":"VLOOKUP(K2404,references!$A$1:$B$7,2,FALSE)","v":{"$error":"#N/A"}}]
[null,null,null,null,null,null,null,null,null,null,null,null,"no email",{"$error":"#VALUE!"},{"$error":"#VALUE!"},{"$f":"VLOOKUP(K2405,references!$A$1:$B$7,2,FALSE)","v":{"$error":"#N/A"}}]
[null,null,null,null,null,null,null,null,null,null,null,null,"no email",{"$error":"#VALUE!"},{"$error":"#VALUE!"},{"$f":"VLOOKUP(K2406,references!$A$1:$B$7,2,FALSE)","v":{"$error":"#N/A"}}]
[null,null,null,null,null,null,null,null,null,null,null,null,"no email",{"$error":"#VALUE!"},{"$error":"#VALUE!"},{"$f":"VLOOKUP(K2407,references!$A$1:$B$7,2,FALSE)","v":{"$error":"#N/A"}}]
[null,null,null,null,null,null,null,null,null,null,null,null,"no email",{"$error":"#VALUE!"},{"$error":"#VALUE!"},{"$f":"VLOOKUP(K2408,references!$A$1:$B$7,2,FALSE)","v":{"$error":"#N/A"}}]
[null,null,null,null,null,null,null,null,null,null,null,null,"no email",{"$error":"#VALUE!"},{"$error":"#VALUE!"},{"$f":"VLOOKUP(K2409,references!$A$1:$B$7,2,FALSE)","v":{"$error":"#N/A"}}]
[null,null,null,null,null,null,null,null,null,null,null,null,"no email",{"$error":"#VALUE!"},{"$error":"#VALUE!"},{"$f":"VLOOKUP(K2410,references!$A$1:$B$7,2,FALSE)","v":{"$error":"#N/A"}}]
[null,null,null,null,null,null,null,null,null,null,null,null,"no email",{"$error":"#VALUE!"},{"$error":"#VALUE!"},{"$f":"VLOOKUP(K2411,references!$A$1:$B$7,2,FALSE)","v":{"$error":"#N/A"}}]
[null,null,null,null,null,null,null,null,null,null,null,null,"no email",{"$error":"#VALUE!"},{"$error":"#VALUE!"},{"$f":"VLOOKUP(K2412,references!$A$1:$B$7,2,FALSE)","v":{"$error":"#N/A"}}]
[null,null,null,null,null,null,null,null,null,null,null,null,"no email",{"$error":"#VALUE!"},{"$error":"#VALUE!"},{"$f":"VLOOKUP(K2413,references!$A$1:$B$7,2,FALSE)","v":{"$error":"#N/A"}}]
[null,null,null,null,null,null,null,null,null,null,null,null,"no email",{"$error":"#VALUE!"},{"$error":"#VALUE!"},{"$f":"VLOOKUP(K2414,references!$A$1:$B$7,2,FALSE)","v":{"$error":"#N/A"}}]
[null,null,null,null,null,null,null,null,null,null,null,null,"no email",{"$error":"#VALUE!"},{"$error":"#VALUE!"},{"$f":"VLOOKUP(K2415,references!$A$1:$B$7,2,FALSE)","v":{"$error":"#N/A"}}]
[null,null,null,null,null,null,null,null,null,null,null,null,"no email",{"$error":"#VALUE!"},{"$error":"#VALUE!"},{"$f":"VLOOKUP(K2416,references!$A$1:$B$7,2,FALSE)","v":{"$error":"#N/A"}}]
[null,null,null,null,null,null,null,null,null,null,null,null,"no email",{"$error":"#VALUE!"},{"$error":"#VALUE!"},{"$f":"VLOOKUP(K2417,references!$A$1:$B$7,2,FALSE)","v":{"$error":"#N/A"}}]
[null,null,null,null,null,null,null,null,null,null,null,null,"no email",{"$error":"#VALUE!"},{"$error":"#VALUE!"},{"$f":"VLOOKUP(K2418,references!$A$1:$B$7,2,FALSE)","v":{"$error":"#N/A"}}]
[null,null,null,null,null,null,null,null,null,null,null,null,"no email",{"$error":"#VALUE!"},{"$error":"#VALUE!"},{"$f":"VLOOKUP(K2419,references!$A$1:$B$7,2,FALSE)","v":{"$error":"#N/A"}}]
[null,null,null,null,null,null,null,null,null,null,null,null,"no email",{"$error":"#VALUE!"},{"$error":"#VALUE!"},{"$f":"VLOOKUP(K2420,references!$A$1:$B$7,2,FALSE)","v":{"$error":"#N/A"}}]
[null,null,null,null,null,null,null,null,null,null,null,null,"no email",{"$error":"#VALUE!"},{"$error":"#VALUE!"},{"$f":"VLOOKUP(K2421,references!$A$1:$B$7,2,FALSE)","v":{"$error":"#N/A"}}]
[null,null,null,null,null,null,null,null,null,null,null,null,"no email",{"$error":"#VALUE!"},{"$error":"#VALUE!"},{"$f":"VLOOKUP(K2422,references!$A$1:$B$7,2,FALSE)","v":{"$error":"#N/A"}}]
[null,null,null,null,null,null,null,null,null,null,null,null,"no email",{"$error":"#VALUE!"},{"$error":"#VALUE!"},{"$f":"VLOOKUP(K2423,references!$A$1:$B$7,2,FALSE)","v":{"$error":"#N/A"}}]
[null,null,null,null,null,null,null,null,null,null,null,null,"no email",{"$error":"#VALUE!"},{"$error":"#VALUE!"},{"$f":"VLOOKUP(K2424,references!$A$1:$B$7,2,FALSE)","v":{"$error":"#N/A"}}]
[null,null,null,null,null,null,null,null,null,null,null,null,"no email",{"$error":"#VALUE!"},{"$error":"#VALUE!"},{"$f":"VLOOKUP(K2425,references!$A$1:$B$7,2,FALSE)","v":{"$error":"#N/A"}}]
[null,null,null,null,null,null,null,null,null,null,null,null,"no email",{"$error":"#VALUE!"},{"$error":"#VALUE!"},{"$f":"VLOOKUP(K2426,references!$A$1:$B$7,2,FALSE)","v":{"$error":"#N/A"}}]
[null,null,null,null,null,null,null,null,null,null,null,null,"no email",{"$error":"#VALUE!"},{"$error":"#VALUE!"},{"$f":"VLOOKUP(K2427,references!$A$1:$B$7,2,FALSE)","v":{"$error":"#N/A"}}]
[null,null,null,null,null,null,null,null,null,null,null,null,"no email",{"$error":"#VALUE!"},{"$error":"#VALUE!"},{"$f":"VLOOKUP(K2428,references!$A$1:$B$7,2,FALSE)","v":{"$error":"#N/A"}}]
[null,null,null,null,null,null,null,null,null,null,null,null,"no email",{"$error":"#VALUE!"},{"$error":"#VALUE!"},{"$f":"VLOOKUP(K2429,references!$A$1:$B$7,2,FALSE)","v":{"$error":"#N/A"}}]
[null,null,null,null,null,null,null,null,null,null,null,null,"no email",{"$error":"#VALUE!"},{"$error":"#VALUE!"},{"$f":"VLOOKUP(K2430,references!$A$1:$B$7,2,FALSE)","v":{"$error":"#N/A"}}]
[null,null,null,null,null,null,null,null,null,null,null,null,"no email",{"$error":"#VALUE!"},{"$error":"#VALUE!"},{"$f":"VLOOKUP(K2431,references!$A$1:$B$7,2,FALSE)","v":{"$error":"#N/A"}}]
[null,null,null,null,null,null,null,null,null,null,null,null,"no email",{"$error":"#VALUE!"},{"$error":"#VALUE!"},{"$f":"VLOOKUP(K2432,references!$A$1:$B$7,2,FALSE)","v":{"$error":"#N/A"}}]
[null,null,null,null,null,null,null,null,null,null,null,null,"no email",{"$error":"#VALUE!"},{"$error":"#VALUE!"},{"$f":"VLOOKUP(K2433,references!$A$1:$B$7,2,FALSE)","v":{"$error":"#N/A"}}]
[null,null,null,null,null,null,null,null,null,null,null,null,{"$f":"IF(L2434=\"\", \"no email\",LOWER(L2434))","v":"no email"},{"$f":"LEFT(A2434, SEARCH(\",\",A2434,1)-1)","v":{"$error":"#VALUE!"}},{"$f":"RIGHT(A2434, LEN(A2434) -SEARCH(\",\",A2434,1)-1)","v":{"$error":"#VALUE!"}},{"$f":"VLOOKUP(K2434,references!$A$1:$B$7,2,FALSE)","v":{"$error":"#N/A"}}]
[null,null,null,null,null,null,null,null,null,null,null,null,"no email",{"$error":"#VALUE!"},{"$error":"#VALUE!"},{"$f":"VLOOKUP(K2435,references!$A$1:$B$7,2,FALSE)","v":{"$error":"#N/A"}}]
[null,null,null,null,null,null,null,null,null,null,null,null,"no email",{"$error":"#VALUE!"},{"$error":"#VALUE!"},{"$f":"VLOOKUP(K2436,references!$A$1:$B$7,2,FALSE)","v":{"$error":"#N/A"}}]
[null,null,null,null,null,null,null,null,null,null,null,null,"no email",{"$error":"#VALUE!"},{"$error":"#VALUE!"},{"$f":"VLOOKUP(K2437,references!$A$1:$B$7,2,FALSE)","v":{"$error":"#N/A"}}]
[null,null,null,null,null,null,null,null,null,null,null,null,"no email",{"$error":"#VALUE!"},{"$error":"#VALUE!"},{"$f":"VLOOKUP(K2438,references!$A$1:$B$7,2,FALSE)","v":{"$error":"#N/A"}}]
[null,null,null,null,null,null,null,null,null,null,null,null,"no email",{"$error":"#VALUE!"},{"$error":"#VALUE!"},{"$f":"VLOOKUP(K2439,references!$A$1:$B$7,2,FALSE)","v":{"$error":"#N/A"}}]
[null,null,null,null,null,null,null,null,null,null,null,null,"no email",{"$error":"#VALUE!"},{"$error":"#VALUE!"},{"$f":"VLOOKUP(K2440,references!$A$1:$B$7,2,FALSE)","v":{"$error":"#N/A"}}]
[null,null,null,null,null,null,null,null,null,null,null,null,"no email",{"$error":"#VALUE!"},{"$error":"#VALUE!"},{"$f":"VLOOKUP(K2441,references!$A$1:$B$7,2,FALSE)","v":{"$error":"#N/A"}}]
[null,null,null,null,null,null,null,null,null,null,null,null,"no email",{"$error":"#VALUE!"},{"$error":"#VALUE!"},{"$f":"VLOOKUP(K2442,references!$A$1:$B$7,2,FALSE)","v":{"$error":"#N/A"}}]
[null,null,null,null,null,null,null,null,null,null,null,null,"no email",{"$error":"#VALUE!"},{"$error":"#VALUE!"},{"$f":"VLOOKUP(K2443,references!$A$1:$B$7,2,FALSE)","v":{"$error":"#N/A"}}]
[null,null,null,null,null,null,null,null,null,null,null,null,"no email",{"$error":"#VALUE!"},{"$error":"#VALUE!"},{"$f":"VLOOKUP(K2444,references!$A$1:$B$7,2,FALSE)","v":{"$error":"#N/A"}}]
[null,null,null,null,null,null,null,null,null,null,null,null,"no email",{"$error":"#VALUE!"},{"$error":"#VALUE!"},{"$f":"VLOOKUP(K2445,references!$A$1:$B$7,2,FALSE)","v":{"$error":"#N/A"}}]
[null,null,null,null,null,null,null,null,null,null,null,null,"no email",{"$error":"#VALUE!"},{"$error":"#VALUE!"},{"$f":"VLOOKUP(K2446,references!$A$1:$B$7,2,FALSE)","v":{"$error":"#N/A"}}]
[null,null,null,null,null,null,null,null,null,null,null,null,"no email",{"$error":"#VALUE!"},{"$error":"#VALUE!"},{"$f":"VLOOKUP(K2447,references!$A$1:$B$7,2,FALSE)","v":{"$error":"#N/A"}}]
[null,null,null,null,null,null,null,null,null,null,null,null,"no email",{"$error":"#VALUE!"},{"$error":"#VALUE!"},{"$f":"VLOOKUP(K2448,references!$A$1:$B$7,2,FALSE)","v":{"$error":"#N/A"}}]
[null,null,null,null,null,null,null,null,null,null,null,null,"no email",{"$error":"#VALUE!"},{"$error":"#VALUE!"},{"$f":"VLOOKUP(K2449,references!$A$1:$B$7,2,FALSE)","v":{"$error":"#N/A"}}]
[null,null,null,null,null,null,null,null,null,null,null,null,"no email",{"$error":"#VALUE!"},{"$error":"#VALUE!"},{"$f":"VLOOKUP(K2450,references!$A$1:$B$7,2,FALSE)","v":{"$error":"#N/A"}}]
[null,null,null,null,null,null,null,null,null,null,null,null,"no email",{"$error":"#VALUE!"},{"$error":"#VALUE!"},{"$f":"VLOOKUP(K2451,references!$A$1:$B$7,2,FALSE)","v":{"$error":"#N/A"}}]
[null,null,null,null,null,null,null,null,null,null,null,null,"no email",{"$error":"#VALUE!"},{"$error":"#VALUE!"},{"$f":"VLOOKUP(K2452,references!$A$1:$B$7,2,FALSE)","v":{"$error":"#N/A"}}]
[null,null,null,null,null,null,null,null,null,null,null,null,"no email",{"$error":"#VALUE!"},{"$error":"#VALUE!"},{"$f":"VLOOKUP(K2453,references!$A$1:$B$7,2,FALSE)","v":{"$error":"#N/A"}}]
[null,null,null,null,null,null,null,null,null,null,null,null,"no email",{"$error":"#VALUE!"},{"$error":"#VALUE!"},{"$f":"VLOOKUP(K2454,references!$A$1:$B$7,2,FALSE)","v":{"$error":"#N/A"}}]
[null,null,null,null,null,null,null,null,null,null,null,null,"no email",{"$error":"#VALUE!"},{"$error":"#VALUE!"},{"$f":"VLOOKUP(K2455,references!$A$1:$B$7,2,FALSE)","v":{"$error":"#N/A"}}]
[null,null,null,null,null,null,null,null,null,null,null,null,"no email",{"$error":"#VALUE!"},{"$error":"#VALUE!"},{"$f":"VLOOKUP(K2456,references!$A$1:$B$7,2,FALSE)","v":{"$error":"#N/A"}}]
[null,null,null,null,null,null,null,null,null,null,null,null,"no email",{"$error":"#VALUE!"},{"$error":"#VALUE!"},{"$f":"VLOOKUP(K2457,references!$A$1:$B$7,2,FALSE)","v":{"$error":"#N/A"}}]
[null,null,null,null,null,null,null,null,null,null,null,null,"no email",{"$error":"#VALUE!"},{"$error":"#VALUE!"},{"$f":"VLOOKUP(K2458,references!$A$1:$B$7,2,FALSE)","v":{"$error":"#N/A"}}]
[null,null,null,null,null,null,null,null,null,null,null,null,"no email",{"$error":"#VALUE!"},{"$error":"#VALUE!"},{"$f":"VLOOKUP(K2459,references!$A$1:$B$7,2,FALSE)","v":{"$error":"#N/A"}}]
[null,null,null,null,null,null,null,null,null,null,null,null,"no email",{"$error":"#VALUE!"},{"$error":"#VALUE!"},{"$f":"VLOOKUP(K2460,references!$A$1:$B$7,2,FALSE)","v":{"$error":"#N/A"}}]
[null,null,null,null,null,null,null,null,null,null,null,null,"no email",{"$error":"#VALUE!"},{"$error":"#VALUE!"},{"$f":"VLOOKUP(K2461,references!$A$1:$B$7,2,FALSE)","v":{"$error":"#N/A"}}]
[null,null,null,null,null,null,null,null,null,null,null,null,"no email",{"$error":"#VALUE!"},{"$error":"#VALUE!"},{"$f":"VLOOKUP(K2462,references!$A$1:$B$7,2,FALSE)","v":{"$error":"#N/A"}}]
[null,null,null,null,null,null,null,null,null,null,null,null,"no email",{"$error":"#VALUE!"},{"$error":"#VALUE!"},{"$f":"VLOOKUP(K2463,references!$A$1:$B$7,2,FALSE)","v":{"$error":"#N/A"}}]
[null,null,null,null,null,null,null,null,null,null,null,null,"no email",{"$error":"#VALUE!"},{"$error":"#VALUE!"},{"$f":"VLOOKUP(K2464,references!$A$1:$B$7,2,FALSE)","v":{"$error":"#N/A"}}]
[null,null,null,null,null,null,null,null,null,null,null,null,"no email",{"$error":"#VALUE!"},{"$error":"#VALUE!"},{"$f":"VLOOKUP(K2465,references!$A$1:$B$7,2,FALSE)","v":{"$error":"#N/A"}}]
[null,null,null,null,null,null,null,null,null,null,null,null,"no email",{"$error":"#VALUE!"},{"$error":"#VALUE!"},{"$f":"VLOOKUP(K2466,references!$A$1:$B$7,2,FALSE)","v":{"$error":"#N/A"}}]
[null,null,null,null,null,null,null,null,null,null,null,null,"no email",{"$error":"#VALUE!"},{"$error":"#VALUE!"},{"$f":"VLOOKUP(K2467,references!$A$1:$B$7,2,FALSE)","v":{"$error":"#N/A"}}]
[null,null,null,null,null,null,null,null,null,null,null,null,"no email",{"$error":"#VALUE!"},{"$error":"#VALUE!"},{"$f":"VLOOKUP(K2468,references!$A$1:$B$7,2,FALSE)","v":{"$error":"#N/A"}}]
[null,null,null,null,null,null,null,null,null,null,null,null,"no email",{"$error":"#VALUE!"},{"$error":"#VALUE!"},{"$f":"VLOOKUP(K2469,references!$A$1:$B$7,2,FALSE)","v":{"$error":"#N/A"}}]
[null,null,null,null,null,null,null,null,null,null,null,null,"no email",{"$error":"#VALUE!"},{"$error":"#VALUE!"},{"$f":"VLOOKUP(K2470,references!$A$1:$B$7,2,FALSE)","v":{"$error":"#N/A"}}]
[null,null,null,null,null,null,null,null,null,null,null,null,"no email",{"$error":"#VALUE!"},{"$error":"#VALUE!"},{"$f":"VLOOKUP(K2471,references!$A$1:$B$7,2,FALSE)","v":{"$error":"#N/A"}}]
[null,null,null,null,null,null,null,null,null,null,null,null,"no email",{"$error":"#VALUE!"},{"$error":"#VALUE!"},{"$f":"VLOOKUP(K2472,references!$A$1:$B$7,2,FALSE)","v":{"$error":"#N/A"}}]
[null,null,null,null,null,null,null,null,null,null,null,null,"no email",{"$error":"#VALUE!"},{"$error":"#VALUE!"},{"$f":"VLOOKUP(K2473,references!$A$1:$B$7,2,FALSE)","v":{"$error":"#N/A"}}]
[null,null,null,null,null,null,null,null,null,null,null,null,"no email",{"$error":"#VALUE!"},{"$error":"#VALUE!"},{"$f":"VLOOKUP(K2474,references!$A$1:$B$7,2,FALSE)","v":{"$error":"#N/A"}}]
[null,null,null,null,null,null,null,null,null,null,null,null,"no email",{"$error":"#VALUE!"},{"$error":"#VALUE!"},{"$f":"VLOOKUP(K2475,references!$A$1:$B$7,2,FALSE)","v":{"$error":"#N/A"}}]
[null,null,null,null,null,null,null,null,null,null,null,null,"no email",{"$error":"#VALUE!"},{"$error":"#VALUE!"},{"$f":"VLOOKUP(K2476,references!$A$1:$B$7,2,FALSE)","v":{"$error":"#N/A"}}]
[null,null,null,null,null,null,null,null,null,null,null,null,"no email",{"$error":"#VALUE!"},{"$error":"#VALUE!"},{"$f":"VLOOKUP(K2477,references!$A$1:$B$7,2,FALSE)","v":{"$error":"#N/A"}}]
[null,null,null,null,null,null,null,null,null,null,null,null,"no email",{"$error":"#VALUE!"},{"$error":"#VALUE!"},{"$f":"VLOOKUP(K2478,references!$A$1:$B$7,2,FALSE)","v":{"$error":"#N/A"}}]
[null,null,null,null,null,null,null,null,null,null,null,null,"no email",{"$error":"#VALUE!"},{"$error":"#VALUE!"},{"$f":"VLOOKUP(K2479,references!$A$1:$B$7,2,FALSE)","v":{"$error":"#N/A"}}]
[null,null,null,null,null,null,null,null,null,null,null,null,"no email",{"$error":"#VALUE!"},{"$error":"#VALUE!"},{"$f":"VLOOKUP(K2480,references!$A$1:$B$7,2,FALSE)","v":{"$error":"#N/A"}}]
[null,null,null,null,null,null,null,null,null,null,null,null,"no email",{"$error":"#VALUE!"},{"$error":"#VALUE!"},{"$f":"VLOOKUP(K2481,references!$A$1:$B$7,2,FALSE)","v":{"$error":"#N/A"}}]
[null,null,null,null,null,null,null,null,null,null,null,null,"no email",{"$error":"#VALUE!"},{"$error":"#VALUE!"},{"$f":"VLOOKUP(K2482,references!$A$1:$B$7,2,FALSE)","v":{"$error":"#N/A"}}]
[null,null,null,null,null,null,null,null,null,null,null,null,"no email",{"$error":"#VALUE!"},{"$error":"#VALUE!"},{"$f":"VLOOKUP(K2483,references!$A$1:$B$7,2,FALSE)","v":{"$error":"#N/A"}}]
[null,null,null,null,null,null,null,null,null,null,null,null,"no email",{"$error":"#VALUE!"},{"$error":"#VALUE!"},{"$f":"VLOOKUP(K2484,references!$A$1:$B$7,2,FALSE)","v":{"$error":"#N/A"}}]
[null,null,null,null,null,null,null,null,null,null,null,null,"no email",{"$error":"#VALUE!"},{"$error":"#VALUE!"},{"$f":"VLOOKUP(K2485,references!$A$1:$B$7,2,FALSE)","v":{"$error":"#N/A"}}]
[null,null,null,null,null,null,null,null,null,null,null,null,"no email",{"$error":"#VALUE!"},{"$error":"#VALUE!"},{"$f":"VLOOKUP(K2486,references!$A$1:$B$7,2,FALSE)","v":{"$error":"#N/A"}}]
[null,null,null,null,null,null,null,null,null,null,null,null,"no email",{"$error":"#VALUE!"},{"$error":"#VALUE!"},{"$f":"VLOOKUP(K2487,references!$A$1:$B$7,2,FALSE)","v":{"$error":"#N/A"}}]
[null,null,null,null,null,null,null,null,null,null,null,null,"no email",{"$error":"#VALUE!"},{"$error":"#VALUE!"},{"$f":"VLOOKUP(K2488,references!$A$1:$B$7,2,FALSE)","v":{"$error":"#N/A"}}]
[null,null,null,null,null,null,null,null,null,null,null,null,"no email",{"$error":"#VALUE!"},{"$error":"#VALUE!"},{"$f":"VLOOKUP(K2489,references!$A$1:$B$7,2,FALSE)","v":{"$error":"#N/A"}}]
[null,null,null,null,null,null,null,null,null,null,null,null,"no email",{"$error":"#VALUE!"},{"$error":"#VALUE!"},{"$f":"VLOOKUP(K2490,references!$A$1:$B$7,2,FALSE)","v":{"$error":"#N/A"}}]
[null,null,null,null,null,null,null,null,null,null,null,null,"no email",{"$error":"#VALUE!"},{"$error":"#VALUE!"},{"$f":"VLOOKUP(K2491,references!$A$1:$B$7,2,FALSE)","v":{"$error":"#N/A"}}]
[null,null,null,null,null,null,null,null,null,null,null,null,"no email",{"$error":"#VALUE!"},{"$error":"#VALUE!"},{"$f":"VLOOKUP(K2492,references!$A$1:$B$7,2,FALSE)","v":{"$error":"#N/A"}}]
[null,null,null,null,null,null,null,null,null,null,null,null,"no email",{"$error":"#VALUE!"},{"$error":"#VALUE!"},{"$f":"VLOOKUP(K2493,references!$A$1:$B$7,2,FALSE)","v":{"$error":"#N/A"}}]
[null,null,null,null,null,null,null,null,null,null,null,null,"no email",{"$error":"#VALUE!"},{"$error":"#VALUE!"},{"$f":"VLOOKUP(K2494,references!$A$1:$B$7,2,FALSE)","v":{"$error":"#N/A"}}]
[null,null,null,null,null,null,null,null,null,null,null,null,"no email",{"$error":"#VALUE!"},{"$error":"#VALUE!"},{"$f":"VLOOKUP(K2495,references!$A$1:$B$7,2,FALSE)","v":{"$error":"#N/A"}}]
[null,null,null,null,null,null,null,null,null,null,null,null,"no email",{"$error":"#VALUE!"},{"$error":"#VALUE!"},{"$f":"VLOOKUP(K2496,references!$A$1:$B$7,2,FALSE)","v":{"$error":"#N/A"}}]
[null,null,null,null,null,null,null,null,null,null,null,null,"no email",{"$error":"#VALUE!"},{"$error":"#VALUE!"},{"$f":"VLOOKUP(K2497,references!$A$1:$B$7,2,FALSE)","v":{"$error":"#N/A"}}]
[null,null,null,null,null,null,null,null,null,null,null,null,{"$f":"IF(L2498=\"\", \"no email\",LOWER(L2498))","v":"no email"},{"$f":"LEFT(A2498, SEARCH(\",\",A2498,1)-1)","v":{"$error":"#VALUE!"}},{"$f":"RIGHT(A2498, LEN(A2498) -SEARCH(\",\",A2498,1)-1)","v":{"$error":"#VALUE!"}},{"$f":"VLOOKUP(K2498,references!$A$1:$B$7,2,FALSE)","v":{"$error":"#N/A"}}]
[null,null,null,null,null,null,null,null,null,null,null,null,"no email",{"$error":"#VALUE!"},{"$error":"#VALUE!"},{"$f":"VLOOKUP(K2499,references!$A$1:$B$7,2,FALSE)","v":{"$error":"#N/A"}}]
[null,null,null,null,null,null,null,null,null,null,null,null,"no email",{"$error":"#VALUE!"},{"$error":"#VALUE!"},{"$f":"VLOOKUP(K2500,references!$A$1:$B$7,2,FALSE)","v":{"$error":"#N/A"}}]
[null,null,null,null,null,null,null,null,null,null,null,null,"no email",{"$error":"#VALUE!"},{"$error":"#VALUE!"},{"$f":"VLOOKUP(K2501,references!$A$1:$B$7,2,FALSE)","v":{"$error":"#N/A"}}]
[null,null,null,null,null,null,null,null,null,null,null,null,"no email",{"$error":"#VALUE!"},{"$error":"#VALUE!"},{"$f":"VLOOKUP(K2502,references!$A$1:$B$7,2,FALSE)","v":{"$error":"#N/A"}}]
[null,null,null,null,null,null,null,null,null,null,null,null,"no email",{"$error":"#VALUE!"},{"$error":"#VALUE!"},{"$f":"VLOOKUP(K2503,references!$A$1:$B$7,2,FALSE)","v":{"$error":"#N/A"}}]
[null,null,null,null,null,null,null,null,null,null,null,null,"no email",{"$error":"#VALUE!"},{"$error":"#VALUE!"},{"$f":"VLOOKUP(K2504,references!$A$1:$B$7,2,FALSE)","v":{"$error":"#N/A"}}]
[null,null,null,null,null,null,null,null,null,null,null,null,"no email",{"$error":"#VALUE!"},{"$error":"#VALUE!"},{"$f":"VLOOKUP(K2505,references!$A$1:$B$7,2,FALSE)","v":{"$error":"#N/A"}}]
[null,null,null,null,null,null,null,null,null,null,null,null,"no email",{"$error":"#VALUE!"},{"$error":"#VALUE!"},{"$f":"VLOOKUP(K2506,references!$A$1:$B$7,2,FALSE)","v":{"$error":"#N/A"}}]
[null,null,null,null,null,null,null,null,null,null,null,null,"no email",{"$error":"#VALUE!"},{"$error":"#VALUE!"},{"$f":"VLOOKUP(K2507,references!$A$1:$B$7,2,FALSE)","v":{"$error":"#N/A"}}]
[null,null,null,null,null,null,null,null,null,null,null,null,"no email",{"$error":"#VALUE!"},{"$error":"#VALUE!"},{"$f":"VLOOKUP(K2508,references!$A$1:$B$7,2,FALSE)","v":{"$error":"#N/A"}}]
[null,null,null,null,null,null,null,null,null,null,null,null,"no email",{"$error":"#VALUE!"},{"$error":"#VALUE!"},{"$f":"VLOOKUP(K2509,references!$A$1:$B$7,2,FALSE)","v":{"$error":"#N/A"}}]
[null,null,null,null,null,null,null,null,null,null,null,null,"no email",{"$error":"#VALUE!"},{"$error":"#VALUE!"},{"$f":"VLOOKUP(K2510,references!$A$1:$B$7,2,FALSE)","v":{"$error":"#N/A"}}]
[null,null,null,null,null,null,null,null,null,null,null,null,"no email",{"$error":"#VALUE!"},{"$error":"#VALUE!"},{"$f":"VLOOKUP(K2511,references!$A$1:$B$7,2,FALSE)","v":{"$error":"#N/A"}}]
[null,null,null,null,null,null,null,null,null,null,null,null,"no email",{"$error":"#VALUE!"},{"$error":"#VALUE!"},{"$f":"VLOOKUP(K2512,references!$A$1:$B$7,2,FALSE)","v":{"$error":"#N/A"}}]
[null,null,null,null,null,null,null,null,null,null,null,null,"no email",{"$error":"#VALUE!"},{"$error":"#VALUE!"},{"$f":"VLOOKUP(K2513,references!$A$1:$B$7,2,FALSE)","v":{"$error":"#N/A"}}]
[null,null,null,null,null,null,null,null,null,null,null,null,"no email",{"$error":"#VALUE!"},{"$error":"#VALUE!"},{"$f":"VLOOKUP(K2514,references!$A$1:$B$7,2,FALSE)","v":{"$error":"#N/A"}}]
[null,null,null,null,null,null,null,null,null,null,null,null,"no email",{"$error":"#VALUE!"},{"$error":"#VALUE!"},{"$f":"VLOOKUP(K2515,references!$A$1:$B$7,2,FALSE)","v":{"$error":"#N/A"}}]
[null,null,null,null,null,null,null,null,null,null,null,null,"no email",{"$error":"#VALUE!"},{"$error":"#VALUE!"},{"$f":"VLOOKUP(K2516,references!$A$1:$B$7,2,FALSE)","v":{"$error":"#N/A"}}]
[null,null,null,null,null,null,null,null,null,null,null,null,"no email",{"$error":"#VALUE!"},{"$error":"#VALUE!"},{"$f":"VLOOKUP(K2517,references!$A$1:$B$7,2,FALSE)","v":{"$error":"#N/A"}}]
[null,null,null,null,null,null,null,null,null,null,null,null,"no email",{"$error":"#VALUE!"},{"$error":"#VALUE!"},{"$f":"VLOOKUP(K2518,references!$A$1:$B$7,2,FALSE)","v":{"$error":"#N/A"}}]
[null,null,null,null,null,null,null,null,null,null,null,null,"no email",{"$error":"#VALUE!"},{"$error":"#VALUE!"},{"$f":"VLOOKUP(K2519,references!$A$1:$B$7,2,FALSE)","v":{"$error":"#N/A"}}]
[null,null,null,null,null,null,null,null,null,null,null,null,"no email",{"$error":"#VALUE!"},{"$error":"#VALUE!"},{"$f":"VLOOKUP(K2520,references!$A$1:$B$7,2,FALSE)","v":{"$error":"#N/A"}}]
[null,null,null,null,null,null,null,null,null,null,null,null,"no email",{"$error":"#VALUE!"},{"$error":"#VALUE!"},{"$f":"VLOOKUP(K2521,references!$A$1:$B$7,2,FALSE)","v":{"$error":"#N/A"}}]
[null,null,null,null,null,null,null,null,null,null,null,null,"no email",{"$error":"#VALUE!"},{"$error":"#VALUE!"},{"$f":"VLOOKUP(K2522,references!$A$1:$B$7,2,FALSE)","v":{"$error":"#N/A"}}]
[null,null,null,null,null,null,null,null,null,null,null,null,"no email",{"$error":"#VALUE!"},{"$error":"#VALUE!"},{"$f":"VLOOKUP(K2523,references!$A$1:$B$7,2,FALSE)","v":{"$error":"#N/A"}}]
[null,null,null,null,null,null,null,null,null,null,null,null,"no email",{"$error":"#VALUE!"},{"$error":"#VALUE!"},{"$f":"VLOOKUP(K2524,references!$A$1:$B$7,2,FALSE)","v":{"$error":"#N/A"}}]
[null,null,null,null,null,null,null,null,null,null,null,null,"no email",{"$error":"#VALUE!"},{"$error":"#VALUE!"},{"$f":"VLOOKUP(K2525,references!$A$1:$B$7,2,FALSE)","v":{"$error":"#N/A"}}]
[null,null,null,null,null,null,null,null,null,null,null,null,"no email",{"$error":"#VALUE!"},{"$error":"#VALUE!"},{"$f":"VLOOKUP(K2526,references!$A$1:$B$7,2,FALSE)","v":{"$error":"#N/A"}}]
[null,null,null,null,null,null,null,null,null,null,null,null,"no email",{"$error":"#VALUE!"},{"$error":"#VALUE!"},{"$f":"VLOOKUP(K2527,references!$A$1:$B$7,2,FALSE)","v":{"$error":"#N/A"}}]
[null,null,null,null,null,null,null,null,null,null,null,null,"no email",{"$error":"#VALUE!"},{"$error":"#VALUE!"},{"$f":"VLOOKUP(K2528,references!$A$1:$B$7,2,FALSE)","v":{"$error":"#N/A"}}]
[null,null,null,null,null,null,null,null,null,null,null,null,"no email",{"$error":"#VALUE!"},{"$error":"#VALUE!"},{"$f":"VLOOKUP(K2529,references!$A$1:$B$7,2,FALSE)","v":{"$error":"#N/A"}}]
[null,null,null,null,null,null,null,null,null,null,null,null,"no email",{"$error":"#VALUE!"},{"$error":"#VALUE!"},{"$f":"VLOOKUP(K2530,references!$A$1:$B$7,2,FALSE)","v":{"$error":"#N/A"}}]
[null,null,null,null,null,null,null,null,null,null,null,null,"no email",{"$error":"#VALUE!"},{"$error":"#VALUE!"},{"$f":"VLOOKUP(K2531,references!$A$1:$B$7,2,FALSE)","v":{"$error":"#N/A"}}]
[null,null,null,null,null,null,null,null,null,null,null,null,"no email",{"$error":"#VALUE!"},{"$error":"#VALUE!"},{"$f":"VLOOKUP(K2532,references!$A$1:$B$7,2,FALSE)","v":{"$error":"#N/A"}}]
[null,null,null,null,null,null,null,null,null,null,null,null,"no email",{"$error":"#VALUE!"},{"$error":"#VALUE!"},{"$f":"VLOOKUP(K2533,references!$A$1:$B$7,2,FALSE)","v":{"$error":"#N/A"}}]
[null,null,null,null,null,null,null,null,null,null,null,null,"no email",{"$error":"#VALUE!"},{"$error":"#VALUE!"},{"$f":"VLOOKUP(K2534,references!$A$1:$B$7,2,FALSE)","v":{"$error":"#N/A"}}]
[null,null,null,null,null,null,null,null,null,null,null,null,"no email",{"$error":"#VALUE!"},{"$error":"#VALUE!"},{"$f":"VLOOKUP(K2535,references!$A$1:$B$7,2,FALSE)","v":{"$error":"#N/A"}}]
[null,null,null,null,null,null,null,null,null,null,null,null,"no email",{"$error":"#VALUE!"},{"$error":"#VALUE!"},{"$f":"VLOOKUP(K2536,references!$A$1:$B$7,2,FALSE)","v":{"$error":"#N/A"}}]
[null,null,null,null,null,null,null,null,null,null,null,null,"no email",{"$error":"#VALUE!"},{"$error":"#VALUE!"},{"$f":"VLOOKUP(K2537,references!$A$1:$B$7,2,FALSE)","v":{"$error":"#N/A"}}]
[null,null,null,null,null,null,null,null,null,null,null,null,"no email",{"$error":"#VALUE!"},{"$error":"#VALUE!"},{"$f":"VLOOKUP(K2538,references!$A$1:$B$7,2,FALSE)","v":{"$error":"#N/A"}}]
[null,null,null,null,null,null,null,null,null,null,null,null,"no email",{"$error":"#VALUE!"},{"$error":"#VALUE!"},{"$f":"VLOOKUP(K2539,references!$A$1:$B$7,2,FALSE)","v":{"$error":"#N/A"}}]
[null,null,null,null,null,null,null,null,null,null,null,null,"no email",{"$error":"#VALUE!"},{"$error":"#VALUE!"},{"$f":"VLOOKUP(K2540,references!$A$1:$B$7,2,FALSE)","v":{"$error":"#N/A"}}]
[null,null,null,null,null,null,null,null,null,null,null,null,"no email",{"$error":"#VALUE!"},{"$error":"#VALUE!"},{"$f":"VLOOKUP(K2541,references!$A$1:$B$7,2,FALSE)","v":{"$error":"#N/A"}}]
[null,null,null,null,null,null,null,null,null,null,null,null,"no email",{"$error":"#VALUE!"},{"$error":"#VALUE!"},{"$f":"VLOOKUP(K2542,references!$A$1:$B$7,2,FALSE)","v":{"$error":"#N/A"}}]
[null,null,null,null,null,null,null,null,null,null,null,null,"no email",{"$error":"#VALUE!"},{"$error":"#VALUE!"},{"$f":"VLOOKUP(K2543,references!$A$1:$B$7,2,FALSE)","v":{"$error":"#N/A"}}]
[null,null,null,null,null,null,null,null,null,null,null,null,"no email",{"$error":"#VALUE!"},{"$error":"#VALUE!"},{"$f":"VLOOKUP(K2544,references!$A$1:$B$7,2,FALSE)","v":{"$error":"#N/A"}}]
[null,null,null,null,null,null,null,null,null,null,null,null,"no email",{"$error":"#VALUE!"},{"$error":"#VALUE!"},{"$f":"VLOOKUP(K2545,references!$A$1:$B$7,2,FALSE)","v":{"$error":"#N/A"}}]
[null,null,null,null,null,null,null,null,null,null,null,null,"no email",{"$error":"#VALUE!"},{"$error":"#VALUE!"},{"$f":"VLOOKUP(K2546,references!$A$1:$B$7,2,FALSE)","v":{"$error":"#N/A"}}]
[null,null,null,null,null,null,null,null,null,null,null,null,"no email",{"$error":"#VALUE!"},{"$error":"#VALUE!"},{"$f":"VLOOKUP(K2547,references!$A$1:$B$7,2,FALSE)","v":{"$error":"#N/A"}}]
[null,null,null,null,null,null,null,null,null,null,null,null,"no email",{"$error":"#VALUE!"},{"$error":"#VALUE!"},{"$f":"VLOOKUP(K2548,references!$A$1:$B$7,2,FALSE)","v":{"$error":"#N/A"}}]
[null,null,null,null,null,null,null,null,null,null,null,null,"no email",{"$error":"#VALUE!"},{"$error":"#VALUE!"},{"$f":"VLOOKUP(K2549,references!$A$1:$B$7,2,FALSE)","v":{"$error":"#N/A"}}]
[null,null,null,null,null,null,null,null,null,null,null,null,"no email",{"$error":"#VALUE!"},{"$error":"#VALUE!"},{"$f":"VLOOKUP(K2550,references!$A$1:$B$7,2,FALSE)","v":{"$error":"#N/A"}}]
[null,null,null,null,null,null,null,null,null,null,null,null,"no email",{"$error":"#VALUE!"},{"$error":"#VALUE!"},{"$f":"VLOOKUP(K2551,references!$A$1:$B$7,2,FALSE)","v":{"$error":"#N/A"}}]
[null,null,null,null,null,null,null,null,null,null,null,null,"no email",{"$error":"#VALUE!"},{"$error":"#VALUE!"},{"$f":"VLOOKUP(K2552,references!$A$1:$B$7,2,FALSE)","v":{"$error":"#N/A"}}]
[null,null,null,null,null,null,null,null,null,null,null,null,"no email",{"$error":"#VALUE!"},{"$error":"#VALUE!"},{"$f":"VLOOKUP(K2553,references!$A$1:$B$7,2,FALSE)","v":{"$error":"#N/A"}}]
[null,null,null,null,null,null,null,null,null,null,null,null,"no email",{"$error":"#VALUE!"},{"$error":"#VALUE!"},{"$f":"VLOOKUP(K2554,references!$A$1:$B$7,2,FALSE)","v":{"$error":"#N/A"}}]
[null,null,null,null,null,null,null,null,null,null,null,null,"no email",{"$error":"#VALUE!"},{"$error":"#VALUE!"},{"$f":"VLOOKUP(K2555,references!$A$1:$B$7,2,FALSE)","v":{"$error":"#N/A"}}]
[null,null,null,null,null,null,null,null,null,null,null,null,"no email",{"$error":"#VALUE!"},{"$error":"#VALUE!"},{"$f":"VLOOKUP(K2556,references!$A$1:$B$7,2,FALSE)","v":{"$error":"#N/A"}}]
[null,null,null,null,null,null,null,null,null,null,null,null,"no email",{"$error":"#VALUE!"},{"$error":"#VALUE!"},{"$f":"VLOOKUP(K2557,references!$A$1:$B$7,2,FALSE)","v":{"$error":"#N/A"}}]
[null,null,null,null,null,null,null,null,null,null,null,null,"no email",{"$error":"#VALUE!"},{"$error":"#VALUE!"},{"$f":"VLOOKUP(K2558,references!$A$1:$B$7,2,FALSE)","v":{"$error":"#N/A"}}]
[null,null,null,null,null,null,null,null,null,null,null,null,"no email",{"$error":"#VALUE!"},{"$error":"#VALUE!"},{"$f":"VLOOKUP(K2559,references!$A$1:$B$7,2,FALSE)","v":{"$error":"#N/A"}}]
[null,null,null,null,null,null,null,null,null,null,null,null,"no email",{"$error":"#VALUE!"},{"$error":"#VALUE!"},{"$f":"VLOOKUP(K2560,references!$A$1:$B$7,2,FALSE)","v":{"$error":"#N/A"}}]
[null,null,null,null,null,null,null,null,null,null,null,null,"no email",{"$error":"#VALUE!"},{"$error":"#VALUE!"},{"$f":"VLOOKUP(K2561,references!$A$1:$B$7,2,FALSE)","v":{"$error":"#N/A"}}]
[null,null,null,null,null,null,null,null,null,null,null,null,{"$f":"IF(L2562=\"\", \"no email\",LOWER(L2562))","v":"no email"},{"$f":"LEFT(A2562, SEARCH(\",\",A2562,1)-1)","v":{"$error":"#VALUE!"}},{"$f":"RIGHT(A2562, LEN(A2562) -SEARCH(\",\",A2562,1)-1)","v":{"$error":"#VALUE!"}},{"$f":"VLOOKUP(K2562,references!$A$1:$B$7,2,FALSE)","v":{"$error":"#N/A"}}]
[null,null,null,null,null,null,null,null,null,null,null,null,"no email",{"$error":"#VALUE!"},{"$error":"#VALUE!"},{"$f":"VLOOKUP(K2563,references!$A$1:$B$7,2,FALSE)","v":{"$error":"#N/A"}}]
[null,null,null,null,null,null,null,null,null,null,null,null,"no email",{"$error":"#VALUE!"},{"$error":"#VALUE!"},{"$f":"VLOOKUP(K2564,references!$A$1:$B$7,2,FALSE)","v":{"$error":"#N/A"}}]
[null,null,null,null,null,null,null,null,null,null,null,null,"no email",{"$error":"#VALUE!"},{"$error":"#VALUE!"},{"$f":"VLOOKUP(K2565,references!$A$1:$B$7,2,FALSE)","v":{"$error":"#N/A"}}]
[null,null,null,null,null,null,null,null,null,null,null,null,"no email",{"$error":"#VALUE!"},{"$error":"#VALUE!"},{"$f":"VLOOKUP(K2566,references!$A$1:$B$7,2,FALSE)","v":{"$error":"#N/A"}}]
[null,null,null,null,null,null,null,null,null,null,null,null,"no email",{"$error":"#VALUE!"},{"$error":"#VALUE!"},{"$f":"VLOOKUP(K2567,references!$A$1:$B$7,2,FALSE)","v":{"$error":"#N/A"}}]
[null,null,null,null,null,null,null,null,null,null,null,null,"no email",{"$error":"#VALUE!"},{"$error":"#VALUE!"},{"$f":"VLOOKUP(K2568,references!$A$1:$B$7,2,FALSE)","v":{"$error":"#N/A"}}]
[null,null,null,null,null,null,null,null,null,null,null,null,"no email",{"$error":"#VALUE!"},{"$error":"#VALUE!"},{"$f":"VLOOKUP(K2569,references!$A$1:$B$7,2,FALSE)","v":{"$error":"#N/A"}}]
[null,null,null,null,null,null,null,null,null,null,null,null,"no email",{"$error":"#VALUE!"},{"$error":"#VALUE!"},{"$f":"VLOOKUP(K2570,references!$A$1:$B$7,2,FALSE)","v":{"$error":"#N/A"}}]
[null,null,null,null,null,null,null,null,null,null,null,null,"no email",{"$error":"#VALUE!"},{"$error":"#VALUE!"},{"$f":"VLOOKUP(K2571,references!$A$1:$B$7,2,FALSE)","v":{"$error":"#N/A"}}]
[null,null,null,null,null,null,null,null,null,null,null,null,"no email",{"$error":"#VALUE!"},{"$error":"#VALUE!"},{"$f":"VLOOKUP(K2572,references!$A$1:$B$7,2,FALSE)","v":{"$error":"#N/A"}}]
[null,null,null,null,null,null,null,null,null,null,null,null,"no email",{"$error":"#VALUE!"},{"$error":"#VALUE!"},{"$f":"VLOOKUP(K2573,references!$A$1:$B$7,2,FALSE)","v":{"$error":"#N/A"}}]
[null,null,null,null,null,null,null,null,null,null,null,null,"no email",{"$error":"#VALUE!"},{"$error":"#VALUE!"},{"$f":"VLOOKUP(K2574,references!$A$1:$B$7,2,FALSE)","v":{"$error":"#N/A"}}]
[null,null,null,null,null,null,null,null,null,null,null,null,"no email",{"$error":"#VALUE!"},{"$error":"#VALUE!"},{"$f":"VLOOKUP(K2575,references!$A$1:$B$7,2,FALSE)","v":{"$error":"#N/A"}}]
[null,null,null,null,null,null,null,null,null,null,null,null,"no email",{"$error":"#VALUE!"},{"$error":"#VALUE!"},{"$f":"VLOOKUP(K2576,references!$A$1:$B$7,2,FALSE)","v":{"$error":"#N/A"}}]
[null,null,null,null,null,null,null,null,null,null,null,null,"no email",{"$error":"#VALUE!"},{"$error":"#VALUE!"},{"$f":"VLOOKUP(K2577,references!$A$1:$B$7,2,FALSE)","v":{"$error":"#N/A"}}]
[null,null,null,null,null,null,null,null,null,null,null,null,"no email",{"$error":"#VALUE!"},{"$error":"#VALUE!"},{"$f":"VLOOKUP(K2578,references!$A$1:$B$7,2,FALSE)","v":{"$error":"#N/A"}}]
[null,null,null,null,null,null,null,null,null,null,null,null,"no email",{"$error":"#VALUE!"},{"$error":"#VALUE!"},{"$f":"VLOOKUP(K2579,references!$A$1:$B$7,2,FALSE)","v":{"$error":"#N/A"}}]
[null,null,null,null,null,null,null,null,null,null,null,null,"no email",{"$error":"#VALUE!"},{"$error":"#VALUE!"},{"$f":"VLOOKUP(K2580,references!$A$1:$B$7,2,FALSE)","v":{"$error":"#N/A"}}]
[null,null,null,null,null,null,null,null,null,null,null,null,"no email",{"$error":"#VALUE!"},{"$error":"#VALUE!"},{"$f":"VLOOKUP(K2581,references!$A$1:$B$7,2,FALSE)","v":{"$error":"#N/A"}}]
[null,null,null,null,null,null,null,null,null,null,null,null,"no email",{"$error":"#VALUE!"},{"$error":"#VALUE!"},{"$f":"VLOOKUP(K2582,references!$A$1:$B$7,2,FALSE)","v":{"$error":"#N/A"}}]
[null,null,null,null,null,null,null,null,null,null,null,null,"no email",{"$error":"#VALUE!"},{"$error":"#VALUE!"},{"$f":"VLOOKUP(K2583,references!$A$1:$B$7,2,FALSE)","v":{"$error":"#N/A"}}]
[null,null,null,null,null,null,null,null,null,null,null,null,"no email",{"$error":"#VALUE!"},{"$error":"#VALUE!"},{"$f":"VLOOKUP(K2584,references!$A$1:$B$7,2,FALSE)","v":{"$error":"#N/A"}}]
[null,null,null,null,null,null,null,null,null,null,null,null,"no email",{"$error":"#VALUE!"},{"$error":"#VALUE!"},{"$f":"VLOOKUP(K2585,references!$A$1:$B$7,2,FALSE)","v":{"$error":"#N/A"}}]
[null,null,null,null,null,null,null,null,null,null,null,null,"no email",{"$error":"#VALUE!"},{"$error":"#VALUE!"},{"$f":"VLOOKUP(K2586,references!$A$1:$B$7,2,FALSE)","v":{"$error":"#N/A"}}]
[null,null,null,null,null,null,null,null,null,null,null,null,"no email",{"$error":"#VALUE!"},{"$error":"#VALUE!"},{"$f":"VLOOKUP(K2587,references!$A$1:$B$7,2,FALSE)","v":{"$error":"#N/A"}}]
[null,null,null,null,null,null,null,null,null,null,null,null,"no email",{"$error":"#VALUE!"},{"$error":"#VALUE!"},{"$f":"VLOOKUP(K2588,references!$A$1:$B$7,2,FALSE)","v":{"$error":"#N/A"}}]
[null,null,null,null,null,null,null,null,null,null,null,null,"no email",{"$error":"#VALUE!"},{"$error":"#VALUE!"},{"$f":"VLOOKUP(K2589,references!$A$1:$B$7,2,FALSE)","v":{"$error":"#N/A"}}]
[null,null,null,null,null,null,null,null,null,null,null,null,"no email",{"$error":"#VALUE!"},{"$error":"#VALUE!"},{"$f":"VLOOKUP(K2590,references!$A$1:$B$7,2,FALSE)","v":{"$error":"#N/A"}}]
[null,null,null,null,null,null,null,null,null,null,null,null,"no email",{"$error":"#VALUE!"},{"$error":"#VALUE!"},{"$f":"VLOOKUP(K2591,references!$A$1:$B$7,2,FALSE)","v":{"$error":"#N/A"}}]
[null,null,null,null,null,null,null,null,null,null,null,null,"no email",{"$error":"#VALUE!"},{"$error":"#VALUE!"},{"$f":"VLOOKUP(K2592,references!$A$1:$B$7,2,FALSE)","v":{"$error":"#N/A"}}]
[null,null,null,null,null,null,null,null,null,null,null,null,"no email",{"$error":"#VALUE!"},{"$error":"#VALUE!"},{"$f":"VLOOKUP(K2593,references!$A$1:$B$7,2,FALSE)","v":{"$error":"#N/A"}}]
[null,null,null,null,null,null,null,null,null,null,null,null,"no email",{"$error":"#VALUE!"},{"$error":"#VALUE!"},{"$f":"VLOOKUP(K2594,references!$A$1:$B$7,2,FALSE)","v":{"$error":"#N/A"}}]
[null,null,null,null,null,null,null,null,null,null,null,null,"no email",{"$error":"#VALUE!"},{"$error":"#VALUE!"},{"$f":"VLOOKUP(K2595,references!$A$1:$B$7,2,FALSE)","v":{"$error":"#N/A"}}]
[null,null,null,null,null,null,null,null,null,null,null,null,"no email",{"$error":"#VALUE!"},{"$error":"#VALUE!"},{"$f":"VLOOKUP(K2596,references!$A$1:$B$7,2,FALSE)","v":{"$error":"#N/A"}}]
[null,null,null,null,null,null,null,null,null,null,null,null,"no email",{"$error":"#VALUE!"},{"$error":"#VALUE!"},{"$f":"VLOOKUP(K2597,references!$A$1:$B$7,2,FALSE)","v":{"$error":"#N/A"}}]
[null,null,null,null,null,null,null,null,null,null,null,null,"no email",{"$error":"#VALUE!"},{"$error":"#VALUE!"},{"$f":"VLOOKUP(K2598,references!$A$1:$B$7,2,FALSE)","v":{"$error":"#N/A"}}]
[null,null,null,null,null,null,null,null,null,null,null,null,"no email",{"$error":"#VALUE!"},{"$error":"#VALUE!"},{"$f":"VLOOKUP(K2599,references!$A$1:$B$7,2,FALSE)","v":{"$error":"#N/A"}}]
[null,null,null,null,null,null,null,null,null,null,null,null,"no email",{"$error":"#VALUE!"},{"$error":"#VALUE!"},{"$f":"VLOOKUP(K2600,references!$A$1:$B$7,2,FALSE)","v":{"$error":"#N/A"}}]
[null,null,null,null,null,null,null,null,null,null,null,null,"no email",{"$error":"#VALUE!"},{"$error":"#VALUE!"},{"$f":"VLOOKUP(K2601,references!$A$1:$B$7,2,FALSE)","v":{"$error":"#N/A"}}]
[null,null,null,null,null,null,null,null,null,null,null,null,"no email",{"$error":"#VALUE!"},{"$error":"#VALUE!"},{"$f":"VLOOKUP(K2602,references!$A$1:$B$7,2,FALSE)","v":{"$error":"#N/A"}}]
[null,null,null,null,null,null,null,null,null,null,null,null,"no email",{"$error":"#VALUE!"},{"$error":"#VALUE!"},{"$f":"VLOOKUP(K2603,references!$A$1:$B$7,2,FALSE)","v":{"$error":"#N/A"}}]
[null,null,null,null,null,null,null,null,null,null,null,null,"no email",{"$error":"#VALUE!"},{"$error":"#VALUE!"},{"$f":"VLOOKUP(K2604,references!$A$1:$B$7,2,FALSE)","v":{"$error":"#N/A"}}]
[null,null,null,null,null,null,null,null,null,null,null,null,"no email",{"$error":"#VALUE!"},{"$error":"#VALUE!"},{"$f":"VLOOKUP(K2605,references!$A$1:$B$7,2,FALSE)","v":{"$error":"#N/A"}}]
[null,null,null,null,null,null,null,null,null,null,null,null,"no email",{"$error":"#VALUE!"},{"$error":"#VALUE!"},{"$f":"VLOOKUP(K2606,references!$A$1:$B$7,2,FALSE)","v":{"$error":"#N/A"}}]
[null,null,null,null,null,null,null,null,null,null,null,null,"no email",{"$error":"#VALUE!"},{"$error":"#VALUE!"},{"$f":"VLOOKUP(K2607,references!$A$1:$B$7,2,FALSE)","v":{"$error":"#N/A"}}]
[null,null,null,null,null,null,null,null,null,null,null,null,"no email",{"$error":"#VALUE!"},{"$error":"#VALUE!"},{"$f":"VLOOKUP(K2608,references!$A$1:$B$7,2,FALSE)","v":{"$error":"#N/A"}}]
[null,null,null,null,null,null,null,null,null,null,null,null,"no email",{"$error":"#VALUE!"},{"$error":"#VALUE!"},{"$f":"VLOOKUP(K2609,references!$A$1:$B$7,2,FALSE)","v":{"$error":"#N/A"}}]
[null,null,null,null,null,null,null,null,null,null,null,null,"no email",{"$error":"#VALUE!"},{"$error":"#VALUE!"},{"$f":"VLOOKUP(K2610,references!$A$1:$B$7,2,FALSE)","v":{"$error":"#N/A"}}]
[null,null,null,null,null,null,null,null,null,null,null,null,"no email",{"$error":"#VALUE!"},{"$error":"#VALUE!"},{"$f":"VLOOKUP(K2611,references!$A$1:$B$7,2,FALSE)","v":{"$error":"#N/A"}}]
[null,null,null,null,null,null,null,null,null,null,null,null,"no email",{"$error":"#VALUE!"},{"$error":"#VALUE!"},{"$f":"VLOOKUP(K2612,references!$A$1:$B$7,2,FALSE)","v":{"$error":"#N/A"}}]
[null,null,null,null,null,null,null,null,null,null,null,null,"no email",{"$error":"#VALUE!"},{"$error":"#VALUE!"},{"$f":"VLOOKUP(K2613,references!$A$1:$B$7,2,FALSE)","v":{"$error":"#N/A"}}]
[null,null,null,null,null,null,null,null,null,null,null,null,"no email",{"$error":"#VALUE!"},{"$error":"#VALUE!"},{"$f":"VLOOKUP(K2614,references!$A$1:$B$7,2,FALSE)","v":{"$error":"#N/A"}}]
[null,null,null,null,null,null,null,null,null,null,null,null,"no email",{"$error":"#VALUE!"},{"$error":"#VALUE!"},{"$f":"VLOOKUP(K2615,references!$A$1:$B$7,2,FALSE)","v":{"$error":"#N/A"}}]
[null,null,null,null,null,null,null,null,null,null,null,null,"no email",{"$error":"#VALUE!"},{"$error":"#VALUE!"},{"$f":"VLOOKUP(K2616,references!$A$1:$B$7,2,FALSE)","v":{"$error":"#N/A"}}]
[null,null,null,null,null,null,null,null,null,null,null,null,"no email",{"$error":"#VALUE!"},{"$error":"#VALUE!"},{"$f":"VLOOKUP(K2617,references!$A$1:$B$7,2,FALSE)","v":{"$error":"#N/A"}}]
[null,null,null,null,null,null,null,null,null,null,null,null,"no email",{"$error":"#VALUE!"},{"$error":"#VALUE!"},{"$f":"VLOOKUP(K2618,references!$A$1:$B$7,2,FALSE)","v":{"$error":"#N/A"}}]
[null,null,null,null,null,null,null,null,null,null,null,null,"no email",{"$error":"#VALUE!"},{"$error":"#VALUE!"},{"$f":"VLOOKUP(K2619,references!$A$1:$B$7,2,FALSE)","v":{"$error":"#N/A"}}]
[null,null,null,null,null,null,null,null,null,null,null,null,"no email",{"$error":"#VALUE!"},{"$error":"#VALUE!"},{"$f":"VLOOKUP(K2620,references!$A$1:$B$7,2,FALSE)","v":{"$error":"#N/A"}}]
[null,null,null,null,null,null,null,null,null,null,null,null,"no email",{"$error":"#VALUE!"},{"$error":"#VALUE!"},{"$f":"VLOOKUP(K2621,references!$A$1:$B$7,2,FALSE)","v":{"$error":"#N/A"}}]
[null,null,null,null,null,null,null,null,null,null,null,null,"no email",{"$error":"#VALUE!"},{"$error":"#VALUE!"},{"$f":"VLOOKUP(K2622,references!$A$1:$B$7,2,FALSE)","v":{"$error":"#N/A"}}]
[null,null,null,null,null,null,null,null,null,null,null,null,"no email",{"$error":"#VALUE!"},{"$error":"#VALUE!"},{"$f":"VLOOKUP(K2623,references!$A$1:$B$7,2,FALSE)","v":{"$error":"#N/A"}}]
[null,null,null,null,null,null,null,null,null,null,null,null,"no email",{"$error":"#VALUE!"},{"$error":"#VALUE!"},{"$f":"VLOOKUP(K2624,references!$A$1:$B$7,2,FALSE)","v":{"$error":"#N/A"}}]
[null,null,null,null,null,null,null,null,null,null,null,null,"no email",{"$error":"#VALUE!"},{"$error":"#VALUE!"},{"$f":"VLOOKUP(K2625,references!$A$1:$B$7,2,FALSE)","v":{"$error":"#N/A"}}]
[null,null,null,null,null,null,null,null,null,null,null,null,{"$f":"IF(L2626=\"\", \"no email\",LOWER(L2626))","v":"no email"},{"$f":"LEFT(A2626, SEARCH(\",\",A2626,1)-1)","v":{"$error":"#VALUE!"}},{"$f":"RIGHT(A2626, LEN(A2626) -SEARCH(\",\",A2626,1)-1)","v":{"$error":"#VALUE!"}},{"$f":"VLOOKUP(K2626,references!$A$1:$B$7,2,FALSE)","v":{"$error":"#N/A"}}]
[null,null,null,null,null,null,null,null,null,null,null,null,"no email",{"$error":"#VALUE!"},{"$error":"#VALUE!"},{"$f":"VLOOKUP(K2627,references!$A$1:$B$7,2,FALSE)","v":{"$error":"#N/A"}}]
[null,null,null,null,null,null,null,null,null,null,null,null,"no email",{"$error":"#VALUE!"},{"$error":"#VALUE!"},{"$f":"VLOOKUP(K2628,references!$A$1:$B$7,2,FALSE)","v":{"$error":"#N/A"}}]
[null,null,null,null,null,null,null,null,null,null,null,null,"no email",{"$error":"#VALUE!"},{"$error":"#VALUE!"},{"$f":"VLOOKUP(K2629,references!$A$1:$B$7,2,FALSE)","v":{"$error":"#N/A"}}]
[null,null,null,null,null,null,null,null,null,null,null,null,"no email",{"$error":"#VALUE!"},{"$error":"#VALUE!"},{"$f":"VLOOKUP(K2630,references!$A$1:$B$7,2,FALSE)","v":{"$error":"#N/A"}}]
[null,null,null,null,null,null,null,null,null,null,null,null,"no email",{"$error":"#VALUE!"},{"$error":"#VALUE!"},{"$f":"VLOOKUP(K2631,references!$A$1:$B$7,2,FALSE)","v":{"$error":"#N/A"}}]
[null,null,null,null,null,null,null,null,null,null,null,null,"no email",{"$error":"#VALUE!"},{"$error":"#VALUE!"},{"$f":"VLOOKUP(K2632,references!$A$1:$B$7,2,FALSE)","v":{"$error":"#N/A"}}]
[null,null,null,null,null,null,null,null,null,null,null,null,"no email",{"$error":"#VALUE!"},{"$error":"#VALUE!"},{"$f":"VLOOKUP(K2633,references!$A$1:$B$7,2,FALSE)","v":{"$error":"#N/A"}}]
[null,null,null,null,null,null,null,null,null,null,null,null,"no email",{"$error":"#VALUE!"},{"$error":"#VALUE!"},{"$f":"VLOOKUP(K2634,references!$A$1:$B$7,2,FALSE)","v":{"$error":"#N/A"}}]
[null,null,null,null,null,null,null,null,null,null,null,null,"no email",{"$error":"#VALUE!"},{"$error":"#VALUE!"},{"$f":"VLOOKUP(K2635,references!$A$1:$B$7,2,FALSE)","v":{"$error":"#N/A"}}]
[null,null,null,null,null,null,null,null,null,null,null,null,"no email",{"$error":"#VALUE!"},{"$error":"#VALUE!"},{"$f":"VLOOKUP(K2636,references!$A$1:$B$7,2,FALSE)","v":{"$error":"#N/A"}}]
[null,null,null,null,null,null,null,null,null,null,null,null,"no email",{"$error":"#VALUE!"},{"$error":"#VALUE!"},{"$f":"VLOOKUP(K2637,references!$A$1:$B$7,2,FALSE)","v":{"$error":"#N/A"}}]
[null,null,null,null,null,null,null,null,null,null,null,null,"no email",{"$error":"#VALUE!"},{"$error":"#VALUE!"},{"$f":"VLOOKUP(K2638,references!$A$1:$B$7,2,FALSE)","v":{"$error":"#N/A"}}]
[null,null,null,null,null,null,null,null,null,null,null,null,"no email",{"$error":"#VALUE!"},{"$error":"#VALUE!"},{"$f":"VLOOKUP(K2639,references!$A$1:$B$7,2,FALSE)","v":{"$error":"#N/A"}}]
[null,null,null,null,null,null,null,null,null,null,null,null,"no email",{"$error":"#VALUE!"},{"$error":"#VALUE!"},{"$f":"VLOOKUP(K2640,references!$A$1:$B$7,2,FALSE)","v":{"$error":"#N/A"}}]
[null,null,null,null,null,null,null,null,null,null,null,null,"no email",{"$error":"#VALUE!"},{"$error":"#VALUE!"},{"$f":"VLOOKUP(K2641,references!$A$1:$B$7,2,FALSE)","v":{"$error":"#N/A"}}]
[null,null,null,null,null,null,null,null,null,null,null,null,"no email",{"$error":"#VALUE!"},{"$error":"#VALUE!"},{"$f":"VLOOKUP(K2642,references!$A$1:$B$7,2,FALSE)","v":{"$error":"#N/A"}}]
[null,null,null,null,null,null,null,null,null,null,null,null,"no email",{"$error":"#VALUE!"},{"$error":"#VALUE!"},{"$f":"VLOOKUP(K2643,references!$A$1:$B$7,2,FALSE)","v":{"$error":"#N/A"}}]
[null,null,null,null,null,null,null,null,null,null,null,null,"no email",{"$error":"#VALUE!"},{"$error":"#VALUE!"},{"$f":"VLOOKUP(K2644,references!$A$1:$B$7,2,FALSE)","v":{"$error":"#N/A"}}]
[null,null,null,null,null,null,null,null,null,null,null,null,"no email",{"$error":"#VALUE!"},{"$error":"#VALUE!"},{"$f":"VLOOKUP(K2645,references!$A$1:$B$7,2,FALSE)","v":{"$error":"#N/A"}}]
[null,null,null,null,null,null,null,null,null,null,null,null,"no email",{"$error":"#VALUE!"},{"$error":"#VALUE!"},{"$f":"VLOOKUP(K2646,references!$A$1:$B$7,2,FALSE)","v":{"$error":"#N/A"}}]
[null,null,null,null,null,null,null,null,null,null,null,null,"no email",{"$error":"#VALUE!"},{"$error":"#VALUE!"},{"$f":"VLOOKUP(K2647,references!$A$1:$B$7,2,FALSE)","v":{"$error":"#N/A"}}]
[null,null,null,null,null,null,null,null,null,null,null,null,"no email",{"$error":"#VALUE!"},{"$error":"#VALUE!"},{"$f":"VLOOKUP(K2648,references!$A$1:$B$7,2,FALSE)","v":{"$error":"#N/A"}}]
[null,null,null,null,null,null,null,null,null,null,null,null,"no email",{"$error":"#VALUE!"},{"$error":"#VALUE!"},{"$f":"VLOOKUP(K2649,references!$A$1:$B$7,2,FALSE)","v":{"$error":"#N/A"}}]
[null,null,null,null,null,null,null,null,null,null,null,null,"no email",{"$error":"#VALUE!"},{"$error":"#VALUE!"},{"$f":"VLOOKUP(K2650,references!$A$1:$B$7,2,FALSE)","v":{"$error":"#N/A"}}]
[null,null,null,null,null,null,null,null,null,null,null,null,"no email",{"$error":"#VALUE!"},{"$error":"#VALUE!"},{"$f":"VLOOKUP(K2651,references!$A$1:$B$7,2,FALSE)","v":{"$error":"#N/A"}}]
[null,null,null,null,null,null,null,null,null,null,null,null,"no email",{"$error":"#VALUE!"},{"$error":"#VALUE!"},{"$f":"VLOOKUP(K2652,references!$A$1:$B$7,2,FALSE)","v":{"$error":"#N/A"}}]
[null,null,null,null,null,null,null,null,null,null,null,null,"no email",{"$error":"#VALUE!"},{"$error":"#VALUE!"},{"$f":"VLOOKUP(K2653,references!$A$1:$B$7,2,FALSE)","v":{"$error":"#N/A"}}]
[null,null,null,null,null,null,null,null,null,null,null,null,"no email",{"$error":"#VALUE!"},{"$error":"#VALUE!"},{"$f":"VLOOKUP(K2654,references!$A$1:$B$7,2,FALSE)","v":{"$error":"#N/A"}}]
[null,null,null,null,null,null,null,null,null,null,null,null,"no email",{"$error":"#VALUE!"},{"$error":"#VALUE!"},{"$f":"VLOOKUP(K2655,references!$A$1:$B$7,2,FALSE)","v":{"$error":"#N/A"}}]
[null,null,null,null,null,null,null,null,null,null,null,null,"no email",{"$error":"#VALUE!"},{"$error":"#VALUE!"},{"$f":"VLOOKUP(K2656,references!$A$1:$B$7,2,FALSE)","v":{"$error":"#N/A"}}]
[null,null,null,null,null,null,null,null,null,null,null,null,"no email",{"$error":"#VALUE!"},{"$error":"#VALUE!"},{"$f":"VLOOKUP(K2657,references!$A$1:$B$7,2,FALSE)","v":{"$error":"#N/A"}}]
[null,null,null,null,null,null,null,null,null,null,null,null,"no email",{"$error":"#VALUE!"},{"$error":"#VALUE!"},{"$f":"VLOOKUP(K2658,references!$A$1:$B$7,2,FALSE)","v":{"$error":"#N/A"}}]
[null,null,null,null,null,null,null,null,null,null,null,null,"no email",{"$error":"#VALUE!"},{"$error":"#VALUE!"},{"$f":"VLOOKUP(K2659,references!$A$1:$B$7,2,FALSE)","v":{"$error":"#N/A"}}]
[null,null,null,null,null,null,null,null,null,null,null,null,"no email",{"$error":"#VALUE!"},{"$error":"#VALUE!"},{"$f":"VLOOKUP(K2660,references!$A$1:$B$7,2,FALSE)","v":{"$error":"#N/A"}}]
[null,null,null,null,null,null,null,null,null,null,null,null,"no email",{"$error":"#VALUE!"},{"$error":"#VALUE!"},{"$f":"VLOOKUP(K2661,references!$A$1:$B$7,2,FALSE)","v":{"$error":"#N/A"}}]
[null,null,null,null,null,null,null,null,null,null,null,null,"no email",{"$error":"#VALUE!"},{"$error":"#VALUE!"},{"$f":"VLOOKUP(K2662,references!$A$1:$B$7,2,FALSE)","v":{"$error":"#N/A"}}]
[null,null,null,null,null,null,null,null,null,null,null,null,"no email",{"$error":"#VALUE!"},{"$error":"#VALUE!"},{"$f":"VLOOKUP(K2663,references!$A$1:$B$7,2,FALSE)","v":{"$error":"#N/A"}}]
[null,null,null,null,null,null,null,null,null,null,null,null,"no email",{"$error":"#VALUE!"},{"$error":"#VALUE!"},{"$f":"VLOOKUP(K2664,references!$A$1:$B$7,2,FALSE)","v":{"$error":"#N/A"}}]
[null,null,null,null,null,null,null,null,null,null,null,null,"no email",{"$error":"#VALUE!"},{"$error":"#VALUE!"},{"$f":"VLOOKUP(K2665,references!$A$1:$B$7,2,FALSE)","v":{"$error":"#N/A"}}]
[null,null,null,null,null,null,null,null,null,null,null,null,"no email",{"$error":"#VALUE!"},{"$error":"#VALUE!"},{"$f":"VLOOKUP(K2666,references!$A$1:$B$7,2,FALSE)","v":{"$error":"#N/A"}}]
[null,null,null,null,null,null,null,null,null,null,null,null,"no email",{"$error":"#VALUE!"},{"$error":"#VALUE!"},{"$f":"VLOOKUP(K2667,references!$A$1:$B$7,2,FALSE)","v":{"$error":"#N/A"}}]
[null,null,null,null,null,null,null,null,null,null,null,null,"no email",{"$error":"#VALUE!"},{"$error":"#VALUE!"},{"$f":"VLOOKUP(K2668,references!$A$1:$B$7,2,FALSE)","v":{"$error":"#N/A"}}]
[null,null,null,null,null,null,null,null,null,null,null,null,"no email",{"$error":"#VALUE!"},{"$error":"#VALUE!"},{"$f":"VLOOKUP(K2669,references!$A$1:$B$7,2,FALSE)","v":{"$error":"#N/A"}}]
[null,null,null,null,null,null,null,null,null,null,null,null,"no email",{"$error":"#VALUE!"},{"$error":"#VALUE!"},{"$f":"VLOOKUP(K2670,references!$A$1:$B$7,2,FALSE)","v":{"$error":"#N/A"}}]
[null,null,null,null,null,null,null,null,null,null,null,null,"no email",{"$error":"#VALUE!"},{"$error":"#VALUE!"},{"$f":"VLOOKUP(K2671,references!$A$1:$B$7,2,FALSE)","v":{"$error":"#N/A"}}]
[null,null,null,null,null,null,null,null,null,null,null,null,"no email",{"$error":"#VALUE!"},{"$error":"#VALUE!"},{"$f":"VLOOKUP(K2672,references!$A$1:$B$7,2,FALSE)","v":{"$error":"#N/A"}}]
[null,null,null,null,null,null,null,null,null,null,null,null,"no email",{"$error":"#VALUE!"},{"$error":"#VALUE!"},{"$f":"VLOOKUP(K2673,references!$A$1:$B$7,2,FALSE)","v":{"$error":"#N/A"}}]
[null,null,null,null,null,null,null,null,null,null,null,null,"no email",{"$error":"#VALUE!"},{"$error":"#VALUE!"},{"$f":"VLOOKUP(K2674,references!$A$1:$B$7,2,FALSE)","v":{"$error":"#N/A"}}]
[null,null,null,null,null,null,null,null,null,null,null,null,"no email",{"$error":"#VALUE!"},{"$error":"#VALUE!"},{"$f":"VLOOKUP(K2675,references!$A$1:$B$7,2,FALSE)","v":{"$error":"#N/A"}}]
[null,null,null,null,null,null,null,null,null,null,null,null,"no email",{"$error":"#VALUE!"},{"$error":"#VALUE!"},{"$f":"VLOOKUP(K2676,references!$A$1:$B$7,2,FALSE)","v":{"$error":"#N/A"}}]
[null,null,null,null,null,null,null,null,null,null,null,null,"no email",{"$error":"#VALUE!"},{"$error":"#VALUE!"},{"$f":"VLOOKUP(K2677,references!$A$1:$B$7,2,FALSE)","v":{"$error":"#N/A"}}]
[null,null,null,null,null,null,null,null,null,null,null,null,"no email",{"$error":"#VALUE!"},{"$error":"#VALUE!"},{"$f":"VLOOKUP(K2678,references!$A$1:$B$7,2,FALSE)","v":{"$error":"#N/A"}}]
[null,null,null,null,null,null,null,null,null,null,null,null,"no email",{"$error":"#VALUE!"},{"$error":"#VALUE!"},{"$f":"VLOOKUP(K2679,references!$A$1:$B$7,2,FALSE)","v":{"$error":"#N/A"}}]
[null,null,null,null,null,null,null,null,null,null,null,null,"no email",{"$error":"#VALUE!"},{"$error":"#VALUE!"},{"$f":"VLOOKUP(K2680,references!$A$1:$B$7,2,FALSE)","v":{"$error":"#N/A"}}]
[null,null,null,null,null,null,null,null,null,null,null,null,"no email",{"$error":"#VALUE!"},{"$error":"#VALUE!"},{"$f":"VLOOKUP(K2681,references!$A$1:$B$7,2,FALSE)","v":{"$error":"#N/A"}}]
[null,null,null,null,null,null,null,null,null,null,null,null,"no email",{"$error":"#VALUE!"},{"$error":"#VALUE!"},{"$f":"VLOOKUP(K2682,references!$A$1:$B$7,2,FALSE)","v":{"$error":"#N/A"}}]
[null,null,null,null,null,null,null,null,null,null,null,null,"no email",{"$error":"#VALUE!"},{"$error":"#VALUE!"},{"$f":"VLOOKUP(K2683,references!$A$1:$B$7,2,FALSE)","v":{"$error":"#N/A"}}]
[null,null,null,null,null,null,null,null,null,null,null,null,"no email",{"$error":"#VALUE!"},{"$error":"#VALUE!"},{"$f":"VLOOKUP(K2684,references!$A$1:$B$7,2,FALSE)","v":{"$error":"#N/A"}}]
[null,null,null,null,null,null,null,null,null,null,null,null,"no email",{"$error":"#VALUE!"},{"$error":"#VALUE!"},{"$f":"VLOOKUP(K2685,references!$A$1:$B$7,2,FALSE)","v":{"$error":"#N/A"}}]
[null,null,null,null,null,null,null,null,null,null,null,null,"no email",{"$error":"#VALUE!"},{"$error":"#VALUE!"},{"$f":"VLOOKUP(K2686,references!$A$1:$B$7,2,FALSE)","v":{"$error":"#N/A"}}]
[null,null,null,null,null,null,null,null,null,null,null,null,"no email",{"$error":"#VALUE!"},{"$error":"#VALUE!"},{"$f":"VLOOKUP(K2687,references!$A$1:$B$7,2,FALSE)","v":{"$error":"#N/A"}}]
[null,null,null,null,null,null,null,null,null,null,null,null,"no email",{"$error":"#VALUE!"},{"$error":"#VALUE!"},{"$f":"VLOOKUP(K2688,references!$A$1:$B$7,2,FALSE)","v":{"$error":"#N/A"}}]
[null,null,null,null,null,null,null,null,null,null,null,null,"no email",{"$error":"#VALUE!"},{"$error":"#VALUE!"},{"$f":"VLOOKUP(K2689,references!$A$1:$B$7,2,FALSE)","v":{"$error":"#N/A"}}]
[null,null,null,null,null,null,null,null,null,null,null,null,{"$f":"IF(L2690=\"\", \"no email\",LOWER(L2690))","v":"no email"},{"$f":"LEFT(A2690, SEARCH(\",\",A2690,1)-1)","v":{"$error":"#VALUE!"}},{"$f":"RIGHT(A2690, LEN(A2690) -SEARCH(\",\",A2690,1)-1)","v":{"$error":"#VALUE!"}},{"$f":"VLOOKUP(K2690,references!$A$1:$B$7,2,FALSE)","v":{"$error":"#N/A"}}]
[null,null,null,null,null,null,null,null,null,null,null,null,"no email",{"$error":"#VALUE!"},{"$error":"#VALUE!"},{"$f":"VLOOKUP(K2691,references!$A$1:$B$7,2,FALSE)","v":{"$error":"#N/A"}}]
[null,null,null,null,null,null,null,null,null,null,null,null,"no email",{"$error":"#VALUE!"},{"$error":"#VALUE!"},{"$f":"VLOOKUP(K2692,references!$A$1:$B$7,2,FALSE)","v":{"$error":"#N/A"}}]
[null,null,null,null,null,null,null,null,null,null,null,null,"no email",{"$error":"#VALUE!"},{"$error":"#VALUE!"},{"$f":"VLOOKUP(K2693,references!$A$1:$B$7,2,FALSE)","v":{"$error":"#N/A"}}]
[null,null,null,null,null,null,null,null,null,null,null,null,"no email",{"$error":"#VALUE!"},{"$error":"#VALUE!"},{"$f":"VLOOKUP(K2694,references!$A$1:$B$7,2,FALSE)","v":{"$error":"#N/A"}}]
[null,null,null,null,null,null,null,null,null,null,null,null,"no email",{"$error":"#VALUE!"},{"$error":"#VALUE!"},{"$f":"VLOOKUP(K2695,references!$A$1:$B$7,2,FALSE)","v":{"$error":"#N/A"}}]
[null,null,null,null,null,null,null,null,null,null,null,null,"no email",{"$error":"#VALUE!"},{"$error":"#VALUE!"},{"$f":"VLOOKUP(K2696,references!$A$1:$B$7,2,FALSE)","v":{"$error":"#N/A"}}]
[null,null,null,null,null,null,null,null,null,null,null,null,"no email",{"$error":"#VALUE!"},{"$error":"#VALUE!"},{"$f":"VLOOKUP(K2697,references!$A$1:$B$7,2,FALSE)","v":{"$error":"#N/A"}}]
[null,null,null,null,null,null,null,null,null,null,null,null,"no email",{"$error":"#VALUE!"},{"$error":"#VALUE!"},{"$f":"VLOOKUP(K2698,references!$A$1:$B$7,2,FALSE)","v":{"$error":"#N/A"}}]
[null,null,null,null,null,null,null,null,null,null,null,null,"no email",{"$error":"#VALUE!"},{"$error":"#VALUE!"},{"$f":"VLOOKUP(K2699,references!$A$1:$B$7,2,FALSE)","v":{"$error":"#N/A"}}]
[null,null,null,null,null,null,null,null,null,null,null,null,"no email",{"$error":"#VALUE!"},{"$error":"#VALUE!"},{"$f":"VLOOKUP(K2700,references!$A$1:$B$7,2,FALSE)","v":{"$error":"#N/A"}}]
[null,null,null,null,null,null,null,null,null,null,null,null,"no email",{"$error":"#VALUE!"},{"$error":"#VALUE!"},{"$f":"VLOOKUP(K2701,references!$A$1:$B$7,2,FALSE)","v":{"$error":"#N/A"}}]
[null,null,null,null,null,null,null,null,null,null,null,null,"no email",{"$error":"#VALUE!"},{"$error":"#VALUE!"},{"$f":"VLOOKUP(K2702,references!$A$1:$B$7,2,FALSE)","v":{"$error":"#N/A"}}]
[null,null,null,null,null,null,null,null,null,null,null,null,"no email",{"$error":"#VALUE!"},{"$error":"#VALUE!"},{"$f":"VLOOKUP(K2703,references!$A$1:$B$7,2,FALSE)","v":{"$error":"#N/A"}}]
[null,null,null,null,null,null,null,null,null,null,null,null,"no email",{"$error":"#VALUE!"},{"$error":"#VALUE!"},{"$f":"VLOOKUP(K2704,references!$A$1:$B$7,2,FALSE)","v":{"$error":"#N/A"}}]
[null,null,null,null,null,null,null,null,null,null,null,null,"no email",{"$error":"#VALUE!"},{"$error":"#VALUE!"},{"$f":"VLOOKUP(K2705,references!$A$1:$B$7,2,FALSE)","v":{"$error":"#N/A"}}]
[null,null,null,null,null,null,null,null,null,null,null,null,"no email",{"$error":"#VALUE!"},{"$error":"#VALUE!"},{"$f":"VLOOKUP(K2706,references!$A$1:$B$7,2,FALSE)","v":{"$error":"#N/A"}}]
[null,null,null,null,null,null,null,null,null,null,null,null,"no email",{"$error":"#VALUE!"},{"$error":"#VALUE!"},{"$f":"VLOOKUP(K2707,references!$A$1:$B$7,2,FALSE)","v":{"$error":"#N/A"}}]
[null,null,null,null,null,null,null,null,null,null,null,null,"no email",{"$error":"#VALUE!"},{"$error":"#VALUE!"},{"$f":"VLOOKUP(K2708,references!$A$1:$B$7,2,FALSE)","v":{"$error":"#N/A"}}]
[null,null,null,null,null,null,null,null,null,null,null,null,"no email",{"$error":"#VALUE!"},{"$error":"#VALUE!"},{"$f":"VLOOKUP(K2709,references!$A$1:$B$7,2,FALSE)","v":{"$error":"#N/A"}}]
[null,null,null,null,null,null,null,null,null,null,null,null,"no email",{"$error":"#VALUE!"},{"$error":"#VALUE!"},{"$f":"VLOOKUP(K2710,references!$A$1:$B$7,2,FALSE)","v":{"$error":"#N/A"}}]
[null,null,null,null,null,null,null,null,null,null,null,null,"no email",{"$error":"#VALUE!"},{"$error":"#VALUE!"},{"$f":"VLOOKUP(K2711,references!$A$1:$B$7,2,FALSE)","v":{"$error":"#N/A"}}]
[null,null,null,null,null,null,null,null,null,null,null,null,"no email",{"$error":"#VALUE!"},{"$error":"#VALUE!"},{"$f":"VLOOKUP(K2712,references!$A$1:$B$7,2,FALSE)","v":{"$error":"#N/A"}}]
[null,null,null,null,null,null,null,null,null,null,null,null,"no email",{"$error":"#VALUE!"},{"$error":"#VALUE!"},{"$f":"VLOOKUP(K2713,references!$A$1:$B$7,2,FALSE)","v":{"$error":"#N/A"}}]
[null,null,null,null,null,null,null,null,null,null,null,null,"no email",{"$error":"#VALUE!"},{"$error":"#VALUE!"},{"$f":"VLOOKUP(K2714,references!$A$1:$B$7,2,FALSE)","v":{"$error":"#N/A"}}]
[null,null,null,null,null,null,null,null,null,null,null,null,"no email",{"$error":"#VALUE!"},{"$error":"#VALUE!"},{"$f":"VLOOKUP(K2715,references!$A$1:$B$7,2,FALSE)","v":{"$error":"#N/A"}}]
[null,null,null,null,null,null,null,null,null,null,null,null,"no email",{"$error":"#VALUE!"},{"$error":"#VALUE!"},{"$f":"VLOOKUP(K2716,references!$A$1:$B$7,2,FALSE)","v":{"$error":"#N/A"}}]
[null,null,null,null,null,null,null,null,null,null,null,null,"no email",{"$error":"#VALUE!"},{"$error":"#VALUE!"},{"$f":"VLOOKUP(K2717,references!$A$1:$B$7,2,FALSE)","v":{"$error":"#N/A"}}]
[null,null,null,null,null,null,null,null,null,null,null,null,"no email",{"$error":"#VALUE!"},{"$error":"#VALUE!"},{"$f":"VLOOKUP(K2718,references!$A$1:$B$7,2,FALSE)","v":{"$error":"#N/A"}}]
[null,null,null,null,null,null,null,null,null,null,null,null,"no email",{"$error":"#VALUE!"},{"$error":"#VALUE!"},{"$f":"VLOOKUP(K2719,references!$A$1:$B$7,2,FALSE)","v":{"$error":"#N/A"}}]
[null,null,null,null,null,null,null,null,null,null,null,null,"no email",{"$error":"#VALUE!"},{"$error":"#VALUE!"},{"$f":"VLOOKUP(K2720,references!$A$1:$B$7,2,FALSE)","v":{"$error":"#N/A"}}]
[null,null,null,null,null,null,null,null,null,null,null,null,"no email",{"$error":"#VALUE!"},{"$error":"#VALUE!"},{"$f":"VLOOKUP(K2721,references!$A$1:$B$7,2,FALSE)","v":{"$error":"#N/A"}}]
[null,null,null,null,null,null,null,null,null,null,null,null,"no email",{"$error":"#VALUE!"},{"$error":"#VALUE!"},{"$f":"VLOOKUP(K2722,references!$A$1:$B$7,2,FALSE)","v":{"$error":"#N/A"}}]
[null,null,null,null,null,null,null,null,null,null,null,null,"no email",{"$error":"#VALUE!"},{"$error":"#VALUE!"},{"$f":"VLOOKUP(K2723,references!$A$1:$B$7,2,FALSE)","v":{"$error":"#N/A"}}]
[null,null,null,null,null,null,null,null,null,null,null,null,"no email",{"$error":"#VALUE!"},{"$error":"#VALUE!"},{"$f":"VLOOKUP(K2724,references!$A$1:$B$7,2,FALSE)","v":{"$error":"#N/A"}}]
[null,null,null,null,null,null,null,null,null,null,null,null,"no email",{"$error":"#VALUE!"},{"$error":"#VALUE!"},{"$f":"VLOOKUP(K2725,references!$A$1:$B$7,2,FALSE)","v":{"$error":"#N/A"}}]
[null,null,null,null,null,null,null,null,null,null,null,null,"no email",{"$error":"#VALUE!"},{"$error":"#VALUE!"},{"$f":"VLOOKUP(K2726,references!$A$1:$B$7,2,FALSE)","v":{"$error":"#N/A"}}]
[null,null,null,null,null,null,null,null,null,null,null,null,"no email",{"$error":"#VALUE!"},{"$error":"#VALUE!"},{"$f":"VLOOKUP(K2727,references!$A$1:$B$7,2,FALSE)","v":{"$error":"#N/A"}}]
[null,null,null,null,null,null,null,null,null,null,null,null,"no email",{"$error":"#VALUE!"},{"$error":"#VALUE!"},{"$f":"VLOOKUP(K2728,references!$A$1:$B$7,2,FALSE)","v":{"$error":"#N/A"}}]
[null,null,null,null,null,null,null,null,null,null,null,null,"no email",{"$error":"#VALUE!"},{"$error":"#VALUE!"},{"$f":"VLOOKUP(K2729,references!$A$1:$B$7,2,FALSE)","v":{"$error":"#N/A"}}]
[null,null,null,null,null,null,null,null,null,null,null,null,"no email",{"$error":"#VALUE!"},{"$error":"#VALUE!"},{"$f":"VLOOKUP(K2730,references!$A$1:$B$7,2,FALSE)","v":{"$error":"#N/A"}}]
[null,null,null,null,null,null,null,null,null,null,null,null,"no email",{"$error":"#VALUE!"},{"$error":"#VALUE!"},{"$f":"VLOOKUP(K2731,references!$A$1:$B$7,2,FALSE)","v":{"$error":"#N/A"}}]
[null,null,null,null,null,null,null,null,null,null,null,null,"no email",{"$error":"#VALUE!"},{"$error":"#VALUE!"},{"$f":"VLOOKUP(K2732,references!$A$1:$B$7,2,FALSE)","v":{"$error":"#N/A"}}]
[null,null,null,null,null,null,null,null,null,null,null,null,"no email",{"$error":"#VALUE!"},{"$error":"#VALUE!"},{"$f":"VLOOKUP(K2733,references!$A$1:$B$7,2,FALSE)","v":{"$error":"#N/A"}}]
[null,null,null,null,null,null,null,null,null,null,null,null,"no email",{"$error":"#VALUE!"},{"$error":"#VALUE!"},{"$f":"VLOOKUP(K2734,references!$A$1:$B$7,2,FALSE)","v":{"$error":"#N/A"}}]
[null,null,null,null,null,null,null,null,null,null,null,null,"no email",{"$error":"#VALUE!"},{"$error":"#VALUE!"},{"$f":"VLOOKUP(K2735,references!$A$1:$B$7,2,FALSE)","v":{"$error":"#N/A"}}]
[null,null,null,null,null,null,null,null,null,null,null,null,"no email",{"$error":"#VALUE!"},{"$error":"#VALUE!"},{"$f":"VLOOKUP(K2736,references!$A$1:$B$7,2,FALSE)","v":{"$error":"#N/A"}}]
[null,null,null,null,null,null,null,null,null,null,null,null,"no email",{"$error":"#VALUE!"},{"$error":"#VALUE!"},{"$f":"VLOOKUP(K2737,references!$A$1:$B$7,2,FALSE)","v":{"$error":"#N/A"}}]
[null,null,null,null,null,null,null,null,null,null,null,null,"no email",{"$error":"#VALUE!"},{"$error":"#VALUE!"},{"$f":"VLOOKUP(K2738,references!$A$1:$B$7,2,FALSE)","v":{"$error":"#N/A"}}]
[null,null,null,null,null,null,null,null,null,null,null,null,"no email",{"$error":"#VALUE!"},{"$error":"#VALUE!"},{"$f":"VLOOKUP(K2739,references!$A$1:$B$7,2,FALSE)","v":{"$error":"#N/A"}}]
[null,null,null,null,null,null,null,null,null,null,null,null,"no email",{"$error":"#VALUE!"},{"$error":"#VALUE!"},{"$f":"VLOOKUP(K2740,references!$A$1:$B$7,2,FALSE)","v":{"$error":"#N/A"}}]
[null,null,null,null,null,null,null,null,null,null,null,null,"no email",{"$error":"#VALUE!"},{"$error":"#VALUE!"},{"$f":"VLOOKUP(K2741,references!$A$1:$B$7,2,FALSE)","v":{"$error":"#N/A"}}]
[null,null,null,null,null,null,null,null,null,null,null,null,"no email",{"$error":"#VALUE!"},{"$error":"#VALUE!"},{"$f":"VLOOKUP(K2742,references!$A$1:$B$7,2,FALSE)","v":{"$error":"#N/A"}}]
[null,null,null,null,null,null,null,null,null,null,null,null,"no email",{"$error":"#VALUE!"},{"$error":"#VALUE!"},{"$f":"VLOOKUP(K2743,references!$A$1:$B$7,2,FALSE)","v":{"$error":"#N/A"}}]
[null,null,null,null,null,null,null,null,null,null,null,null,"no email",{"$error":"#VALUE!"},{"$error":"#VALUE!"},{"$f":"VLOOKUP(K2744,references!$A$1:$B$7,2,FALSE)","v":{"$error":"#N/A"}}]
[null,null,null,null,null,null,null,null,null,null,null,null,"no email",{"$error":"#VALUE!"},{"$error":"#VALUE!"},{"$f":"VLOOKUP(K2745,references!$A$1:$B$7,2,FALSE)","v":{"$error":"#N/A"}}]
[null,null,null,null,null,null,null,null,null,null,null,null,"no email",{"$error":"#VALUE!"},{"$error":"#VALUE!"},{"$f":"VLOOKUP(K2746,references!$A$1:$B$7,2,FALSE)","v":{"$error":"#N/A"}}]
[null,null,null,null,null,null,null,null,null,null,null,null,"no email",{"$error":"#VALUE!"},{"$error":"#VALUE!"},{"$f":"VLOOKUP(K2747,references!$A$1:$B$7,2,FALSE)","v":{"$error":"#N/A"}}]
[null,null,null,null,null,null,null,null,null,null,null,null,"no email",{"$error":"#VALUE!"},{"$error":"#VALUE!"},{"$f":"VLOOKUP(K2748,references!$A$1:$B$7,2,FALSE)","v":{"$error":"#N/A"}}]
[null,null,null,null,null,null,null,null,null,null,null,null,"no email",{"$error":"#VALUE!"},{"$error":"#VALUE!"},{"$f":"VLOOKUP(K2749,references!$A$1:$B$7,2,FALSE)","v":{"$error":"#N/A"}}]
[null,null,null,null,null,null,null,null,null,null,null,null,"no email",{"$error":"#VALUE!"},{"$error":"#VALUE!"},{"$f":"VLOOKUP(K2750,references!$A$1:$B$7,2,FALSE)","v":{"$error":"#N/A"}}]
[null,null,null,null,null,null,null,null,null,null,null,null,"no email",{"$error":"#VALUE!"},{"$error":"#VALUE!"},{"$f":"VLOOKUP(K2751,references!$A$1:$B$7,2,FALSE)","v":{"$error":"#N/A"}}]
[null,null,null,null,null,null,null,null,null,null,null,null,"no email",{"$error":"#VALUE!"},{"$error":"#VALUE!"},{"$f":"VLOOKUP(K2752,references!$A$1:$B$7,2,FALSE)","v":{"$error":"#N/A"}}]
[null,null,null,null,null,null,null,null,null,null,null,null,"no email",{"$error":"#VALUE!"},{"$error":"#VALUE!"},{"$f":"VLOOKUP(K2753,references!$A$1:$B$7,2,FALSE)","v":{"$error":"#N/A"}}]
[null,null,null,null,null,null,null,null,null,null,null,null,{"$f":"IF(L2754=\"\", \"no email\",LOWER(L2754))","v":"no email"},{"$f":"LEFT(A2754, SEARCH(\",\",A2754,1)-1)","v":{"$error":"#VALUE!"}},{"$f":"RIGHT(A2754, LEN(A2754) -SEARCH(\",\",A2754,1)-1)","v":{"$error":"#VALUE!"}},{"$f":"VLOOKUP(K2754,references!$A$1:$B$7,2,FALSE)","v":{"$error":"#N/A"}}]
[null,null,null,null,null,null,null,null,null,null,null,null,"no email",{"$error":"#VALUE!"},{"$error":"#VALUE!"},{"$f":"VLOOKUP(K2755,references!$A$1:$B$7,2,FALSE)","v":{"$error":"#N/A"}}]
[null,null,null,null,null,null,null,null,null,null,null,null,"no email",{"$error":"#VALUE!"},{"$error":"#VALUE!"},{"$f":"VLOOKUP(K2756,references!$A$1:$B$7,2,FALSE)","v":{"$error":"#N/A"}}]
[null,null,null,null,null,null,null,null,null,null,null,null,"no email",{"$error":"#VALUE!"},{"$error":"#VALUE!"},{"$f":"VLOOKUP(K2757,references!$A$1:$B$7,2,FALSE)","v":{"$error":"#N/A"}}]
[null,null,null,null,null,null,null,null,null,null,null,null,"no email",{"$error":"#VALUE!"},{"$error":"#VALUE!"},{"$f":"VLOOKUP(K2758,references!$A$1:$B$7,2,FALSE)","v":{"$error":"#N/A"}}]
[null,null,null,null,null,null,null,null,null,null,null,null,"no email",{"$error":"#VALUE!"},{"$error":"#VALUE!"},{"$f":"VLOOKUP(K2759,references!$A$1:$B$7,2,FALSE)","v":{"$error":"#N/A"}}]
[null,null,null,null,null,null,null,null,null,null,null,null,"no email",{"$error":"#VALUE!"},{"$error":"#VALUE!"},{"$f":"VLOOKUP(K2760,references!$A$1:$B$7,2,FALSE)","v":{"$error":"#N/A"}}]
[null,null,null,null,null,null,null,null,null,null,null,null,"no email",{"$error":"#VALUE!"},{"$error":"#VALUE!"},{"$f":"VLOOKUP(K2761,references!$A$1:$B$7,2,FALSE)","v":{"$error":"#N/A"}}]
[null,null,null,null,null,null,null,null,null,null,null,null,"no email",{"$error":"#VALUE!"},{"$error":"#VALUE!"},{"$f":"VLOOKUP(K2762,references!$A$1:$B$7,2,FALSE)","v":{"$error":"#N/A"}}]
[null,null,null,null,null,null,null,null,null,null,null,null,"no email",{"$error":"#VALUE!"},{"$error":"#VALUE!"},{"$f":"VLOOKUP(K2763,references!$A$1:$B$7,2,FALSE)","v":{"$error":"#N/A"}}]
[null,null,null,null,null,null,null,null,null,null,null,null,"no email",{"$error":"#VALUE!"},{"$error":"#VALUE!"},{"$f":"VLOOKUP(K2764,references!$A$1:$B$7,2,FALSE)","v":{"$error":"#N/A"}}]
[null,null,null,null,null,null,null,null,null,null,null,null,"no email",{"$error":"#VALUE!"},{"$error":"#VALUE!"},{"$f":"VLOOKUP(K2765,references!$A$1:$B$7,2,FALSE)","v":{"$error":"#N/A"}}]
[null,null,null,null,null,null,null,null,null,null,null,null,"no email",{"$error":"#VALUE!"},{"$error":"#VALUE!"},{"$f":"VLOOKUP(K2766,references!$A$1:$B$7,2,FALSE)","v":{"$error":"#N/A"}}]
[null,null,null,null,null,null,null,null,null,null,null,null,"no email",{"$error":"#VALUE!"},{"$error":"#VALUE!"},{"$f":"VLOOKUP(K2767,references!$A$1:$B$7,2,FALSE)","v":{"$error":"#N/A"}}]
[null,null,null,null,null,null,null,null,null,null,null,null,"no email",{"$error":"#VALUE!"},{"$error":"#VALUE!"},{"$f":"VLOOKUP(K2768,references!$A$1:$B$7,2,FALSE)","v":{"$error":"#N/A"}}]
[null,null,null,null,null,null,null,null,null,null,null,null,"no email",{"$error":"#VALUE!"},{"$error":"#VALUE!"},{"$f":"VLOOKUP(K2769,references!$A$1:$B$7,2,FALSE)","v":{"$error":"#N/A"}}]
[null,null,null,null,null,null,null,null,null,null,null,null,"no email",{"$error":"#VALUE!"},{"$error":"#VALUE!"},{"$f":"VLOOKUP(K2770,references!$A$1:$B$7,2,FALSE)","v":{"$error":"#N/A"}}]
[null,null,null,null,null,null,null,null,null,null,null,null,"no email",{"$error":"#VALUE!"},{"$error":"#VALUE!"},{"$f":"VLOOKUP(K2771,references!$A$1:$B$7,2,FALSE)","v":{"$error":"#N/A"}}]
[null,null,null,null,null,null,null,null,null,null,null,null,"no email",{"$error":"#VALUE!"},{"$error":"#VALUE!"},{"$f":"VLOOKUP(K2772,references!$A$1:$B$7,2,FALSE)","v":{"$error":"#N/A"}}]
[null,null,null,null,null,null,null,null,null,null,null,null,"no email",{"$error":"#VALUE!"},{"$error":"#VALUE!"},{"$f":"VLOOKUP(K2773,references!$A$1:$B$7,2,FALSE)","v":{"$error":"#N/A"}}]
[null,null,null,null,null,null,null,null,null,null,null,null,"no email",{"$error":"#VALUE!"},{"$error":"#VALUE!"},{"$f":"VLOOKUP(K2774,references!$A$1:$B$7,2,FALSE)","v":{"$error":"#N/A"}}]
[null,null,null,null,null,null,null,null,null,null,null,null,"no email",{"$error":"#VALUE!"},{"$error":"#VALUE!"},{"$f":"VLOOKUP(K2775,references!$A$1:$B$7,2,FALSE)","v":{"$error":"#N/A"}}]
[null,null,null,null,null,null,null,null,null,null,null,null,"no email",{"$error":"#VALUE!"},{"$error":"#VALUE!"},{"$f":"VLOOKUP(K2776,references!$A$1:$B$7,2,FALSE)","v":{"$error":"#N/A"}}]
[null,null,null,null,null,null,null,null,null,null,null,null,"no email",{"$error":"#VALUE!"},{"$error":"#VALUE!"},{"$f":"VLOOKUP(K2777,references!$A$1:$B$7,2,FALSE)","v":{"$error":"#N/A"}}]
[null,null,null,null,null,null,null,null,null,null,null,null,"no email",{"$error":"#VALUE!"},{"$error":"#VALUE!"},{"$f":"VLOOKUP(K2778,references!$A$1:$B$7,2,FALSE)","v":{"$error":"#N/A"}}]
[null,null,null,null,null,null,null,null,null,null,null,null,"no email",{"$error":"#VALUE!"},{"$error":"#VALUE!"},{"$f":"VLOOKUP(K2779,references!$A$1:$B$7,2,FALSE)","v":{"$error":"#N/A"}}]
[null,null,null,null,null,null,null,null,null,null,null,null,"no email",{"$error":"#VALUE!"},{"$error":"#VALUE!"},{"$f":"VLOOKUP(K2780,references!$A$1:$B$7,2,FALSE)","v":{"$error":"#N/A"}}]
[null,null,null,null,null,null,null,null,null,null,null,null,"no email",{"$error":"#VALUE!"},{"$error":"#VALUE!"},{"$f":"VLOOKUP(K2781,references!$A$1:$B$7,2,FALSE)","v":{"$error":"#N/A"}}]
[null,null,null,null,null,null,null,null,null,null,null,null,"no email",{"$error":"#VALUE!"},{"$error":"#VALUE!"},{"$f":"VLOOKUP(K2782,references!$A$1:$B$7,2,FALSE)","v":{"$error":"#N/A"}}]
[null,null,null,null,null,null,null,null,null,null,null,null,"no email",{"$error":"#VALUE!"},{"$error":"#VALUE!"},{"$f":"VLOOKUP(K2783,references!$A$1:$B$7,2,FALSE)","v":{"$error":"#N/A"}}]
[null,null,null,null,null,null,null,null,null,null,null,null,"no email",{"$error":"#VALUE!"},{"$error":"#VALUE!"},{"$f":"VLOOKUP(K2784,references!$A$1:$B$7,2,FALSE)","v":{"$error":"#N/A"}}]
[null,null,null,null,null,null,null,null,null,null,null,null,"no email",{"$error":"#VALUE!"},{"$error":"#VALUE!"},{"$f":"VLOOKUP(K2785,references!$A$1:$B$7,2,FALSE)","v":{"$error":"#N/A"}}]
[null,null,null,null,null,null,null,null,null,null,null,null,"no email",{"$error":"#VALUE!"},{"$error":"#VALUE!"},{"$f":"VLOOKUP(K2786,references!$A$1:$B$7,2,FALSE)","v":{"$error":"#N/A"}}]
[null,null,null,null,null,null,null,null,null,null,null,null,"no email",{"$error":"#VALUE!"},{"$error":"#VALUE!"},{"$f":"VLOOKUP(K2787,references!$A$1:$B$7,2,FALSE)","v":{"$error":"#N/A"}}]
[null,null,null,null,null,null,null,null,null,null,null,null,"no email",{"$error":"#VALUE!"},{"$error":"#VALUE!"},{"$f":"VLOOKUP(K2788,references!$A$1:$B$7,2,FALSE)","v":{"$error":"#N/A"}}]
[null,null,null,null,null,null,null,null,null,null,null,null,"no email",{"$error":"#VALUE!"},{"$error":"#VALUE!"},{"$f":"VLOOKUP(K2789,references!$A$1:$B$7,2,FALSE)","v":{"$error":"#N/A"}}]
[null,null,null,null,null,null,null,null,null,null,null,null,"no email",{"$error":"#VALUE!"},{"$error":"#VALUE!"},{"$f":"VLOOKUP(K2790,references!$A$1:$B$7,2,FALSE)","v":{"$error":"#N/A"}}]
[null,null,null,null,null,null,null,null,null,null,null,null,"no email",{"$error":"#VALUE!"},{"$error":"#VALUE!"},{"$f":"VLOOKUP(K2791,references!$A$1:$B$7,2,FALSE)","v":{"$error":"#N/A"}}]
[null,null,null,null,null,null,null,null,null,null,null,null,"no email",{"$error":"#VALUE!"},{"$error":"#VALUE!"},{"$f":"VLOOKUP(K2792,references!$A$1:$B$7,2,FALSE)","v":{"$error":"#N/A"}}]
[null,null,null,null,null,null,null,null,null,null,null,null,"no email",{"$error":"#VALUE!"},{"$error":"#VALUE!"},{"$f":"VLOOKUP(K2793,references!$A$1:$B$7,2,FALSE)","v":{"$error":"#N/A"}}]
[null,null,null,null,null,null,null,null,null,null,null,null,"no email",{"$error":"#VALUE!"},{"$error":"#VALUE!"},{"$f":"VLOOKUP(K2794,references!$A$1:$B$7,2,FALSE)","v":{"$error":"#N/A"}}]
[null,null,null,null,null,null,null,null,null,null,null,null,"no email",{"$error":"#VALUE!"},{"$error":"#VALUE!"},{"$f":"VLOOKUP(K2795,references!$A$1:$B$7,2,FALSE)","v":{"$error":"#N/A"}}]
[null,null,null,null,null,null,null,null,null,null,null,null,"no email",{"$error":"#VALUE!"},{"$error":"#VALUE!"},{"$f":"VLOOKUP(K2796,references!$A$1:$B$7,2,FALSE)","v":{"$error":"#N/A"}}]
[null,null,null,null,null,null,null,null,null,null,null,null,"no email",{"$error":"#VALUE!"},{"$error":"#VALUE!"},{"$f":"VLOOKUP(K2797,references!$A$1:$B$7,2,FALSE)","v":{"$error":"#N/A"}}]
[null,null,null,null,null,null,null,null,null,null,null,null,"no email",{"$error":"#VALUE!"},{"$error":"#VALUE!"},{"$f":"VLOOKUP(K2798,references!$A$1:$B$7,2,FALSE)","v":{"$error":"#N/A"}}]
[null,null,null,null,null,null,null,null,null,null,null,null,"no email",{"$error":"#VALUE!"},{"$error":"#VALUE!"},{"$f":"VLOOKUP(K2799,references!$A$1:$B$7,2,FALSE)","v":{"$error":"#N/A"}}]
[null,null,null,null,null,null,null,null,null,null,null,null,"no email",{"$error":"#VALUE!"},{"$error":"#VALUE!"},{"$f":"VLOOKUP(K2800,references!$A$1:$B$7,2,FALSE)","v":{"$error":"#N/A"}}]
[null,null,null,null,null,null,null,null,null,null,null,null,"no email",{"$error":"#VALUE!"},{"$error":"#VALUE!"},{"$f":"VLOOKUP(K2801,references!$A$1:$B$7,2,FALSE)","v":{"$error":"#N/A"}}]
[null,null,null,null,null,null,null,null,null,null,null,null,"no email",{"$error":"#VALUE!"},{"$error":"#VALUE!"},{"$f":"VLOOKUP(K2802,references!$A$1:$B$7,2,FALSE)","v":{"$error":"#N/A"}}]
[null,null,null,null,null,null,null,null,null,null,null,null,"no email",{"$error":"#VALUE!"},{"$error":"#VALUE!"},{"$f":"VLOOKUP(K2803,references!$A$1:$B$7,2,FALSE)","v":{"$error":"#N/A"}}]
[null,null,null,null,null,null,null,null,null,null,null,null,"no email",{"$error":"#VALUE!"},{"$error":"#VALUE!"},{"$f":"VLOOKUP(K2804,references!$A$1:$B$7,2,FALSE)","v":{"$error":"#N/A"}}]
[null,null,null,null,null,null,null,null,null,null,null,null,"no email",{"$error":"#VALUE!"},{"$error":"#VALUE!"},{"$f":"VLOOKUP(K2805,references!$A$1:$B$7,2,FALSE)","v":{"$error":"#N/A"}}]
[null,null,null,null,null,null,null,null,null,null,null,null,"no email",{"$error":"#VALUE!"},{"$error":"#VALUE!"},{"$f":"VLOOKUP(K2806,references!$A$1:$B$7,2,FALSE)","v":{"$error":"#N/A"}}]
[null,null,null,null,null,null,null,null,null,null,null,null,"no email",{"$error":"#VALUE!"},{"$error":"#VALUE!"},{"$f":"VLOOKUP(K2807,references!$A$1:$B$7,2,FALSE)","v":{"$error":"#N/A"}}]
[null,null,null,null,null,null,null,null,null,null,null,null,"no email",{"$error":"#VALUE!"},{"$error":"#VALUE!"},{"$f":"VLOOKUP(K2808,references!$A$1:$B$7,2,FALSE)","v":{"$error":"#N/A"}}]
[null,null,null,null,null,null,null,null,null,null,null,null,"no email",{"$error":"#VALUE!"},{"$error":"#VALUE!"},{"$f":"VLOOKUP(K2809,references!$A$1:$B$7,2,FALSE)","v":{"$error":"#N/A"}}]
[null,null,null,null,null,null,null,null,null,null,null,null,"no email",{"$error":"#VALUE!"},{"$error":"#VALUE!"},{"$f":"VLOOKUP(K2810,references!$A$1:$B$7,2,FALSE)","v":{"$error":"#N/A"}}]
[null,null,null,null,null,null,null,null,null,null,null,null,"no email",{"$error":"#VALUE!"},{"$error":"#VALUE!"},{"$f":"VLOOKUP(K2811,references!$A$1:$B$7,2,FALSE)","v":{"$error":"#N/A"}}]
[null,null,null,null,null,null,null,null,null,null,null,null,"no email",{"$error":"#VALUE!"},{"$error":"#VALUE!"},{"$f":"VLOOKUP(K2812,references!$A$1:$B$7,2,FALSE)","v":{"$error":"#N/A"}}]
[null,null,null,null,null,null,null,null,null,null,null,null,"no email",{"$error":"#VALUE!"},{"$error":"#VALUE!"},{"$f":"VLOOKUP(K2813,references!$A$1:$B$7,2,FALSE)","v":{"$error":"#N/A"}}]
[null,null,null,null,null,null,null,null,null,null,null,null,"no email",{"$error":"#VALUE!"},{"$error":"#VALUE!"},{"$f":"VLOOKUP(K2814,references!$A$1:$B$7,2,FALSE)","v":{"$error":"#N/A"}}]
[null,null,null,null,null,null,null,null,null,null,null,null,"no email",{"$error":"#VALUE!"},{"$error":"#VALUE!"},{"$f":"VLOOKUP(K2815,references!$A$1:$B$7,2,FALSE)","v":{"$error":"#N/A"}}]
[null,null,null,null,null,null,null,null,null,null,null,null,"no email",{"$error":"#VALUE!"},{"$error":"#VALUE!"},{"$f":"VLOOKUP(K2816,references!$A$1:$B$7,2,FALSE)","v":{"$error":"#N/A"}}]
[null,null,null,null,null,null,null,null,null,null,null,null,"no email",{"$error":"#VALUE!"},{"$error":"#VALUE!"},{"$f":"VLOOKUP(K2817,references!$A$1:$B$7,2,FALSE)","v":{"$error":"#N/A"}}]
[null,null,null,null,null,null,null,null,null,null,null,null,{"$f":"IF(L2818=\"\", \"no email\",LOWER(L2818))","v":"no email"},{"$f":"LEFT(A2818, SEARCH(\",\",A2818,1)-1)","v":{"$error":"#VALUE!"}},{"$f":"RIGHT(A2818, LEN(A2818) -SEARCH(\",\",A2818,1)-1)","v":{"$error":"#VALUE!"}},{"$f":"VLOOKUP(K2818,references!$A$1:$B$7,2,FALSE)","v":{"$error":"#N/A"}}]
[null,null,null,null,null,null,null,null,null,null,null,null,"no email",{"$error":"#VALUE!"},{"$error":"#VALUE!"},{"$f":"VLOOKUP(K2819,references!$A$1:$B$7,2,FALSE)","v":{"$error":"#N/A"}}]
[null,null,null,null,null,null,null,null,null,null,null,null,"no email",{"$error":"#VALUE!"},{"$error":"#VALUE!"},{"$f":"VLOOKUP(K2820,references!$A$1:$B$7,2,FALSE)","v":{"$error":"#N/A"}}]
[null,null,null,null,null,null,null,null,null,null,null,null,"no email",{"$error":"#VALUE!"},{"$error":"#VALUE!"},{"$f":"VLOOKUP(K2821,references!$A$1:$B$7,2,FALSE)","v":{"$error":"#N/A"}}]
[null,null,null,null,null,null,null,null,null,null,null,null,"no email",{"$error":"#VALUE!"},{"$error":"#VALUE!"},{"$f":"VLOOKUP(K2822,references!$A$1:$B$7,2,FALSE)","v":{"$error":"#N/A"}}]
[null,null,null,null,null,null,null,null,null,null,null,null,"no email",{"$error":"#VALUE!"},{"$error":"#VALUE!"},{"$f":"VLOOKUP(K2823,references!$A$1:$B$7,2,FALSE)","v":{"$error":"#N/A"}}]
[null,null,null,null,null,null,null,null,null,null,null,null,"no email",{"$error":"#VALUE!"},{"$error":"#VALUE!"},{"$f":"VLOOKUP(K2824,references!$A$1:$B$7,2,FALSE)","v":{"$error":"#N/A"}}]
[null,null,null,null,null,null,null,null,null,null,null,null,"no email",{"$error":"#VALUE!"},{"$error":"#VALUE!"},{"$f":"VLOOKUP(K2825,references!$A$1:$B$7,2,FALSE)","v":{"$error":"#N/A"}}]
[null,null,null,null,null,null,null,null,null,null,null,null,"no email",{"$error":"#VALUE!"},{"$error":"#VALUE!"},{"$f":"VLOOKUP(K2826,references!$A$1:$B$7,2,FALSE)","v":{"$error":"#N/A"}}]
[null,null,null,null,null,null,null,null,null,null,null,null,"no email",{"$error":"#VALUE!"},{"$error":"#VALUE!"},{"$f":"VLOOKUP(K2827,references!$A$1:$B$7,2,FALSE)","v":{"$error":"#N/A"}}]
[null,null,null,null,null,null,null,null,null,null,null,null,"no email",{"$error":"#VALUE!"},{"$error":"#VALUE!"},{"$f":"VLOOKUP(K2828,references!$A$1:$B$7,2,FALSE)","v":{"$error":"#N/A"}}]
[null,null,null,null,null,null,null,null,null,null,null,null,"no email",{"$error":"#VALUE!"},{"$error":"#VALUE!"},{"$f":"VLOOKUP(K2829,references!$A$1:$B$7,2,FALSE)","v":{"$error":"#N/A"}}]
[null,null,null,null,null,null,null,null,null,null,null,null,"no email",{"$error":"#VALUE!"},{"$error":"#VALUE!"},{"$f":"VLOOKUP(K2830,references!$A$1:$B$7,2,FALSE)","v":{"$error":"#N/A"}}]
[null,null,null,null,null,null,null,null,null,null,null,null,"no email",{"$error":"#VALUE!"},{"$error":"#VALUE!"},{"$f":"VLOOKUP(K2831,references!$A$1:$B$7,2,FALSE)","v":{"$error":"#N/A"}}]
[null,null,null,null,null,null,null,null,null,null,null,null,"no email",{"$error":"#VALUE!"},{"$error":"#VALUE!"},{"$f":"VLOOKUP(K2832,references!$A$1:$B$7,2,FALSE)","v":{"$error":"#N/A"}}]
[null,null,null,null,null,null,null,null,null,null,null,null,"no email",{"$error":"#VALUE!"},{"$error":"#VALUE!"},{"$f":"VLOOKUP(K2833,references!$A$1:$B$7,2,FALSE)","v":{"$error":"#N/A"}}]
[null,null,null,null,null,null,null,null,null,null,null,null,"no email",{"$error":"#VALUE!"},{"$error":"#VALUE!"},{"$f":"VLOOKUP(K2834,references!$A$1:$B$7,2,FALSE)","v":{"$error":"#N/A"}}]
[null,null,null,null,null,null,null,null,null,null,null,null,"no email",{"$error":"#VALUE!"},{"$error":"#VALUE!"},{"$f":"VLOOKUP(K2835,references!$A$1:$B$7,2,FALSE)","v":{"$error":"#N/A"}}]
[null,null,null,null,null,null,null,null,null,null,null,null,"no email",{"$error":"#VALUE!"},{"$error":"#VALUE!"},{"$f":"VLOOKUP(K2836,references!$A$1:$B$7,2,FALSE)","v":{"$error":"#N/A"}}]
[null,null,null,null,null,null,null,null,null,null,null,null,"no email",{"$error":"#VALUE!"},{"$error":"#VALUE!"},{"$f":"VLOOKUP(K2837,references!$A$1:$B$7,2,FALSE)","v":{"$error":"#N/A"}}]
[null,null,null,null,null,null,null,null,null,null,null,null,"no email",{"$error":"#VALUE!"},{"$error":"#VALUE!"},{"$f":"VLOOKUP(K2838,references!$A$1:$B$7,2,FALSE)","v":{"$error":"#N/A"}}]
[null,null,null,null,null,null,null,null,null,null,null,null,"no email",{"$error":"#VALUE!"},{"$error":"#VALUE!"},{"$f":"VLOOKUP(K2839,references!$A$1:$B$7,2,FALSE)","v":{"$error":"#N/A"}}]
[null,null,null,null,null,null,null,null,null,null,null,null,"no email",{"$error":"#VALUE!"},{"$error":"#VALUE!"},{"$f":"VLOOKUP(K2840,references!$A$1:$B$7,2,FALSE)","v":{"$error":"#N/A"}}]
[null,null,null,null,null,null,null,null,null,null,null,null,"no email",{"$error":"#VALUE!"},{"$error":"#VALUE!"},{"$f":"VLOOKUP(K2841,references!$A$1:$B$7,2,FALSE)","v":{"$error":"#N/A"}}]
[null,null,null,null,null,null,null,null,null,null,null,null,"no email",{"$error":"#VALUE!"},{"$error":"#VALUE!"},{"$f":"VLOOKUP(K2842,references!$A$1:$B$7,2,FALSE)","v":{"$error":"#N/A"}}]
[null,null,null,null,null,null,null,null,null,null,null,null,"no email",{"$error":"#VALUE!"},{"$error":"#VALUE!"},{"$f":"VLOOKUP(K2843,references!$A$1:$B$7,2,FALSE)","v":{"$error":"#N/A"}}]
[null,null,null,null,null,null,null,null,null,null,null,null,"no email",{"$error":"#VALUE!"},{"$error":"#VALUE!"},{"$f":"VLOOKUP(K2844,references!$A$1:$B$7,2,FALSE)","v":{"$error":"#N/A"}}]
[null,null,null,null,null,null,null,null,null,null,null,null,"no email",{"$error":"#VALUE!"},{"$error":"#VALUE!"},{"$f":"VLOOKUP(K2845,references!$A$1:$B$7,2,FALSE)","v":{"$error":"#N/A"}}]
[null,null,null,null,null,null,null,null,null,null,null,null,"no email",{"$error":"#VALUE!"},{"$error":"#VALUE!"},{"$f":"VLOOKUP(K2846,references!$A$1:$B$7,2,FALSE)","v":{"$error":"#N/A"}}]
[null,null,null,null,null,null,null,null,null,null,null,null,"no email",{"$error":"#VALUE!"},{"$error":"#VALUE!"},{"$f":"VLOOKUP(K2847,references!$A$1:$B$7,2,FALSE)","v":{"$error":"#N/A"}}]
[null,null,null,null,null,null,null,null,null,null,null,null,"no email",{"$error":"#VALUE!"},{"$error":"#VALUE!"},{"$f":"VLOOKUP(K2848,references!$A$1:$B$7,2,FALSE)","v":{"$error":"#N/A"}}]
[null,null,null,null,null,null,null,null,null,null,null,null,"no email",{"$error":"#VALUE!"},{"$error":"#VALUE!"},{"$f":"VLOOKUP(K2849,references!$A$1:$B$7,2,FALSE)","v":{"$error":"#N/A"}}]
[null,null,null,null,null,null,null,null,null,null,null,null,"no email",{"$error":"#VALUE!"},{"$error":"#VALUE!"},{"$f":"VLOOKUP(K2850,references!$A$1:$B$7,2,FALSE)","v":{"$error":"#N/A"}}]
[null,null,null,null,null,null,null,null,null,null,null,null,"no email",{"$error":"#VALUE!"},{"$error":"#VALUE!"},{"$f":"VLOOKUP(K2851,references!$A$1:$B$7,2,FALSE)","v":{"$error":"#N/A"}}]
[null,null,null,null,null,null,null,null,null,null,null,null,"no email",{"$error":"#VALUE!"},{"$error":"#VALUE!"},{"$f":"VLOOKUP(K2852,references!$A$1:$B$7,2,FALSE)","v":{"$error":"#N/A"}}]
[null,null,null,null,null,null,null,null,null,null,null,null,"no email",{"$error":"#VALUE!"},{"$error":"#VALUE!"},{"$f":"VLOOKUP(K2853,references!$A$1:$B$7,2,FALSE)","v":{"$error":"#N/A"}}]
[null,null,null,null,null,null,null,null,null,null,null,null,"no email",{"$error":"#VALUE!"},{"$error":"#VALUE!"},{"$f":"VLOOKUP(K2854,references!$A$1:$B$7,2,FALSE)","v":{"$error":"#N/A"}}]
[null,null,null,null,null,null,null,null,null,null,null,null,"no email",{"$error":"#VALUE!"},{"$error":"#VALUE!"},{"$f":"VLOOKUP(K2855,references!$A$1:$B$7,2,FALSE)","v":{"$error":"#N/A"}}]
[null,null,null,null,null,null,null,null,null,null,null,null,"no email",{"$error":"#VALUE!"},{"$error":"#VALUE!"},{"$f":"VLOOKUP(K2856,references!$A$1:$B$7,2,FALSE)","v":{"$error":"#N/A"}}]
[null,null,null,null,null,null,null,null,null,null,null,null,"no email",{"$error":"#VALUE!"},{"$error":"#VALUE!"},{"$f":"VLOOKUP(K2857,references!$A$1:$B$7,2,FALSE)","v":{"$error":"#N/A"}}]
[null,null,null,null,null,null,null,null,null,null,null,null,"no email",{"$error":"#VALUE!"},{"$error":"#VALUE!"},{"$f":"VLOOKUP(K2858,references!$A$1:$B$7,2,FALSE)","v":{"$error":"#N/A"}}]
[null,null,null,null,null,null,null,null,null,null,null,null,"no email",{"$error":"#VALUE!"},{"$error":"#VALUE!"},{"$f":"VLOOKUP(K2859,references!$A$1:$B$7,2,FALSE)","v":{"$error":"#N/A"}}]
[null,null,null,null,null,null,null,null,null,null,null,null,"no email",{"$error":"#VALUE!"},{"$error":"#VALUE!"},{"$f":"VLOOKUP(K2860,references!$A$1:$B$7,2,FALSE)","v":{"$error":"#N/A"}}]
[null,null,null,null,null,null,null,null,null,null,null,null,"no email",{"$error":"#VALUE!"},{"$error":"#VALUE!"},{"$f":"VLOOKUP(K2861,references!$A$1:$B$7,2,FALSE)","v":{"$error":"#N/A"}}]
[null,null,null,null,null,null,null,null,null,null,null,null,"no email",{"$error":"#VALUE!"},{"$error":"#VALUE!"},{"$f":"VLOOKUP(K2862,references!$A$1:$B$7,2,FALSE)","v":{"$error":"#N/A"}}]
[null,null,null,null,null,null,null,null,null,null,null,null,"no email",{"$error":"#VALUE!"},{"$error":"#VALUE!"},{"$f":"VLOOKUP(K2863,references!$A$1:$B$7,2,FALSE)","v":{"$error":"#N/A"}}]
[null,null,null,null,null,null,null,null,null,null,null,null,"no email",{"$error":"#VALUE!"},{"$error":"#VALUE!"},{"$f":"VLOOKUP(K2864,references!$A$1:$B$7,2,FALSE)","v":{"$error":"#N/A"}}]
[null,null,null,null,null,null,null,null,null,null,null,null,"no email",{"$error":"#VALUE!"},{"$error":"#VALUE!"},{"$f":"VLOOKUP(K2865,references!$A$1:$B$7,2,FALSE)","v":{"$error":"#N/A"}}]
[null,null,null,null,null,null,null,null,null,null,null,null,"no email",{"$error":"#VALUE!"},{"$error":"#VALUE!"},{"$f":"VLOOKUP(K2866,references!$A$1:$B$7,2,FALSE)","v":{"$error":"#N/A"}}]
[null,null,null,null,null,null,null,null,null,null,null,null,"no email",{"$error":"#VALUE!"},{"$error":"#VALUE!"},{"$f":"VLOOKUP(K2867,references!$A$1:$B$7,2,FALSE)","v":{"$error":"#N/A"}}]
[null,null,null,null,null,null,null,null,null,null,null,null,"no email",{"$error":"#VALUE!"},{"$error":"#VALUE!"},{"$f":"VLOOKUP(K2868,references!$A$1:$B$7,2,FALSE)","v":{"$error":"#N/A"}}]
[null,null,null,null,null,null,null,null,null,null,null,null,"no email",{"$error":"#VALUE!"},{"$error":"#VALUE!"},{"$f":"VLOOKUP(K2869,references!$A$1:$B$7,2,FALSE)","v":{"$error":"#N/A"}}]
[null,null,null,null,null,null,null,null,null,null,null,null,"no email",{"$error":"#VALUE!"},{"$error":"#VALUE!"},{"$f":"VLOOKUP(K2870,references!$A$1:$B$7,2,FALSE)","v":{"$error":"#N/A"}}]
[null,null,null,null,null,null,null,null,null,null,null,null,"no email",{"$error":"#VALUE!"},{"$error":"#VALUE!"},{"$f":"VLOOKUP(K2871,references!$A$1:$B$7,2,FALSE)","v":{"$error":"#N/A"}}]
[null,null,null,null,null,null,null,null,null,null,null,null,"no email",{"$error":"#VALUE!"},{"$error":"#VALUE!"},{"$f":"VLOOKUP(K2872,references!$A$1:$B$7,2,FALSE)","v":{"$error":"#N/A"}}]
[null,null,null,null,null,null,null,null,null,null,null,null,"no email",{"$error":"#VALUE!"},{"$error":"#VALUE!"},{"$f":"VLOOKUP(K2873,references!$A$1:$B$7,2,FALSE)","v":{"$error":"#N/A"}}]
[null,null,null,null,null,null,null,null,null,null,null,null,"no email",{"$error":"#VALUE!"},{"$error":"#VALUE!"},{"$f":"VLOOKUP(K2874,references!$A$1:$B$7,2,FALSE)","v":{"$error":"#N/A"}}]
[null,null,null,null,null,null,null,null,null,null,null,null,"no email",{"$error":"#VALUE!"},{"$error":"#VALUE!"},{"$f":"VLOOKUP(K2875,references!$A$1:$B$7,2,FALSE)","v":{"$error":"#N/A"}}]
[null,null,null,null,null,null,null,null,null,null,null,null,"no email",{"$error":"#VALUE!"},{"$error":"#VALUE!"},{"$f":"VLOOKUP(K2876,references!$A$1:$B$7,2,FALSE)","v":{"$error":"#N/A"}}]
[null,null,null,null,null,null,null,null,null,null,null,null,"no email",{"$error":"#VALUE!"},{"$error":"#VALUE!"},{"$f":"VLOOKUP(K2877,references!$A$1:$B$7,2,FALSE)","v":{"$error":"#N/A"}}]
[null,null,null,null,null,null,null,null,null,null,null,null,"no email",{"$error":"#VALUE!"},{"$error":"#VALUE!"},{"$f":"VLOOKUP(K2878,references!$A$1:$B$7,2,FALSE)","v":{"$error":"#N/A"}}]
[null,null,null,null,null,null,null,null,null,null,null,null,"no email",{"$error":"#VALUE!"},{"$error":"#VALUE!"},{"$f":"VLOOKUP(K2879,references!$A$1:$B$7,2,FALSE)","v":{"$error":"#N/A"}}]
[null,null,null,null,null,null,null,null,null,null,null,null,"no email",{"$error":"#VALUE!"},{"$error":"#VALUE!"},{"$f":"VLOOKUP(K2880,references!$A$1:$B$7,2,FALSE)","v":{"$error":"#N/A"}}]
[null,null,null,null,null,null,null,null,null,null,null,null,"no email",{"$error":"#VALUE!"},{"$error":"#VALUE!"},{"$f":"VLOOKUP(K2881,references!$A$1:$B$7,2,FALSE)","v":{"$error":"#N/A"}}]
[null,null,null,null,null,null,null,null,null,null,null,null,{"$f":"IF(L2882=\"\", \"no email\",LOWER(L2882))","v":"no email"},{"$f":"LEFT(A2882, SEARCH(\",\",A2882,1)-1)","v":{"$error":"#VALUE!"}},{"$f":"RIGHT(A2882, LEN(A2882) -SEARCH(\",\",A2882,1)-1)","v":{"$error":"#VALUE!"}},{"$f":"VLOOKUP(K2882,references!$A$1:$B$7,2,FALSE)","v":{"$error":"#N/A"}}]
[null,null,null,null,null,null,null,null,null,null,null,null,"no email",{"$error":"#VALUE!"},{"$error":"#VALUE!"},{"$f":"VLOOKUP(K2883,references!$A$1:$B$7,2,FALSE)","v":{"$error":"#N/A"}}]
[null,null,null,null,null,null,null,null,null,null,null,null,"no email",{"$error":"#VALUE!"},{"$error":"#VALUE!"},{"$f":"VLOOKUP(K2884,references!$A$1:$B$7,2,FALSE)","v":{"$error":"#N/A"}}]
[null,null,null,null,null,null,null,null,null,null,null,null,"no email",{"$error":"#VALUE!"},{"$error":"#VALUE!"},{"$f":"VLOOKUP(K2885,references!$A$1:$B$7,2,FALSE)","v":{"$error":"#N/A"}}]
[null,null,null,null,null,null,null,null,null,null,null,null,"no email",{"$error":"#VALUE!"},{"$error":"#VALUE!"},{"$f":"VLOOKUP(K2886,references!$A$1:$B$7,2,FALSE)","v":{"$error":"#N/A"}}]
[null,null,null,null,null,null,null,null,null,null,null,null,"no email",{"$error":"#VALUE!"},{"$error":"#VALUE!"},{"$f":"VLOOKUP(K2887,references!$A$1:$B$7,2,FALSE)","v":{"$error":"#N/A"}}]
[null,null,null,null,null,null,null,null,null,null,null,null,"no email",{"$error":"#VALUE!"},{"$error":"#VALUE!"},{"$f":"VLOOKUP(K2888,references!$A$1:$B$7,2,FALSE)","v":{"$error":"#N/A"}}]
[null,null,null,null,null,null,null,null,null,null,null,null,"no email",{"$error":"#VALUE!"},{"$error":"#VALUE!"},{"$f":"VLOOKUP(K2889,references!$A$1:$B$7,2,FALSE)","v":{"$error":"#N/A"}}]
[null,null,null,null,null,null,null,null,null,null,null,null,"no email",{"$error":"#VALUE!"},{"$error":"#VALUE!"},{"$f":"VLOOKUP(K2890,references!$A$1:$B$7,2,FALSE)","v":{"$error":"#N/A"}}]
[null,null,null,null,null,null,null,null,null,null,null,null,"no email",{"$error":"#VALUE!"},{"$error":"#VALUE!"},{"$f":"VLOOKUP(K2891,references!$A$1:$B$7,2,FALSE)","v":{"$error":"#N/A"}}]
[null,null,null,null,null,null,null,null,null,null,null,null,"no email",{"$error":"#VALUE!"},{"$error":"#VALUE!"},{"$f":"VLOOKUP(K2892,references!$A$1:$B$7,2,FALSE)","v":{"$error":"#N/A"}}]
[null,null,null,null,null,null,null,null,null,null,null,null,"no email",{"$error":"#VALUE!"},{"$error":"#VALUE!"},{"$f":"VLOOKUP(K2893,references!$A$1:$B$7,2,FALSE)","v":{"$error":"#N/A"}}]
[null,null,null,null,null,null,null,null,null,null,null,null,"no email",{"$error":"#VALUE!"},{"$error":"#VALUE!"},{"$f":"VLOOKUP(K2894,references!$A$1:$B$7,2,FALSE)","v":{"$error":"#N/A"}}]
[null,null,null,null,null,null,null,null,null,null,null,null,"no email",{"$error":"#VALUE!"},{"$error":"#VALUE!"},{"$f":"VLOOKUP(K2895,references!$A$1:$B$7,2,FALSE)","v":{"$error":"#N/A"}}]
[null,null,null,null,null,null,null,null,null,null,null,null,"no email",{"$error":"#VALUE!"},{"$error":"#VALUE!"},{"$f":"VLOOKUP(K2896,references!$A$1:$B$7,2,FALSE)","v":{"$error":"#N/A"}}]
[null,null,null,null,null,null,null,null,null,null,null,null,"no email",{"$error":"#VALUE!"},{"$error":"#VALUE!"},{"$f":"VLOOKUP(K2897,references!$A$1:$B$7,2,FALSE)","v":{"$error":"#N/A"}}]
[null,null,null,null,null,null,null,null,null,null,null,null,"no email",{"$error":"#VALUE!"},{"$error":"#VALUE!"},{"$f":"VLOOKUP(K2898,references!$A$1:$B$7,2,FALSE)","v":{"$error":"#N/A"}}]
[null,null,null,null,null,null,null,null,null,null,null,null,"no email",{"$error":"#VALUE!"},{"$error":"#VALUE!"},{"$f":"VLOOKUP(K2899,references!$A$1:$B$7,2,FALSE)","v":{"$error":"#N/A"}}]
[null,null,null,null,null,null,null,null,null,null,null,null,"no email",{"$error":"#VALUE!"},{"$error":"#VALUE!"},{"$f":"VLOOKUP(K2900,references!$A$1:$B$7,2,FALSE)","v":{"$error":"#N/A"}}]
[null,null,null,null,null,null,null,null,null,null,null,null,"no email",{"$error":"#VALUE!"},{"$error":"#VALUE!"},{"$f":"VLOOKUP(K2901,references!$A$1:$B$7,2,FALSE)","v":{"$error":"#N/A"}}]
[null,null,null,null,null,null,null,null,null,null,null,null,"no email",{"$error":"#VALUE!"},{"$error":"#VALUE!"},{"$f":"VLOOKUP(K2902,references!$A$1:$B$7,2,FALSE)","v":{"$error":"#N/A"}}]
[null,null,null,null,null,null,null,null,null,null,null,null,"no email",{"$error":"#VALUE!"},{"$error":"#VALUE!"},{"$f":"VLOOKUP(K2903,references!$A$1:$B$7,2,FALSE)","v":{"$error":"#N/A"}}]
[null,null,null,null,null,null,null,null,null,null,null,null,"no email",{"$error":"#VALUE!"},{"$error":"#VALUE!"},{"$f":"VLOOKUP(K2904,references!$A$1:$B$7,2,FALSE)","v":{"$error":"#N/A"}}]
[null,null,null,null,null,null,null,null,null,null,null,null,"no email",{"$error":"#VALUE!"},{"$error":"#VALUE!"},{"$f":"VLOOKUP(K2905,references!$A$1:$B$7,2,FALSE)","v":{"$error":"#N/A"}}]
[null,null,null,null,null,null,null,null,null,null,null,null,"no email",{"$error":"#VALUE!"},{"$error":"#VALUE!"},{"$f":"VLOOKUP(K2906,references!$A$1:$B$7,2,FALSE)","v":{"$error":"#N/A"}}]
[null,null,null,null,null,null,null,null,null,null,null,null,"no email",{"$error":"#VALUE!"},{"$error":"#VALUE!"},{"$f":"VLOOKUP(K2907,references!$A$1:$B$7,2,FALSE)","v":{"$error":"#N/A"}}]
[null,null,null,null,null,null,null,null,null,null,null,null,"no email",{"$error":"#VALUE!"},{"$error":"#VALUE!"},{"$f":"VLOOKUP(K2908,references!$A$1:$B$7,2,FALSE)","v":{"$error":"#N/A"}}]
[null,null,null,null,null,null,null,null,null,null,null,null,"no email",{"$error":"#VALUE!"},{"$error":"#VALUE!"},{"$f":"VLOOKUP(K2909,references!$A$1:$B$7,2,FALSE)","v":{"$error":"#N/A"}}]
[null,null,null,null,null,null,null,null,null,null,null,null,"no email",{"$error":"#VALUE!"},{"$error":"#VALUE!"},{"$f":"VLOOKUP(K2910,references!$A$1:$B$7,2,FALSE)","v":{"$error":"#N/A"}}]
[null,null,null,null,null,null,null,null,null,null,null,null,"no email",{"$error":"#VALUE!"},{"$error":"#VALUE!"},{"$f":"VLOOKUP(K2911,references!$A$1:$B$7,2,FALSE)","v":{"$error":"#N/A"}}]
[null,null,null,null,null,null,null,null,null,null,null,null,"no email",{"$error":"#VALUE!"},{"$error":"#VALUE!"},{"$f":"VLOOKUP(K2912,references!$A$1:$B$7,2,FALSE)","v":{"$error":"#N/A"}}]
[null,null,null,null,null,null,null,null,null,null,null,null,"no email",{"$error":"#VALUE!"},{"$error":"#VALUE!"},{"$f":"VLOOKUP(K2913,references!$A$1:$B$7,2,FALSE)","v":{"$error":"#N/A"}}]
[null,null,null,null,null,null,null,null,null,null,null,null,"no email",{"$error":"#VALUE!"},{"$error":"#VALUE!"},{"$f":"VLOOKUP(K2914,references!$A$1:$B$7,2,FALSE)","v":{"$error":"#N/A"}}]
[null,null,null,null,null,null,null,null,null,null,null,null,"no email",{"$error":"#VALUE!"},{"$error":"#VALUE!"},{"$f":"VLOOKUP(K2915,references!$A$1:$B$7,2,FALSE)","v":{"$error":"#N/A"}}]
[null,null,null,null,null,null,null,null,null,null,null,null,"no email",{"$error":"#VALUE!"},{"$error":"#VALUE!"},{"$f":"VLOOKUP(K2916,references!$A$1:$B$7,2,FALSE)","v":{"$error":"#N/A"}}]
[null,null,null,null,null,null,null,null,null,null,null,null,"no email",{"$error":"#VALUE!"},{"$error":"#VALUE!"},{"$f":"VLOOKUP(K2917,references!$A$1:$B$7,2,FALSE)","v":{"$error":"#N/A"}}]
[null,null,null,null,null,null,null,null,null,null,null,null,"no email",{"$error":"#VALUE!"},{"$error":"#VALUE!"},{"$f":"VLOOKUP(K2918,references!$A$1:$B$7,2,FALSE)","v":{"$error":"#N/A"}}]
[null,null,null,null,null,null,null,null,null,null,null,null,"no email",{"$error":"#VALUE!"},{"$error":"#VALUE!"},{"$f":"VLOOKUP(K2919,references!$A$1:$B$7,2,FALSE)","v":{"$error":"#N/A"}}]
[null,null,null,null,null,null,null,null,null,null,null,null,"no email",{"$error":"#VALUE!"},{"$error":"#VALUE!"},{"$f":"VLOOKUP(K2920,references!$A$1:$B$7,2,FALSE)","v":{"$error":"#N/A"}}]
[null,null,null,null,null,null,null,null,null,null,null,null,"no email",{"$error":"#VALUE!"},{"$error":"#VALUE!"},{"$f":"VLOOKUP(K2921,references!$A$1:$B$7,2,FALSE)","v":{"$error":"#N/A"}}]
[null,null,null,null,null,null,null,null,null,null,null,null,"no email",{"$error":"#VALUE!"},{"$error":"#VALUE!"},{"$f":"VLOOKUP(K2922,references!$A$1:$B$7,2,FALSE)","v":{"$error":"#N/A"}}]
[null,null,null,null,null,null,null,null,null,null,null,null,"no email",{"$error":"#VALUE!"},{"$error":"#VALUE!"},{"$f":"VLOOKUP(K2923,references!$A$1:$B$7,2,FALSE)","v":{"$error":"#N/A"}}]
[null,null,null,null,null,null,null,null,null,null,null,null,"no email",{"$error":"#VALUE!"},{"$error":"#VALUE!"},{"$f":"VLOOKUP(K2924,references!$A$1:$B$7,2,FALSE)","v":{"$error":"#N/A"}}]
[null,null,null,null,null,null,null,null,null,null,null,null,"no email",{"$error":"#VALUE!"},{"$error":"#VALUE!"},{"$f":"VLOOKUP(K2925,references!$A$1:$B$7,2,FALSE)","v":{"$error":"#N/A"}}]
[null,null,null,null,null,null,null,null,null,null,null,null,"no email",{"$error":"#VALUE!"},{"$error":"#VALUE!"},{"$f":"VLOOKUP(K2926,references!$A$1:$B$7,2,FALSE)","v":{"$error":"#N/A"}}]
[null,null,null,null,null,null,null,null,null,null,null,null,"no email",{"$error":"#VALUE!"},{"$error":"#VALUE!"},{"$f":"VLOOKUP(K2927,references!$A$1:$B$7,2,FALSE)","v":{"$error":"#N/A"}}]
[null,null,null,null,null,null,null,null,null,null,null,null,"no email",{"$error":"#VALUE!"},{"$error":"#VALUE!"},{"$f":"VLOOKUP(K2928,references!$A$1:$B$7,2,FALSE)","v":{"$error":"#N/A"}}]
[null,null,null,null,null,null,null,null,null,null,null,null,"no email",{"$error":"#VALUE!"},{"$error":"#VALUE!"},{"$f":"VLOOKUP(K2929,references!$A$1:$B$7,2,FALSE)","v":{"$error":"#N/A"}}]
[null,null,null,null,null,null,null,null,null,null,null,null,"no email",{"$error":"#VALUE!"},{"$error":"#VALUE!"},{"$f":"VLOOKUP(K2930,references!$A$1:$B$7,2,FALSE)","v":{"$error":"#N/A"}}]
[null,null,null,null,null,null,null,null,null,null,null,null,"no email",{"$error":"#VALUE!"},{"$error":"#VALUE!"},{"$f":"VLOOKUP(K2931,references!$A$1:$B$7,2,FALSE)","v":{"$error":"#N/A"}}]
[null,null,null,null,null,null,null,null,null,null,null,null,"no email",{"$error":"#VALUE!"},{"$error":"#VALUE!"},{"$f":"VLOOKUP(K2932,references!$A$1:$B$7,2,FALSE)","v":{"$error":"#N/A"}}]
[null,null,null,null,null,null,null,null,null,null,null,null,"no email",{"$error":"#VALUE!"},{"$error":"#VALUE!"},{"$f":"VLOOKUP(K2933,references!$A$1:$B$7,2,FALSE)","v":{"$error":"#N/A"}}]
[null,null,null,null,null,null,null,null,null,null,null,null,"no email",{"$error":"#VALUE!"},{"$error":"#VALUE!"},{"$f":"VLOOKUP(K2934,references!$A$1:$B$7,2,FALSE)","v":{"$error":"#N/A"}}]
[null,null,null,null,null,null,null,null,null,null,null,null,"no email",{"$error":"#VALUE!"},{"$error":"#VALUE!"},{"$f":"VLOOKUP(K2935,references!$A$1:$B$7,2,FALSE)","v":{"$error":"#N/A"}}]
[null,null,null,null,null,null,null,null,null,null,null,null,"no email",{"$error":"#VALUE!"},{"$error":"#VALUE!"},{"$f":"VLOOKUP(K2936,references!$A$1:$B$7,2,FALSE)","v":{"$error":"#N/A"}}]
[null,null,null,null,null,null,null,null,null,null,null,null,"no email",{"$error":"#VALUE!"},{"$error":"#VALUE!"},{"$f":"VLOOKUP(K2937,references!$A$1:$B$7,2,FALSE)","v":{"$error":"#N/A"}}]
[null,null,null,null,null,null,null,null,null,null,null,null,"no email",{"$error":"#VALUE!"},{"$error":"#VALUE!"},{"$f":"VLOOKUP(K2938,references!$A$1:$B$7,2,FALSE)","v":{"$error":"#N/A"}}]
[null,null,null,null,null,null,null,null,null,null,null,null,"no email",{"$error":"#VALUE!"},{"$error":"#VALUE!"},{"$f":"VLOOKUP(K2939,references!$A$1:$B$7,2,FALSE)","v":{"$error":"#N/A"}}]
[null,null,null,null,null,null,null,null,null,null,null,null,"no email",{"$error":"#VALUE!"},{"$error":"#VALUE!"},{"$f":"VLOOKUP(K2940,references!$A$1:$B$7,2,FALSE)","v":{"$error":"#N/A"}}]
[null,null,null,null,null,null,null,null,null,null,null,null,"no email",{"$error":"#VALUE!"},{"$error":"#VALUE!"},{"$f":"VLOOKUP(K2941,references!$A$1:$B$7,2,FALSE)","v":{"$error":"#N/A"}}]
[null,null,null,null,null,null,null,null,null,null,null,null,"no email",{"$error":"#VALUE!"},{"$error":"#VALUE!"},{"$f":"VLOOKUP(K2942,references!$A$1:$B$7,2,FALSE)","v":{"$error":"#N/A"}}]
[null,null,null,null,null,null,null,null,null,null,null,null,"no email",{"$error":"#VALUE!"},{"$error":"#VALUE!"},{"$f":"VLOOKUP(K2943,references!$A$1:$B$7,2,FALSE)","v":{"$error":"#N/A"}}]
[null,null,null,null,null,null,null,null,null,null,null,null,"no email",{"$error":"#VALUE!"},{"$error":"#VALUE!"},{"$f":"VLOOKUP(K2944,references!$A$1:$B$7,2,FALSE)","v":{"$error":"#N/A"}}]
[null,null,null,null,null,null,null,null,null,null,null,null,"no email",{"$error":"#VALUE!"},{"$error":"#VALUE!"},{"$f":"VLOOKUP(K2945,references!$A$1:$B$7,2,FALSE)","v":{"$error":"#N/A"}}]
[null,null,null,null,null,null,null,null,null,null,null,null,{"$f":"IF(L2946=\"\", \"no email\",LOWER(L2946))","v":"no email"},{"$f":"LEFT(A2946, SEARCH(\",\",A2946,1)-1)","v":{"$error":"#VALUE!"}},{"$f":"RIGHT(A2946, LEN(A2946) -SEARCH(\",\",A2946,1)-1)","v":{"$error":"#VALUE!"}},{"$f":"VLOOKUP(K2946,references!$A$1:$B$7,2,FALSE)","v":{"$error":"#N/A"}}]
[null,null,null,null,null,null,null,null,null,null,null,null,"no email",{"$error":"#VALUE!"},{"$error":"#VALUE!"},{"$f":"VLOOKUP(K2947,references!$A$1:$B$7,2,FALSE)","v":{"$error":"#N/A"}}]
[null,null,null,null,null,null,null,null,null,null,null,null,"no email",{"$error":"#VALUE!"},{"$error":"#VALUE!"},{"$f":"VLOOKUP(K2948,references!$A$1:$B$7,2,FALSE)","v":{"$error":"#N/A"}}]
[null,null,null,null,null,null,null,null,null,null,null,null,"no email",{"$error":"#VALUE!"},{"$error":"#VALUE!"},{"$f":"VLOOKUP(K2949,references!$A$1:$B$7,2,FALSE)","v":{"$error":"#N/A"}}]
[null,null,null,null,null,null,null,null,null,null,null,null,"no email",{"$error":"#VALUE!"},{"$error":"#VALUE!"},{"$f":"VLOOKUP(K2950,references!$A$1:$B$7,2,FALSE)","v":{"$error":"#N/A"}}]
[null,null,null,null,null,null,null,null,null,null,null,null,"no email",{"$error":"#VALUE!"},{"$error":"#VALUE!"},{"$f":"VLOOKUP(K2951,references!$A$1:$B$7,2,FALSE)","v":{"$error":"#N/A"}}]
[null,null,null,null,null,null,null,null,null,null,null,null,"no email",{"$error":"#VALUE!"},{"$error":"#VALUE!"},{"$f":"VLOOKUP(K2952,references!$A$1:$B$7,2,FALSE)","v":{"$error":"#N/A"}}]
[null,null,null,null,null,null,null,null,null,null,null,null,"no email",{"$error":"#VALUE!"},{"$error":"#VALUE!"},{"$f":"VLOOKUP(K2953,references!$A$1:$B$7,2,FALSE)","v":{"$error":"#N/A"}}]
[null,null,null,null,null,null,null,null,null,null,null,null,"no email",{"$error":"#VALUE!"},{"$error":"#VALUE!"},{"$f":"VLOOKUP(K2954,references!$A$1:$B$7,2,FALSE)","v":{"$error":"#N/A"}}]
[null,null,null,null,null,null,null,null,null,null,null,null,"no email",{"$error":"#VALUE!"},{"$error":"#VALUE!"},{"$f":"VLOOKUP(K2955,references!$A$1:$B$7,2,FALSE)","v":{"$error":"#N/A"}}]
[null,null,null,null,null,null,null,null,null,null,null,null,"no email",{"$error":"#VALUE!"},{"$error":"#VALUE!"},{"$f":"VLOOKUP(K2956,references!$A$1:$B$7,2,FALSE)","v":{"$error":"#N/A"}}]
[null,null,null,null,null,null,null,null,null,null,null,null,"no email",{"$error":"#VALUE!"},{"$error":"#VALUE!"},{"$f":"VLOOKUP(K2957,references!$A$1:$B$7,2,FALSE)","v":{"$error":"#N/A"}}]
[null,null,null,null,null,null,null,null,null,null,null,null,"no email",{"$error":"#VALUE!"},{"$error":"#VALUE!"},{"$f":"VLOOKUP(K2958,references!$A$1:$B$7,2,FALSE)","v":{"$error":"#N/A"}}]
[null,null,null,null,null,null,null,null,null,null,null,null,"no email",{"$error":"#VALUE!"},{"$error":"#VALUE!"},{"$f":"VLOOKUP(K2959,references!$A$1:$B$7,2,FALSE)","v":{"$error":"#N/A"}}]
[null,null,null,null,null,null,null,null,null,null,null,null,"no email",{"$error":"#VALUE!"},{"$error":"#VALUE!"},{"$f":"VLOOKUP(K2960,references!$A$1:$B$7,2,FALSE)","v":{"$error":"#N/A"}}]
[null,null,null,null,null,null,null,null,null,null,null,null,"no email",{"$error":"#VALUE!"},{"$error":"#VALUE!"},{"$f":"VLOOKUP(K2961,references!$A$1:$B$7,2,FALSE)","v":{"$error":"#N/A"}}]
[null,null,null,null,null,null,null,null,null,null,null,null,"no email",{"$error":"#VALUE!"},{"$error":"#VALUE!"},{"$f":"VLOOKUP(K2962,references!$A$1:$B$7,2,FALSE)","v":{"$error":"#N/A"}}]
[null,null,null,null,null,null,null,null,null,null,null,null,"no email",{"$error":"#VALUE!"},{"$error":"#VALUE!"},{"$f":"VLOOKUP(K2963,references!$A$1:$B$7,2,FALSE)","v":{"$error":"#N/A"}}]
[null,null,null,null,null,null,null,null,null,null,null,null,"no email",{"$error":"#VALUE!"},{"$error":"#VALUE!"},{"$f":"VLOOKUP(K2964,references!$A$1:$B$7,2,FALSE)","v":{"$error":"#N/A"}}]
[null,null,null,null,null,null,null,null,null,null,null,null,"no email",{"$error":"#VALUE!"},{"$error":"#VALUE!"},{"$f":"VLOOKUP(K2965,references!$A$1:$B$7,2,FALSE)","v":{"$error":"#N/A"}}]
[null,null,null,null,null,null,null,null,null,null,null,null,"no email",{"$error":"#VALUE!"},{"$error":"#VALUE!"},{"$f":"VLOOKUP(K2966,references!$A$1:$B$7,2,FALSE)","v":{"$error":"#N/A"}}]
[null,null,null,null,null,null,null,null,null,null,null,null,"no email",{"$error":"#VALUE!"},{"$error":"#VALUE!"},{"$f":"VLOOKUP(K2967,references!$A$1:$B$7,2,FALSE)","v":{"$error":"#N/A"}}]
[null,null,null,null,null,null,null,null,null,null,null,null,"no email",{"$error":"#VALUE!"},{"$error":"#VALUE!"},{"$f":"VLOOKUP(K2968,references!$A$1:$B$7,2,FALSE)","v":{"$error":"#N/A"}}]
[null,null,null,null,null,null,null,null,null,null,null,null,"no email",{"$error":"#VALUE!"},{"$error":"#VALUE!"},{"$f":"VLOOKUP(K2969,references!$A$1:$B$7,2,FALSE)","v":{"$error":"#N/A"}}]
[null,null,null,null,null,null,null,null,null,null,null,null,"no email",{"$error":"#VALUE!"},{"$error":"#VALUE!"},{"$f":"VLOOKUP(K2970,references!$A$1:$B$7,2,FALSE)","v":{"$error":"#N/A"}}]
[null,null,null,null,null,null,null,null,null,null,null,null,"no email",{"$error":"#VALUE!"},{"$error":"#VALUE!"},{"$f":"VLOOKUP(K2971,references!$A$1:$B$7,2,FALSE)","v":{"$error":"#N/A"}}]
[null,null,null,null,null,null,null,null,null,null,null,null,"no email",{"$error":"#VALUE!"},{"$error":"#VALUE!"},{"$f":"VLOOKUP(K2972,references!$A$1:$B$7,2,FALSE)","v":{"$error":"#N/A"}}]
[null,null,null,null,null,null,null,null,null,null,null,null,"no email",{"$error":"#VALUE!"},{"$error":"#VALUE!"},{"$f":"VLOOKUP(K2973,references!$A$1:$B$7,2,FALSE)","v":{"$error":"#N/A"}}]
[null,null,null,null,null,null,null,null,null,null,null,null,"no email",{"$error":"#VALUE!"},{"$error":"#VALUE!"},{"$f":"VLOOKUP(K2974,references!$A$1:$B$7,2,FALSE)","v":{"$error":"#N/A"}}]
[null,null,null,null,null,null,null,null,null,null,null,null,"no email",{"$error":"#VALUE!"},{"$error":"#VALUE!"},{"$f":"VLOOKUP(K2975,references!$A$1:$B$7,2,FALSE)","v":{"$error":"#N/A"}}]
[null,null,null,null,null,null,null,null,null,null,null,null,"no email",{"$error":"#VALUE!"},{"$error":"#VALUE!"},{"$f":"VLOOKUP(K2976,references!$A$1:$B$7,2,FALSE)","v":{"$error":"#N/A"}}]
[null,null,null,null,null,null,null,null,null,null,null,null,"no email",{"$error":"#VALUE!"},{"$error":"#VALUE!"},{"$f":"VLOOKUP(K2977,references!$A$1:$B$7,2,FALSE)","v":{"$error":"#N/A"}}]
[null,null,null,null,null,null,null,null,null,null,null,null,"no email",{"$error":"#VALUE!"},{"$error":"#VALUE!"},{"$f":"VLOOKUP(K2978,references!$A$1:$B$7,2,FALSE)","v":{"$error":"#N/A"}}]
[null,null,null,null,null,null,null,null,null,null,null,null,"no email",{"$error":"#VALUE!"},{"$error":"#VALUE!"},{"$f":"VLOOKUP(K2979,references!$A$1:$B$7,2,FALSE)","v":{"$error":"#N/A"}}]
[null,null,null,null,null,null,null,null,null,null,null,null,"no email",{"$error":"#VALUE!"},{"$error":"#VALUE!"},{"$f":"VLOOKUP(K2980,references!$A$1:$B$7,2,FALSE)","v":{"$error":"#N/A"}}]
[null,null,null,null,null,null,null,null,null,null,null,null,"no email",{"$error":"#VALUE!"},{"$error":"#VALUE!"},{"$f":"VLOOKUP(K2981,references!$A$1:$B$7,2,FALSE)","v":{"$error":"#N/A"}}]
[null,null,null,null,null,null,null,null,null,null,null,null,"no email",{"$error":"#VALUE!"},{"$error":"#VALUE!"},{"$f":"VLOOKUP(K2982,references!$A$1:$B$7,2,FALSE)","v":{"$error":"#N/A"}}]
[null,null,null,null,null,null,null,null,null,null,null,null,"no email",{"$error":"#VALUE!"},{"$error":"#VALUE!"},{"$f":"VLOOKUP(K2983,references!$A$1:$B$7,2,FALSE)","v":{"$error":"#N/A"}}]
[null,null,null,null,null,null,null,null,null,null,null,null,"no email",{"$error":"#VALUE!"},{"$error":"#VALUE!"},{"$f":"VLOOKUP(K2984,references!$A$1:$B$7,2,FALSE)","v":{"$error":"#N/A"}}]
[null,null,null,null,null,null,null,null,null,null,null,null,"no email",{"$error":"#VALUE!"},{"$error":"#VALUE!"},{"$f":"VLOOKUP(K2985,references!$A$1:$B$7,2,FALSE)","v":{"$error":"#N/A"}}]
[null,null,null,null,null,null,null,null,null,null,null,null,"no email",{"$error":"#VALUE!"},{"$error":"#VALUE!"},{"$f":"VLOOKUP(K2986,references!$A$1:$B$7,2,FALSE)","v":{"$error":"#N/A"}}]
[null,null,null,null,null,null,null,null,null,null,null,null,"no email",{"$error":"#VALUE!"},{"$error":"#VALUE!"},{"$f":"VLOOKUP(K2987,references!$A$1:$B$7,2,FALSE)","v":{"$error":"#N/A"}}]
[null,null,null,null,null,null,null,null,null,null,null,null,"no email",{"$error":"#VALUE!"},{"$error":"#VALUE!"},{"$f":"VLOOKUP(K2988,references!$A$1:$B$7,2,FALSE)","v":{"$error":"#N/A"}}]
[null,null,null,null,null,null,null,null,null,null,null,null,"no email",{"$error":"#VALUE!"},{"$error":"#VALUE!"},{"$f":"VLOOKUP(K2989,references!$A$1:$B$7,2,FALSE)","v":{"$error":"#N/A"}}]
[null,null,null,null,null,null,null,null,null,null,null,null,"no email",{"$error":"#VALUE!"},{"$error":"#VALUE!"},{"$f":"VLOOKUP(K2990,references!$A$1:$B$7,2,FALSE)","v":{"$error":"#N/A"}}]
[null,null,null,null,null,null,null,null,null,null,null,null,"no email",{"$error":"#VALUE!"},{"$error":"#VALUE!"},{"$f":"VLOOKUP(K2991,references!$A$1:$B$7,2,FALSE)","v":{"$error":"#N/A"}}]
[null,null,null,null,null,null,null,null,null,null,null,null,"no email",{"$error":"#VALUE!"},{"$error":"#VALUE!"},{"$f":"VLOOKUP(K2992,references!$A$1:$B$7,2,FALSE)","v":{"$error":"#N/A"}}]
[null,null,null,null,null,null,null,null,null,null,null,null,"no email",{"$error":"#VALUE!"},{"$error":"#VALUE!"},{"$f":"VLOOKUP(K2993,references!$A$1:$B$7,2,FALSE)","v":{"$error":"#N/A"}}]
[null,null,null,null,null,null,null,null,null,null,null,null,"no email",{"$error":"#VALUE!"},{"$error":"#VALUE!"},{"$f":"VLOOKUP(K2994,references!$A$1:$B$7,2,FALSE)","v":{"$error":"#N/A"}}]
[null,null,null,null,null,null,null,null,null,null,null,null,"no email",{"$error":"#VALUE!"},{"$error":"#VALUE!"},{"$f":"VLOOKUP(K2995,references!$A$1:$B$7,2,FALSE)","v":{"$error":"#N/A"}}]
[null,null,null,null,null,null,null,null,null,null,null,null,"no email",{"$error":"#VALUE!"},{"$error":"#VALUE!"},{"$f":"VLOOKUP(K2996,references!$A$1:$B$7,2,FALSE)","v":{"$error":"#N/A"}}]
[null,null,null,null,null,null,null,null,null,null,null,null,"no email",{"$error":"#VALUE!"},{"$error":"#VALUE!"},{"$f":"VLOOKUP(K2997,references!$A$1:$B$7,2,FALSE)","v":{"$error":"#N/A"}}]
[null,null,null,null,null,null,null,null,null,null,null,null,"no email",{"$error":"#VALUE!"},{"$error":"#VALUE!"},{"$f":"VLOOKUP(K2998,references!$A$1:$B$7,2,FALSE)","v":{"$error":"#N/A"}}]
[null,null,null,null,null,null,null,null,null,null,null,null,"no email",{"$error":"#VALUE!"},{"$error":"#VALUE!"},{"$f":"VLOOKUP(K2999,references!$A$1:$B$7,2,FALSE)","v":{"$error":"#N/A"}}]
[null,null,null,null,null,null,null,null,null,null,null,null,"no email",{"$error":"#VALUE!"},{"$error":"#VALUE!"},{"$f":"VLOOKUP(K3000,references!$A$1:$B$7,2,FALSE)","v":{"$error":"#N/A"}}]
[null,null,null,null,null,null,null,null,null,null,null,null,"no email",{"$error":"#VALUE!"},{"$error":"#VALUE!"},{"$f":"VLOOKUP(K3001,references!$A$1:$B$7,2,FALSE)","v":{"$error":"#N/A"}}]
[null,null,null,null,null,null,null,null,null,null,null,null,"no email",{"$error":"#VALUE!"},{"$error":"#VALUE!"},{"$f":"VLOOKUP(K3002,references!$A$1:$B$7,2,FALSE)","v":{"$error":"#N/A"}}]
[null,null,null,null,null,null,null,null,null,null,null,null,"no email",{"$error":"#VALUE!"},{"$error":"#VALUE!"},{"$f":"VLOOKUP(K3003,references!$A$1:$B$7,2,FALSE)","v":{"$error":"#N/A"}}]
[null,null,null,null,null,null,null,null,null,null,null,null,"no email",{"$error":"#VALUE!"},{"$error":"#VALUE!"},{"$f":"VLOOKUP(K3004,references!$A$1:$B$7,2,FALSE)","v":{"$error":"#N/A"}}]
[null,null,null,null,null,null,null,null,null,null,null,null,"no email",{"$error":"#VALUE!"},{"$error":"#VALUE!"},{"$f":"VLOOKUP(K3005,references!$A$1:$B$7,2,FALSE)","v":{"$error":"#N/A"}}]
[null,null,null,null,null,null,null,null,null,null,null,null,"no email",{"$error":"#VALUE!"},{"$error":"#VALUE!"},{"$f":"VLOOKUP(K3006,references!$A$1:$B$7,2,FALSE)","v":{"$error":"#N/A"}}]
[null,null,null,null,null,null,null,null,null,null,null,null,"no email",{"$error":"#VALUE!"},{"$error":"#VALUE!"},{"$f":"VLOOKUP(K3007,references!$A$1:$B$7,2,FALSE)","v":{"$error":"#N/A"}}]
[null,null,null,null,null,null,null,null,null,null,null,null,"no email",{"$error":"#VALUE!"},{"$error":"#VALUE!"},{"$f":"VLOOKUP(K3008,references!$A$1:$B$7,2,FALSE)","v":{"$error":"#N/A"}}]
[null,null,null,null,null,null,null,null,null,null,null,null,"no email",{"$error":"#VALUE!"},{"$error":"#VALUE!"},{"$f":"VLOOKUP(K3009,references!$A$1:$B$7,2,FALSE)","v":{"$error":"#N/A"}}]
[null,null,null,null,null,null,null,null,null,null,null,null,{"$f":"IF(L3010=\"\", \"no email\",LOWER(L3010))","v":"no email"},{"$f":"LEFT(A3010, SEARCH(\",\",A3010,1)-1)","v":{"$error":"#VALUE!"}},{"$f":"RIGHT(A3010, LEN(A3010) -SEARCH(\",\",A3010,1)-1)","v":{"$error":"#VALUE!"}},{"$f":"VLOOKUP(K3010,references!$A$1:$B$7,2,FALSE)","v":{"$error":"#N/A"}}]
[null,null,null,null,null,null,null,null,null,null,null,null,"no email",{"$error":"#VALUE!"},{"$error":"#VALUE!"},{"$f":"VLOOKUP(K3011,references!$A$1:$B$7,2,FALSE)","v":{"$error":"#N/A"}}]
[null,null,null,null,null,null,null,null,null,null,null,null,"no email",{"$error":"#VALUE!"},{"$error":"#VALUE!"},{"$f":"VLOOKUP(K3012,references!$A$1:$B$7,2,FALSE)","v":{"$error":"#N/A"}}]
[null,null,null,null,null,null,null,null,null,null,null,null,"no email",{"$error":"#VALUE!"},{"$error":"#VALUE!"},{"$f":"VLOOKUP(K3013,references!$A$1:$B$7,2,FALSE)","v":{"$error":"#N/A"}}]
[null,null,null,null,null,null,null,null,null,null,null,null,"no email",{"$error":"#VALUE!"},{"$error":"#VALUE!"},{"$f":"VLOOKUP(K3014,references!$A$1:$B$7,2,FALSE)","v":{"$error":"#N/A"}}]
[null,null,null,null,null,null,null,null,null,null,null,null,"no email",{"$error":"#VALUE!"},{"$error":"#VALUE!"},{"$f":"VLOOKUP(K3015,references!$A$1:$B$7,2,FALSE)","v":{"$error":"#N/A"}}]
[null,null,null,null,null,null,null,null,null,null,null,null,"no email",{"$error":"#VALUE!"},{"$error":"#VALUE!"},{"$f":"VLOOKUP(K3016,references!$A$1:$B$7,2,FALSE)","v":{"$error":"#N/A"}}]
[null,null,null,null,null,null,null,null,null,null,null,null,"no email",{"$error":"#VALUE!"},{"$error":"#VALUE!"},{"$f":"VLOOKUP(K3017,references!$A$1:$B$7,2,FALSE)","v":{"$error":"#N/A"}}]
[null,null,null,null,null,null,null,null,null,null,null,null,"no email",{"$error":"#VALUE!"},{"$error":"#VALUE!"},{"$f":"VLOOKUP(K3018,references!$A$1:$B$7,2,FALSE)","v":{"$error":"#N/A"}}]
[null,null,null,null,null,null,null,null,null,null,null,null,"no email",{"$error":"#VALUE!"},{"$error":"#VALUE!"},{"$f":"VLOOKUP(K3019,references!$A$1:$B$7,2,FALSE)","v":{"$error":"#N/A"}}]
[null,null,null,null,null,null,null,null,null,null,null,null,"no email",{"$error":"#VALUE!"},{"$error":"#VALUE!"},{"$f":"VLOOKUP(K3020,references!$A$1:$B$7,2,FALSE)","v":{"$error":"#N/A"}}]
[null,null,null,null,null,null,null,null,null,null,null,null,"no email",{"$error":"#VALUE!"},{"$error":"#VALUE!"},{"$f":"VLOOKUP(K3021,references!$A$1:$B$7,2,FALSE)","v":{"$error":"#N/A"}}]
[null,null,null,null,null,null,null,null,null,null,null,null,"no email",{"$error":"#VALUE!"},{"$error":"#VALUE!"},{"$f":"VLOOKUP(K3022,references!$A$1:$B$7,2,FALSE)","v":{"$error":"#N/A"}}]
[null,null,null,null,null,null,null,null,null,null,null,null,"no email",{"$error":"#VALUE!"},{"$error":"#VALUE!"},{"$f":"VLOOKUP(K3023,references!$A$1:$B$7,2,FALSE)","v":{"$error":"#N/A"}}]
[null,null,null,null,null,null,null,null,null,null,null,null,"no email",{"$error":"#VALUE!"},{"$error":"#VALUE!"},{"$f":"VLOOKUP(K3024,references!$A$1:$B$7,2,FALSE)","v":{"$error":"#N/A"}}]
[null,null,null,null,null,null,null,null,null,null,null,null,"no email",{"$error":"#VALUE!"},{"$error":"#VALUE!"},{"$f":"VLOOKUP(K3025,references!$A$1:$B$7,2,FALSE)","v":{"$error":"#N/A"}}]
[null,null,null,null,null,null,null,null,null,null,null,null,"no email",{"$error":"#VALUE!"},{"$error":"#VALUE!"},{"$f":"VLOOKUP(K3026,references!$A$1:$B$7,2,FALSE)","v":{"$error":"#N/A"}}]
[null,null,null,null,null,null,null,null,null,null,null,null,"no email",{"$error":"#VALUE!"},{"$error":"#VALUE!"},{"$f":"VLOOKUP(K3027,references!$A$1:$B$7,2,FALSE)","v":{"$error":"#N/A"}}]
[null,null,null,null,null,null,null,null,null,null,null,null,"no email",{"$error":"#VALUE!"},{"$error":"#VALUE!"},{"$f":"VLOOKUP(K3028,references!$A$1:$B$7,2,FALSE)","v":{"$error":"#N/A"}}]
[null,null,null,null,null,null,null,null,null,null,null,null,"no email",{"$error":"#VALUE!"},{"$error":"#VALUE!"},{"$f":"VLOOKUP(K3029,references!$A$1:$B$7,2,FALSE)","v":{"$error":"#N/A"}}]
[null,null,null,null,null,null,null,null,null,null,null,null,"no email",{"$error":"#VALUE!"},{"$error":"#VALUE!"},{"$f":"VLOOKUP(K3030,references!$A$1:$B$7,2,FALSE)","v":{"$error":"#N/A"}}]
[null,null,null,null,null,null,null,null,null,null,null,null,"no email",{"$error":"#VALUE!"},{"$error":"#VALUE!"},{"$f":"VLOOKUP(K3031,references!$A$1:$B$7,2,FALSE)","v":{"$error":"#N/A"}}]
[null,null,null,null,null,null,null,null,null,null,null,null,"no email",{"$error":"#VALUE!"},{"$error":"#VALUE!"},{"$f":"VLOOKUP(K3032,references!$A$1:$B$7,2,FALSE)","v":{"$error":"#N/A"}}]
[null,null,null,null,null,null,null,null,null,null,null,null,"no email",{"$error":"#VALUE!"},{"$error":"#VALUE!"},{"$f":"VLOOKUP(K3033,references!$A$1:$B$7,2,FALSE)","v":{"$error":"#N/A"}}]
[null,null,null,null,null,null,null,null,null,null,null,null,"no email",{"$error":"#VALUE!"},{"$error":"#VALUE!"},{"$f":"VLOOKUP(K3034,references!$A$1:$B$7,2,FALSE)","v":{"$error":"#N/A"}}]
[null,null,null,null,null,null,null,null,null,null,null,null,"no email",{"$error":"#VALUE!"},{"$error":"#VALUE!"},{"$f":"VLOOKUP(K3035,references!$A$1:$B$7,2,FALSE)","v":{"$error":"#N/A"}}]
[null,null,null,null,null,null,null,null,null,null,null,null,"no email",{"$error":"#VALUE!"},{"$error":"#VALUE!"},{"$f":"VLOOKUP(K3036,references!$A$1:$B$7,2,FALSE)","v":{"$error":"#N/A"}}]
[null,null,null,null,null,null,null,null,null,null,null,null,"no email",{"$error":"#VALUE!"},{"$error":"#VALUE!"},{"$f":"VLOOKUP(K3037,references!$A$1:$B$7,2,FALSE)","v":{"$error":"#N/A"}}]
[null,null,null,null,null,null,null,null,null,null,null,null,"no email",{"$error":"#VALUE!"},{"$error":"#VALUE!"},{"$f":"VLOOKUP(K3038,references!$A$1:$B$7,2,FALSE)","v":{"$error":"#N/A"}}]
[null,null,null,null,null,null,null,null,null,null,null,null,"no email",{"$error":"#VALUE!"},{"$error":"#VALUE!"},{"$f":"VLOOKUP(K3039,references!$A$1:$B$7,2,FALSE)","v":{"$error":"#N/A"}}]
[null,null,null,null,null,null,null,null,null,null,null,null,"no email",{"$error":"#VALUE!"},{"$error":"#VALUE!"},{"$f":"VLOOKUP(K3040,references!$A$1:$B$7,2,FALSE)","v":{"$error":"#N/A"}}]
[null,null,null,null,null,null,null,null,null,null,null,null,"no email",{"$error":"#VALUE!"},{"$error":"#VALUE!"},{"$f":"VLOOKUP(K3041,references!$A$1:$B$7,2,FALSE)","v":{"$error":"#N/A"}}]
[null,null,null,null,null,null,null,null,null,null,null,null,"no email",{"$error":"#VALUE!"},{"$error":"#VALUE!"},{"$f":"VLOOKUP(K3042,references!$A$1:$B$7,2,FALSE)","v":{"$error":"#N/A"}}]
[null,null,null,null,null,null,null,null,null,null,null,null,"no email",{"$error":"#VALUE!"},{"$error":"#VALUE!"},{"$f":"VLOOKUP(K3043,references!$A$1:$B$7,2,FALSE)","v":{"$error":"#N/A"}}]
[null,null,null,null,null,null,null,null,null,null,null,null,"no email",{"$error":"#VALUE!"},{"$error":"#VALUE!"},{"$f":"VLOOKUP(K3044,references!$A$1:$B$7,2,FALSE)","v":{"$error":"#N/A"}}]
[null,null,null,null,null,null,null,null,null,null,null,null,"no email",{"$error":"#VALUE!"},{"$error":"#VALUE!"},{"$f":"VLOOKUP(K3045,references!$A$1:$B$7,2,FALSE)","v":{"$error":"#N/A"}}]
[null,null,null,null,null,null,null,null,null,null,null,null,"no email",{"$error":"#VALUE!"},{"$error":"#VALUE!"},{"$f":"VLOOKUP(K3046,references!$A$1:$B$7,2,FALSE)","v":{"$error":"#N/A"}}]
[null,null,null,null,null,null,null,null,null,null,null,null,"no email",{"$error":"#VALUE!"},{"$error":"#VALUE!"},{"$f":"VLOOKUP(K3047,references!$A$1:$B$7,2,FALSE)","v":{"$error":"#N/A"}}]
[null,null,null,null,null,null,null,null,null,null,null,null,"no email",{"$error":"#VALUE!"},{"$error":"#VALUE!"},{"$f":"VLOOKUP(K3048,references!$A$1:$B$7,2,FALSE)","v":{"$error":"#N/A"}}]
[null,null,null,null,null,null,null,null,null,null,null,null,"no email",{"$error":"#VALUE!"},{"$error":"#VALUE!"},{"$f":"VLOOKUP(K3049,references!$A$1:$B$7,2,FALSE)","v":{"$error":"#N/A"}}]
[null,null,null,null,null,null,null,null,null,null,null,null,"no email",{"$error":"#VALUE!"},{"$error":"#VALUE!"},{"$f":"VLOOKUP(K3050,references!$A$1:$B$7,2,FALSE)","v":{"$error":"#N/A"}}]
[null,null,null,null,null,null,null,null,null,null,null,null,"no email",{"$error":"#VALUE!"},{"$error":"#VALUE!"},{"$f":"VLOOKUP(K3051,references!$A$1:$B$7,2,FALSE)","v":{"$error":"#N/A"}}]
[null,null,null,null,null,null,null,null,null,null,null,null,"no email",{"$error":"#VALUE!"},{"$error":"#VALUE!"},{"$f":"VLOOKUP(K3052,references!$A$1:$B$7,2,FALSE)","v":{"$error":"#N/A"}}]
[null,null,null,null,null,null,null,null,null,null,null,null,"no email",{"$error":"#VALUE!"},{"$error":"#VALUE!"},{"$f":"VLOOKUP(K3053,references!$A$1:$B$7,2,FALSE)","v":{"$error":"#N/A"}}]
[null,null,null,null,null,null,null,null,null,null,null,null,"no email",{"$error":"#VALUE!"},{"$error":"#VALUE!"},{"$f":"VLOOKUP(K3054,references!$A$1:$B$7,2,FALSE)","v":{"$error":"#N/A"}}]
[null,null,null,null,null,null,null,null,null,null,null,null,"no email",{"$error":"#VALUE!"},{"$error":"#VALUE!"},{"$f":"VLOOKUP(K3055,references!$A$1:$B$7,2,FALSE)","v":{"$error":"#N/A"}}]
[null,null,null,null,null,null,null,null,null,null,null,null,"no email",{"$error":"#VALUE!"},{"$error":"#VALUE!"},{"$f":"VLOOKUP(K3056,references!$A$1:$B$7,2,FALSE)","v":{"$error":"#N/A"}}]
[null,null,null,null,null,null,null,null,null,null,null,null,"no email",{"$error":"#VALUE!"},{"$error":"#VALUE!"},{"$f":"VLOOKUP(K3057,references!$A$1:$B$7,2,FALSE)","v":{"$error":"#N/A"}}]
[null,null,null,null,null,null,null,null,null,null,null,null,"no email",{"$error":"#VALUE!"},{"$error":"#VALUE!"},{"$f":"VLOOKUP(K3058,references!$A$1:$B$7,2,FALSE)","v":{"$error":"#N/A"}}]
[null,null,null,null,null,null,null,null,null,null,null,null,"no email",{"$error":"#VALUE!"},{"$error":"#VALUE!"},{"$f":"VLOOKUP(K3059,references!$A$1:$B$7,2,FALSE)","v":{"$error":"#N/A"}}]
[null,null,null,null,null,null,null,null,null,null,null,null,"no email",{"$error":"#VALUE!"},{"$error":"#VALUE!"},{"$f":"VLOOKUP(K3060,references!$A$1:$B$7,2,FALSE)","v":{"$error":"#N/A"}}]
[null,null,null,null,null,null,null,null,null,null,null,null,"no email",{"$error":"#VALUE!"},{"$error":"#VALUE!"},{"$f":"VLOOKUP(K3061,references!$A$1:$B$7,2,FALSE)","v":{"$error":"#N/A"}}]
[null,null,null,null,null,null,null,null,null,null,null,null,"no email",{"$error":"#VALUE!"},{"$error":"#VALUE!"},{"$f":"VLOOKUP(K3062,references!$A$1:$B$7,2,FALSE)","v":{"$error":"#N/A"}}]
[null,null,null,null,null,null,null,null,null,null,null,null,"no email",{"$error":"#VALUE!"},{"$error":"#VALUE!"},{"$f":"VLOOKUP(K3063,references!$A$1:$B$7,2,FALSE)","v":{"$error":"#N/A"}}]
[null,null,null,null,null,null,null,null,null,null,null,null,"no email",{"$error":"#VALUE!"},{"$error":"#VALUE!"},{"$f":"VLOOKUP(K3064,references!$A$1:$B$7,2,FALSE)","v":{"$error":"#N/A"}}]
[null,null,null,null,null,null,null,null,null,null,null,null,"no email",{"$error":"#VALUE!"},{"$error":"#VALUE!"},{"$f":"VLOOKUP(K3065,references!$A$1:$B$7,2,FALSE)","v":{"$error":"#N/A"}}]
[null,null,null,null,null,null,null,null,null,null,null,null,"no email",{"$error":"#VALUE!"},{"$error":"#VALUE!"},{"$f":"VLOOKUP(K3066,references!$A$1:$B$7,2,FALSE)","v":{"$error":"#N/A"}}]
[null,null,null,null,null,null,null,null,null,null,null,null,"no email",{"$error":"#VALUE!"},{"$error":"#VALUE!"},{"$f":"VLOOKUP(K3067,references!$A$1:$B$7,2,FALSE)","v":{"$error":"#N/A"}}]
[null,null,null,null,null,null,null,null,null,null,null,null,"no email",{"$error":"#VALUE!"},{"$error":"#VALUE!"},{"$f":"VLOOKUP(K3068,references!$A$1:$B$7,2,FALSE)","v":{"$error":"#N/A"}}]
[null,null,null,null,null,null,null,null,null,null,null,null,"no email",{"$error":"#VALUE!"},{"$error":"#VALUE!"},{"$f":"VLOOKUP(K3069,references!$A$1:$B$7,2,FALSE)","v":{"$error":"#N/A"}}]
[null,null,null,null,null,null,null,null,null,null,null,null,"no email",{"$error":"#VALUE!"},{"$error":"#VALUE!"},{"$f":"VLOOKUP(K3070,references!$A$1:$B$7,2,FALSE)","v":{"$error":"#N/A"}}]
[null,null,null,null,null,null,null,null,null,null,null,null,"no email",{"$error":"#VALUE!"},{"$error":"#VALUE!"},{"$f":"VLOOKUP(K3071,references!$A$1:$B$7,2,FALSE)","v":{"$error":"#N/A"}}]
[null,null,null,null,null,null,null,null,null,null,null,null,"no email",{"$error":"#VALUE!"},{"$error":"#VALUE!"},{"$f":"VLOOKUP(K3072,references!$A$1:$B$7,2,FALSE)","v":{"$error":"#N/A"}}]
[null,null,null,null,null,null,null,null,null,null,null,null,"no email",{"$error":"#VALUE!"},{"$error":"#VALUE!"},{"$f":"VLOOKUP(K3073,references!$A$1:$B$7,2,FALSE)","v":{"$error":"#N/A"}}]
[null,null,null,null,null,null,null,null,null,null,null,null,{"$f":"IF(L3074=\"\", \"no email\",LOWER(L3074))","v":"no email"},{"$f":"LEFT(A3074, SEARCH(\",\",A3074,1)-1)","v":{"$error":"#VALUE!"}},{"$f":"RIGHT(A3074, LEN(A3074) -SEARCH(\",\",A3074,1)-1)","v":{"$error":"#VALUE!"}},{"$f":"VLOOKUP(K3074,references!$A$1:$B$7,2,FALSE)","v":{"$error":"#N/A"}}]
[null,null,null,null,null,null,null,null,null,null,null,null,"no email",{"$error":"#VALUE!"},{"$error":"#VALUE!"},{"$f":"VLOOKUP(K3075,references!$A$1:$B$7,2,FALSE)","v":{"$error":"#N/A"}}]
[null,null,null,null,null,null,null,null,null,null,null,null,"no email",{"$error":"#VALUE!"},{"$error":"#VALUE!"},{"$f":"VLOOKUP(K3076,references!$A$1:$B$7,2,FALSE)","v":{"$error":"#N/A"}}]
[null,null,null,null,null,null,null,null,null,null,null,null,"no email",{"$error":"#VALUE!"},{"$error":"#VALUE!"},{"$f":"VLOOKUP(K3077,references!$A$1:$B$7,2,FALSE)","v":{"$error":"#N/A"}}]
[null,null,null,null,null,null,null,null,null,null,null,null,"no email",{"$error":"#VALUE!"},{"$error":"#VALUE!"},{"$f":"VLOOKUP(K3078,references!$A$1:$B$7,2,FALSE)","v":{"$error":"#N/A"}}]
[null,null,null,null,null,null,null,null,null,null,null,null,"no email",{"$error":"#VALUE!"},{"$error":"#VALUE!"},{"$f":"VLOOKUP(K3079,references!$A$1:$B$7,2,FALSE)","v":{"$error":"#N/A"}}]
[null,null,null,null,null,null,null,null,null,null,null,null,"no email",{"$error":"#VALUE!"},{"$error":"#VALUE!"},{"$f":"VLOOKUP(K3080,references!$A$1:$B$7,2,FALSE)","v":{"$error":"#N/A"}}]
[null,null,null,null,null,null,null,null,null,null,null,null,"no email",{"$error":"#VALUE!"},{"$error":"#VALUE!"},{"$f":"VLOOKUP(K3081,references!$A$1:$B$7,2,FALSE)","v":{"$error":"#N/A"}}]
[null,null,null,null,null,null,null,null,null,null,null,null,"no email",{"$error":"#VALUE!"},{"$error":"#VALUE!"},{"$f":"VLOOKUP(K3082,references!$A$1:$B$7,2,FALSE)","v":{"$error":"#N/A"}}]
[null,null,null,null,null,null,null,null,null,null,null,null,"no email",{"$error":"#VALUE!"},{"$error":"#VALUE!"},{"$f":"VLOOKUP(K3083,references!$A$1:$B$7,2,FALSE)","v":{"$error":"#N/A"}}]
[null,null,null,null,null,null,null,null,null,null,null,null,"no email",{"$error":"#VALUE!"},{"$error":"#VALUE!"},{"$f":"VLOOKUP(K3084,references!$A$1:$B$7,2,FALSE)","v":{"$error":"#N/A"}}]
[null,null,null,null,null,null,null,null,null,null,null,null,"no email",{"$error":"#VALUE!"},{"$error":"#VALUE!"},{"$f":"VLOOKUP(K3085,references!$A$1:$B$7,2,FALSE)","v":{"$error":"#N/A"}}]
[null,null,null,null,null,null,null,null,null,null,null,null,"no email",{"$error":"#VALUE!"},{"$error":"#VALUE!"},{"$f":"VLOOKUP(K3086,references!$A$1:$B$7,2,FALSE)","v":{"$error":"#N/A"}}]
[null,null,null,null,null,null,null,null,null,null,null,null,"no email",{"$error":"#VALUE!"},{"$error":"#VALUE!"},{"$f":"VLOOKUP(K3087,references!$A$1:$B$7,2,FALSE)","v":{"$error":"#N/A"}}]
[null,null,null,null,null,null,null,null,null,null,null,null,"no email",{"$error":"#VALUE!"},{"$error":"#VALUE!"},{"$f":"VLOOKUP(K3088,references!$A$1:$B$7,2,FALSE)","v":{"$error":"#N/A"}}]
[null,null,null,null,null,null,null,null,null,null,null,null,"no email",{"$error":"#VALUE!"},{"$error":"#VALUE!"},{"$f":"VLOOKUP(K3089,references!$A$1:$B$7,2,FALSE)","v":{"$error":"#N/A"}}]
[null,null,null,null,null,null,null,null,null,null,null,null,"no email",{"$error":"#VALUE!"},{"$error":"#VALUE!"},{"$f":"VLOOKUP(K3090,references!$A$1:$B$7,2,FALSE)","v":{"$error":"#N/A"}}]
[null,null,null,null,null,null,null,null,null,null,null,null,"no email",{"$error":"#VALUE!"},{"$error":"#VALUE!"},{"$f":"VLOOKUP(K3091,references!$A$1:$B$7,2,FALSE)","v":{"$error":"#N/A"}}]
[null,null,null,null,null,null,null,null,null,null,null,null,"no email",{"$error":"#VALUE!"},{"$error":"#VALUE!"},{"$f":"VLOOKUP(K3092,references!$A$1:$B$7,2,FALSE)","v":{"$error":"#N/A"}}]
[null,null,null,null,null,null,null,null,null,null,null,null,"no email",{"$error":"#VALUE!"},{"$error":"#VALUE!"},{"$f":"VLOOKUP(K3093,references!$A$1:$B$7,2,FALSE)","v":{"$error":"#N/A"}}]
[null,null,null,null,null,null,null,null,null,null,null,null,"no email",{"$error":"#VALUE!"},{"$error":"#VALUE!"},{"$f":"VLOOKUP(K3094,references!$A$1:$B$7,2,FALSE)","v":{"$error":"#N/A"}}]
[null,null,null,null,null,null,null,null,null,null,null,null,"no email",{"$error":"#VALUE!"},{"$error":"#VALUE!"},{"$f":"VLOOKUP(K3095,references!$A$1:$B$7,2,FALSE)","v":{"$error":"#N/A"}}]
[null,null,null,null,null,null,null,null,null,null,null,null,"no email",{"$error":"#VALUE!"},{"$error":"#VALUE!"},{"$f":"VLOOKUP(K3096,references!$A$1:$B$7,2,FALSE)","v":{"$error":"#N/A"}}]
[null,null,null,null,null,null,null,null,null,null,null,null,"no email",{"$error":"#VALUE!"},{"$error":"#VALUE!"},{"$f":"VLOOKUP(K3097,references!$A$1:$B$7,2,FALSE)","v":{"$error":"#N/A"}}]
[null,null,null,null,null,null,null,null,null,null,null,null,"no email",{"$error":"#VALUE!"},{"$error":"#VALUE!"},{"$f":"VLOOKUP(K3098,references!$A$1:$B$7,2,FALSE)","v":{"$error":"#N/A"}}]
[null,null,null,null,null,null,null,null,null,null,null,null,"no email",{"$error":"#VALUE!"},{"$error":"#VALUE!"},{"$f":"VLOOKUP(K3099,references!$A$1:$B$7,2,FALSE)","v":{"$error":"#N/A"}}]
[null,null,null,null,null,null,null,null,null,null,null,null,"no email",{"$error":"#VALUE!"},{"$error":"#VALUE!"},{"$f":"VLOOKUP(K3100,references!$A$1:$B$7,2,FALSE)","v":{"$error":"#N/A"}}]
[null,null,null,null,null,null,null,null,null,null,null,null,"no email",{"$error":"#VALUE!"},{"$error":"#VALUE!"},{"$f":"VLOOKUP(K3101,references!$A$1:$B$7,2,FALSE)","v":{"$error":"#N/A"}}]
[null,null,null,null,null,null,null,null,null,null,null,null,"no email",{"$error":"#VALUE!"},{"$error":"#VALUE!"},{"$f":"VLOOKUP(K3102,references!$A$1:$B$7,2,FALSE)","v":{"$error":"#N/A"}}]
[null,null,null,null,null,null,null,null,null,null,null,null,"no email",{"$error":"#VALUE!"},{"$error":"#VALUE!"},{"$f":"VLOOKUP(K3103,references!$A$1:$B$7,2,FALSE)","v":{"$error":"#N/A"}}]
[null,null,null,null,null,null,null,null,null,null,null,null,"no email",{"$error":"#VALUE!"},{"$error":"#VALUE!"},{"$f":"VLOOKUP(K3104,references!$A$1:$B$7,2,FALSE)","v":{"$error":"#N/A"}}]
[null,null,null,null,null,null,null,null,null,null,null,null,"no email",{"$error":"#VALUE!"},{"$error":"#VALUE!"},{"$f":"VLOOKUP(K3105,references!$A$1:$B$7,2,FALSE)","v":{"$error":"#N/A"}}]
[null,null,null,null,null,null,null,null,null,null,null,null,"no email",{"$error":"#VALUE!"},{"$error":"#VALUE!"},{"$f":"VLOOKUP(K3106,references!$A$1:$B$7,2,FALSE)","v":{"$error":"#N/A"}}]
[null,null,null,null,null,null,null,null,null,null,null,null,"no email",{"$error":"#VALUE!"},{"$error":"#VALUE!"},{"$f":"VLOOKUP(K3107,references!$A$1:$B$7,2,FALSE)","v":{"$error":"#N/A"}}]
[null,null,null,null,null,null,null,null,null,null,null,null,"no email",{"$error":"#VALUE!"},{"$error":"#VALUE!"},{"$f":"VLOOKUP(K3108,references!$A$1:$B$7,2,FALSE)","v":{"$error":"#N/A"}}]
[null,null,null,null,null,null,null,null,null,null,null,null,"no email",{"$error":"#VALUE!"},{"$error":"#VALUE!"},{"$f":"VLOOKUP(K3109,references!$A$1:$B$7,2,FALSE)","v":{"$error":"#N/A"}}]
[null,null,null,null,null,null,null,null,null,null,null,null,"no email",{"$error":"#VALUE!"},{"$error":"#VALUE!"},{"$f":"VLOOKUP(K3110,references!$A$1:$B$7,2,FALSE)","v":{"$error":"#N/A"}}]
[null,null,null,null,null,null,null,null,null,null,null,null,"no email",{"$error":"#VALUE!"},{"$error":"#VALUE!"},{"$f":"VLOOKUP(K3111,references!$A$1:$B$7,2,FALSE)","v":{"$error":"#N/A"}}]
[null,null,null,null,null,null,null,null,null,null,null,null,"no email",{"$error":"#VALUE!"},{"$error":"#VALUE!"},{"$f":"VLOOKUP(K3112,references!$A$1:$B$7,2,FALSE)","v":{"$error":"#N/A"}}]
[null,null,null,null,null,null,null,null,null,null,null,null,"no email",{"$error":"#VALUE!"},{"$error":"#VALUE!"},{"$f":"VLOOKUP(K3113,references!$A$1:$B$7,2,FALSE)","v":{"$error":"#N/A"}}]
[null,null,null,null,null,null,null,null,null,null,null,null,"no email",{"$error":"#VALUE!"},{"$error":"#VALUE!"},{"$f":"VLOOKUP(K3114,references!$A$1:$B$7,2,FALSE)","v":{"$error":"#N/A"}}]
[null,null,null,null,null,null,null,null,null,null,null,null,"no email",{"$error":"#VALUE!"},{"$error":"#VALUE!"},{"$f":"VLOOKUP(K3115,references!$A$1:$B$7,2,FALSE)","v":{"$error":"#N/A"}}]
[null,null,null,null,null,null,null,null,null,null,null,null,"no email",{"$error":"#VALUE!"},{"$error":"#VALUE!"},{"$f":"VLOOKUP(K3116,references!$A$1:$B$7,2,FALSE)","v":{"$error":"#N/A"}}]
[null,null,null,null,null,null,null,null,null,null,null,null,"no email",{"$error":"#VALUE!"},{"$error":"#VALUE!"},{"$f":"VLOOKUP(K3117,references!$A$1:$B$7,2,FALSE)","v":{"$error":"#N/A"}}]
[null,null,null,null,null,null,null,null,null,null,null,null,"no email",{"$error":"#VALUE!"},{"$error":"#VALUE!"},{"$f":"VLOOKUP(K3118,references!$A$1:$B$7,2,FALSE)","v":{"$error":"#N/A"}}]
[null,null,null,null,null,null,null,null,null,null,null,null,"no email",{"$error":"#VALUE!"},{"$error":"#VALUE!"},{"$f":"VLOOKUP(K3119,references!$A$1:$B$7,2,FALSE)","v":{"$error":"#N/A"}}]
[null,null,null,null,null,null,null,null,null,null,null,null,"no email",{"$error":"#VALUE!"},{"$error":"#VALUE!"},{"$f":"VLOOKUP(K3120,references!$A$1:$B$7,2,FALSE)","v":{"$error":"#N/A"}}]
[null,null,null,null,null,null,null,null,null,null,null,null,"no email",{"$error":"#VALUE!"},{"$error":"#VALUE!"},{"$f":"VLOOKUP(K3121,references!$A$1:$B$7,2,FALSE)","v":{"$error":"#N/A"}}]
[null,null,null,null,null,null,null,null,null,null,null,null,"no email",{"$error":"#VALUE!"},{"$error":"#VALUE!"},{"$f":"VLOOKUP(K3122,references!$A$1:$B$7,2,FALSE)","v":{"$error":"#N/A"}}]
[null,null,null,null,null,null,null,null,null,null,null,null,"no email",{"$error":"#VALUE!"},{"$error":"#VALUE!"},{"$f":"VLOOKUP(K3123,references!$A$1:$B$7,2,FALSE)","v":{"$error":"#N/A"}}]
[null,null,null,null,null,null,null,null,null,null,null,null,"no email",{"$error":"#VALUE!"},{"$error":"#VALUE!"},{"$f":"VLOOKUP(K3124,references!$A$1:$B$7,2,FALSE)","v":{"$error":"#N/A"}}]
[null,null,null,null,null,null,null,null,null,null,null,null,"no email",{"$error":"#VALUE!"},{"$error":"#VALUE!"},{"$f":"VLOOKUP(K3125,references!$A$1:$B$7,2,FALSE)","v":{"$error":"#N/A"}}]
[null,null,null,null,null,null,null,null,null,null,null,null,"no email",{"$error":"#VALUE!"},{"$error":"#VALUE!"},{"$f":"VLOOKUP(K3126,references!$A$1:$B$7,2,FALSE)","v":{"$error":"#N/A"}}]
[null,null,null,null,null,null,null,null,null,null,null,null,"no email",{"$error":"#VALUE!"},{"$error":"#VALUE!"},{"$f":"VLOOKUP(K3127,references!$A$1:$B$7,2,FALSE)","v":{"$error":"#N/A"}}]
[null,null,null,null,null,null,null,null,null,null,null,null,"no email",{"$error":"#VALUE!"},{"$error":"#VALUE!"},{"$f":"VLOOKUP(K3128,references!$A$1:$B$7,2,FALSE)","v":{"$error":"#N/A"}}]
[null,null,null,null,null,null,null,null,null,null,null,null,"no email",{"$error":"#VALUE!"},{"$error":"#VALUE!"},{"$f":"VLOOKUP(K3129,references!$A$1:$B$7,2,FALSE)","v":{"$error":"#N/A"}}]
[null,null,null,null,null,null,null,null,null,null,null,null,"no email",{"$error":"#VALUE!"},{"$error":"#VALUE!"},{"$f":"VLOOKUP(K3130,references!$A$1:$B$7,2,FALSE)","v":{"$error":"#N/A"}}]
[null,null,null,null,null,null,null,null,null,null,null,null,"no email",{"$error":"#VALUE!"},{"$error":"#VALUE!"},{"$f":"VLOOKUP(K3131,references!$A$1:$B$7,2,FALSE)","v":{"$error":"#N/A"}}]
[null,null,null,null,null,null,null,null,null,null,null,null,"no email",{"$error":"#VALUE!"},{"$error":"#VALUE!"},{"$f":"VLOOKUP(K3132,references!$A$1:$B$7,2,FALSE)","v":{"$error":"#N/A"}}]
[null,null,null,null,null,null,null,null,null,null,null,null,"no email",{"$error":"#VALUE!"},{"$error":"#VALUE!"},{"$f":"VLOOKUP(K3133,references!$A$1:$B$7,2,FALSE)","v":{"$error":"#N/A"}}]
[null,null,null,null,null,null,null,null,null,null,null,null,"no email",{"$error":"#VALUE!"},{"$error":"#VALUE!"},{"$f":"VLOOKUP(K3134,references!$A$1:$B$7,2,FALSE)","v":{"$error":"#N/A"}}]
[null,null,null,null,null,null,null,null,null,null,null,null,"no email",{"$error":"#VALUE!"},{"$error":"#VALUE!"},{"$f":"VLOOKUP(K3135,references!$A$1:$B$7,2,FALSE)","v":{"$error":"#N/A"}}]
[null,null,null,null,null,null,null,null,null,null,null,null,"no email",{"$error":"#VALUE!"},{"$error":"#VALUE!"},{"$f":"VLOOKUP(K3136,references!$A$1:$B$7,2,FALSE)","v":{"$error":"#N/A"}}]
[null,null,null,null,null,null,null,null,null,null,null,null,"no email",{"$error":"#VALUE!"},{"$error":"#VALUE!"},{"$f":"VLOOKUP(K3137,references!$A$1:$B$7,2,FALSE)","v":{"$error":"#N/A"}}]
[null,null,null,null,null,null,null,null,null,null,null,null,{"$f":"IF(L3138=\"\", \"no email\",LOWER(L3138))","v":"no email"},{"$f":"LEFT(A3138, SEARCH(\",\",A3138,1)-1)","v":{"$error":"#VALUE!"}},{"$f":"RIGHT(A3138, LEN(A3138) -SEARCH(\",\",A3138,1)-1)","v":{"$error":"#VALUE!"}},{"$f":"VLOOKUP(K3138,references!$A$1:$B$7,2,FALSE)","v":{"$error":"#N/A"}}]
[null,null,null,null,null,null,null,null,null,null,null,null,"no email",{"$error":"#VALUE!"},{"$error":"#VALUE!"},{"$f":"VLOOKUP(K3139,references!$A$1:$B$7,2,FALSE)","v":{"$error":"#N/A"}}]
[null,null,null,null,null,null,null,null,null,null,null,null,"no email",{"$error":"#VALUE!"},{"$error":"#VALUE!"},{"$f":"VLOOKUP(K3140,references!$A$1:$B$7,2,FALSE)","v":{"$error":"#N/A"}}]
[null,null,null,null,null,null,null,null,null,null,null,null,"no email",{"$error":"#VALUE!"},{"$error":"#VALUE!"},{"$f":"VLOOKUP(K3141,references!$A$1:$B$7,2,FALSE)","v":{"$error":"#N/A"}}]
[null,null,null,null,null,null,null,null,null,null,null,null,"no email",{"$error":"#VALUE!"},{"$error":"#VALUE!"},{"$f":"VLOOKUP(K3142,references!$A$1:$B$7,2,FALSE)","v":{"$error":"#N/A"}}]
[null,null,null,null,null,null,null,null,null,null,null,null,"no email",{"$error":"#VALUE!"},{"$error":"#VALUE!"},{"$f":"VLOOKUP(K3143,references!$A$1:$B$7,2,FALSE)","v":{"$error":"#N/A"}}]
[null,null,null,null,null,null,null,null,null,null,null,null,"no email",{"$error":"#VALUE!"},{"$error":"#VALUE!"},{"$f":"VLOOKUP(K3144,references!$A$1:$B$7,2,FALSE)","v":{"$error":"#N/A"}}]
[null,null,null,null,null,null,null,null,null,null,null,null,"no email",{"$error":"#VALUE!"},{"$error":"#VALUE!"},{"$f":"VLOOKUP(K3145,references!$A$1:$B$7,2,FALSE)","v":{"$error":"#N/A"}}]
[null,null,null,null,null,null,null,null,null,null,null,null,"no email",{"$error":"#VALUE!"},{"$error":"#VALUE!"},{"$f":"VLOOKUP(K3146,references!$A$1:$B$7,2,FALSE)","v":{"$error":"#N/A"}}]
[null,null,null,null,null,null,null,null,null,null,null,null,"no email",{"$error":"#VALUE!"},{"$error":"#VALUE!"},{"$f":"VLOOKUP(K3147,references!$A$1:$B$7,2,FALSE)","v":{"$error":"#N/A"}}]
[null,null,null,null,null,null,null,null,null,null,null,null,"no email",{"$error":"#VALUE!"},{"$error":"#VALUE!"},{"$f":"VLOOKUP(K3148,references!$A$1:$B$7,2,FALSE)","v":{"$error":"#N/A"}}]
[null,null,null,null,null,null,null,null,null,null,null,null,"no email",{"$error":"#VALUE!"},{"$error":"#VALUE!"},{"$f":"VLOOKUP(K3149,references!$A$1:$B$7,2,FALSE)","v":{"$error":"#N/A"}}]
[null,null,null,null,null,null,null,null,null,null,null,null,"no email",{"$error":"#VALUE!"},{"$error":"#VALUE!"},{"$f":"VLOOKUP(K3150,references!$A$1:$B$7,2,FALSE)","v":{"$error":"#N/A"}}]
[null,null,null,null,null,null,null,null,null,null,null,null,"no email",{"$error":"#VALUE!"},{"$error":"#VALUE!"},{"$f":"VLOOKUP(K3151,references!$A$1:$B$7,2,FALSE)","v":{"$error":"#N/A"}}]
[null,null,null,null,null,null,null,null,null,null,null,null,"no email",{"$error":"#VALUE!"},{"$error":"#VALUE!"},{"$f":"VLOOKUP(K3152,references!$A$1:$B$7,2,FALSE)","v":{"$error":"#N/A"}}]
[null,null,null,null,null,null,null,null,null,null,null,null,"no email",{"$error":"#VALUE!"},{"$error":"#VALUE!"},{"$f":"VLOOKUP(K3153,references!$A$1:$B$7,2,FALSE)","v":{"$error":"#N/A"}}]
[null,null,null,null,null,null,null,null,null,null,null,null,"no email",{"$error":"#VALUE!"},{"$error":"#VALUE!"},{"$f":"VLOOKUP(K3154,references!$A$1:$B$7,2,FALSE)","v":{"$error":"#N/A"}}]
[null,null,null,null,null,null,null,null,null,null,null,null,"no email",{"$error":"#VALUE!"},{"$error":"#VALUE!"},{"$f":"VLOOKUP(K3155,references!$A$1:$B$7,2,FALSE)","v":{"$error":"#N/A"}}]
[null,null,null,null,null,null,null,null,null,null,null,null,"no email",{"$error":"#VALUE!"},{"$error":"#VALUE!"},{"$f":"VLOOKUP(K3156,references!$A$1:$B$7,2,FALSE)","v":{"$error":"#N/A"}}]
[null,null,null,null,null,null,null,null,null,null,null,null,"no email",{"$error":"#VALUE!"},{"$error":"#VALUE!"},{"$f":"VLOOKUP(K3157,references!$A$1:$B$7,2,FALSE)","v":{"$error":"#N/A"}}]
[null,null,null,null,null,null,null,null,null,null,null,null,"no email",{"$error":"#VALUE!"},{"$error":"#VALUE!"},{"$f":"VLOOKUP(K3158,references!$A$1:$B$7,2,FALSE)","v":{"$error":"#N/A"}}]
[null,null,null,null,null,null,null,null,null,null,null,null,"no email",{"$error":"#VALUE!"},{"$error":"#VALUE!"},{"$f":"VLOOKUP(K3159,references!$A$1:$B$7,2,FALSE)","v":{"$error":"#N/A"}}]
[null,null,null,null,null,null,null,null,null,null,null,null,"no email",{"$error":"#VALUE!"},{"$error":"#VALUE!"},{"$f":"VLOOKUP(K3160,references!$A$1:$B$7,2,FALSE)","v":{"$error":"#N/A"}}]
[null,null,null,null,null,null,null,null,null,null,null,null,"no email",{"$error":"#VALUE!"},{"$error":"#VALUE!"},{"$f":"VLOOKUP(K3161,references!$A$1:$B$7,2,FALSE)","v":{"$error":"#N/A"}}]
[null,null,null,null,null,null,null,null,null,null,null,null,"no email",{"$error":"#VALUE!"},{"$error":"#VALUE!"},{"$f":"VLOOKUP(K3162,references!$A$1:$B$7,2,FALSE)","v":{"$error":"#N/A"}}]
[null,null,null,null,null,null,null,null,null,null,null,null,"no email",{"$error":"#VALUE!"},{"$error":"#VALUE!"},{"$f":"VLOOKUP(K3163,references!$A$1:$B$7,2,FALSE)","v":{"$error":"#N/A"}}]
[null,null,null,null,null,null,null,null,null,null,null,null,"no email",{"$error":"#VALUE!"},{"$error":"#VALUE!"},{"$f":"VLOOKUP(K3164,references!$A$1:$B$7,2,FALSE)","v":{"$error":"#N/A"}}]
[null,null,null,null,null,null,null,null,null,null,null,null,"no email",{"$error":"#VALUE!"},{"$error":"#VALUE!"},{"$f":"VLOOKUP(K3165,references!$A$1:$B$7,2,FALSE)","v":{"$error":"#N/A"}}]
[null,null,null,null,null,null,null,null,null,null,null,null,"no email",{"$error":"#VALUE!"},{"$error":"#VALUE!"},{"$f":"VLOOKUP(K3166,references!$A$1:$B$7,2,FALSE)","v":{"$error":"#N/A"}}]
[null,null,null,null,null,null,null,null,null,null,null,null,"no email",{"$error":"#VALUE!"},{"$error":"#VALUE!"},{"$f":"VLOOKUP(K3167,references!$A$1:$B$7,2,FALSE)","v":{"$error":"#N/A"}}]
[null,null,null,null,null,null,null,null,null,null,null,null,"no email",{"$error":"#VALUE!"},{"$error":"#VALUE!"},{"$f":"VLOOKUP(K3168,references!$A$1:$B$7,2,FALSE)","v":{"$error":"#N/A"}}]
[null,null,null,null,null,null,null,null,null,null,null,null,"no email",{"$error":"#VALUE!"},{"$error":"#VALUE!"},{"$f":"VLOOKUP(K3169,references!$A$1:$B$7,2,FALSE)","v":{"$error":"#N/A"}}]
[null,null,null,null,null,null,null,null,null,null,null,null,"no email",{"$error":"#VALUE!"},{"$error":"#VALUE!"},{"$f":"VLOOKUP(K3170,references!$A$1:$B$7,2,FALSE)","v":{"$error":"#N/A"}}]
[null,null,null,null,null,null,null,null,null,null,null,null,"no email",{"$error":"#VALUE!"},{"$error":"#VALUE!"},{"$f":"VLOOKUP(K3171,references!$A$1:$B$7,2,FALSE)","v":{"$error":"#N/A"}}]
[null,null,null,null,null,null,null,null,null,null,null,null,"no email",{"$error":"#VALUE!"},{"$error":"#VALUE!"},{"$f":"VLOOKUP(K3172,references!$A$1:$B$7,2,FALSE)","v":{"$error":"#N/A"}}]
[null,null,null,null,null,null,null,null,null,null,null,null,"no email",{"$error":"#VALUE!"},{"$error":"#VALUE!"},{"$f":"VLOOKUP(K3173,references!$A$1:$B$7,2,FALSE)","v":{"$error":"#N/A"}}]
[null,null,null,null,null,null,null,null,null,null,null,null,"no email",{"$error":"#VALUE!"},{"$error":"#VALUE!"},{"$f":"VLOOKUP(K3174,references!$A$1:$B$7,2,FALSE)","v":{"$error":"#N/A"}}]
[null,null,null,null,null,null,null,null,null,null,null,null,"no email",{"$error":"#VALUE!"},{"$error":"#VALUE!"},{"$f":"VLOOKUP(K3175,references!$A$1:$B$7,2,FALSE)","v":{"$error":"#N/A"}}]
[null,null,null,null,null,null,null,null,null,null,null,null,"no email",{"$error":"#VALUE!"},{"$error":"#VALUE!"},{"$f":"VLOOKUP(K3176,references!$A$1:$B$7,2,FALSE)","v":{"$error":"#N/A"}}]
[null,null,null,null,null,null,null,null,null,null,null,null,"no email",{"$error":"#VALUE!"},{"$error":"#VALUE!"},{"$f":"VLOOKUP(K3177,references!$A$1:$B$7,2,FALSE)","v":{"$error":"#N/A"}}]
[null,null,null,null,null,null,null,null,null,null,null,null,"no email",{"$error":"#VALUE!"},{"$error":"#VALUE!"},{"$f":"VLOOKUP(K3178,references!$A$1:$B$7,2,FALSE)","v":{"$error":"#N/A"}}]
[null,null,null,null,null,null,null,null,null,null,null,null,"no email",{"$error":"#VALUE!"},{"$error":"#VALUE!"},{"$f":"VLOOKUP(K3179,references!$A$1:$B$7,2,FALSE)","v":{"$error":"#N/A"}}]
[null,null,null,null,null,null,null,null,null,null,null,null,"no email",{"$error":"#VALUE!"},{"$error":"#VALUE!"},{"$f":"VLOOKUP(K3180,references!$A$1:$B$7,2,FALSE)","v":{"$error":"#N/A"}}]
[null,null,null,null,null,null,null,null,null,null,null,null,"no email",{"$error":"#VALUE!"},{"$error":"#VALUE!"},{"$f":"VLOOKUP(K3181,references!$A$1:$B$7,2,FALSE)","v":{"$error":"#N/A"}}]
[null,null,null,null,null,null,null,null,null,null,null,null,"no email",{"$error":"#VALUE!"},{"$error":"#VALUE!"},{"$f":"VLOOKUP(K3182,references!$A$1:$B$7,2,FALSE)","v":{"$error":"#N/A"}}]
[null,null,null,null,null,null,null,null,null,null,null,null,"no email",{"$error":"#VALUE!"},{"$error":"#VALUE!"},{"$f":"VLOOKUP(K3183,references!$A$1:$B$7,2,FALSE)","v":{"$error":"#N/A"}}]
[null,null,null,null,null,null,null,null,null,null,null,null,"no email",{"$error":"#VALUE!"},{"$error":"#VALUE!"},{"$f":"VLOOKUP(K3184,references!$A$1:$B$7,2,FALSE)","v":{"$error":"#N/A"}}]
[null,null,null,null,null,null,null,null,null,null,null,null,"no email",{"$error":"#VALUE!"},{"$error":"#VALUE!"},{"$f":"VLOOKUP(K3185,references!$A$1:$B$7,2,FALSE)","v":{"$error":"#N/A"}}]
[null,null,null,null,null,null,null,null,null,null,null,null,"no email",{"$error":"#VALUE!"},{"$error":"#VALUE!"},{"$f":"VLOOKUP(K3186,references!$A$1:$B$7,2,FALSE)","v":{"$error":"#N/A"}}]
[null,null,null,null,null,null,null,null,null,null,null,null,"no email",{"$error":"#VALUE!"},{"$error":"#VALUE!"},{"$f":"VLOOKUP(K3187,references!$A$1:$B$7,2,FALSE)","v":{"$error":"#N/A"}}]
[null,null,null,null,null,null,null,null,null,null,null,null,"no email",{"$error":"#VALUE!"},{"$error":"#VALUE!"},{"$f":"VLOOKUP(K3188,references!$A$1:$B$7,2,FALSE)","v":{"$error":"#N/A"}}]
[null,null,null,null,null,null,null,null,null,null,null,null,"no email",{"$error":"#VALUE!"},{"$error":"#VALUE!"},{"$f":"VLOOKUP(K3189,references!$A$1:$B$7,2,FALSE)","v":{"$error":"#N/A"}}]
[null,null,null,null,null,null,null,null,null,null,null,null,"no email",{"$error":"#VALUE!"},{"$error":"#VALUE!"},{"$f":"VLOOKUP(K3190,references!$A$1:$B$7,2,FALSE)","v":{"$error":"#N/A"}}]
[null,null,null,null,null,null,null,null,null,null,null,null,"no email",{"$error":"#VALUE!"},{"$error":"#VALUE!"},{"$f":"VLOOKUP(K3191,references!$A$1:$B$7,2,FALSE)","v":{"$error":"#N/A"}}]
[null,null,null,null,null,null,null,null,null,null,null,null,"no email",{"$error":"#VALUE!"},{"$error":"#VALUE!"},{"$f":"VLOOKUP(K3192,references!$A$1:$B$7,2,FALSE)","v":{"$error":"#N/A"}}]
[null,null,null,null,null,null,null,null,null,null,null,null,"no email",{"$error":"#VALUE!"},{"$error":"#VALUE!"},{"$f":"VLOOKUP(K3193,references!$A$1:$B$7,2,FALSE)","v":{"$error":"#N/A"}}]
[null,null,null,null,null,null,null,null,null,null,null,null,"no email",{"$error":"#VALUE!"},{"$error":"#VALUE!"},{"$f":"VLOOKUP(K3194,references!$A$1:$B$7,2,FALSE)","v":{"$error":"#N/A"}}]
[null,null,null,null,null,null,null,null,null,null,null,null,"no email",{"$error":"#VALUE!"},{"$error":"#VALUE!"},{"$f":"VLOOKUP(K3195,references!$A$1:$B$7,2,FALSE)","v":{"$error":"#N/A"}}]
[null,null,null,null,null,null,null,null,null,null,null,null,"no email",{"$error":"#VALUE!"},{"$error":"#VALUE!"},{"$f":"VLOOKUP(K3196,references!$A$1:$B$7,2,FALSE)","v":{"$error":"#N/A"}}]
[null,null,null,null,null,null,null,null,null,null,null,null,"no email",{"$error":"#VALUE!"},{"$error":"#VALUE!"},{"$f":"VLOOKUP(K3197,references!$A$1:$B$7,2,FALSE)","v":{"$error":"#N/A"}}]
[null,null,null,null,null,null,null,null,null,null,null,null,"no email",{"$error":"#VALUE!"},{"$error":"#VALUE!"},{"$f":"VLOOKUP(K3198,references!$A$1:$B$7,2,FALSE)","v":{"$error":"#N/A"}}]
[null,null,null,null,null,null,null,null,null,null,null,null,"no email",{"$error":"#VALUE!"},{"$error":"#VALUE!"},{"$f":"VLOOKUP(K3199,references!$A$1:$B$7,2,FALSE)","v":{"$error":"#N/A"}}]
[null,null,null,null,null,null,null,null,null,null,null,null,"no email",{"$error":"#VALUE!"},{"$error":"#VALUE!"},{"$f":"VLOOKUP(K3200,references!$A$1:$B$7,2,FALSE)","v":{"$error":"#N/A"}}]
[null,null,null,null,null,null,null,null,null,null,null,null,"no email",{"$error":"#VALUE!"},{"$error":"#VALUE!"},{"$f":"VLOOKUP(K3201,references!$A$1:$B$7,2,FALSE)","v":{"$error":"#N/A"}}]
[null,null,null,null,null,null,null,null,null,null,null,null,{"$f":"IF(L3202=\"\", \"no email\",LOWER(L3202))","v":"no email"},{"$f":"LEFT(A3202, SEARCH(\",\",A3202,1)-1)","v":{"$error":"#VALUE!"}},{"$f":"RIGHT(A3202, LEN(A3202) -SEARCH(\",\",A3202,1)-1)","v":{"$error":"#VALUE!"}},{"$f":"VLOOKUP(K3202,references!$A$1:$B$7,2,FALSE)","v":{"$error":"#N/A"}}]
[null,null,null,null,null,null,null,null,null,null,null,null,"no email",{"$error":"#VALUE!"},{"$error":"#VALUE!"},{"$f":"VLOOKUP(K3203,references!$A$1:$B$7,2,FALSE)","v":{"$error":"#N/A"}}]
[null,null,null,null,null,null,null,null,null,null,null,null,"no email",{"$error":"#VALUE!"},{"$error":"#VALUE!"},{"$f":"VLOOKUP(K3204,references!$A$1:$B$7,2,FALSE)","v":{"$error":"#N/A"}}]
[null,null,null,null,null,null,null,null,null,null,null,null,"no email",{"$error":"#VALUE!"},{"$error":"#VALUE!"},{"$f":"VLOOKUP(K3205,references!$A$1:$B$7,2,FALSE)","v":{"$error":"#N/A"}}]
[null,null,null,null,null,null,null,null,null,null,null,null,"no email",{"$error":"#VALUE!"},{"$error":"#VALUE!"},{"$f":"VLOOKUP(K3206,references!$A$1:$B$7,2,FALSE)","v":{"$error":"#N/A"}}]
[null,null,null,null,null,null,null,null,null,null,null,null,"no email",{"$error":"#VALUE!"},{"$error":"#VALUE!"},{"$f":"VLOOKUP(K3207,references!$A$1:$B$7,2,FALSE)","v":{"$error":"#N/A"}}]
[null,null,null,null,null,null,null,null,null,null,null,null,"no email",{"$error":"#VALUE!"},{"$error":"#VALUE!"},{"$f":"VLOOKUP(K3208,references!$A$1:$B$7,2,FALSE)","v":{"$error":"#N/A"}}]
[null,null,null,null,null,null,null,null,null,null,null,null,"no email",{"$error":"#VALUE!"},{"$error":"#VALUE!"},{"$f":"VLOOKUP(K3209,references!$A$1:$B$7,2,FALSE)","v":{"$error":"#N/A"}}]
[null,null,null,null,null,null,null,null,null,null,null,null,"no email",{"$error":"#VALUE!"},{"$error":"#VALUE!"},{"$f":"VLOOKUP(K3210,references!$A$1:$B$7,2,FALSE)","v":{"$error":"#N/A"}}]
[null,null,null,null,null,null,null,null,null,null,null,null,"no email",{"$error":"#VALUE!"},{"$error":"#VALUE!"},{"$f":"VLOOKUP(K3211,references!$A$1:$B$7,2,FALSE)","v":{"$error":"#N/A"}}]
[null,null,null,null,null,null,null,null,null,null,null,null,"no email",{"$error":"#VALUE!"},{"$error":"#VALUE!"},{"$f":"VLOOKUP(K3212,references!$A$1:$B$7,2,FALSE)","v":{"$error":"#N/A"}}]
[null,null,null,null,null,null,null,null,null,null,null,null,"no email",{"$error":"#VALUE!"},{"$error":"#VALUE!"},{"$f":"VLOOKUP(K3213,references!$A$1:$B$7,2,FALSE)","v":{"$error":"#N/A"}}]
[null,null,null,null,null,null,null,null,null,null,null,null,"no email",{"$error":"#VALUE!"},{"$error":"#VALUE!"},{"$f":"VLOOKUP(K3214,references!$A$1:$B$7,2,FALSE)","v":{"$error":"#N/A"}}]
[null,null,null,null,null,null,null,null,null,null,null,null,"no email",{"$error":"#VALUE!"},{"$error":"#VALUE!"},{"$f":"VLOOKUP(K3215,references!$A$1:$B$7,2,FALSE)","v":{"$error":"#N/A"}}]
[null,null,null,null,null,null,null,null,null,null,null,null,"no email",{"$error":"#VALUE!"},{"$error":"#VALUE!"},{"$f":"VLOOKUP(K3216,references!$A$1:$B$7,2,FALSE)","v":{"$error":"#N/A"}}]
[null,null,null,null,null,null,null,null,null,null,null,null,"no email",{"$error":"#VALUE!"},{"$error":"#VALUE!"},{"$f":"VLOOKUP(K3217,references!$A$1:$B$7,2,FALSE)","v":{"$error":"#N/A"}}]
[null,null,null,null,null,null,null,null,null,null,null,null,"no email",{"$error":"#VALUE!"},{"$error":"#VALUE!"},{"$f":"VLOOKUP(K3218,references!$A$1:$B$7,2,FALSE)","v":{"$error":"#N/A"}}]
[null,null,null,null,null,null,null,null,null,null,null,null,"no email",{"$error":"#VALUE!"},{"$error":"#VALUE!"},{"$f":"VLOOKUP(K3219,references!$A$1:$B$7,2,FALSE)","v":{"$error":"#N/A"}}]
[null,null,null,null,null,null,null,null,null,null,null,null,"no email",{"$error":"#VALUE!"},{"$error":"#VALUE!"},{"$f":"VLOOKUP(K3220,references!$A$1:$B$7,2,FALSE)","v":{"$error":"#N/A"}}]
[null,null,null,null,null,null,null,null,null,null,null,null,"no email",{"$error":"#VALUE!"},{"$error":"#VALUE!"},{"$f":"VLOOKUP(K3221,references!$A$1:$B$7,2,FALSE)","v":{"$error":"#N/A"}}]
[null,null,null,null,null,null,null,null,null,null,null,null,"no email",{"$error":"#VALUE!"},{"$error":"#VALUE!"},{"$f":"VLOOKUP(K3222,references!$A$1:$B$7,2,FALSE)","v":{"$error":"#N/A"}}]
[null,null,null,null,null,null,null,null,null,null,null,null,"no email",{"$error":"#VALUE!"},{"$error":"#VALUE!"},{"$f":"VLOOKUP(K3223,references!$A$1:$B$7,2,FALSE)","v":{"$error":"#N/A"}}]
[null,null,null,null,null,null,null,null,null,null,null,null,"no email",{"$error":"#VALUE!"},{"$error":"#VALUE!"},{"$f":"VLOOKUP(K3224,references!$A$1:$B$7,2,FALSE)","v":{"$error":"#N/A"}}]
[null,null,null,null,null,null,null,null,null,null,null,null,"no email",{"$error":"#VALUE!"},{"$error":"#VALUE!"},{"$f":"VLOOKUP(K3225,references!$A$1:$B$7,2,FALSE)","v":{"$error":"#N/A"}}]
[null,null,null,null,null,null,null,null,null,null,null,null,"no email",{"$error":"#VALUE!"},{"$error":"#VALUE!"},{"$f":"VLOOKUP(K3226,references!$A$1:$B$7,2,FALSE)","v":{"$error":"#N/A"}}]
[null,null,null,null,null,null,null,null,null,null,null,null,"no email",{"$error":"#VALUE!"},{"$error":"#VALUE!"},{"$f":"VLOOKUP(K3227,references!$A$1:$B$7,2,FALSE)","v":{"$error":"#N/A"}}]
[null,null,null,null,null,null,null,null,null,null,null,null,"no email",{"$error":"#VALUE!"},{"$error":"#VALUE!"},{"$f":"VLOOKUP(K3228,references!$A$1:$B$7,2,FALSE)","v":{"$error":"#N/A"}}]
[null,null,null,null,null,null,null,null,null,null,null,null,"no email",{"$error":"#VALUE!"},{"$error":"#VALUE!"},{"$f":"VLOOKUP(K3229,references!$A$1:$B$7,2,FALSE)","v":{"$error":"#N/A"}}]
[null,null,null,null,null,null,null,null,null,null,null,null,"no email",{"$error":"#VALUE!"},{"$error":"#VALUE!"},{"$f":"VLOOKUP(K3230,references!$A$1:$B$7,2,FALSE)","v":{"$error":"#N/A"}}]
[null,null,null,null,null,null,null,null,null,null,null,null,"no email",{"$error":"#VALUE!"},{"$error":"#VALUE!"},{"$f":"VLOOKUP(K3231,references!$A$1:$B$7,2,FALSE)","v":{"$error":"#N/A"}}]
[null,null,null,null,null,null,null,null,null,null,null,null,"no email",{"$error":"#VALUE!"},{"$error":"#VALUE!"},{"$f":"VLOOKUP(K3232,references!$A$1:$B$7,2,FALSE)","v":{"$error":"#N/A"}}]
[null,null,null,null,null,null,null,null,null,null,null,null,"no email",{"$error":"#VALUE!"},{"$error":"#VALUE!"},{"$f":"VLOOKUP(K3233,references!$A$1:$B$7,2,FALSE)","v":{"$error":"#N/A"}}]
[null,null,null,null,null,null,null,null,null,null,null,null,"no email",{"$error":"#VALUE!"},{"$error":"#VALUE!"},{"$f":"VLOOKUP(K3234,references!$A$1:$B$7,2,FALSE)","v":{"$error":"#N/A"}}]
[null,null,null,null,null,null,null,null,null,null,null,null,"no email",{"$error":"#VALUE!"},{"$error":"#VALUE!"},{"$f":"VLOOKUP(K3235,references!$A$1:$B$7,2,FALSE)","v":{"$error":"#N/A"}}]
[null,null,null,null,null,null,null,null,null,null,null,null,"no email",{"$error":"#VALUE!"},{"$error":"#VALUE!"},{"$f":"VLOOKUP(K3236,references!$A$1:$B$7,2,FALSE)","v":{"$error":"#N/A"}}]
[null,null,null,null,null,null,null,null,null,null,null,null,"no email",{"$error":"#VALUE!"},{"$error":"#VALUE!"},{"$f":"VLOOKUP(K3237,references!$A$1:$B$7,2,FALSE)","v":{"$error":"#N/A"}}]
[null,null,null,null,null,null,null,null,null,null,null,null,"no email",{"$error":"#VALUE!"},{"$error":"#VALUE!"},{"$f":"VLOOKUP(K3238,references!$A$1:$B$7,2,FALSE)","v":{"$error":"#N/A"}}]
[null,null,null,null,null,null,null,null,null,null,null,null,"no email",{"$error":"#VALUE!"},{"$error":"#VALUE!"},{"$f":"VLOOKUP(K3239,references!$A$1:$B$7,2,FALSE)","v":{"$error":"#N/A"}}]
[null,null,null,null,null,null,null,null,null,null,null,null,"no email",{"$error":"#VALUE!"},{"$error":"#VALUE!"},{"$f":"VLOOKUP(K3240,references!$A$1:$B$7,2,FALSE)","v":{"$error":"#N/A"}}]
[null,null,null,null,null,null,null,null,null,null,null,null,"no email",{"$error":"#VALUE!"},{"$error":"#VALUE!"},{"$f":"VLOOKUP(K3241,references!$A$1:$B$7,2,FALSE)","v":{"$error":"#N/A"}}]
[null,null,null,null,null,null,null,null,null,null,null,null,"no email",{"$error":"#VALUE!"},{"$error":"#VALUE!"},{"$f":"VLOOKUP(K3242,references!$A$1:$B$7,2,FALSE)","v":{"$error":"#N/A"}}]
[null,null,null,null,null,null,null,null,null,null,null,null,"no email",{"$error":"#VALUE!"},{"$error":"#VALUE!"},{"$f":"VLOOKUP(K3243,references!$A$1:$B$7,2,FALSE)","v":{"$error":"#N/A"}}]
[null,null,null,null,null,null,null,null,null,null,null,null,"no email",{"$error":"#VALUE!"},{"$error":"#VALUE!"},{"$f":"VLOOKUP(K3244,references!$A$1:$B$7,2,FALSE)","v":{"$error":"#N/A"}}]
[null,null,null,null,null,null,null,null,null,null,null,null,"no email",{"$error":"#VALUE!"},{"$error":"#VALUE!"},{"$f":"VLOOKUP(K3245,references!$A$1:$B$7,2,FALSE)","v":{"$error":"#N/A"}}]
[null,null,null,null,null,null,null,null,null,null,null,null,"no email",{"$error":"#VALUE!"},{"$error":"#VALUE!"},{"$f":"VLOOKUP(K3246,references!$A$1:$B$7,2,FALSE)","v":{"$error":"#N/A"}}]
[null,null,null,null,null,null,null,null,null,null,null,null,"no email",{"$error":"#VALUE!"},{"$error":"#VALUE!"},{"$f":"VLOOKUP(K3247,references!$A$1:$B$7,2,FALSE)","v":{"$error":"#N/A"}}]
[null,null,null,null,null,null,null,null,null,null,null,null,"no email",{"$error":"#VALUE!"},{"$error":"#VALUE!"},{"$f":"VLOOKUP(K3248,references!$A$1:$B$7,2,FALSE)","v":{"$error":"#N/A"}}]
[null,null,null,null,null,null,null,null,null,null,null,null,"no email",{"$error":"#VALUE!"},{"$error":"#VALUE!"},{"$f":"VLOOKUP(K3249,references!$A$1:$B$7,2,FALSE)","v":{"$error":"#N/A"}}]
[null,null,null,null,null,null,null,null,null,null,null,null,"no email",{"$error":"#VALUE!"},{"$error":"#VALUE!"},{"$f":"VLOOKUP(K3250,references!$A$1:$B$7,2,FALSE)","v":{"$error":"#N/A"}}]
[null,null,null,null,null,null,null,null,null,null,null,null,"no email",{"$error":"#VALUE!"},{"$error":"#VALUE!"},{"$f":"VLOOKUP(K3251,references!$A$1:$B$7,2,FALSE)","v":{"$error":"#N/A"}}]
[null,null,null,null,null,null,null,null,null,null,null,null,"no email",{"$error":"#VALUE!"},{"$error":"#VALUE!"},{"$f":"VLOOKUP(K3252,references!$A$1:$B$7,2,FALSE)","v":{"$error":"#N/A"}}]
[null,null,null,null,null,null,null,null,null,null,null,null,"no email",{"$error":"#VALUE!"},{"$error":"#VALUE!"},{"$f":"VLOOKUP(K3253,references!$A$1:$B$7,2,FALSE)","v":{"$error":"#N/A"}}]
[null,null,null,null,null,null,null,null,null,null,null,null,"no email",{"$error":"#VALUE!"},{"$error":"#VALUE!"},{"$f":"VLOOKUP(K3254,references!$A$1:$B$7,2,FALSE)","v":{"$error":"#N/A"}}]
[null,null,null,null,null,null,null,null,null,null,null,null,"no email",{"$error":"#VALUE!"},{"$error":"#VALUE!"},{"$f":"VLOOKUP(K3255,references!$A$1:$B$7,2,FALSE)","v":{"$error":"#N/A"}}]
[null,null,null,null,null,null,null,null,null,null,null,null,"no email",{"$error":"#VALUE!"},{"$error":"#VALUE!"},{"$f":"VLOOKUP(K3256,references!$A$1:$B$7,2,FALSE)","v":{"$error":"#N/A"}}]
[null,null,null,null,null,null,null,null,null,null,null,null,"no email",{"$error":"#VALUE!"},{"$error":"#VALUE!"},{"$f":"VLOOKUP(K3257,references!$A$1:$B$7,2,FALSE)","v":{"$error":"#N/A"}}]
[null,null,null,null,null,null,null,null,null,null,null,null,"no email",{"$error":"#VALUE!"},{"$error":"#VALUE!"},{"$f":"VLOOKUP(K3258,references!$A$1:$B$7,2,FALSE)","v":{"$error":"#N/A"}}]
[null,null,null,null,null,null,null,null,null,null,null,null,"no email",{"$error":"#VALUE!"},{"$error":"#VALUE!"},{"$f":"VLOOKUP(K3259,references!$A$1:$B$7,2,FALSE)","v":{"$error":"#N/A"}}]
[null,null,null,null,null,null,null,null,null,null,null,null,"no email",{"$error":"#VALUE!"},{"$error":"#VALUE!"},{"$f":"VLOOKUP(K3260,references!$A$1:$B$7,2,FALSE)","v":{"$error":"#N/A"}}]
[null,null,null,null,null,null,null,null,null,null,null,null,"no email",{"$error":"#VALUE!"},{"$error":"#VALUE!"},{"$f":"VLOOKUP(K3261,references!$A$1:$B$7,2,FALSE)","v":{"$error":"#N/A"}}]
[null,null,null,null,null,null,null,null,null,null,null,null,"no email",{"$error":"#VALUE!"},{"$error":"#VALUE!"},{"$f":"VLOOKUP(K3262,references!$A$1:$B$7,2,FALSE)","v":{"$error":"#N/A"}}]
[null,null,null,null,null,null,null,null,null,null,null,null,"no email",{"$error":"#VALUE!"},{"$error":"#VALUE!"},{"$f":"VLOOKUP(K3263,references!$A$1:$B$7,2,FALSE)","v":{"$error":"#N/A"}}]
[null,null,null,null,null,null,null,null,null,null,null,null,"no email",{"$error":"#VALUE!"},{"$error":"#VALUE!"},{"$f":"VLOOKUP(K3264,references!$A$1:$B$7,2,FALSE)","v":{"$error":"#N/A"}}]
[null,null,null,null,null,null,null,null,null,null,null,null,"no email",{"$error":"#VALUE!"},{"$error":"#VALUE!"},{"$f":"VLOOKUP(K3265,references!$A$1:$B$7,2,FALSE)","v":{"$error":"#N/A"}}]
[null,null,null,null,null,null,null,null,null,null,null,null,{"$f":"IF(L3266=\"\", \"no email\",LOWER(L3266))","v":"no email"},{"$f":"LEFT(A3266, SEARCH(\",\",A3266,1)-1)","v":{"$error":"#VALUE!"}},{"$f":"RIGHT(A3266, LEN(A3266) -SEARCH(\",\",A3266,1)-1)","v":{"$error":"#VALUE!"}},{"$f":"VLOOKUP(K3266,references!$A$1:$B$7,2,FALSE)","v":{"$error":"#N/A"}}]
[null,null,null,null,null,null,null,null,null,null,null,null,"no email",{"$error":"#VALUE!"},{"$error":"#VALUE!"},{"$f":"VLOOKUP(K3267,references!$A$1:$B$7,2,FALSE)","v":{"$error":"#N/A"}}]
[null,null,null,null,null,null,null,null,null,null,null,null,"no email",{"$error":"#VALUE!"},{"$error":"#VALUE!"},{"$f":"VLOOKUP(K3268,references!$A$1:$B$7,2,FALSE)","v":{"$error":"#N/A"}}]
[null,null,null,null,null,null,null,null,null,null,null,null,"no email",{"$error":"#VALUE!"},{"$error":"#VALUE!"},{"$f":"VLOOKUP(K3269,references!$A$1:$B$7,2,FALSE)","v":{"$error":"#N/A"}}]
[null,null,null,null,null,null,null,null,null,null,null,null,"no email",{"$error":"#VALUE!"},{"$error":"#VALUE!"},{"$f":"VLOOKUP(K3270,references!$A$1:$B$7,2,FALSE)","v":{"$error":"#N/A"}}]
[null,null,null,null,null,null,null,null,null,null,null,null,"no email",{"$error":"#VALUE!"},{"$error":"#VALUE!"},{"$f":"VLOOKUP(K3271,references!$A$1:$B$7,2,FALSE)","v":{"$error":"#N/A"}}]
[null,null,null,null,null,null,null,null,null,null,null,null,"no email",{"$error":"#VALUE!"},{"$error":"#VALUE!"},{"$f":"VLOOKUP(K3272,references!$A$1:$B$7,2,FALSE)","v":{"$error":"#N/A"}}]
[null,null,null,null,null,null,null,null,null,null,null,null,"no email",{"$error":"#VALUE!"},{"$error":"#VALUE!"},{"$f":"VLOOKUP(K3273,references!$A$1:$B$7,2,FALSE)","v":{"$error":"#N/A"}}]
[null,null,null,null,null,null,null,null,null,null,null,null,"no email",{"$error":"#VALUE!"},{"$error":"#VALUE!"},{"$f":"VLOOKUP(K3274,references!$A$1:$B$7,2,FALSE)","v":{"$error":"#N/A"}}]
[null,null,null,null,null,null,null,null,null,null,null,null,"no email",{"$error":"#VALUE!"},{"$error":"#VALUE!"},{"$f":"VLOOKUP(K3275,references!$A$1:$B$7,2,FALSE)","v":{"$error":"#N/A"}}]
[null,null,null,null,null,null,null,null,null,null,null,null,"no email",{"$error":"#VALUE!"},{"$error":"#VALUE!"},{"$f":"VLOOKUP(K3276,references!$A$1:$B$7,2,FALSE)","v":{"$error":"#N/A"}}]
[null,null,null,null,null,null,null,null,null,null,null,null,"no email",{"$error":"#VALUE!"},{"$error":"#VALUE!"},{"$f":"VLOOKUP(K3277,references!$A$1:$B$7,2,FALSE)","v":{"$error":"#N/A"}}]
[null,null,null,null,null,null,null,null,null,null,null,null,"no email",{"$error":"#VALUE!"},{"$error":"#VALUE!"},{"$f":"VLOOKUP(K3278,references!$A$1:$B$7,2,FALSE)","v":{"$error":"#N/A"}}]
[null,null,null,null,null,null,null,null,null,null,null,null,"no email",{"$error":"#VALUE!"},{"$error":"#VALUE!"},{"$f":"VLOOKUP(K3279,references!$A$1:$B$7,2,FALSE)","v":{"$error":"#N/A"}}]
[null,null,null,null,null,null,null,null,null,null,null,null,"no email",{"$error":"#VALUE!"},{"$error":"#VALUE!"},{"$f":"VLOOKUP(K3280,references!$A$1:$B$7,2,FALSE)","v":{"$error":"#N/A"}}]
[null,null,null,null,null,null,null,null,null,null,null,null,"no email",{"$error":"#VALUE!"},{"$error":"#VALUE!"},{"$f":"VLOOKUP(K3281,references!$A$1:$B$7,2,FALSE)","v":{"$error":"#N/A"}}]
[null,null,null,null,null,null,null,null,null,null,null,null,"no email",{"$error":"#VALUE!"},{"$error":"#VALUE!"},{"$f":"VLOOKUP(K3282,references!$A$1:$B$7,2,FALSE)","v":{"$error":"#N/A"}}]
[null,null,null,null,null,null,null,null,null,null,null,null,"no email",{"$error":"#VALUE!"},{"$error":"#VALUE!"},{"$f":"VLOOKUP(K3283,references!$A$1:$B$7,2,FALSE)","v":{"$error":"#N/A"}}]
[null,null,null,null,null,null,null,null,null,null,null,null,"no email",{"$error":"#VALUE!"},{"$error":"#VALUE!"},{"$f":"VLOOKUP(K3284,references!$A$1:$B$7,2,FALSE)","v":{"$error":"#N/A"}}]
[null,null,null,null,null,null,null,null,null,null,null,null,"no email",{"$error":"#VALUE!"},{"$error":"#VALUE!"},{"$f":"VLOOKUP(K3285,references!$A$1:$B$7,2,FALSE)","v":{"$error":"#N/A"}}]
[null,null,null,null,null,null,null,null,null,null,null,null,"no email",{"$error":"#VALUE!"},{"$error":"#VALUE!"},{"$f":"VLOOKUP(K3286,references!$A$1:$B$7,2,FALSE)","v":{"$error":"#N/A"}}]
[null,null,null,null,null,null,null,null,null,null,null,null,"no email",{"$error":"#VALUE!"},{"$error":"#VALUE!"},{"$f":"VLOOKUP(K3287,references!$A$1:$B$7,2,FALSE)","v":{"$error":"#N/A"}}]
[null,null,null,null,null,null,null,null,null,null,null,null,"no email",{"$error":"#VALUE!"},{"$error":"#VALUE!"},{"$f":"VLOOKUP(K3288,references!$A$1:$B$7,2,FALSE)","v":{"$error":"#N/A"}}]
[null,null,null,null,null,null,null,null,null,null,null,null,"no email",{"$error":"#VALUE!"},{"$error":"#VALUE!"},{"$f":"VLOOKUP(K3289,references!$A$1:$B$7,2,FALSE)","v":{"$error":"#N/A"}}]
[null,null,null,null,null,null,null,null,null,null,null,null,"no email",{"$error":"#VALUE!"},{"$error":"#VALUE!"},{"$f":"VLOOKUP(K3290,references!$A$1:$B$7,2,FALSE)","v":{"$error":"#N/A"}}]
[null,null,null,null,null,null,null,null,null,null,null,null,"no email",{"$error":"#VALUE!"},{"$error":"#VALUE!"},{"$f":"VLOOKUP(K3291,references!$A$1:$B$7,2,FALSE)","v":{"$error":"#N/A"}}]
[null,null,null,null,null,null,null,null,null,null,null,null,"no email",{"$error":"#VALUE!"},{"$error":"#VALUE!"},{"$f":"VLOOKUP(K3292,references!$A$1:$B$7,2,FALSE)","v":{"$error":"#N/A"}}]
[null,null,null,null,null,null,null,null,null,null,null,null,"no email",{"$error":"#VALUE!"},{"$error":"#VALUE!"},{"$f":"VLOOKUP(K3293,references!$A$1:$B$7,2,FALSE)","v":{"$error":"#N/A"}}]
[null,null,null,null,null,null,null,null,null,null,null,null,"no email",{"$error":"#VALUE!"},{"$error":"#VALUE!"},{"$f":"VLOOKUP(K3294,references!$A$1:$B$7,2,FALSE)","v":{"$error":"#N/A"}}]
[null,null,null,null,null,null,null,null,null,null,null,null,"no email",{"$error":"#VALUE!"},{"$error":"#VALUE!"},{"$f":"VLOOKUP(K3295,references!$A$1:$B$7,2,FALSE)","v":{"$error":"#N/A"}}]
[null,null,null,null,null,null,null,null,null,null,null,null,"no email",{"$error":"#VALUE!"},{"$error":"#VALUE!"},{"$f":"VLOOKUP(K3296,references!$A$1:$B$7,2,FALSE)","v":{"$error":"#N/A"}}]
[null,null,null,null,null,null,null,null,null,null,null,null,"no email",{"$error":"#VALUE!"},{"$error":"#VALUE!"},{"$f":"VLOOKUP(K3297,references!$A$1:$B$7,2,FALSE)","v":{"$error":"#N/A"}}]
[null,null,null,null,null,null,null,null,null,null,null,null,"no email",{"$error":"#VALUE!"},{"$error":"#VALUE!"},{"$f":"VLOOKUP(K3298,references!$A$1:$B$7,2,FALSE)","v":{"$error":"#N/A"}}]
[null,null,null,null,null,null,null,null,null,null,null,null,"no email",{"$error":"#VALUE!"},{"$error":"#VALUE!"},{"$f":"VLOOKUP(K3299,references!$A$1:$B$7,2,FALSE)","v":{"$error":"#N/A"}}]
[null,null,null,null,null,null,null,null,null,null,null,null,"no email",{"$error":"#VALUE!"},{"$error":"#VALUE!"},{"$f":"VLOOKUP(K3300,references!$A$1:$B$7,2,FALSE)","v":{"$error":"#N/A"}}]
[null,null,null,null,null,null,null,null,null,null,null,null,"no email",{"$error":"#VALUE!"},{"$error":"#VALUE!"},{"$f":"VLOOKUP(K3301,references!$A$1:$B$7,2,FALSE)","v":{"$error":"#N/A"}}]
[null,null,null,null,null,null,null,null,null,null,null,null,"no email",{"$error":"#VALUE!"},{"$error":"#VALUE!"},{"$f":"VLOOKUP(K3302,references!$A$1:$B$7,2,FALSE)","v":{"$error":"#N/A"}}]
[null,null,null,null,null,null,null,null,null,null,null,null,"no email",{"$error":"#VALUE!"},{"$error":"#VALUE!"},{"$f":"VLOOKUP(K3303,references!$A$1:$B$7,2,FALSE)","v":{"$error":"#N/A"}}]
[null,null,null,null,null,null,null,null,null,null,null,null,"no email",{"$error":"#VALUE!"},{"$error":"#VALUE!"},{"$f":"VLOOKUP(K3304,references!$A$1:$B$7,2,FALSE)","v":{"$error":"#N/A"}}]
[null,null,null,null,null,null,null,null,null,null,null,null,"no email",{"$error":"#VALUE!"},{"$error":"#VALUE!"},{"$f":"VLOOKUP(K3305,references!$A$1:$B$7,2,FALSE)","v":{"$error":"#N/A"}}]
[null,null,null,null,null,null,null,null,null,null,null,null,"no email",{"$error":"#VALUE!"},{"$error":"#VALUE!"},{"$f":"VLOOKUP(K3306,references!$A$1:$B$7,2,FALSE)","v":{"$error":"#N/A"}}]
[null,null,null,null,null,null,null,null,null,null,null,null,"no email",{"$error":"#VALUE!"},{"$error":"#VALUE!"},{"$f":"VLOOKUP(K3307,references!$A$1:$B$7,2,FALSE)","v":{"$error":"#N/A"}}]
[null,null,null,null,null,null,null,null,null,null,null,null,"no email",{"$error":"#VALUE!"},{"$error":"#VALUE!"},{"$f":"VLOOKUP(K3308,references!$A$1:$B$7,2,FALSE)","v":{"$error":"#N/A"}}]
[null,null,null,null,null,null,null,null,null,null,null,null,"no email",{"$error":"#VALUE!"},{"$error":"#VALUE!"},{"$f":"VLOOKUP(K3309,references!$A$1:$B$7,2,FALSE)","v":{"$error":"#N/A"}}]
[null,null,null,null,null,null,null,null,null,null,null,null,"no email",{"$error":"#VALUE!"},{"$error":"#VALUE!"},{"$f":"VLOOKUP(K3310,references!$A$1:$B$7,2,FALSE)","v":{"$error":"#N/A"}}]
[null,null,null,null,null,null,null,null,null,null,null,null,"no email",{"$error":"#VALUE!"},{"$error":"#VALUE!"},{"$f":"VLOOKUP(K3311,references!$A$1:$B$7,2,FALSE)","v":{"$error":"#N/A"}}]
[null,null,null,null,null,null,null,null,null,null,null,null,"no email",{"$error":"#VALUE!"},{"$error":"#VALUE!"},{"$f":"VLOOKUP(K3312,references!$A$1:$B$7,2,FALSE)","v":{"$error":"#N/A"}}]
[null,null,null,null,null,null,null,null,null,null,null,null,"no email",{"$error":"#VALUE!"},{"$error":"#VALUE!"},{"$f":"VLOOKUP(K3313,references!$A$1:$B$7,2,FALSE)","v":{"$error":"#N/A"}}]
[null,null,null,null,null,null,null,null,null,null,null,null,"no email",{"$error":"#VALUE!"},{"$error":"#VALUE!"},{"$f":"VLOOKUP(K3314,references!$A$1:$B$7,2,FALSE)","v":{"$error":"#N/A"}}]
[null,null,null,null,null,null,null,null,null,null,null,null,"no email",{"$error":"#VALUE!"},{"$error":"#VALUE!"},{"$f":"VLOOKUP(K3315,references!$A$1:$B$7,2,FALSE)","v":{"$error":"#N/A"}}]
[null,null,null,null,null,null,null,null,null,null,null,null,"no email",{"$error":"#VALUE!"},{"$error":"#VALUE!"},{"$f":"VLOOKUP(K3316,references!$A$1:$B$7,2,FALSE)","v":{"$error":"#N/A"}}]
[null,null,null,null,null,null,null,null,null,null,null,null,"no email",{"$error":"#VALUE!"},{"$error":"#VALUE!"},{"$f":"VLOOKUP(K3317,references!$A$1:$B$7,2,FALSE)","v":{"$error":"#N/A"}}]
[null,null,null,null,null,null,null,null,null,null,null,null,"no email",{"$error":"#VALUE!"},{"$error":"#VALUE!"},{"$f":"VLOOKUP(K3318,references!$A$1:$B$7,2,FALSE)","v":{"$error":"#N/A"}}]
[null,null,null,null,null,null,null,null,null,null,null,null,"no email",{"$error":"#VALUE!"},{"$error":"#VALUE!"},{"$f":"VLOOKUP(K3319,references!$A$1:$B$7,2,FALSE)","v":{"$error":"#N/A"}}]
[null,null,null,null,null,null,null,null,null,null,null,null,"no email",{"$error":"#VALUE!"},{"$error":"#VALUE!"},{"$f":"VLOOKUP(K3320,references!$A$1:$B$7,2,FALSE)","v":{"$error":"#N/A"}}]
[null,null,null,null,null,null,null,null,null,null,null,null,"no email",{"$error":"#VALUE!"},{"$error":"#VALUE!"},{"$f":"VLOOKUP(K3321,references!$A$1:$B$7,2,FALSE)","v":{"$error":"#N/A"}}]
[null,null,null,null,null,null,null,null,null,null,null,null,"no email",{"$error":"#VALUE!"},{"$error":"#VALUE!"},{"$f":"VLOOKUP(K3322,references!$A$1:$B$7,2,FALSE)","v":{"$error":"#N/A"}}]
[null,null,null,null,null,null,null,null,null,null,null,null,"no email",{"$error":"#VALUE!"},{"$error":"#VALUE!"},{"$f":"VLOOKUP(K3323,references!$A$1:$B$7,2,FALSE)","v":{"$error":"#N/A"}}]
[null,null,null,null,null,null,null,null,null,null,null,null,"no email",{"$error":"#VALUE!"},{"$error":"#VALUE!"},{"$f":"VLOOKUP(K3324,references!$A$1:$B$7,2,FALSE)","v":{"$error":"#N/A"}}]
[null,null,null,null,null,null,null,null,null,null,null,null,"no email",{"$error":"#VALUE!"},{"$error":"#VALUE!"},{"$f":"VLOOKUP(K3325,references!$A$1:$B$7,2,FALSE)","v":{"$error":"#N/A"}}]
[null,null,null,null,null,null,null,null,null,null,null,null,"no email",{"$error":"#VALUE!"},{"$error":"#VALUE!"},{"$f":"VLOOKUP(K3326,references!$A$1:$B$7,2,FALSE)","v":{"$error":"#N/A"}}]
[null,null,null,null,null,null,null,null,null,null,null,null,"no email",{"$error":"#VALUE!"},{"$error":"#VALUE!"},{"$f":"VLOOKUP(K3327,references!$A$1:$B$7,2,FALSE)","v":{"$error":"#N/A"}}]
[null,null,null,null,null,null,null,null,null,null,null,null,"no email",{"$error":"#VALUE!"},{"$error":"#VALUE!"},{"$f":"VLOOKUP(K3328,references!$A$1:$B$7,2,FALSE)","v":{"$error":"#N/A"}}]
[null,null,null,null,null,null,null,null,null,null,null,null,"no email",{"$error":"#VALUE!"},{"$error":"#VALUE!"},{"$f":"VLOOKUP(K3329,references!$A$1:$B$7,2,FALSE)","v":{"$error":"#N/A"}}]
[null,null,null,null,null,null,null,null,null,null,null,null,{"$f":"IF(L3330=\"\", \"no email\",LOWER(L3330))","v":"no email"},{"$f":"LEFT(A3330, SEARCH(\",\",A3330,1)-1)","v":{"$error":"#VALUE!"}},{"$f":"RIGHT(A3330, LEN(A3330) -SEARCH(\",\",A3330,1)-1)","v":{"$error":"#VALUE!"}},{"$f":"VLOOKUP(K3330,references!$A$1:$B$7,2,FALSE)","v":{"$error":"#N/A"}}]
[null,null,null,null,null,null,null,null,null,null,null,null,"no email",{"$error":"#VALUE!"},{"$error":"#VALUE!"},{"$f":"VLOOKUP(K3331,references!$A$1:$B$7,2,FALSE)","v":{"$error":"#N/A"}}]
[null,null,null,null,null,null,null,null,null,null,null,null,"no email",{"$error":"#VALUE!"},{"$error":"#VALUE!"},{"$f":"VLOOKUP(K3332,references!$A$1:$B$7,2,FALSE)","v":{"$error":"#N/A"}}]
[null,null,null,null,null,null,null,null,null,null,null,null,"no email",{"$error":"#VALUE!"},{"$error":"#VALUE!"},{"$f":"VLOOKUP(K3333,references!$A$1:$B$7,2,FALSE)","v":{"$error":"#N/A"}}]
[null,null,null,null,null,null,null,null,null,null,null,null,"no email",{"$error":"#VALUE!"},{"$error":"#VALUE!"},{"$f":"VLOOKUP(K3334,references!$A$1:$B$7,2,FALSE)","v":{"$error":"#N/A"}}]
[null,null,null,null,null,null,null,null,null,null,null,null,"no email",{"$error":"#VALUE!"},{"$error":"#VALUE!"},{"$f":"VLOOKUP(K3335,references!$A$1:$B$7,2,FALSE)","v":{"$error":"#N/A"}}]
[null,null,null,null,null,null,null,null,null,null,null,null,"no email",{"$error":"#VALUE!"},{"$error":"#VALUE!"},{"$f":"VLOOKUP(K3336,references!$A$1:$B$7,2,FALSE)","v":{"$error":"#N/A"}}]
[null,null,null,null,null,null,null,null,null,null,null,null,"no email",{"$error":"#VALUE!"},{"$error":"#VALUE!"},{"$f":"VLOOKUP(K3337,references!$A$1:$B$7,2,FALSE)","v":{"$error":"#N/A"}}]
[null,null,null,null,null,null,null,null,null,null,null,null,"no email",{"$error":"#VALUE!"},{"$error":"#VALUE!"},{"$f":"VLOOKUP(K3338,references!$A$1:$B$7,2,FALSE)","v":{"$error":"#N/A"}}]
[null,null,null,null,null,null,null,null,null,null,null,null,"no email",{"$error":"#VALUE!"},{"$error":"#VALUE!"},{"$f":"VLOOKUP(K3339,references!$A$1:$B$7,2,FALSE)","v":{"$error":"#N/A"}}]
[null,null,null,null,null,null,null,null,null,null,null,null,"no email",{"$error":"#VALUE!"},{"$error":"#VALUE!"},{"$f":"VLOOKUP(K3340,references!$A$1:$B$7,2,FALSE)","v":{"$error":"#N/A"}}]
[null,null,null,null,null,null,null,null,null,null,null,null,"no email",{"$error":"#VALUE!"},{"$error":"#VALUE!"},{"$f":"VLOOKUP(K3341,references!$A$1:$B$7,2,FALSE)","v":{"$error":"#N/A"}}]
[null,null,null,null,null,null,null,null,null,null,null,null,"no email",{"$error":"#VALUE!"},{"$error":"#VALUE!"},{"$f":"VLOOKUP(K3342,references!$A$1:$B$7,2,FALSE)","v":{"$error":"#N/A"}}]
[null,null,null,null,null,null,null,null,null,null,null,null,"no email",{"$error":"#VALUE!"},{"$error":"#VALUE!"},{"$f":"VLOOKUP(K3343,references!$A$1:$B$7,2,FALSE)","v":{"$error":"#N/A"}}]
[null,null,null,null,null,null,null,null,null,null,null,null,"no email",{"$error":"#VALUE!"},{"$error":"#VALUE!"},{"$f":"VLOOKUP(K3344,references!$A$1:$B$7,2,FALSE)","v":{"$error":"#N/A"}}]
[null,null,null,null,null,null,null,null,null,null,null,null,"no email",{"$error":"#VALUE!"},{"$error":"#VALUE!"},{"$f":"VLOOKUP(K3345,references!$A$1:$B$7,2,FALSE)","v":{"$error":"#N/A"}}]
[null,null,null,null,null,null,null,null,null,null,null,null,"no email",{"$error":"#VALUE!"},{"$error":"#VALUE!"},{"$f":"VLOOKUP(K3346,references!$A$1:$B$7,2,FALSE)","v":{"$error":"#N/A"}}]
[null,null,null,null,null,null,null,null,null,null,null,null,"no email",{"$error":"#VALUE!"},{"$error":"#VALUE!"},{"$f":"VLOOKUP(K3347,references!$A$1:$B$7,2,FALSE)","v":{"$error":"#N/A"}}]
[null,null,null,null,null,null,null,null,null,null,null,null,"no email",{"$error":"#VALUE!"},{"$error":"#VALUE!"},{"$f":"VLOOKUP(K3348,references!$A$1:$B$7,2,FALSE)","v":{"$error":"#N/A"}}]
[null,null,null,null,null,null,null,null,null,null,null,null,"no email",{"$error":"#VALUE!"},{"$error":"#VALUE!"},{"$f":"VLOOKUP(K3349,references!$A$1:$B$7,2,FALSE)","v":{"$error":"#N/A"}}]
[null,null,null,null,null,null,null,null,null,null,null,null,"no email",{"$error":"#VALUE!"},{"$error":"#VALUE!"},{"$f":"VLOOKUP(K3350,references!$A$1:$B$7,2,FALSE)","v":{"$error":"#N/A"}}]
[null,null,null,null,null,null,null,null,null,null,null,null,"no email",{"$error":"#VALUE!"},{"$error":"#VALUE!"},{"$f":"VLOOKUP(K3351,references!$A$1:$B$7,2,FALSE)","v":{"$error":"#N/A"}}]
[null,null,null,null,null,null,null,null,null,null,null,null,"no email",{"$error":"#VALUE!"},{"$error":"#VALUE!"},{"$f":"VLOOKUP(K3352,references!$A$1:$B$7,2,FALSE)","v":{"$error":"#N/A"}}]
[null,null,null,null,null,null,null,null,null,null,null,null,"no email",{"$error":"#VALUE!"},{"$error":"#VALUE!"},{"$f":"VLOOKUP(K3353,references!$A$1:$B$7,2,FALSE)","v":{"$error":"#N/A"}}]
[null,null,null,null,null,null,null,null,null,null,null,null,"no email",{"$error":"#VALUE!"},{"$error":"#VALUE!"},{"$f":"VLOOKUP(K3354,references!$A$1:$B$7,2,FALSE)","v":{"$error":"#N/A"}}]
[null,null,null,null,null,null,null,null,null,null,null,null,"no email",{"$error":"#VALUE!"},{"$error":"#VALUE!"},{"$f":"VLOOKUP(K3355,references!$A$1:$B$7,2,FALSE)","v":{"$error":"#N/A"}}]
[null,null,null,null,null,null,null,null,null,null,null,null,"no email",{"$error":"#VALUE!"},{"$error":"#VALUE!"},{"$f":"VLOOKUP(K3356,references!$A$1:$B$7,2,FALSE)","v":{"$error":"#N/A"}}]
[null,null,null,null,null,null,null,null,null,null,null,null,"no email",{"$error":"#VALUE!"},{"$error":"#VALUE!"},{"$f":"VLOOKUP(K3357,references!$A$1:$B$7,2,FALSE)","v":{"$error":"#N/A"}}]
[null,null,null,null,null,null,null,null,null,null,null,null,"no email",{"$error":"#VALUE!"},{"$error":"#VALUE!"},{"$f":"VLOOKUP(K3358,references!$A$1:$B$7,2,FALSE)","v":{"$error":"#N/A"}}]
[null,null,null,null,null,null,null,null,null,null,null,null,"no email",{"$error":"#VALUE!"},{"$error":"#VALUE!"},{"$f":"VLOOKUP(K3359,references!$A$1:$B$7,2,FALSE)","v":{"$error":"#N/A"}}]
[null,null,null,null,null,null,null,null,null,null,null,null,"no email",{"$error":"#VALUE!"},{"$error":"#VALUE!"},{"$f":"VLOOKUP(K3360,references!$A$1:$B$7,2,FALSE)","v":{"$error":"#N/A"}}]
[null,null,null,null,null,null,null,null,null,null,null,null,"no email",{"$error":"#VALUE!"},{"$error":"#VALUE!"},{"$f":"VLOOKUP(K3361,references!$A$1:$B$7,2,FALSE)","v":{"$error":"#N/A"}}]
[null,null,null,null,null,null,null,null,null,null,null,null,"no email",{"$error":"#VALUE!"},{"$error":"#VALUE!"},{"$f":"VLOOKUP(K3362,references!$A$1:$B$7,2,FALSE)","v":{"$error":"#N/A"}}]
[null,null,null,null,null,null,null,null,null,null,null,null,"no email",{"$error":"#VALUE!"},{"$error":"#VALUE!"},{"$f":"VLOOKUP(K3363,references!$A$1:$B$7,2,FALSE)","v":{"$error":"#N/A"}}]
[null,null,null,null,null,null,null,null,null,null,null,null,"no email",{"$error":"#VALUE!"},{"$error":"#VALUE!"},{"$f":"VLOOKUP(K3364,references!$A$1:$B$7,2,FALSE)","v":{"$error":"#N/A"}}]
[null,null,null,null,null,null,null,null,null,null,null,null,"no email",{"$error":"#VALUE!"},{"$error":"#VALUE!"},{"$f":"VLOOKUP(K3365,references!$A$1:$B$7,2,FALSE)","v":{"$error":"#N/A"}}]
[null,null,null,null,null,null,null,null,null,null,null,null,"no email",{"$error":"#VALUE!"},{"$error":"#VALUE!"},{"$f":"VLOOKUP(K3366,references!$A$1:$B$7,2,FALSE)","v":{"$error":"#N/A"}}]
[null,null,null,null,null,null,null,null,null,null,null,null,"no email",{"$error":"#VALUE!"},{"$error":"#VALUE!"},{"$f":"VLOOKUP(K3367,references!$A$1:$B$7,2,FALSE)","v":{"$error":"#N/A"}}]
[null,null,null,null,null,null,null,null,null,null,null,null,"no email",{"$error":"#VALUE!"},{"$error":"#VALUE!"},{"$f":"VLOOKUP(K3368,references!$A$1:$B$7,2,FALSE)","v":{"$error":"#N/A"}}]
[null,null,null,null,null,null,null,null,null,null,null,null,"no email",{"$error":"#VALUE!"},{"$error":"#VALUE!"},{"$f":"VLOOKUP(K3369,references!$A$1:$B$7,2,FALSE)","v":{"$error":"#N/A"}}]
[null,null,null,null,null,null,null,null,null,null,null,null,"no email",{"$error":"#VALUE!"},{"$error":"#VALUE!"},{"$f":"VLOOKUP(K3370,references!$A$1:$B$7,2,FALSE)","v":{"$error":"#N/A"}}]
[null,null,null,null,null,null,null,null,null,null,null,null,"no email",{"$error":"#VALUE!"},{"$error":"#VALUE!"},{"$f":"VLOOKUP(K3371,references!$A$1:$B$7,2,FALSE)","v":{"$error":"#N/A"}}]
[null,null,null,null,null,null,null,null,null,null,null,null,"no email",{"$error":"#VALUE!"},{"$error":"#VALUE!"},{"$f":"VLOOKUP(K3372,references!$A$1:$B$7,2,FALSE)","v":{"$error":"#N/A"}}]
[null,null,null,null,null,null,null,null,null,null,null,null,"no email",{"$error":"#VALUE!"},{"$error":"#VALUE!"},{"$f":"VLOOKUP(K3373,references!$A$1:$B$7,2,FALSE)","v":{"$error":"#N/A"}}]
[null,null,null,null,null,null,null,null,null,null,null,null,"no email",{"$error":"#VALUE!"},{"$error":"#VALUE!"},{"$f":"VLOOKUP(K3374,references!$A$1:$B$7,2,FALSE)","v":{"$error":"#N/A"}}]
[null,null,null,null,null,null,null,null,null,null,null,null,"no email",{"$error":"#VALUE!"},{"$error":"#VALUE!"},{"$f":"VLOOKUP(K3375,references!$A$1:$B$7,2,FALSE)","v":{"$error":"#N/A"}}]
[null,null,null,null,null,null,null,null,null,null,null,null,"no email",{"$error":"#VALUE!"},{"$error":"#VALUE!"},{"$f":"VLOOKUP(K3376,references!$A$1:$B$7,2,FALSE)","v":{"$error":"#N/A"}}]
[null,null,null,null,null,null,null,null,null,null,null,null,"no email",{"$error":"#VALUE!"},{"$error":"#VALUE!"},{"$f":"VLOOKUP(K3377,references!$A$1:$B$7,2,FALSE)","v":{"$error":"#N/A"}}]
[null,null,null,null,null,null,null,null,null,null,null,null,"no email",{"$error":"#VALUE!"},{"$error":"#VALUE!"},{"$f":"VLOOKUP(K3378,references!$A$1:$B$7,2,FALSE)","v":{"$error":"#N/A"}}]
[null,null,null,null,null,null,null,null,null,null,null,null,"no email",{"$error":"#VALUE!"},{"$error":"#VALUE!"},{"$f":"VLOOKUP(K3379,references!$A$1:$B$7,2,FALSE)","v":{"$error":"#N/A"}}]
[null,null,null,null,null,null,null,null,null,null,null,null,"no email",{"$error":"#VALUE!"},{"$error":"#VALUE!"},{"$f":"VLOOKUP(K3380,references!$A$1:$B$7,2,FALSE)","v":{"$error":"#N/A"}}]
[null,null,null,null,null,null,null,null,null,null,null,null,"no email",{"$error":"#VALUE!"},{"$error":"#VALUE!"},{"$f":"VLOOKUP(K3381,references!$A$1:$B$7,2,FALSE)","v":{"$error":"#N/A"}}]
[null,null,null,null,null,null,null,null,null,null,null,null,"no email",{"$error":"#VALUE!"},{"$error":"#VALUE!"},{"$f":"VLOOKUP(K3382,references!$A$1:$B$7,2,FALSE)","v":{"$error":"#N/A"}}]
[null,null,null,null,null,null,null,null,null,null,null,null,"no email",{"$error":"#VALUE!"},{"$error":"#VALUE!"},{"$f":"VLOOKUP(K3383,references!$A$1:$B$7,2,FALSE)","v":{"$error":"#N/A"}}]
[null,null,null,null,null,null,null,null,null,null,null,null,"no email",{"$error":"#VALUE!"},{"$error":"#VALUE!"},{"$f":"VLOOKUP(K3384,references!$A$1:$B$7,2,FALSE)","v":{"$error":"#N/A"}}]
[null,null,null,null,null,null,null,null,null,null,null,null,"no email",{"$error":"#VALUE!"},{"$error":"#VALUE!"},{"$f":"VLOOKUP(K3385,references!$A$1:$B$7,2,FALSE)","v":{"$error":"#N/A"}}]
[null,null,null,null,null,null,null,null,null,null,null,null,"no email",{"$error":"#VALUE!"},{"$error":"#VALUE!"},{"$f":"VLOOKUP(K3386,references!$A$1:$B$7,2,FALSE)","v":{"$error":"#N/A"}}]
[null,null,null,null,null,null,null,null,null,null,null,null,"no email",{"$error":"#VALUE!"},{"$error":"#VALUE!"},{"$f":"VLOOKUP(K3387,references!$A$1:$B$7,2,FALSE)","v":{"$error":"#N/A"}}]
[null,null,null,null,null,null,null,null,null,null,null,null,"no email",{"$error":"#VALUE!"},{"$error":"#VALUE!"},{"$f":"VLOOKUP(K3388,references!$A$1:$B$7,2,FALSE)","v":{"$error":"#N/A"}}]
[null,null,null,null,null,null,null,null,null,null,null,null,"no email",{"$error":"#VALUE!"},{"$error":"#VALUE!"},{"$f":"VLOOKUP(K3389,references!$A$1:$B$7,2,FALSE)","v":{"$error":"#N/A"}}]
[null,null,null,null,null,null,null,null,null,null,null,null,"no email",{"$error":"#VALUE!"},{"$error":"#VALUE!"},{"$f":"VLOOKUP(K3390,references!$A$1:$B$7,2,FALSE)","v":{"$error":"#N/A"}}]
[null,null,null,null,null,null,null,null,null,null,null,null,"no email",{"$error":"#VALUE!"},{"$error":"#VALUE!"},{"$f":"VLOOKUP(K3391,references!$A$1:$B$7,2,FALSE)","v":{"$error":"#N/A"}}]
[null,null,null,null,null,null,null,null,null,null,null,null,"no email",{"$error":"#VALUE!"},{"$error":"#VALUE!"},{"$f":"VLOOKUP(K3392,references!$A$1:$B$7,2,FALSE)","v":{"$error":"#N/A"}}]
[null,null,null,null,null,null,null,null,null,null,null,null,"no email",{"$error":"#VALUE!"},{"$error":"#VALUE!"},{"$f":"VLOOKUP(K3393,references!$A$1:$B$7,2,FALSE)","v":{"$error":"#N/A"}}]
[null,null,null,null,null,null,null,null,null,null,null,null,{"$f":"IF(L3394=\"\", \"no email\",LOWER(L3394))","v":"no email"},{"$f":"LEFT(A3394, SEARCH(\",\",A3394,1)-1)","v":{"$error":"#VALUE!"}},{"$f":"RIGHT(A3394, LEN(A3394) -SEARCH(\",\",A3394,1)-1)","v":{"$error":"#VALUE!"}},{"$f":"VLOOKUP(K3394,references!$A$1:$B$7,2,FALSE)","v":{"$error":"#N/A"}}]
[null,null,null,null,null,null,null,null,null,null,null,null,"no email",{"$error":"#VALUE!"},{"$error":"#VALUE!"},{"$f":"VLOOKUP(K3395,references!$A$1:$B$7,2,FALSE)","v":{"$error":"#N/A"}}]
[null,null,null,null,null,null,null,null,null,null,null,null,"no email",{"$error":"#VALUE!"},{"$error":"#VALUE!"},{"$f":"VLOOKUP(K3396,references!$A$1:$B$7,2,FALSE)","v":{"$error":"#N/A"}}]
[null,null,null,null,null,null,null,null,null,null,null,null,"no email",{"$error":"#VALUE!"},{"$error":"#VALUE!"},{"$f":"VLOOKUP(K3397,references!$A$1:$B$7,2,FALSE)","v":{"$error":"#N/A"}}]
[null,null,null,null,null,null,null,null,null,null,null,null,"no email",{"$error":"#VALUE!"},{"$error":"#VALUE!"},{"$f":"VLOOKUP(K3398,references!$A$1:$B$7,2,FALSE)","v":{"$error":"#N/A"}}]
[null,null,null,null,null,null,null,null,null,null,null,null,"no email",{"$error":"#VALUE!"},{"$error":"#VALUE!"},{"$f":"VLOOKUP(K3399,references!$A$1:$B$7,2,FALSE)","v":{"$error":"#N/A"}}]
[null,null,null,null,null,null,null,null,null,null,null,null,"no email",{"$error":"#VALUE!"},{"$error":"#VALUE!"},{"$f":"VLOOKUP(K3400,references!$A$1:$B$7,2,FALSE)","v":{"$error":"#N/A"}}]
[null,null,null,null,null,null,null,null,null,null,null,null,"no email",{"$error":"#VALUE!"},{"$error":"#VALUE!"},{"$f":"VLOOKUP(K3401,references!$A$1:$B$7,2,FALSE)","v":{"$error":"#N/A"}}]
[null,null,null,null,null,null,null,null,null,null,null,null,"no email",{"$error":"#VALUE!"},{"$error":"#VALUE!"},{"$f":"VLOOKUP(K3402,references!$A$1:$B$7,2,FALSE)","v":{"$error":"#N/A"}}]
[null,null,null,null,null,null,null,null,null,null,null,null,"no email",{"$error":"#VALUE!"},{"$error":"#VALUE!"},{"$f":"VLOOKUP(K3403,references!$A$1:$B$7,2,FALSE)","v":{"$error":"#N/A"}}]
[null,null,null,null,null,null,null,null,null,null,null,null,"no email",{"$error":"#VALUE!"},{"$error":"#VALUE!"},{"$f":"VLOOKUP(K3404,references!$A$1:$B$7,2,FALSE)","v":{"$error":"#N/A"}}]
[null,null,null,null,null,null,null,null,null,null,null,null,"no email",{"$error":"#VALUE!"},{"$error":"#VALUE!"},{"$f":"VLOOKUP(K3405,references!$A$1:$B$7,2,FALSE)","v":{"$error":"#N/A"}}]
[null,null,null,null,null,null,null,null,null,null,null,null,"no email",{"$error":"#VALUE!"},{"$error":"#VALUE!"},{"$f":"VLOOKUP(K3406,references!$A$1:$B$7,2,FALSE)","v":{"$error":"#N/A"}}]
[null,null,null,null,null,null,null,null,null,null,null,null,"no email",{"$error":"#VALUE!"},{"$error":"#VALUE!"},{"$f":"VLOOKUP(K3407,references!$A$1:$B$7,2,FALSE)","v":{"$error":"#N/A"}}]
[null,null,null,null,null,null,null,null,null,null,null,null,"no email",{"$error":"#VALUE!"},{"$error":"#VALUE!"},{"$f":"VLOOKUP(K3408,references!$A$1:$B$7,2,FALSE)","v":{"$error":"#N/A"}}]
[null,null,null,null,null,null,null,null,null,null,null,null,"no email",{"$error":"#VALUE!"},{"$error":"#VALUE!"},{"$f":"VLOOKUP(K3409,references!$A$1:$B$7,2,FALSE)","v":{"$error":"#N/A"}}]
[null,null,null,null,null,null,null,null,null,null,null,null,"no email",{"$error":"#VALUE!"},{"$error":"#VALUE!"},{"$f":"VLOOKUP(K3410,references!$A$1:$B$7,2,FALSE)","v":{"$error":"#N/A"}}]
[null,null,null,null,null,null,null,null,null,null,null,null,"no email",{"$error":"#VALUE!"},{"$error":"#VALUE!"},{"$f":"VLOOKUP(K3411,references!$A$1:$B$7,2,FALSE)","v":{"$error":"#N/A"}}]
[null,null,null,null,null,null,null,null,null,null,null,null,"no email",{"$error":"#VALUE!"},{"$error":"#VALUE!"},{"$f":"VLOOKUP(K3412,references!$A$1:$B$7,2,FALSE)","v":{"$error":"#N/A"}}]
[null,null,null,null,null,null,null,null,null,null,null,null,"no email",{"$error":"#VALUE!"},{"$error":"#VALUE!"},{"$f":"VLOOKUP(K3413,references!$A$1:$B$7,2,FALSE)","v":{"$error":"#N/A"}}]
[null,null,null,null,null,null,null,null,null,null,null,null,"no email",{"$error":"#VALUE!"},{"$error":"#VALUE!"},{"$f":"VLOOKUP(K3414,references!$A$1:$B$7,2,FALSE)","v":{"$error":"#N/A"}}]
[null,null,null,null,null,null,null,null,null,null,null,null,"no email",{"$error":"#VALUE!"},{"$error":"#VALUE!"},{"$f":"VLOOKUP(K3415,references!$A$1:$B$7,2,FALSE)","v":{"$error":"#N/A"}}]
[null,null,null,null,null,null,null,null,null,null,null,null,"no email",{"$error":"#VALUE!"},{"$error":"#VALUE!"},{"$f":"VLOOKUP(K3416,references!$A$1:$B$7,2,FALSE)","v":{"$error":"#N/A"}}]
[null,null,null,null,null,null,null,null,null,null,null,null,"no email",{"$error":"#VALUE!"},{"$error":"#VALUE!"},{"$f":"VLOOKUP(K3417,references!$A$1:$B$7,2,FALSE)","v":{"$error":"#N/A"}}]
[null,null,null,null,null,null,null,null,null,null,null,null,"no email",{"$error":"#VALUE!"},{"$error":"#VALUE!"},{"$f":"VLOOKUP(K3418,references!$A$1:$B$7,2,FALSE)","v":{"$error":"#N/A"}}]
[null,null,null,null,null,null,null,null,null,null,null,null,"no email",{"$error":"#VALUE!"},{"$error":"#VALUE!"},{"$f":"VLOOKUP(K3419,references!$A$1:$B$7,2,FALSE)","v":{"$error":"#N/A"}}]
[null,null,null,null,null,null,null,null,null,null,null,null,"no email",{"$error":"#VALUE!"},{"$error":"#VALUE!"},{"$f":"VLOOKUP(K3420,references!$A$1:$B$7,2,FALSE)","v":{"$error":"#N/A"}}]
[null,null,null,null,null,null,null,null,null,null,null,null,"no email",{"$error":"#VALUE!"},{"$error":"#VALUE!"},{"$f":"VLOOKUP(K3421,references!$A$1:$B$7,2,FALSE)","v":{"$error":"#N/A"}}]
[null,null,null,null,null,null,null,null,null,null,null,null,"no email",{"$error":"#VALUE!"},{"$error":"#VALUE!"},{"$f":"VLOOKUP(K3422,references!$A$1:$B$7,2,FALSE)","v":{"$error":"#N/A"}}]
[null,null,null,null,null,null,null,null,null,null,null,null,"no email",{"$error":"#VALUE!"},{"$error":"#VALUE!"},{"$f":"VLOOKUP(K3423,references!$A$1:$B$7,2,FALSE)","v":{"$error":"#N/A"}}]
[null,null,null,null,null,null,null,null,null,null,null,null,"no email",{"$error":"#VALUE!"},{"$error":"#VALUE!"},{"$f":"VLOOKUP(K3424,references!$A$1:$B$7,2,FALSE)","v":{"$error":"#N/A"}}]
[null,null,null,null,null,null,null,null,null,null,null,null,"no email",{"$error":"#VALUE!"},{"$error":"#VALUE!"},{"$f":"VLOOKUP(K3425,references!$A$1:$B$7,2,FALSE)","v":{"$error":"#N/A"}}]
[null,null,null,null,null,null,null,null,null,null,null,null,"no email",{"$error":"#VALUE!"},{"$error":"#VALUE!"},{"$f":"VLOOKUP(K3426,references!$A$1:$B$7,2,FALSE)","v":{"$error":"#N/A"}}]
[null,null,null,null,null,null,null,null,null,null,null,null,"no email",{"$error":"#VALUE!"},{"$error":"#VALUE!"},{"$f":"VLOOKUP(K3427,references!$A$1:$B$7,2,FALSE)","v":{"$error":"#N/A"}}]
[null,null,null,null,null,null,null,null,null,null,null,null,"no email",{"$error":"#VALUE!"},{"$error":"#VALUE!"},{"$f":"VLOOKUP(K3428,references!$A$1:$B$7,2,FALSE)","v":{"$error":"#N/A"}}]
[null,null,null,null,null,null,null,null,null,null,null,null,"no email",{"$error":"#VALUE!"},{"$error":"#VALUE!"},{"$f":"VLOOKUP(K3429,references!$A$1:$B$7,2,FALSE)","v":{"$error":"#N/A"}}]
[null,null,null,null,null,null,null,null,null,null,null,null,"no email",{"$error":"#VALUE!"},{"$error":"#VALUE!"},{"$f":"VLOOKUP(K3430,references!$A$1:$B$7,2,FALSE)","v":{"$error":"#N/A"}}]
[null,null,null,null,null,null,null,null,null,null,null,null,"no email",{"$error":"#VALUE!"},{"$error":"#VALUE!"},{"$f":"VLOOKUP(K3431,references!$A$1:$B$7,2,FALSE)","v":{"$error":"#N/A"}}]
[null,null,null,null,null,null,null,null,null,null,null,null,"no email",{"$error":"#VALUE!"},{"$error":"#VALUE!"},{"$f":"VLOOKUP(K3432,references!$A$1:$B$7,2,FALSE)","v":{"$error":"#N/A"}}]
[null,null,null,null,null,null,null,null,null,null,null,null,"no email",{"$error":"#VALUE!"},{"$error":"#VALUE!"},{"$f":"VLOOKUP(K3433,references!$A$1:$B$7,2,FALSE)","v":{"$error":"#N/A"}}]
[null,null,null,null,null,null,null,null,null,null,null,null,"no email",{"$error":"#VALUE!"},{"$error":"#VALUE!"},{"$f":"VLOOKUP(K3434,references!$A$1:$B$7,2,FALSE)","v":{"$error":"#N/A"}}]
[null,null,null,null,null,null,null,null,null,null,null,null,"no email",{"$error":"#VALUE!"},{"$error":"#VALUE!"},{"$f":"VLOOKUP(K3435,references!$A$1:$B$7,2,FALSE)","v":{"$error":"#N/A"}}]
[null,null,null,null,null,null,null,null,null,null,null,null,"no email",{"$error":"#VALUE!"},{"$error":"#VALUE!"},{"$f":"VLOOKUP(K3436,references!$A$1:$B$7,2,FALSE)","v":{"$error":"#N/A"}}]
[null,null,null,null,null,null,null,null,null,null,null,null,"no email",{"$error":"#VALUE!"},{"$error":"#VALUE!"},{"$f":"VLOOKUP(K3437,references!$A$1:$B$7,2,FALSE)","v":{"$error":"#N/A"}}]
[null,null,null,null,null,null,null,null,null,null,null,null,"no email",{"$error":"#VALUE!"},{"$error":"#VALUE!"},{"$f":"VLOOKUP(K3438,references!$A$1:$B$7,2,FALSE)","v":{"$error":"#N/A"}}]
[null,null,null,null,null,null,null,null,null,null,null,null,"no email",{"$error":"#VALUE!"},{"$error":"#VALUE!"},{"$f":"VLOOKUP(K3439,references!$A$1:$B$7,2,FALSE)","v":{"$error":"#N/A"}}]
[null,null,null,null,null,null,null,null,null,null,null,null,"no email",{"$error":"#VALUE!"},{"$error":"#VALUE!"},{"$f":"VLOOKUP(K3440,references!$A$1:$B$7,2,FALSE)","v":{"$error":"#N/A"}}]
[null,null,null,null,null,null,null,null,null,null,null,null,"no email",{"$error":"#VALUE!"},{"$error":"#VALUE!"},{"$f":"VLOOKUP(K3441,references!$A$1:$B$7,2,FALSE)","v":{"$error":"#N/A"}}]
[null,null,null,null,null,null,null,null,null,null,null,null,"no email",{"$error":"#VALUE!"},{"$error":"#VALUE!"},{"$f":"VLOOKUP(K3442,references!$A$1:$B$7,2,FALSE)","v":{"$error":"#N/A"}}]
[null,null,null,null,null,null,null,null,null,null,null,null,"no email",{"$error":"#VALUE!"},{"$error":"#VALUE!"},{"$f":"VLOOKUP(K3443,references!$A$1:$B$7,2,FALSE)","v":{"$error":"#N/A"}}]
[null,null,null,null,null,null,null,null,null,null,null,null,"no email",{"$error":"#VALUE!"},{"$error":"#VALUE!"},{"$f":"VLOOKUP(K3444,references!$A$1:$B$7,2,FALSE)","v":{"$error":"#N/A"}}]
[null,null,null,null,null,null,null,null,null,null,null,null,"no email",{"$error":"#VALUE!"},{"$error":"#VALUE!"},{"$f":"VLOOKUP(K3445,references!$A$1:$B$7,2,FALSE)","v":{"$error":"#N/A"}}]
[null,null,null,null,null,null,null,null,null,null,null,null,"no email",{"$error":"#VALUE!"},{"$error":"#VALUE!"},{"$f":"VLOOKUP(K3446,references!$A$1:$B$7,2,FALSE)","v":{"$error":"#N/A"}}]
[null,null,null,null,null,null,null,null,null,null,null,null,"no email",{"$error":"#VALUE!"},{"$error":"#VALUE!"},{"$f":"VLOOKUP(K3447,references!$A$1:$B$7,2,FALSE)","v":{"$error":"#N/A"}}]
[null,null,null,null,null,null,null,null,null,null,null,null,"no email",{"$error":"#VALUE!"},{"$error":"#VALUE!"},{"$f":"VLOOKUP(K3448,references!$A$1:$B$7,2,FALSE)","v":{"$error":"#N/A"}}]
[null,null,null,null,null,null,null,null,null,null,null,null,"no email",{"$error":"#VALUE!"},{"$error":"#VALUE!"},{"$f":"VLOOKUP(K3449,references!$A$1:$B$7,2,FALSE)","v":{"$error":"#N/A"}}]
[null,null,null,null,null,null,null,null,null,null,null,null,"no email",{"$error":"#VALUE!"},{"$error":"#VALUE!"},{"$f":"VLOOKUP(K3450,references!$A$1:$B$7,2,FALSE)","v":{"$error":"#N/A"}}]
[null,null,null,null,null,null,null,null,null,null,null,null,"no email",{"$error":"#VALUE!"},{"$error":"#VALUE!"},{"$f":"VLOOKUP(K3451,references!$A$1:$B$7,2,FALSE)","v":{"$error":"#N/A"}}]
[null,null,null,null,null,null,null,null,null,null,null,null,"no email",{"$error":"#VALUE!"},{"$error":"#VALUE!"},{"$f":"VLOOKUP(K3452,references!$A$1:$B$7,2,FALSE)","v":{"$error":"#N/A"}}]
[null,null,null,null,null,null,null,null,null,null,null,null,"no email",{"$error":"#VALUE!"},{"$error":"#VALUE!"},{"$f":"VLOOKUP(K3453,references!$A$1:$B$7,2,FALSE)","v":{"$error":"#N/A"}}]
[null,null,null,null,null,null,null,null,null,null,null,null,"no email",{"$error":"#VALUE!"},{"$error":"#VALUE!"},{"$f":"VLOOKUP(K3454,references!$A$1:$B$7,2,FALSE)","v":{"$error":"#N/A"}}]
[null,null,null,null,null,null,null,null,null,null,null,null,"no email",{"$error":"#VALUE!"},{"$error":"#VALUE!"},{"$f":"VLOOKUP(K3455,references!$A$1:$B$7,2,FALSE)","v":{"$error":"#N/A"}}]
[null,null,null,null,null,null,null,null,null,null,null,null,"no email",{"$error":"#VALUE!"},{"$error":"#VALUE!"},{"$f":"VLOOKUP(K3456,references!$A$1:$B$7,2,FALSE)","v":{"$error":"#N/A"}}]
[null,null,null,null,null,null,null,null,null,null,null,null,"no email",{"$error":"#VALUE!"},{"$error":"#VALUE!"},{"$f":"VLOOKUP(K3457,references!$A$1:$B$7,2,FALSE)","v":{"$error":"#N/A"}}]
[null,null,null,null,null,null,null,null,null,null,null,null,{"$f":"IF(L3458=\"\", \"no email\",LOWER(L3458))","v":"no email"},{"$f":"LEFT(A3458, SEARCH(\",\",A3458,1)-1)","v":{"$error":"#VALUE!"}},{"$f":"RIGHT(A3458, LEN(A3458) -SEARCH(\",\",A3458,1)-1)","v":{"$error":"#VALUE!"}},{"$f":"VLOOKUP(K3458,references!$A$1:$B$7,2,FALSE)","v":{"$error":"#N/A"}}]
[null,null,null,null,null,null,null,null,null,null,null,null,"no email",{"$error":"#VALUE!"},{"$error":"#VALUE!"},{"$f":"VLOOKUP(K3459,references!$A$1:$B$7,2,FALSE)","v":{"$error":"#N/A"}}]
[null,null,null,null,null,null,null,null,null,null,null,null,"no email",{"$error":"#VALUE!"},{"$error":"#VALUE!"},{"$f":"VLOOKUP(K3460,references!$A$1:$B$7,2,FALSE)","v":{"$error":"#N/A"}}]
[null,null,null,null,null,null,null,null,null,null,null,null,"no email",{"$error":"#VALUE!"},{"$error":"#VALUE!"},{"$f":"VLOOKUP(K3461,references!$A$1:$B$7,2,FALSE)","v":{"$error":"#N/A"}}]
[null,null,null,null,null,null,null,null,null,null,null,null,"no email",{"$error":"#VALUE!"},{"$error":"#VALUE!"},{"$f":"VLOOKUP(K3462,references!$A$1:$B$7,2,FALSE)","v":{"$error":"#N/A"}}]
[null,null,null,null,null,null,null,null,null,null,null,null,"no email",{"$error":"#VALUE!"},{"$error":"#VALUE!"},{"$f":"VLOOKUP(K3463,references!$A$1:$B$7,2,FALSE)","v":{"$error":"#N/A"}}]
[null,null,null,null,null,null,null,null,null,null,null,null,"no email",{"$error":"#VALUE!"},{"$error":"#VALUE!"},{"$f":"VLOOKUP(K3464,references!$A$1:$B$7,2,FALSE)","v":{"$error":"#N/A"}}]
[null,null,null,null,null,null,null,null,null,null,null,null,"no email",{"$error":"#VALUE!"},{"$error":"#VALUE!"},{"$f":"VLOOKUP(K3465,references!$A$1:$B$7,2,FALSE)","v":{"$error":"#N/A"}}]
[null,null,null,null,null,null,null,null,null,null,null,null,"no email",{"$error":"#VALUE!"},{"$error":"#VALUE!"},{"$f":"VLOOKUP(K3466,references!$A$1:$B$7,2,FALSE)","v":{"$error":"#N/A"}}]
[null,null,null,null,null,null,null,null,null,null,null,null,"no email",{"$error":"#VALUE!"},{"$error":"#VALUE!"},{"$f":"VLOOKUP(K3467,references!$A$1:$B$7,2,FALSE)","v":{"$error":"#N/A"}}]
[null,null,null,null,null,null,null,null,null,null,null,null,"no email",{"$error":"#VALUE!"},{"$error":"#VALUE!"},{"$f":"VLOOKUP(K3468,references!$A$1:$B$7,2,FALSE)","v":{"$error":"#N/A"}}]
[null,null,null,null,null,null,null,null,null,null,null,null,"no email",{"$error":"#VALUE!"},{"$error":"#VALUE!"},{"$f":"VLOOKUP(K3469,references!$A$1:$B$7,2,FALSE)","v":{"$error":"#N/A"}}]
[null,null,null,null,null,null,null,null,null,null,null,null,"no email",{"$error":"#VALUE!"},{"$error":"#VALUE!"},{"$f":"VLOOKUP(K3470,references!$A$1:$B$7,2,FALSE)","v":{"$error":"#N/A"}}]
[null,null,null,null,null,null,null,null,null,null,null,null,"no email",{"$error":"#VALUE!"},{"$error":"#VALUE!"},{"$f":"VLOOKUP(K3471,references!$A$1:$B$7,2,FALSE)","v":{"$error":"#N/A"}}]
[null,null,null,null,null,null,null,null,null,null,null,null,"no email",{"$error":"#VALUE!"},{"$error":"#VALUE!"},{"$f":"VLOOKUP(K3472,references!$A$1:$B$7,2,FALSE)","v":{"$error":"#N/A"}}]
[null,null,null,null,null,null,null,null,null,null,null,null,"no email",{"$error":"#VALUE!"},{"$error":"#VALUE!"},{"$f":"VLOOKUP(K3473,references!$A$1:$B$7,2,FALSE)","v":{"$error":"#N/A"}}]
[null,null,null,null,null,null,null,null,null,null,null,null,"no email",{"$error":"#VALUE!"},{"$error":"#VALUE!"},{"$f":"VLOOKUP(K3474,references!$A$1:$B$7,2,FALSE)","v":{"$error":"#N/A"}}]
[null,null,null,null,null,null,null,null,null,null,null,null,"no email",{"$error":"#VALUE!"},{"$error":"#VALUE!"},{"$f":"VLOOKUP(K3475,references!$A$1:$B$7,2,FALSE)","v":{"$error":"#N/A"}}]
[null,null,null,null,null,null,null,null,null,null,null,null,"no email",{"$error":"#VALUE!"},{"$error":"#VALUE!"},{"$f":"VLOOKUP(K3476,references!$A$1:$B$7,2,FALSE)","v":{"$error":"#N/A"}}]
[null,null,null,null,null,null,null,null,null,null,null,null,"no email",{"$error":"#VALUE!"},{"$error":"#VALUE!"},{"$f":"VLOOKUP(K3477,references!$A$1:$B$7,2,FALSE)","v":{"$error":"#N/A"}}]
[null,null,null,null,null,null,null,null,null,null,null,null,"no email",{"$error":"#VALUE!"},{"$error":"#VALUE!"},{"$f":"VLOOKUP(K3478,references!$A$1:$B$7,2,FALSE)","v":{"$error":"#N/A"}}]
[null,null,null,null,null,null,null,null,null,null,null,null,"no email",{"$error":"#VALUE!"},{"$error":"#VALUE!"},{"$f":"VLOOKUP(K3479,references!$A$1:$B$7,2,FALSE)","v":{"$error":"#N/A"}}]
[null,null,null,null,null,null,null,null,null,null,null,null,"no email",{"$error":"#VALUE!"},{"$error":"#VALUE!"},{"$f":"VLOOKUP(K3480,references!$A$1:$B$7,2,FALSE)","v":{"$error":"#N/A"}}]
[null,null,null,null,null,null,null,null,null,null,null,null,"no email",{"$error":"#VALUE!"},{"$error":"#VALUE!"},{"$f":"VLOOKUP(K3481,references!$A$1:$B$7,2,FALSE)","v":{"$error":"#N/A"}}]
[null,null,null,null,null,null,null,null,null,null,null,null,"no email",{"$error":"#VALUE!"},{"$error":"#VALUE!"},{"$f":"VLOOKUP(K3482,references!$A$1:$B$7,2,FALSE)","v":{"$error":"#N/A"}}]
[null,null,null,null,null,null,null,null,null,null,null,null,"no email",{"$error":"#VALUE!"},{"$error":"#VALUE!"},{"$f":"VLOOKUP(K3483,references!$A$1:$B$7,2,FALSE)","v":{"$error":"#N/A"}}]
[null,null,null,null,null,null,null,null,null,null,null,null,"no email",{"$error":"#VALUE!"},{"$error":"#VALUE!"},{"$f":"VLOOKUP(K3484,references!$A$1:$B$7,2,FALSE)","v":{"$error":"#N/A"}}]
[null,null,null,null,null,null,null,null,null,null,null,null,"no email",{"$error":"#VALUE!"},{"$error":"#VALUE!"},{"$f":"VLOOKUP(K3485,references!$A$1:$B$7,2,FALSE)","v":{"$error":"#N/A"}}]
[null,null,null,null,null,null,null,null,null,null,null,null,"no email",{"$error":"#VALUE!"},{"$error":"#VALUE!"},{"$f":"VLOOKUP(K3486,references!$A$1:$B$7,2,FALSE)","v":{"$error":"#N/A"}}]
[null,null,null,null,null,null,null,null,null,null,null,null,"no email",{"$error":"#VALUE!"},{"$error":"#VALUE!"},{"$f":"VLOOKUP(K3487,references!$A$1:$B$7,2,FALSE)","v":{"$error":"#N/A"}}]
[null,null,null,null,null,null,null,null,null,null,null,null,"no email",{"$error":"#VALUE!"},{"$error":"#VALUE!"},{"$f":"VLOOKUP(K3488,references!$A$1:$B$7,2,FALSE)","v":{"$error":"#N/A"}}]
[null,null,null,null,null,null,null,null,null,null,null,null,"no email",{"$error":"#VALUE!"},{"$error":"#VALUE!"},{"$f":"VLOOKUP(K3489,references!$A$1:$B$7,2,FALSE)","v":{"$error":"#N/A"}}]
[null,null,null,null,null,null,null,null,null,null,null,null,"no email",{"$error":"#VALUE!"},{"$error":"#VALUE!"},{"$f":"VLOOKUP(K3490,references!$A$1:$B$7,2,FALSE)","v":{"$error":"#N/A"}}]
[null,null,null,null,null,null,null,null,null,null,null,null,"no email",{"$error":"#VALUE!"},{"$error":"#VALUE!"},{"$f":"VLOOKUP(K3491,references!$A$1:$B$7,2,FALSE)","v":{"$error":"#N/A"}}]
[null,null,null,null,null,null,null,null,null,null,null,null,"no email",{"$error":"#VALUE!"},{"$error":"#VALUE!"},{"$f":"VLOOKUP(K3492,references!$A$1:$B$7,2,FALSE)","v":{"$error":"#N/A"}}]
[null,null,null,null,null,null,null,null,null,null,null,null,"no email",{"$error":"#VALUE!"},{"$error":"#VALUE!"},{"$f":"VLOOKUP(K3493,references!$A$1:$B$7,2,FALSE)","v":{"$error":"#N/A"}}]
[null,null,null,null,null,null,null,null,null,null,null,null,"no email",{"$error":"#VALUE!"},{"$error":"#VALUE!"},{"$f":"VLOOKUP(K3494,references!$A$1:$B$7,2,FALSE)","v":{"$error":"#N/A"}}]
[null,null,null,null,null,null,null,null,null,null,null,null,"no email",{"$error":"#VALUE!"},{"$error":"#VALUE!"},{"$f":"VLOOKUP(K3495,references!$A$1:$B$7,2,FALSE)","v":{"$error":"#N/A"}}]
[null,null,null,null,null,null,null,null,null,null,null,null,"no email",{"$error":"#VALUE!"},{"$error":"#VALUE!"},{"$f":"VLOOKUP(K3496,references!$A$1:$B$7,2,FALSE)","v":{"$error":"#N/A"}}]
[null,null,null,null,null,null,null,null,null,null,null,null,"no email",{"$error":"#VALUE!"},{"$error":"#VALUE!"},{"$f":"VLOOKUP(K3497,references!$A$1:$B$7,2,FALSE)","v":{"$error":"#N/A"}}]
[null,null,null,null,null,null,null,null,null,null,null,null,"no email",{"$error":"#VALUE!"},{"$error":"#VALUE!"},{"$f":"VLOOKUP(K3498,references!$A$1:$B$7,2,FALSE)","v":{"$error":"#N/A"}}]
[null,null,null,null,null,null,null,null,null,null,null,null,"no email",{"$error":"#VALUE!"},{"$error":"#VALUE!"},{"$f":"VLOOKUP(K3499,references!$A$1:$B$7,2,FALSE)","v":{"$error":"#N/A"}}]
[null,null,null,null,null,null,null,null,null,null,null,null,"no email",{"$error":"#VALUE!"},{"$error":"#VALUE!"},{"$f":"VLOOKUP(K3500,references!$A$1:$B$7,2,FALSE)","v":{"$error":"#N/A"}}]
[null,null,null,null,null,null,null,null,null,null,null,null,"no email",{"$error":"#VALUE!"},{"$error":"#VALUE!"},{"$f":"VLOOKUP(K3501,references!$A$1:$B$7,2,FALSE)","v":{"$error":"#N/A"}}]
[null,null,null,null,null,null,null,null,null,null,null,null,"no email",{"$error":"#VALUE!"},{"$error":"#VALUE!"},{"$f":"VLOOKUP(K3502,references!$A$1:$B$7,2,FALSE)","v":{"$error":"#N/A"}}]
[null,null,null,null,null,null,null,null,null,null,null,null,"no email",{"$error":"#VALUE!"},{"$error":"#VALUE!"},{"$f":"VLOOKUP(K3503,references!$A$1:$B$7,2,FALSE)","v":{"$error":"#N/A"}}]
[null,null,null,null,null,null,null,null,null,null,null,null,"no email",{"$error":"#VALUE!"},{"$error":"#VALUE!"},{"$f":"VLOOKUP(K3504,references!$A$1:$B$7,2,FALSE)","v":{"$error":"#N/A"}}]
[null,null,null,null,null,null,null,null,null,null,null,null,"no email",{"$error":"#VALUE!"},{"$error":"#VALUE!"},{"$f":"VLOOKUP(K3505,references!$A$1:$B$7,2,FALSE)","v":{"$error":"#N/A"}}]
[null,null,null,null,null,null,null,null,null,null,null,null,"no email",{"$error":"#VALUE!"},{"$error":"#VALUE!"},{"$f":"VLOOKUP(K3506,references!$A$1:$B$7,2,FALSE)","v":{"$error":"#N/A"}}]
[null,null,null,null,null,null,null,null,null,null,null,null,"no email",{"$error":"#VALUE!"},{"$error":"#VALUE!"},{"$f":"VLOOKUP(K3507,references!$A$1:$B$7,2,FALSE)","v":{"$error":"#N/A"}}]
[null,null,null,null,null,null,null,null,null,null,null,null,"no email",{"$error":"#VALUE!"},{"$error":"#VALUE!"},{"$f":"VLOOKUP(K3508,references!$A$1:$B$7,2,FALSE)","v":{"$error":"#N/A"}}]
[null,null,null,null,null,null,null,null,null,null,null,null,"no email",{"$error":"#VALUE!"},{"$error":"#VALUE!"},{"$f":"VLOOKUP(K3509,references!$A$1:$B$7,2,FALSE)","v":{"$error":"#N/A"}}]
[null,null,null,null,null,null,null,null,null,null,null,null,"no email",{"$error":"#VALUE!"},{"$error":"#VALUE!"},{"$f":"VLOOKUP(K3510,references!$A$1:$B$7,2,FALSE)","v":{"$error":"#N/A"}}]
[null,null,null,null,null,null,null,null,null,null,null,null,"no email",{"$error":"#VALUE!"},{"$error":"#VALUE!"},{"$f":"VLOOKUP(K3511,references!$A$1:$B$7,2,FALSE)","v":{"$error":"#N/A"}}]
[null,null,null,null,null,null,null,null,null,null,null,null,"no email",{"$error":"#VALUE!"},{"$error":"#VALUE!"},{"$f":"VLOOKUP(K3512,references!$A$1:$B$7,2,FALSE)","v":{"$error":"#N/A"}}]
[null,null,null,null,null,null,null,null,null,null,null,null,"no email",{"$error":"#VALUE!"},{"$error":"#VALUE!"},{"$f":"VLOOKUP(K3513,references!$A$1:$B$7,2,FALSE)","v":{"$error":"#N/A"}}]
[null,null,null,null,null,null,null,null,null,null,null,null,"no email",{"$error":"#VALUE!"},{"$error":"#VALUE!"},{"$f":"VLOOKUP(K3514,references!$A$1:$B$7,2,FALSE)","v":{"$error":"#N/A"}}]
[null,null,null,null,null,null,null,null,null,null,null,null,"no email",{"$error":"#VALUE!"},{"$error":"#VALUE!"},{"$f":"VLOOKUP(K3515,references!$A$1:$B$7,2,FALSE)","v":{"$error":"#N/A"}}]
[null,null,null,null,null,null,null,null,null,null,null,null,"no email",{"$error":"#VALUE!"},{"$error":"#VALUE!"},{"$f":"VLOOKUP(K3516,references!$A$1:$B$7,2,FALSE)","v":{"$error":"#N/A"}}]
[null,null,null,null,null,null,null,null,null,null,null,null,"no email",{"$error":"#VALUE!"},{"$error":"#VALUE!"},{"$f":"VLOOKUP(K3517,references!$A$1:$B$7,2,FALSE)","v":{"$error":"#N/A"}}]
[null,null,null,null,null,null,null,null,null,null,null,null,"no email",{"$error":"#VALUE!"},{"$error":"#VALUE!"},{"$f":"VLOOKUP(K3518,references!$A$1:$B$7,2,FALSE)","v":{"$error":"#N/A"}}]
[null,null,null,null,null,null,null,null,null,null,null,null,"no email",{"$error":"#VALUE!"},{"$error":"#VALUE!"},{"$f":"VLOOKUP(K3519,references!$A$1:$B$7,2,FALSE)","v":{"$error":"#N/A"}}]
[null,null,null,null,null,null,null,null,null,null,null,null,"no email",{"$error":"#VALUE!"},{"$error":"#VALUE!"},{"$f":"VLOOKUP(K3520,references!$A$1:$B$7,2,FALSE)","v":{"$error":"#N/A"}}]
[null,null,null,null,null,null,null,null,null,null,null,null,"no email",{"$error":"#VALUE!"},{"$error":"#VALUE!"},{"$f":"VLOOKUP(K3521,references!$A$1:$B$7,2,FALSE)","v":{"$error":"#N/A"}}]
[null,null,null,null,null,null,null,null,null,null,null,null,{"$f":"IF(L3522=\"\", \"no email\",LOWER(L3522))","v":"no email"},{"$f":"LEFT(A3522, SEARCH(\",\",A3522,1)-1)","v":{"$error":"#VALUE!"}},{"$f":"RIGHT(A3522, LEN(A3522) -SEARCH(\",\",A3522,1)-1)","v":{"$error":"#VALUE!"}},{"$f":"VLOOKUP(K3522,references!$A$1:$B$7,2,FALSE)","v":{"$error":"#N/A"}}]
[null,null,null,null,null,null,null,null,null,null,null,null,"no email",{"$error":"#VALUE!"},{"$error":"#VALUE!"},{"$f":"VLOOKUP(K3523,references!$A$1:$B$7,2,FALSE)","v":{"$error":"#N/A"}}]
[null,null,null,null,null,null,null,null,null,null,null,null,"no email",{"$error":"#VALUE!"},{"$error":"#VALUE!"},{"$f":"VLOOKUP(K3524,references!$A$1:$B$7,2,FALSE)","v":{"$error":"#N/A"}}]
[null,null,null,null,null,null,null,null,null,null,null,null,"no email",{"$error":"#VALUE!"},{"$error":"#VALUE!"},{"$f":"VLOOKUP(K3525,references!$A$1:$B$7,2,FALSE)","v":{"$error":"#N/A"}}]
[null,null,null,null,null,null,null,null,null,null,null,null,"no email",{"$error":"#VALUE!"},{"$error":"#VALUE!"},{"$f":"VLOOKUP(K3526,references!$A$1:$B$7,2,FALSE)","v":{"$error":"#N/A"}}]
[null,null,null,null,null,null,null,null,null,null,null,null,"no email",{"$error":"#VALUE!"},{"$error":"#VALUE!"},{"$f":"VLOOKUP(K3527,references!$A$1:$B$7,2,FALSE)","v":{"$error":"#N/A"}}]
[null,null,null,null,null,null,null,null,null,null,null,null,"no email",{"$error":"#VALUE!"},{"$error":"#VALUE!"},{"$f":"VLOOKUP(K3528,references!$A$1:$B$7,2,FALSE)","v":{"$error":"#N/A"}}]
[null,null,null,null,null,null,null,null,null,null,null,null,"no email",{"$error":"#VALUE!"},{"$error":"#VALUE!"},{"$f":"VLOOKUP(K3529,references!$A$1:$B$7,2,FALSE)","v":{"$error":"#N/A"}}]
[null,null,null,null,null,null,null,null,null,null,null,null,"no email",{"$error":"#VALUE!"},{"$error":"#VALUE!"},{"$f":"VLOOKUP(K3530,references!$A$1:$B$7,2,FALSE)","v":{"$error":"#N/A"}}]
[null,null,null,null,null,null,null,null,null,null,null,null,"no email",{"$error":"#VALUE!"},{"$error":"#VALUE!"},{"$f":"VLOOKUP(K3531,references!$A$1:$B$7,2,FALSE)","v":{"$error":"#N/A"}}]
[null,null,null,null,null,null,null,null,null,null,null,null,"no email",{"$error":"#VALUE!"},{"$error":"#VALUE!"},{"$f":"VLOOKUP(K3532,references!$A$1:$B$7,2,FALSE)","v":{"$error":"#N/A"}}]
[null,null,null,null,null,null,null,null,null,null,null,null,"no email",{"$error":"#VALUE!"},{"$error":"#VALUE!"},{"$f":"VLOOKUP(K3533,references!$A$1:$B$7,2,FALSE)","v":{"$error":"#N/A"}}]
[null,null,null,null,null,null,null,null,null,null,null,null,"no email",{"$error":"#VALUE!"},{"$error":"#VALUE!"},{"$f":"VLOOKUP(K3534,references!$A$1:$B$7,2,FALSE)","v":{"$error":"#N/A"}}]
[null,null,null,null,null,null,null,null,null,null,null,null,"no email",{"$error":"#VALUE!"},{"$error":"#VALUE!"},{"$f":"VLOOKUP(K3535,references!$A$1:$B$7,2,FALSE)","v":{"$error":"#N/A"}}]
[null,null,null,null,null,null,null,null,null,null,null,null,"no email",{"$error":"#VALUE!"},{"$error":"#VALUE!"},{"$f":"VLOOKUP(K3536,references!$A$1:$B$7,2,FALSE)","v":{"$error":"#N/A"}}]
[null,null,null,null,null,null,null,null,null,null,null,null,"no email",{"$error":"#VALUE!"},{"$error":"#VALUE!"},{"$f":"VLOOKUP(K3537,references!$A$1:$B$7,2,FALSE)","v":{"$error":"#N/A"}}]
[null,null,null,null,null,null,null,null,null,null,null,null,"no email",{"$error":"#VALUE!"},{"$error":"#VALUE!"},{"$f":"VLOOKUP(K3538,references!$A$1:$B$7,2,FALSE)","v":{"$error":"#N/A"}}]
[null,null,null,null,null,null,null,null,null,null,null,null,"no email",{"$error":"#VALUE!"},{"$error":"#VALUE!"},{"$f":"VLOOKUP(K3539,references!$A$1:$B$7,2,FALSE)","v":{"$error":"#N/A"}}]
[null,null,null,null,null,null,null,null,null,null,null,null,"no email",{"$error":"#VALUE!"},{"$error":"#VALUE!"},{"$f":"VLOOKUP(K3540,references!$A$1:$B$7,2,FALSE)","v":{"$error":"#N/A"}}]
[null,null,null,null,null,null,null,null,null,null,null,null,"no email",{"$error":"#VALUE!"},{"$error":"#VALUE!"},{"$f":"VLOOKUP(K3541,references!$A$1:$B$7,2,FALSE)","v":{"$error":"#N/A"}}]
[null,null,null,null,null,null,null,null,null,null,null,null,"no email",{"$error":"#VALUE!"},{"$error":"#VALUE!"},{"$f":"VLOOKUP(K3542,references!$A$1:$B$7,2,FALSE)","v":{"$error":"#N/A"}}]
[null,null,null,null,null,null,null,null,null,null,null,null,"no email",{"$error":"#VALUE!"},{"$error":"#VALUE!"},{"$f":"VLOOKUP(K3543,references!$A$1:$B$7,2,FALSE)","v":{"$error":"#N/A"}}]
[null,null,null,null,null,null,null,null,null,null,null,null,"no email",{"$error":"#VALUE!"},{"$error":"#VALUE!"},{"$f":"VLOOKUP(K3544,references!$A$1:$B$7,2,FALSE)","v":{"$error":"#N/A"}}]
[null,null,null,null,null,null,null,null,null,null,null,null,"no email",{"$error":"#VALUE!"},{"$error":"#VALUE!"},{"$f":"VLOOKUP(K3545,references!$A$1:$B$7,2,FALSE)","v":{"$error":"#N/A"}}]
[null,null,null,null,null,null,null,null,null,null,null,null,"no email",{"$error":"#VALUE!"},{"$error":"#VALUE!"},{"$f":"VLOOKUP(K3546,references!$A$1:$B$7,2,FALSE)","v":{"$error":"#N/A"}}]
[null,null,null,null,null,null,null,null,null,null,null,null,"no email",{"$error":"#VALUE!"},{"$error":"#VALUE!"},{"$f":"VLOOKUP(K3547,references!$A$1:$B$7,2,FALSE)","v":{"$error":"#N/A"}}]
[null,null,null,null,null,null,null,null,null,null,null,null,"no email",{"$error":"#VALUE!"},{"$error":"#VALUE!"},{"$f":"VLOOKUP(K3548,references!$A$1:$B$7,2,FALSE)","v":{"$error":"#N/A"}}]
[null,null,null,null,null,null,null,null,null,null,null,null,"no email",{"$error":"#VALUE!"},{"$error":"#VALUE!"},{"$f":"VLOOKUP(K3549,references!$A$1:$B$7,2,FALSE)","v":{"$error":"#N/A"}}]
[null,null,null,null,null,null,null,null,null,null,null,null,"no email",{"$error":"#VALUE!"},{"$error":"#VALUE!"},{"$f":"VLOOKUP(K3550,references!$A$1:$B$7,2,FALSE)","v":{"$error":"#N/A"}}]
[null,null,null,null,null,null,null,null,null,null,null,null,"no email",{"$error":"#VALUE!"},{"$error":"#VALUE!"},{"$f":"VLOOKUP(K3551,references!$A$1:$B$7,2,FALSE)","v":{"$error":"#N/A"}}]
[null,null,null,null,null,null,null,null,null,null,null,null,"no email",{"$error":"#VALUE!"},{"$error":"#VALUE!"},{"$f":"VLOOKUP(K3552,references!$A$1:$B$7,2,FALSE)","v":{"$error":"#N/A"}}]
[null,null,null,null,null,null,null,null,null,null,null,null,"no email",{"$error":"#VALUE!"},{"$error":"#VALUE!"},{"$f":"VLOOKUP(K3553,references!$A$1:$B$7,2,FALSE)","v":{"$error":"#N/A"}}]
[null,null,null,null,null,null,null,null,null,null,null,null,"no email",{"$error":"#VALUE!"},{"$error":"#VALUE!"},{"$f":"VLOOKUP(K3554,references!$A$1:$B$7,2,FALSE)","v":{"$error":"#N/A"}}]
[null,null,null,null,null,null,null,null,null,null,null,null,"no email",{"$error":"#VALUE!"},{"$error":"#VALUE!"},{"$f":"VLOOKUP(K3555,references!$A$1:$B$7,2,FALSE)","v":{"$error":"#N/A"}}]
[null,null,null,null,null,null,null,null,null,null,null,null,"no email",{"$error":"#VALUE!"},{"$error":"#VALUE!"},{"$f":"VLOOKUP(K3556,references!$A$1:$B$7,2,FALSE)","v":{"$error":"#N/A"}}]
[null,null,null,null,null,null,null,null,null,null,null,null,"no email",{"$error":"#VALUE!"},{"$error":"#VALUE!"},{"$f":"VLOOKUP(K3557,references!$A$1:$B$7,2,FALSE)","v":{"$error":"#N/A"}}]
[null,null,null,null,null,null,null,null,null,null,null,null,"no email",{"$error":"#VALUE!"},{"$error":"#VALUE!"},{"$f":"VLOOKUP(K3558,references!$A$1:$B$7,2,FALSE)","v":{"$error":"#N/A"}}]
[null,null,null,null,null,null,null,null,null,null,null,null,"no email",{"$error":"#VALUE!"},{"$error":"#VALUE!"},{"$f":"VLOOKUP(K3559,references!$A$1:$B$7,2,FALSE)","v":{"$error":"#N/A"}}]
[null,null,null,null,null,null,null,null,null,null,null,null,"no email",{"$error":"#VALUE!"},{"$error":"#VALUE!"},{"$f":"VLOOKUP(K3560,references!$A$1:$B$7,2,FALSE)","v":{"$error":"#N/A"}}]
[null,null,null,null,null,null,null,null,null,null,null,null,"no email",{"$error":"#VALUE!"},{"$error":"#VALUE!"},{"$f":"VLOOKUP(K3561,references!$A$1:$B$7,2,FALSE)","v":{"$error":"#N/A"}}]
[null,null,null,null,null,null,null,null,null,null,null,null,"no email",{"$error":"#VALUE!"},{"$error":"#VALUE!"},{"$f":"VLOOKUP(K3562,references!$A$1:$B$7,2,FALSE)","v":{"$error":"#N/A"}}]
[null,null,null,null,null,null,null,null,null,null,null,null,"no email",{"$error":"#VALUE!"},{"$error":"#VALUE!"},{"$f":"VLOOKUP(K3563,references!$A$1:$B$7,2,FALSE)","v":{"$error":"#N/A"}}]
[null,null,null,null,null,null,null,null,null,null,null,null,"no email",{"$error":"#VALUE!"},{"$error":"#VALUE!"},{"$f":"VLOOKUP(K3564,references!$A$1:$B$7,2,FALSE)","v":{"$error":"#N/A"}}]
[null,null,null,null,null,null,null,null,null,null,null,null,"no email",{"$error":"#VALUE!"},{"$error":"#VALUE!"},{"$f":"VLOOKUP(K3565,references!$A$1:$B$7,2,FALSE)","v":{"$error":"#N/A"}}]
[null,null,null,null,null,null,null,null,null,null,null,null,"no email",{"$error":"#VALUE!"},{"$error":"#VALUE!"},{"$f":"VLOOKUP(K3566,references!$A$1:$B$7,2,FALSE)","v":{"$error":"#N/A"}}]
[null,null,null,null,null,null,null,null,null,null,null,null,"no email",{"$error":"#VALUE!"},{"$error":"#VALUE!"},{"$f":"VLOOKUP(K3567,references!$A$1:$B$7,2,FALSE)","v":{"$error":"#N/A"}}]
[null,null,null,null,null,null,null,null,null,null,null,null,"no email",{"$error":"#VALUE!"},{"$error":"#VALUE!"},{"$f":"VLOOKUP(K3568,references!$A$1:$B$7,2,FALSE)","v":{"$error":"#N/A"}}]
[null,null,null,null,null,null,null,null,null,null,null,null,"no email",{"$error":"#VALUE!"},{"$error":"#VALUE!"},{"$f":"VLOOKUP(K3569,references!$A$1:$B$7,2,FALSE)","v":{"$error":"#N/A"}}]
[null,null,null,null,null,null,null,null,null,null,null,null,"no email",{"$error":"#VALUE!"},{"$error":"#VALUE!"},{"$f":"VLOOKUP(K3570,references!$A$1:$B$7,2,FALSE)","v":{"$error":"#N/A"}}]
[null,null,null,null,null,null,null,null,null,null,null,null,"no email",{"$error":"#VALUE!"},{"$error":"#VALUE!"},{"$f":"VLOOKUP(K3571,references!$A$1:$B$7,2,FALSE)","v":{"$error":"#N/A"}}]
[null,null,null,null,null,null,null,null,null,null,null,null,"no email",{"$error":"#VALUE!"},{"$error":"#VALUE!"},{"$f":"VLOOKUP(K3572,references!$A$1:$B$7,2,FALSE)","v":{"$error":"#N/A"}}]
[null,null,null,null,null,null,null,null,null,null,null,null,"no email",{"$error":"#VALUE!"},{"$error":"#VALUE!"},{"$f":"VLOOKUP(K3573,references!$A$1:$B$7,2,FALSE)","v":{"$error":"#N/A"}}]
[null,null,null,null,null,null,null,null,null,null,null,null,"no email",{"$error":"#VALUE!"},{"$error":"#VALUE!"},{"$f":"VLOOKUP(K3574,references!$A$1:$B$7,2,FALSE)","v":{"$error":"#N/A"}}]
[null,null,null,null,null,null,null,null,null,null,null,null,"no email",{"$error":"#VALUE!"},{"$error":"#VALUE!"},{"$f":"VLOOKUP(K3575,references!$A$1:$B$7,2,FALSE)","v":{"$error":"#N/A"}}]
[null,null,null,null,null,null,null,null,null,null,null,null,"no email",{"$error":"#VALUE!"},{"$error":"#VALUE!"},{"$f":"VLOOKUP(K3576,references!$A$1:$B$7,2,FALSE)","v":{"$error":"#N/A"}}]
[null,null,null,null,null,null,null,null,null,null,null,null,"no email",{"$error":"#VALUE!"},{"$error":"#VALUE!"},{"$f":"VLOOKUP(K3577,references!$A$1:$B$7,2,FALSE)","v":{"$error":"#N/A"}}]
[null,null,null,null,null,null,null,null,null,null,null,null,"no email",{"$error":"#VALUE!"},{"$error":"#VALUE!"},{"$f":"VLOOKUP(K3578,references!$A$1:$B$7,2,FALSE)","v":{"$error":"#N/A"}}]
[null,null,null,null,null,null,null,null,null,null,null,null,"no email",{"$error":"#VALUE!"},{"$error":"#VALUE!"},{"$f":"VLOOKUP(K3579,references!$A$1:$B$7,2,FALSE)","v":{"$error":"#N/A"}}]
[null,null,null,null,null,null,null,null,null,null,null,null,"no email",{"$error":"#VALUE!"},{"$error":"#VALUE!"},{"$f":"VLOOKUP(K3580,references!$A$1:$B$7,2,FALSE)","v":{"$error":"#N/A"}}]
[null,null,null,null,null,null,null,null,null,null,null,null,"no email",{"$error":"#VALUE!"},{"$error":"#VALUE!"},{"$f":"VLOOKUP(K3581,references!$A$1:$B$7,2,FALSE)","v":{"$error":"#N/A"}}]
[null,null,null,null,null,null,null,null,null,null,null,null,"no email",{"$error":"#VALUE!"},{"$error":"#VALUE!"},{"$f":"VLOOKUP(K3582,references!$A$1:$B$7,2,FALSE)","v":{"$error":"#N/A"}}]
[null,null,null,null,null,null,null,null,null,null,null,null,"no email",{"$error":"#VALUE!"},{"$error":"#VALUE!"},{"$f":"VLOOKUP(K3583,references!$A$1:$B$7,2,FALSE)","v":{"$error":"#N/A"}}]
[null,null,null,null,null,null,null,null,null,null,null,null,"no email",{"$error":"#VALUE!"},{"$error":"#VALUE!"},{"$f":"VLOOKUP(K3584,references!$A$1:$B$7,2,FALSE)","v":{"$error":"#N/A"}}]
[null,null,null,null,null,null,null,null,null,null,null,null,"no email",{"$error":"#VALUE!"},{"$error":"#VALUE!"},{"$f":"VLOOKUP(K3585,references!$A$1:$B$7,2,FALSE)","v":{"$error":"#N/A"}}]
[null,null,null,null,null,null,null,null,null,null,null,null,{"$f":"IF(L3586=\"\", \"no email\",LOWER(L3586))","v":"no email"},{"$f":"LEFT(A3586, SEARCH(\",\",A3586,1)-1)","v":{"$error":"#VALUE!"}},{"$f":"RIGHT(A3586, LEN(A3586) -SEARCH(\",\",A3586,1)-1)","v":{"$error":"#VALUE!"}},{"$f":"VLOOKUP(K3586,references!$A$1:$B$7,2,FALSE)","v":{"$error":"#N/A"}}]
[null,null,null,null,null,null,null,null,null,null,null,null,"no email",{"$error":"#VALUE!"},{"$error":"#VALUE!"},{"$f":"VLOOKUP(K3587,references!$A$1:$B$7,2,FALSE)","v":{"$error":"#N/A"}}]
[null,null,null,null,null,null,null,null,null,null,null,null,"no email",{"$error":"#VALUE!"},{"$error":"#VALUE!"},{"$f":"VLOOKUP(K3588,references!$A$1:$B$7,2,FALSE)","v":{"$error":"#N/A"}}]
[null,null,null,null,null,null,null,null,null,null,null,null,"no email",{"$error":"#VALUE!"},{"$error":"#VALUE!"},{"$f":"VLOOKUP(K3589,references!$A$1:$B$7,2,FALSE)","v":{"$error":"#N/A"}}]
[null,null,null,null,null,null,null,null,null,null,null,null,"no email",{"$error":"#VALUE!"},{"$error":"#VALUE!"},{"$f":"VLOOKUP(K3590,references!$A$1:$B$7,2,FALSE)","v":{"$error":"#N/A"}}]
[null,null,null,null,null,null,null,null,null,null,null,null,"no email",{"$error":"#VALUE!"},{"$error":"#VALUE!"},{"$f":"VLOOKUP(K3591,references!$A$1:$B$7,2,FALSE)","v":{"$error":"#N/A"}}]
[null,null,null,null,null,null,null,null,null,null,null,null,"no email",{"$error":"#VALUE!"},{"$error":"#VALUE!"},{"$f":"VLOOKUP(K3592,references!$A$1:$B$7,2,FALSE)","v":{"$error":"#N/A"}}]
[null,null,null,null,null,null,null,null,null,null,null,null,"no email",{"$error":"#VALUE!"},{"$error":"#VALUE!"},{"$f":"VLOOKUP(K3593,references!$A$1:$B$7,2,FALSE)","v":{"$error":"#N/A"}}]
[null,null,null,null,null,null,null,null,null,null,null,null,"no email",{"$error":"#VALUE!"},{"$error":"#VALUE!"},{"$f":"VLOOKUP(K3594,references!$A$1:$B$7,2,FALSE)","v":{"$error":"#N/A"}}]
[null,null,null,null,null,null,null,null,null,null,null,null,"no email",{"$error":"#VALUE!"},{"$error":"#VALUE!"},{"$f":"VLOOKUP(K3595,references!$A$1:$B$7,2,FALSE)","v":{"$error":"#N/A"}}]
[null,null,null,null,null,null,null,null,null,null,null,null,"no email",{"$error":"#VALUE!"},{"$error":"#VALUE!"},{"$f":"VLOOKUP(K3596,references!$A$1:$B$7,2,FALSE)","v":{"$error":"#N/A"}}]
[null,null,null,null,null,null,null,null,null,null,null,null,"no email",{"$error":"#VALUE!"},{"$error":"#VALUE!"},{"$f":"VLOOKUP(K3597,references!$A$1:$B$7,2,FALSE)","v":{"$error":"#N/A"}}]
[null,null,null,null,null,null,null,null,null,null,null,null,"no email",{"$error":"#VALUE!"},{"$error":"#VALUE!"},{"$f":"VLOOKUP(K3598,references!$A$1:$B$7,2,FALSE)","v":{"$error":"#N/A"}}]
[null,null,null,null,null,null,null,null,null,null,null,null,"no email",{"$error":"#VALUE!"},{"$error":"#VALUE!"},{"$f":"VLOOKUP(K3599,references!$A$1:$B$7,2,FALSE)","v":{"$error":"#N/A"}}]
[null,null,null,null,null,null,null,null,null,null,null,null,"no email",{"$error":"#VALUE!"},{"$error":"#VALUE!"},{"$f":"VLOOKUP(K3600,references!$A$1:$B$7,2,FALSE)","v":{"$error":"#N/A"}}]
[null,null,null,null,null,null,null,null,null,null,null,null,"no email",{"$error":"#VALUE!"},{"$error":"#VALUE!"},{"$f":"VLOOKUP(K3601,references!$A$1:$B$7,2,FALSE)","v":{"$error":"#N/A"}}]
[null,null,null,null,null,null,null,null,null,null,null,null,"no email",{"$error":"#VALUE!"},{"$error":"#VALUE!"},{"$f":"VLOOKUP(K3602,references!$A$1:$B$7,2,FALSE)","v":{"$error":"#N/A"}}]
[null,null,null,null,null,null,null,null,null,null,null,null,"no email",{"$error":"#VALUE!"},{"$error":"#VALUE!"},{"$f":"VLOOKUP(K3603,references!$A$1:$B$7,2,FALSE)","v":{"$error":"#N/A"}}]
[null,null,null,null,null,null,null,null,null,null,null,null,"no email",{"$error":"#VALUE!"},{"$error":"#VALUE!"},{"$f":"VLOOKUP(K3604,references!$A$1:$B$7,2,FALSE)","v":{"$error":"#N/A"}}]
[null,null,null,null,null,null,null,null,null,null,null,null,"no email",{"$error":"#VALUE!"},{"$error":"#VALUE!"},{"$f":"VLOOKUP(K3605,references!$A$1:$B$7,2,FALSE)","v":{"$error":"#N/A"}}]
[null,null,null,null,null,null,null,null,null,null,null,null,"no email",{"$error":"#VALUE!"},{"$error":"#VALUE!"},{"$f":"VLOOKUP(K3606,references!$A$1:$B$7,2,FALSE)","v":{"$error":"#N/A"}}]
[null,null,null,null,null,null,null,null,null,null,null,null,"no email",{"$error":"#VALUE!"},{"$error":"#VALUE!"},{"$f":"VLOOKUP(K3607,references!$A$1:$B$7,2,FALSE)","v":{"$error":"#N/A"}}]
[null,null,null,null,null,null,null,null,null,null,null,null,"no email",{"$error":"#VALUE!"},{"$error":"#VALUE!"},{"$f":"VLOOKUP(K3608,references!$A$1:$B$7,2,FALSE)","v":{"$error":"#N/A"}}]
[null,null,null,null,null,null,null,null,null,null,null,null,"no email",{"$error":"#VALUE!"},{"$error":"#VALUE!"},{"$f":"VLOOKUP(K3609,references!$A$1:$B$7,2,FALSE)","v":{"$error":"#N/A"}}]
[null,null,null,null,null,null,null,null,null,null,null,null,"no email",{"$error":"#VALUE!"},{"$error":"#VALUE!"},{"$f":"VLOOKUP(K3610,references!$A$1:$B$7,2,FALSE)","v":{"$error":"#N/A"}}]
[null,null,null,null,null,null,null,null,null,null,null,null,"no email",{"$error":"#VALUE!"},{"$error":"#VALUE!"},{"$f":"VLOOKUP(K3611,references!$A$1:$B$7,2,FALSE)","v":{"$error":"#N/A"}}]
[null,null,null,null,null,null,null,null,null,null,null,null,"no email",{"$error":"#VALUE!"},{"$error":"#VALUE!"},{"$f":"VLOOKUP(K3612,references!$A$1:$B$7,2,FALSE)","v":{"$error":"#N/A"}}]
[null,null,null,null,null,null,null,null,null,null,null,null,"no email",{"$error":"#VALUE!"},{"$error":"#VALUE!"},{"$f":"VLOOKUP(K3613,references!$A$1:$B$7,2,FALSE)","v":{"$error":"#N/A"}}]
[null,null,null,null,null,null,null,null,null,null,null,null,"no email",{"$error":"#VALUE!"},{"$error":"#VALUE!"},{"$f":"VLOOKUP(K3614,references!$A$1:$B$7,2,FALSE)","v":{"$error":"#N/A"}}]
[null,null,null,null,null,null,null,null,null,null,null,null,"no email",{"$error":"#VALUE!"},{"$error":"#VALUE!"},{"$f":"VLOOKUP(K3615,references!$A$1:$B$7,2,FALSE)","v":{"$error":"#N/A"}}]
[null,null,null,null,null,null,null,null,null,null,null,null,"no email",{"$error":"#VALUE!"},{"$error":"#VALUE!"},{"$f":"VLOOKUP(K3616,references!$A$1:$B$7,2,FALSE)","v":{"$error":"#N/A"}}]
[null,null,null,null,null,null,null,null,null,null,null,null,"no email",{"$error":"#VALUE!"},{"$error":"#VALUE!"},{"$f":"VLOOKUP(K3617,references!$A$1:$B$7,2,FALSE)","v":{"$error":"#N/A"}}]
[null,null,null,null,null,null,null,null,null,null,null,null,"no email",{"$error":"#VALUE!"},{"$error":"#VALUE!"},{"$f":"VLOOKUP(K3618,references!$A$1:$B$7,2,FALSE)","v":{"$error":"#N/A"}}]
[null,null,null,null,null,null,null,null,null,null,null,null,"no email",{"$error":"#VALUE!"},{"$error":"#VALUE!"},{"$f":"VLOOKUP(K3619,references!$A$1:$B$7,2,FALSE)","v":{"$error":"#N/A"}}]
[null,null,null,null,null,null,null,null,null,null,null,null,"no email",{"$error":"#VALUE!"},{"$error":"#VALUE!"},{"$f":"VLOOKUP(K3620,references!$A$1:$B$7,2,FALSE)","v":{"$error":"#N/A"}}]
[null,null,null,null,null,null,null,null,null,null,null,null,"no email",{"$error":"#VALUE!"},{"$error":"#VALUE!"},{"$f":"VLOOKUP(K3621,references!$A$1:$B$7,2,FALSE)","v":{"$error":"#N/A"}}]
[null,null,null,null,null,null,null,null,null,null,null,null,"no email",{"$error":"#VALUE!"},{"$error":"#VALUE!"},{"$f":"VLOOKUP(K3622,references!$A$1:$B$7,2,FALSE)","v":{"$error":"#N/A"}}]
[null,null,null,null,null,null,null,null,null,null,null,null,"no email",{"$error":"#VALUE!"},{"$error":"#VALUE!"},{"$f":"VLOOKUP(K3623,references!$A$1:$B$7,2,FALSE)","v":{"$error":"#N/A"}}]
[null,null,null,null,null,null,null,null,null,null,null,null,"no email",{"$error":"#VALUE!"},{"$error":"#VALUE!"},{"$f":"VLOOKUP(K3624,references!$A$1:$B$7,2,FALSE)","v":{"$error":"#N/A"}}]
[null,null,null,null,null,null,null,null,null,null,null,null,"no email",{"$error":"#VALUE!"},{"$error":"#VALUE!"},{"$f":"VLOOKUP(K3625,references!$A$1:$B$7,2,FALSE)","v":{"$error":"#N/A"}}]
[null,null,null,null,null,null,null,null,null,null,null,null,"no email",{"$error":"#VALUE!"},{"$error":"#VALUE!"},{"$f":"VLOOKUP(K3626,references!$A$1:$B$7,2,FALSE)","v":{"$error":"#N/A"}}]
[null,null,null,null,null,null,null,null,null,null,null,null,"no email",{"$error":"#VALUE!"},{"$error":"#VALUE!"},{"$f":"VLOOKUP(K3627,references!$A$1:$B$7,2,FALSE)","v":{"$error":"#N/A"}}]
[null,null,null,null,null,null,null,null,null,null,null,null,"no email",{"$error":"#VALUE!"},{"$error":"#VALUE!"},{"$f":"VLOOKUP(K3628,references!$A$1:$B$7,2,FALSE)","v":{"$error":"#N/A"}}]
[null,null,null,null,null,null,null,null,null,null,null,null,"no email",{"$error":"#VALUE!"},{"$error":"#VALUE!"},{"$f":"VLOOKUP(K3629,references!$A$1:$B$7,2,FALSE)","v":{"$error":"#N/A"}}]
[null,null,null,null,null,null,null,null,null,null,null,null,"no email",{"$error":"#VALUE!"},{"$error":"#VALUE!"},{"$f":"VLOOKUP(K3630,references!$A$1:$B$7,2,FALSE)","v":{"$error":"#N/A"}}]
[null,null,null,null,null,null,null,null,null,null,null,null,"no email",{"$error":"#VALUE!"},{"$error":"#VALUE!"},{"$f":"VLOOKUP(K3631,references!$A$1:$B$7,2,FALSE)","v":{"$error":"#N/A"}}]
[null,null,null,null,null,null,null,null,null,null,null,null,"no email",{"$error":"#VALUE!"},{"$error":"#VALUE!"},{"$f":"VLOOKUP(K3632,references!$A$1:$B$7,2,FALSE)","v":{"$error":"#N/A"}}]
[null,null,null,null,null,null,null,null,null,null,null,null,"no email",{"$error":"#VALUE!"},{"$error":"#VALUE!"},{"$f":"VLOOKUP(K3633,references!$A$1:$B$7,2,FALSE)","v":{"$error":"#N/A"}}]
[null,null,null,null,null,null,null,null,null,null,null,null,"no email",{"$error":"#VALUE!"},{"$error":"#VALUE!"},{"$f":"VLOOKUP(K3634,references!$A$1:$B$7,2,FALSE)","v":{"$error":"#N/A"}}]
[null,null,null,null,null,null,null,null,null,null,null,null,"no email",{"$error":"#VALUE!"},{"$error":"#VALUE!"},{"$f":"VLOOKUP(K3635,references!$A$1:$B$7,2,FALSE)","v":{"$error":"#N/A"}}]
[null,null,null,null,null,null,null,null,null,null,null,null,"no email",{"$error":"#VALUE!"},{"$error":"#VALUE!"},{"$f":"VLOOKUP(K3636,references!$A$1:$B$7,2,FALSE)","v":{"$error":"#N/A"}}]
[null,null,null,null,null,null,null,null,null,null,null,null,"no email",{"$error":"#VALUE!"},{"$error":"#VALUE!"},{"$f":"VLOOKUP(K3637,references!$A$1:$B$7,2,FALSE)","v":{"$error":"#N/A"}}]
[null,null,null,null,null,null,null,null,null,null,null,null,"no email",{"$error":"#VALUE!"},{"$error":"#VALUE!"},{"$f":"VLOOKUP(K3638,references!$A$1:$B$7,2,FALSE)","v":{"$error":"#N/A"}}]
[null,null,null,null,null,null,null,null,null,null,null,null,"no email",{"$error":"#VALUE!"},{"$error":"#VALUE!"},{"$f":"VLOOKUP(K3639,references!$A$1:$B$7,2,FALSE)","v":{"$error":"#N/A"}}]
[null,null,null,null,null,null,null,null,null,null,null,null,"no email",{"$error":"#VALUE!"},{"$error":"#VALUE!"},{"$f":"VLOOKUP(K3640,references!$A$1:$B$7,2,FALSE)","v":{"$error":"#N/A"}}]
[null,null,null,null,null,null,null,null,null,null,null,null,"no email",{"$error":"#VALUE!"},{"$error":"#VALUE!"},{"$f":"VLOOKUP(K3641,references!$A$1:$B$7,2,FALSE)","v":{"$error":"#N/A"}}]
[null,null,null,null,null,null,null,null,null,null,null,null,"no email",{"$error":"#VALUE!"},{"$error":"#VALUE!"},{"$f":"VLOOKUP(K3642,references!$A$1:$B$7,2,FALSE)","v":{"$error":"#N/A"}}]
[null,null,null,null,null,null,null,null,null,null,null,null,"no email",{"$error":"#VALUE!"},{"$error":"#VALUE!"},{"$f":"VLOOKUP(K3643,references!$A$1:$B$7,2,FALSE)","v":{"$error":"#N/A"}}]
[null,null,null,null,null,null,null,null,null,null,null,null,"no email",{"$error":"#VALUE!"},{"$error":"#VALUE!"},{"$f":"VLOOKUP(K3644,references!$A$1:$B$7,2,FALSE)","v":{"$error":"#N/A"}}]
[null,null,null,null,null,null,null,null,null,null,null,null,"no email",{"$error":"#VALUE!"},{"$error":"#VALUE!"},{"$f":"VLOOKUP(K3645,references!$A$1:$B$7,2,FALSE)","v":{"$error":"#N/A"}}]
[null,null,null,null,null,null,null,null,null,null,null,null,"no email",{"$error":"#VALUE!"},{"$error":"#VALUE!"},{"$f":"VLOOKUP(K3646,references!$A$1:$B$7,2,FALSE)","v":{"$error":"#N/A"}}]
[null,null,null,null,null,null,null,null,null,null,null,null,"no email",{"$error":"#VALUE!"},{"$error":"#VALUE!"},{"$f":"VLOOKUP(K3647,references!$A$1:$B$7,2,FALSE)","v":{"$error":"#N/A"}}]
[null,null,null,null,null,null,null,null,null,null,null,null,"no email",{"$error":"#VALUE!"},{"$error":"#VALUE!"},{"$f":"VLOOKUP(K3648,references!$A$1:$B$7,2,FALSE)","v":{"$error":"#N/A"}}]
[null,null,null,null,null,null,null,null,null,null,null,null,"no email",{"$error":"#VALUE!"},{"$error":"#VALUE!"},{"$f":"VLOOKUP(K3649,references!$A$1:$B$7,2,FALSE)","v":{"$error":"#N/A"}}]
[null,null,null,null,null,null,null,null,null,null,null,null,{"$f":"IF(L3650=\"\", \"no email\",LOWER(L3650))","v":"no email"},{"$f":"LEFT(A3650, SEARCH(\",\",A3650,1)-1)","v":{"$error":"#VALUE!"}},{"$f":"RIGHT(A3650, LEN(A3650) -SEARCH(\",\",A3650,1)-1)","v":{"$error":"#VALUE!"}},{"$f":"VLOOKUP(K3650,references!$A$1:$B$7,2,FALSE)","v":{"$error":"#N/A"}}]
[null,null,null,null,null,null,null,null,null,null,null,null,"no email",{"$error":"#VALUE!"},{"$error":"#VALUE!"},{"$f":"VLOOKUP(K3651,references!$A$1:$B$7,2,FALSE)","v":{"$error":"#N/A"}}]
[null,null,null,null,null,null,null,null,null,null,null,null,"no email",{"$error":"#VALUE!"},{"$error":"#VALUE!"},{"$f":"VLOOKUP(K3652,references!$A$1:$B$7,2,FALSE)","v":{"$error":"#N/A"}}]
[null,null,null,null,null,null,null,null,null,null,null,null,"no email",{"$error":"#VALUE!"},{"$error":"#VALUE!"},{"$f":"VLOOKUP(K3653,references!$A$1:$B$7,2,FALSE)","v":{"$error":"#N/A"}}]
[null,null,null,null,null,null,null,null,null,null,null,null,"no email",{"$error":"#VALUE!"},{"$error":"#VALUE!"},{"$f":"VLOOKUP(K3654,references!$A$1:$B$7,2,FALSE)","v":{"$error":"#N/A"}}]
[null,null,null,null,null,null,null,null,null,null,null,null,"no email",{"$error":"#VALUE!"},{"$error":"#VALUE!"},{"$f":"VLOOKUP(K3655,references!$A$1:$B$7,2,FALSE)","v":{"$error":"#N/A"}}]
[null,null,null,null,null,null,null,null,null,null,null,null,"no email",{"$error":"#VALUE!"},{"$error":"#VALUE!"},{"$f":"VLOOKUP(K3656,references!$A$1:$B$7,2,FALSE)","v":{"$error":"#N/A"}}]
[null,null,null,null,null,null,null,null,null,null,null,null,"no email",{"$error":"#VALUE!"},{"$error":"#VALUE!"},{"$f":"VLOOKUP(K3657,references!$A$1:$B$7,2,FALSE)","v":{"$error":"#N/A"}}]
[null,null,null,null,null,null,null,null,null,null,null,null,"no email",{"$error":"#VALUE!"},{"$error":"#VALUE!"},{"$f":"VLOOKUP(K3658,references!$A$1:$B$7,2,FALSE)","v":{"$error":"#N/A"}}]
[null,null,null,null,null,null,null,null,null,null,null,null,"no email",{"$error":"#VALUE!"},{"$error":"#VALUE!"},{"$f":"VLOOKUP(K3659,references!$A$1:$B$7,2,FALSE)","v":{"$error":"#N/A"}}]
[null,null,null,null,null,null,null,null,null,null,null,null,"no email",{"$error":"#VALUE!"},{"$error":"#VALUE!"},{"$f":"VLOOKUP(K3660,references!$A$1:$B$7,2,FALSE)","v":{"$error":"#N/A"}}]
[null,null,null,null,null,null,null,null,null,null,null,null,"no email",{"$error":"#VALUE!"},{"$error":"#VALUE!"},{"$f":"VLOOKUP(K3661,references!$A$1:$B$7,2,FALSE)","v":{"$error":"#N/A"}}]
[null,null,null,null,null,null,null,null,null,null,null,null,"no email",{"$error":"#VALUE!"},{"$error":"#VALUE!"},{"$f":"VLOOKUP(K3662,references!$A$1:$B$7,2,FALSE)","v":{"$error":"#N/A"}}]
[null,null,null,null,null,null,null,null,null,null,null,null,"no email",{"$error":"#VALUE!"},{"$error":"#VALUE!"},{"$f":"VLOOKUP(K3663,references!$A$1:$B$7,2,FALSE)","v":{"$error":"#N/A"}}]
[null,null,null,null,null,null,null,null,null,null,null,null,"no email",{"$error":"#VALUE!"},{"$error":"#VALUE!"},{"$f":"VLOOKUP(K3664,references!$A$1:$B$7,2,FALSE)","v":{"$error":"#N/A"}}]
[null,null,null,null,null,null,null,null,null,null,null,null,"no email",{"$error":"#VALUE!"},{"$error":"#VALUE!"},{"$f":"VLOOKUP(K3665,references!$A$1:$B$7,2,FALSE)","v":{"$error":"#N/A"}}]
[null,null,null,null,null,null,null,null,null,null,null,null,"no email",{"$error":"#VALUE!"},{"$error":"#VALUE!"},{"$f":"VLOOKUP(K3666,references!$A$1:$B$7,2,FALSE)","v":{"$error":"#N/A"}}]
[null,null,null,null,null,null,null,null,null,null,null,null,"no email",{"$error":"#VALUE!"},{"$error":"#VALUE!"},{"$f":"VLOOKUP(K3667,references!$A$1:$B$7,2,FALSE)","v":{"$error":"#N/A"}}]
[null,null,null,null,null,null,null,null,null,null,null,null,"no email",{"$error":"#VALUE!"},{"$error":"#VALUE!"},{"$f":"VLOOKUP(K3668,references!$A$1:$B$7,2,FALSE)","v":{"$error":"#N/A"}}]
[null,null,null,null,null,null,null,null,null,null,null,null,"no email",{"$error":"#VALUE!"},{"$error":"#VALUE!"},{"$f":"VLOOKUP(K3669,references!$A$1:$B$7,2,FALSE)","v":{"$error":"#N/A"}}]
[null,null,null,null,null,null,null,null,null,null,null,null,"no email",{"$error":"#VALUE!"},{"$error":"#VALUE!"},{"$f":"VLOOKUP(K3670,references!$A$1:$B$7,2,FALSE)","v":{"$error":"#N/A"}}]
[null,null,null,null,null,null,null,null,null,null,null,null,"no email",{"$error":"#VALUE!"},{"$error":"#VALUE!"},{"$f":"VLOOKUP(K3671,references!$A$1:$B$7,2,FALSE)","v":{"$error":"#N/A"}}]
[null,null,null,null,null,null,null,null,null,null,null,null,"no email",{"$error":"#VALUE!"},{"$error":"#VALUE!"},{"$f":"VLOOKUP(K3672,references!$A$1:$B$7,2,FALSE)","v":{"$error":"#N/A"}}]
[null,null,null,null,null,null,null,null,null,null,null,null,"no email",{"$error":"#VALUE!"},{"$error":"#VALUE!"},{"$f":"VLOOKUP(K3673,references!$A$1:$B$7,2,FALSE)","v":{"$error":"#N/A"}}]
[null,null,null,null,null,null,null,null,null,null,null,null,"no email",{"$error":"#VALUE!"},{"$error":"#VALUE!"},{"$f":"VLOOKUP(K3674,references!$A$1:$B$7,2,FALSE)","v":{"$error":"#N/A"}}]
[null,null,null,null,null,null,null,null,null,null,null,null,"no email",{"$error":"#VALUE!"},{"$error":"#VALUE!"},{"$f":"VLOOKUP(K3675,references!$A$1:$B$7,2,FALSE)","v":{"$error":"#N/A"}}]
[null,null,null,null,null,null,null,null,null,null,null,null,"no email",{"$error":"#VALUE!"},{"$error":"#VALUE!"},{"$f":"VLOOKUP(K3676,references!$A$1:$B$7,2,FALSE)","v":{"$error":"#N/A"}}]
[null,null,null,null,null,null,null,null,null,null,null,null,"no email",{"$error":"#VALUE!"},{"$error":"#VALUE!"},{"$f":"VLOOKUP(K3677,references!$A$1:$B$7,2,FALSE)","v":{"$error":"#N/A"}}]
[null,null,null,null,null,null,null,null,null,null,null,null,"no email",{"$error":"#VALUE!"},{"$error":"#VALUE!"},{"$f":"VLOOKUP(K3678,references!$A$1:$B$7,2,FALSE)","v":{"$error":"#N/A"}}]
[null,null,null,null,null,null,null,null,null,null,null,null,"no email",{"$error":"#VALUE!"},{"$error":"#VALUE!"},{"$f":"VLOOKUP(K3679,references!$A$1:$B$7,2,FALSE)","v":{"$error":"#N/A"}}]
[null,null,null,null,null,null,null,null,null,null,null,null,"no email",{"$error":"#VALUE!"},{"$error":"#VALUE!"},{"$f":"VLOOKUP(K3680,references!$A$1:$B$7,2,FALSE)","v":{"$error":"#N/A"}}]
[null,null,null,null,null,null,null,null,null,null,null,null,"no email",{"$error":"#VALUE!"},{"$error":"#VALUE!"},{"$f":"VLOOKUP(K3681,references!$A$1:$B$7,2,FALSE)","v":{"$error":"#N/A"}}]
[null,null,null,null,null,null,null,null,null,null,null,null,"no email",{"$error":"#VALUE!"},{"$error":"#VALUE!"},{"$f":"VLOOKUP(K3682,references!$A$1:$B$7,2,FALSE)","v":{"$error":"#N/A"}}]
[null,null,null,null,null,null,null,null,null,null,null,null,"no email",{"$error":"#VALUE!"},{"$error":"#VALUE!"},{"$f":"VLOOKUP(K3683,references!$A$1:$B$7,2,FALSE)","v":{"$error":"#N/A"}}]
[null,null,null,null,null,null,null,null,null,null,null,null,"no email",{"$error":"#VALUE!"},{"$error":"#VALUE!"},{"$f":"VLOOKUP(K3684,references!$A$1:$B$7,2,FALSE)","v":{"$error":"#N/A"}}]
[null,null,null,null,null,null,null,null,null,null,null,null,"no email",{"$error":"#VALUE!"},{"$error":"#VALUE!"},{"$f":"VLOOKUP(K3685,references!$A$1:$B$7,2,FALSE)","v":{"$error":"#N/A"}}]
[null,null,null,null,null,null,null,null,null,null,null,null,"no email",{"$error":"#VALUE!"},{"$error":"#VALUE!"},{"$f":"VLOOKUP(K3686,references!$A$1:$B$7,2,FALSE)","v":{"$error":"#N/A"}}]
[null,null,null,null,null,null,null,null,null,null,null,null,"no email",{"$error":"#VALUE!"},{"$error":"#VALUE!"},{"$f":"VLOOKUP(K3687,references!$A$1:$B$7,2,FALSE)","v":{"$error":"#N/A"}}]
[null,null,null,null,null,null,null,null,null,null,null,null,"no email",{"$error":"#VALUE!"},{"$error":"#VALUE!"},{"$f":"VLOOKUP(K3688,references!$A$1:$B$7,2,FALSE)","v":{"$error":"#N/A"}}]
[null,null,null,null,null,null,null,null,null,null,null,null,"no email",{"$error":"#VALUE!"},{"$error":"#VALUE!"},{"$f":"VLOOKUP(K3689,references!$A$1:$B$7,2,FALSE)","v":{"$error":"#N/A"}}]
[null,null,null,null,null,null,null,null,null,null,null,null,"no email",{"$error":"#VALUE!"},{"$error":"#VALUE!"},{"$f":"VLOOKUP(K3690,references!$A$1:$B$7,2,FALSE)","v":{"$error":"#N/A"}}]
[null,null,null,null,null,null,null,null,null,null,null,null,"no email",{"$error":"#VALUE!"},{"$error":"#VALUE!"},{"$f":"VLOOKUP(K3691,references!$A$1:$B$7,2,FALSE)","v":{"$error":"#N/A"}}]
[null,null,null,null,null,null,null,null,null,null,null,null,"no email",{"$error":"#VALUE!"},{"$error":"#VALUE!"},{"$f":"VLOOKUP(K3692,references!$A$1:$B$7,2,FALSE)","v":{"$error":"#N/A"}}]
[null,null,null,null,null,null,null,null,null,null,null,null,"no email",{"$error":"#VALUE!"},{"$error":"#VALUE!"},{"$f":"VLOOKUP(K3693,references!$A$1:$B$7,2,FALSE)","v":{"$error":"#N/A"}}]
[null,null,null,null,null,null,null,null,null,null,null,null,"no email",{"$error":"#VALUE!"},{"$error":"#VALUE!"},{"$f":"VLOOKUP(K3694,references!$A$1:$B$7,2,FALSE)","v":{"$error":"#N/A"}}]
[null,null,null,null,null,null,null,null,null,null,null,null,"no email",{"$error":"#VALUE!"},{"$error":"#VALUE!"},{"$f":"VLOOKUP(K3695,references!$A$1:$B$7,2,FALSE)","v":{"$error":"#N/A"}}]
[null,null,null,null,null,null,null,null,null,null,null,null,"no email",{"$error":"#VALUE!"},{"$error":"#VALUE!"},{"$f":"VLOOKUP(K3696,references!$A$1:$B$7,2,FALSE)","v":{"$error":"#N/A"}}]
[null,null,null,null,null,null,null,null,null,null,null,null,"no email",{"$error":"#VALUE!"},{"$error":"#VALUE!"},{"$f":"VLOOKUP(K3697,references!$A$1:$B$7,2,FALSE)","v":{"$error":"#N/A"}}]
[null,null,null,null,null,null,null,null,null,null,null,null,"no email",{"$error":"#VALUE!"},{"$error":"#VALUE!"},{"$f":"VLOOKUP(K3698,references!$A$1:$B$7,2,FALSE)","v":{"$error":"#N/A"}}]
[null,null,null,null,null,null,null,null,null,null,null,null,"no email",{"$error":"#VALUE!"},{"$error":"#VALUE!"},{"$f":"VLOOKUP(K3699,references!$A$1:$B$7,2,FALSE)","v":{"$error":"#N/A"}}]
[null,null,null,null,null,null,null,null,null,null,null,null,"no email",{"$error":"#VALUE!"},{"$error":"#VALUE!"},{"$f":"VLOOKUP(K3700,references!$A$1:$B$7,2,FALSE)","v":{"$error":"#N/A"}}]
[null,null,null,null,null,null,null,null,null,null,null,null,"no email",{"$error":"#VALUE!"},{"$error":"#VALUE!"},{"$f":"VLOOKUP(K3701,references!$A$1:$B$7,2,FALSE)","v":{"$error":"#N/A"}}]
[null,null,null,null,null,null,null,null,null,null,null,null,"no email",{"$error":"#VALUE!"},{"$error":"#VALUE!"},{"$f":"VLOOKUP(K3702,references!$A$1:$B$7,2,FALSE)","v":{"$error":"#N/A"}}]
[null,null,null,null,null,null,null,null,null,null,null,null,"no email",{"$error":"#VALUE!"},{"$error":"#VALUE!"},{"$f":"VLOOKUP(K3703,references!$A$1:$B$7,2,FALSE)","v":{"$error":"#N/A"}}]
[null,null,null,null,null,null,null,null,null,null,null,null,"no email",{"$error":"#VALUE!"},{"$error":"#VALUE!"},{"$f":"VLOOKUP(K3704,references!$A$1:$B$7,2,FALSE)","v":{"$error":"#N/A"}}]
[null,null,null,null,null,null,null,null,null,null,null,null,"no email",{"$error":"#VALUE!"},{"$error":"#VALUE!"},{"$f":"VLOOKUP(K3705,references!$A$1:$B$7,2,FALSE)","v":{"$error":"#N/A"}}]
[null,null,null,null,null,null,null,null,null,null,null,null,"no email",{"$error":"#VALUE!"},{"$error":"#VALUE!"},{"$f":"VLOOKUP(K3706,references!$A$1:$B$7,2,FALSE)","v":{"$error":"#N/A"}}]
[null,null,null,null,null,null,null,null,null,null,null,null,"no email",{"$error":"#VALUE!"},{"$error":"#VALUE!"},{"$f":"VLOOKUP(K3707,references!$A$1:$B$7,2,FALSE)","v":{"$error":"#N/A"}}]
[null,null,null,null,null,null,null,null,null,null,null,null,"no email",{"$error":"#VALUE!"},{"$error":"#VALUE!"},{"$f":"VLOOKUP(K3708,references!$A$1:$B$7,2,FALSE)","v":{"$error":"#N/A"}}]
[null,null,null,null,null,null,null,null,null,null,null,null,"no email",{"$error":"#VALUE!"},{"$error":"#VALUE!"},{"$f":"VLOOKUP(K3709,references!$A$1:$B$7,2,FALSE)","v":{"$error":"#N/A"}}]
[null,null,null,null,null,null,null,null,null,null,null,null,"no email",{"$error":"#VALUE!"},{"$error":"#VALUE!"},{"$f":"VLOOKUP(K3710,references!$A$1:$B$7,2,FALSE)","v":{"$error":"#N/A"}}]
[null,null,null,null,null,null,null,null,null,null,null,null,"no email",{"$error":"#VALUE!"},{"$error":"#VALUE!"},{"$f":"VLOOKUP(K3711,references!$A$1:$B$7,2,FALSE)","v":{"$error":"#N/A"}}]
[null,null,null,null,null,null,null,null,null,null,null,null,"no email",{"$error":"#VALUE!"},{"$error":"#VALUE!"},{"$f":"VLOOKUP(K3712,references!$A$1:$B$7,2,FALSE)","v":{"$error":"#N/A"}}]
[null,null,null,null,null,null,null,null,null,null,null,null,"no email",{"$error":"#VALUE!"},{"$error":"#VALUE!"},{"$f":"VLOOKUP(K3713,references!$A$1:$B$7,2,FALSE)","v":{"$error":"#N/A"}}]
[null,null,null,null,null,null,null,null,null,null,null,null,{"$f":"IF(L3714=\"\", \"no email\",LOWER(L3714))","v":"no email"},{"$f":"LEFT(A3714, SEARCH(\",\",A3714,1)-1)","v":{"$error":"#VALUE!"}},{"$f":"RIGHT(A3714, LEN(A3714) -SEARCH(\",\",A3714,1)-1)","v":{"$error":"#VALUE!"}},{"$f":"VLOOKUP(K3714,references!$A$1:$B$7,2,FALSE)","v":{"$error":"#N/A"}}]
[null,null,null,null,null,null,null,null,null,null,null,null,"no email",{"$error":"#VALUE!"},{"$error":"#VALUE!"},{"$f":"VLOOKUP(K3715,references!$A$1:$B$7,2,FALSE)","v":{"$error":"#N/A"}}]
[null,null,null,null,null,null,null,null,null,null,null,null,"no email",{"$error":"#VALUE!"},{"$error":"#VALUE!"},{"$f":"VLOOKUP(K3716,references!$A$1:$B$7,2,FALSE)","v":{"$error":"#N/A"}}]
[null,null,null,null,null,null,null,null,null,null,null,null,"no email",{"$error":"#VALUE!"},{"$error":"#VALUE!"},{"$f":"VLOOKUP(K3717,references!$A$1:$B$7,2,FALSE)","v":{"$error":"#N/A"}}]
[null,null,null,null,null,null,null,null,null,null,null,null,"no email",{"$error":"#VALUE!"},{"$error":"#VALUE!"},{"$f":"VLOOKUP(K3718,references!$A$1:$B$7,2,FALSE)","v":{"$error":"#N/A"}}]
[null,null,null,null,null,null,null,null,null,null,null,null,"no email",{"$error":"#VALUE!"},{"$error":"#VALUE!"},{"$f":"VLOOKUP(K3719,references!$A$1:$B$7,2,FALSE)","v":{"$error":"#N/A"}}]
[null,null,null,null,null,null,null,null,null,null,null,null,"no email",{"$error":"#VALUE!"},{"$error":"#VALUE!"},{"$f":"VLOOKUP(K3720,references!$A$1:$B$7,2,FALSE)","v":{"$error":"#N/A"}}]
[null,null,null,null,null,null,null,null,null,null,null,null,"no email",{"$error":"#VALUE!"},{"$error":"#VALUE!"},{"$f":"VLOOKUP(K3721,references!$A$1:$B$7,2,FALSE)","v":{"$error":"#N/A"}}]
[null,null,null,null,null,null,null,null,null,null,null,null,"no email",{"$error":"#VALUE!"},{"$error":"#VALUE!"},{"$f":"VLOOKUP(K3722,references!$A$1:$B$7,2,FALSE)","v":{"$error":"#N/A"}}]
[null,null,null,null,null,null,null,null,null,null,null,null,"no email",{"$error":"#VALUE!"},{"$error":"#VALUE!"},{"$f":"VLOOKUP(K3723,references!$A$1:$B$7,2,FALSE)","v":{"$error":"#N/A"}}]
[null,null,null,null,null,null,null,null,null,null,null,null,"no email",{"$error":"#VALUE!"},{"$error":"#VALUE!"},{"$f":"VLOOKUP(K3724,references!$A$1:$B$7,2,FALSE)","v":{"$error":"#N/A"}}]
[null,null,null,null,null,null,null,null,null,null,null,null,"no email",{"$error":"#VALUE!"},{"$error":"#VALUE!"},{"$f":"VLOOKUP(K3725,references!$A$1:$B$7,2,FALSE)","v":{"$error":"#N/A"}}]
[null,null,null,null,null,null,null,null,null,null,null,null,"no email",{"$error":"#VALUE!"},{"$error":"#VALUE!"},{"$f":"VLOOKUP(K3726,references!$A$1:$B$7,2,FALSE)","v":{"$error":"#N/A"}}]
[null,null,null,null,null,null,null,null,null,null,null,null,"no email",{"$error":"#VALUE!"},{"$error":"#VALUE!"},{"$f":"VLOOKUP(K3727,references!$A$1:$B$7,2,FALSE)","v":{"$error":"#N/A"}}]
[null,null,null,null,null,null,null,null,null,null,null,null,"no email",{"$error":"#VALUE!"},{"$error":"#VALUE!"},{"$f":"VLOOKUP(K3728,references!$A$1:$B$7,2,FALSE)","v":{"$error":"#N/A"}}]
[null,null,null,null,null,null,null,null,null,null,null,null,"no email",{"$error":"#VALUE!"},{"$error":"#VALUE!"},{"$f":"VLOOKUP(K3729,references!$A$1:$B$7,2,FALSE)","v":{"$error":"#N/A"}}]
[null,null,null,null,null,null,null,null,null,null,null,null,"no email",{"$error":"#VALUE!"},{"$error":"#VALUE!"},{"$f":"VLOOKUP(K3730,references!$A$1:$B$7,2,FALSE)","v":{"$error":"#N/A"}}]
[null,null,null,null,null,null,null,null,null,null,null,null,"no email",{"$error":"#VALUE!"},{"$error":"#VALUE!"},{"$f":"VLOOKUP(K3731,references!$A$1:$B$7,2,FALSE)","v":{"$error":"#N/A"}}]
[null,null,null,null,null,null,null,null,null,null,null,null,"no email",{"$error":"#VALUE!"},{"$error":"#VALUE!"},{"$f":"VLOOKUP(K3732,references!$A$1:$B$7,2,FALSE)","v":{"$error":"#N/A"}}]
[null,null,null,null,null,null,null,null,null,null,null,null,"no email",{"$error":"#VALUE!"},{"$error":"#VALUE!"},{"$f":"VLOOKUP(K3733,references!$A$1:$B$7,2,FALSE)","v":{"$error":"#N/A"}}]
[null,null,null,null,null,null,null,null,null,null,null,null,"no email",{"$error":"#VALUE!"},{"$error":"#VALUE!"},{"$f":"VLOOKUP(K3734,references!$A$1:$B$7,2,FALSE)","v":{"$error":"#N/A"}}]
[null,null,null,null,null,null,null,null,null,null,null,null,"no email",{"$error":"#VALUE!"},{"$error":"#VALUE!"},{"$f":"VLOOKUP(K3735,references!$A$1:$B$7,2,FALSE)","v":{"$error":"#N/A"}}]
[null,null,null,null,null,null,null,null,null,null,null,null,"no email",{"$error":"#VALUE!"},{"$error":"#VALUE!"},{"$f":"VLOOKUP(K3736,references!$A$1:$B$7,2,FALSE)","v":{"$error":"#N/A"}}]
[null,null,null,null,null,null,null,null,null,null,null,null,"no email",{"$error":"#VALUE!"},{"$error":"#VALUE!"},{"$f":"VLOOKUP(K3737,references!$A$1:$B$7,2,FALSE)","v":{"$error":"#N/A"}}]
[null,null,null,null,null,null,null,null,null,null,null,null,"no email",{"$error":"#VALUE!"},{"$error":"#VALUE!"},{"$f":"VLOOKUP(K3738,references!$A$1:$B$7,2,FALSE)","v":{"$error":"#N/A"}}]
[null,null,null,null,null,null,null,null,null,null,null,null,"no email",{"$error":"#VALUE!"},{"$error":"#VALUE!"},{"$f":"VLOOKUP(K3739,references!$A$1:$B$7,2,FALSE)","v":{"$error":"#N/A"}}]
[null,null,null,null,null,null,null,null,null,null,null,null,"no email",{"$error":"#VALUE!"},{"$error":"#VALUE!"},{"$f":"VLOOKUP(K3740,references!$A$1:$B$7,2,FALSE)","v":{"$error":"#N/A"}}]
[null,null,null,null,null,null,null,null,null,null,null,null,"no email",{"$error":"#VALUE!"},{"$error":"#VALUE!"},{"$f":"VLOOKUP(K3741,references!$A$1:$B$7,2,FALSE)","v":{"$error":"#N/A"}}]
[null,null,null,null,null,null,null,null,null,null,null,null,"no email",{"$error":"#VALUE!"},{"$error":"#VALUE!"},{"$f":"VLOOKUP(K3742,references!$A$1:$B$7,2,FALSE)","v":{"$error":"#N/A"}}]
[null,null,null,null,null,null,null,null,null,null,null,null,"no email",{"$error":"#VALUE!"},{"$error":"#VALUE!"},{"$f":"VLOOKUP(K3743,references!$A$1:$B$7,2,FALSE)","v":{"$error":"#N/A"}}]
[null,null,null,null,null,null,null,null,null,null,null,null,"no email",{"$error":"#VALUE!"},{"$error":"#VALUE!"},{"$f":"VLOOKUP(K3744,references!$A$1:$B$7,2,FALSE)","v":{"$error":"#N/A"}}]
[null,null,null,null,null,null,null,null,null,null,null,null,"no email",{"$error":"#VALUE!"},{"$error":"#VALUE!"},{"$f":"VLOOKUP(K3745,references!$A$1:$B$7,2,FALSE)","v":{"$error":"#N/A"}}]
[null,null,null,null,null,null,null,null,null,null,null,null,"no email",{"$error":"#VALUE!"},{"$error":"#VALUE!"},{"$f":"VLOOKUP(K3746,references!$A$1:$B$7,2,FALSE)","v":{"$error":"#N/A"}}]
[null,null,null,null,null,null,null,null,null,null,null,null,"no email",{"$error":"#VALUE!"},{"$error":"#VALUE!"},{"$f":"VLOOKUP(K3747,references!$A$1:$B$7,2,FALSE)","v":{"$error":"#N/A"}}]
[null,null,null,null,null,null,null,null,null,null,null,null,"no email",{"$error":"#VALUE!"},{"$error":"#VALUE!"},{"$f":"VLOOKUP(K3748,references!$A$1:$B$7,2,FALSE)","v":{"$error":"#N/A"}}]
[null,null,null,null,null,null,null,null,null,null,null,null,"no email",{"$error":"#VALUE!"},{"$error":"#VALUE!"},{"$f":"VLOOKUP(K3749,references!$A$1:$B$7,2,FALSE)","v":{"$error":"#N/A"}}]
[null,null,null,null,null,null,null,null,null,null,null,null,"no email",{"$error":"#VALUE!"},{"$error":"#VALUE!"},{"$f":"VLOOKUP(K3750,references!$A$1:$B$7,2,FALSE)","v":{"$error":"#N/A"}}]
[null,null,null,null,null,null,null,null,null,null,null,null,"no email",{"$error":"#VALUE!"},{"$error":"#VALUE!"},{"$f":"VLOOKUP(K3751,references!$A$1:$B$7,2,FALSE)","v":{"$error":"#N/A"}}]
[null,null,null,null,null,null,null,null,null,null,null,null,"no email",{"$error":"#VALUE!"},{"$error":"#VALUE!"},{"$f":"VLOOKUP(K3752,references!$A$1:$B$7,2,FALSE)","v":{"$error":"#N/A"}}]
[null,null,null,null,null,null,null,null,null,null,null,null,"no email",{"$error":"#VALUE!"},{"$error":"#VALUE!"},{"$f":"VLOOKUP(K3753,references!$A$1:$B$7,2,FALSE)","v":{"$error":"#N/A"}}]
[null,null,null,null,null,null,null,null,null,null,null,null,"no email",{"$error":"#VALUE!"},{"$error":"#VALUE!"},{"$f":"VLOOKUP(K3754,references!$A$1:$B$7,2,FALSE)","v":{"$error":"#N/A"}}]
[null,null,null,null,null,null,null,null,null,null,null,null,"no email",{"$error":"#VALUE!"},{"$error":"#VALUE!"},{"$f":"VLOOKUP(K3755,references!$A$1:$B$7,2,FALSE)","v":{"$error":"#N/A"}}]
[null,null,null,null,null,null,null,null,null,null,null,null,"no email",{"$error":"#VALUE!"},{"$error":"#VALUE!"},{"$f":"VLOOKUP(K3756,references!$A$1:$B$7,2,FALSE)","v":{"$error":"#N/A"}}]
[null,null,null,null,null,null,null,null,null,null,null,null,"no email",{"$error":"#VALUE!"},{"$error":"#VALUE!"},{"$f":"VLOOKUP(K3757,references!$A$1:$B$7,2,FALSE)","v":{"$error":"#N/A"}}]
[null,null,null,null,null,null,null,null,null,null,null,null,"no email",{"$error":"#VALUE!"},{"$error":"#VALUE!"},{"$f":"VLOOKUP(K3758,references!$A$1:$B$7,2,FALSE)","v":{"$error":"#N/A"}}]
[null,null,null,null,null,null,null,null,null,null,null,null,"no email",{"$error":"#VALUE!"},{"$error":"#VALUE!"},{"$f":"VLOOKUP(K3759,references!$A$1:$B$7,2,FALSE)","v":{"$error":"#N/A"}}]
[null,null,null,null,null,null,null,null,null,null,null,null,"no email",{"$error":"#VALUE!"},{"$error":"#VALUE!"},{"$f":"VLOOKUP(K3760,references!$A$1:$B$7,2,FALSE)","v":{"$error":"#N/A"}}]
[null,null,null,null,null,null,null,null,null,null,null,null,"no email",{"$error":"#VALUE!"},{"$error":"#VALUE!"},{"$f":"VLOOKUP(K3761,references!$A$1:$B$7,2,FALSE)","v":{"$error":"#N/A"}}]
[null,null,null,null,null,null,null,null,null,null,null,null,"no email",{"$error":"#VALUE!"},{"$error":"#VALUE!"},{"$f":"VLOOKUP(K3762,references!$A$1:$B$7,2,FALSE)","v":{"$error":"#N/A"}}]
[null,null,null,null,null,null,null,null,null,null,null,null,"no email",{"$error":"#VALUE!"},{"$error":"#VALUE!"},{"$f":"VLOOKUP(K3763,references!$A$1:$B$7,2,FALSE)","v":{"$error":"#N/A"}}]
[null,null,null,null,null,null,null,null,null,null,null,null,"no email",{"$error":"#VALUE!"},{"$error":"#VALUE!"},{"$f":"VLOOKUP(K3764,references!$A$1:$B$7,2,FALSE)","v":{"$error":"#N/A"}}]
[null,null,null,null,null,null,null,null,null,null,null,null,"no email",{"$error":"#VALUE!"},{"$error":"#VALUE!"},{"$f":"VLOOKUP(K3765,references!$A$1:$B$7,2,FALSE)","v":{"$error":"#N/A"}}]
[null,null,null,null,null,null,null,null,null,null,null,null,"no email",{"$error":"#VALUE!"},{"$error":"#VALUE!"},{"$f":"VLOOKUP(K3766,references!$A$1:$B$7,2,FALSE)","v":{"$error":"#N/A"}}]
[null,null,null,null,null,null,null,null,null,null,null,null,"no email",{"$error":"#VALUE!"},{"$error":"#VALUE!"},{"$f":"VLOOKUP(K3767,references!$A$1:$B$7,2,FALSE)","v":{"$error":"#N/A"}}]
[null,null,null,null,null,null,null,null,null,null,null,null,"no email",{"$error":"#VALUE!"},{"$error":"#VALUE!"},{"$f":"VLOOKUP(K3768,references!$A$1:$B$7,2,FALSE)","v":{"$error":"#N/A"}}]
[null,null,null,null,null,null,null,null,null,null,null,null,"no email",{"$error":"#VALUE!"},{"$error":"#VALUE!"},{"$f":"VLOOKUP(K3769,references!$A$1:$B$7,2,FALSE)","v":{"$error":"#N/A"}}]
[null,null,null,null,null,null,null,null,null,null,null,null,"no email",{"$error":"#VALUE!"},{"$error":"#VALUE!"},{"$f":"VLOOKUP(K3770,references!$A$1:$B$7,2,FALSE)","v":{"$error":"#N/A"}}]
[null,null,null,null,null,null,null,null,null,null,null,null,"no email",{"$error":"#VALUE!"},{"$error":"#VALUE!"},{"$f":"VLOOKUP(K3771,references!$A$1:$B$7,2,FALSE)","v":{"$error":"#N/A"}}]
[null,null,null,null,null,null,null,null,null,null,null,null,"no email",{"$error":"#VALUE!"},{"$error":"#VALUE!"},{"$f":"VLOOKUP(K3772,references!$A$1:$B$7,2,FALSE)","v":{"$error":"#N/A"}}]
[null,null,null,null,null,null,null,null,null,null,null,null,"no email",{"$error":"#VALUE!"},{"$error":"#VALUE!"},{"$f":"VLOOKUP(K3773,references!$A$1:$B$7,2,FALSE)","v":{"$error":"#N/A"}}]
[null,null,null,null,null,null,null,null,null,null,null,null,"no email",{"$error":"#VALUE!"},{"$error":"#VALUE!"},{"$f":"VLOOKUP(K3774,references!$A$1:$B$7,2,FALSE)","v":{"$error":"#N/A"}}]
[null,null,null,null,null,null,null,null,null,null,null,null,"no email",{"$error":"#VALUE!"},{"$error":"#VALUE!"},{"$f":"VLOOKUP(K3775,references!$A$1:$B$7,2,FALSE)","v":{"$error":"#N/A"}}]
[null,null,null,null,null,null,null,null,null,null,null,null,"no email",{"$error":"#VALUE!"},{"$error":"#VALUE!"},{"$f":"VLOOKUP(K3776,references!$A$1:$B$7,2,FALSE)","v":{"$error":"#N/A"}}]
[null,null,null,null,null,null,null,null,null,null,null,null,"no email",{"$error":"#VALUE!"},{"$error":"#VALUE!"},{"$f":"VLOOKUP(K3777,references!$A$1:$B$7,2,FALSE)","v":{"$error":"#N/A"}}]
[null,null,null,null,null,null,null,null,null,null,null,null,{"$f":"IF(L3778=\"\", \"no email\",LOWER(L3778))","v":"no email"},{"$f":"LEFT(A3778, SEARCH(\",\",A3778,1)-1)","v":{"$error":"#VALUE!"}},{"$f":"RIGHT(A3778, LEN(A3778) -SEARCH(\",\",A3778,1)-1)","v":{"$error":"#VALUE!"}},{"$f":"VLOOKUP(K3778,references!$A$1:$B$7,2,FALSE)","v":{"$error":"#N/A"}}]
[null,null,null,null,null,null,null,null,null,null,null,null,"no email",{"$error":"#VALUE!"},{"$error":"#VALUE!"},{"$f":"VLOOKUP(K3779,references!$A$1:$B$7,2,FALSE)","v":{"$error":"#N/A"}}]
[null,null,null,null,null,null,null,null,null,null,null,null,"no email",{"$error":"#VALUE!"},{"$error":"#VALUE!"},{"$f":"VLOOKUP(K3780,references!$A$1:$B$7,2,FALSE)","v":{"$error":"#N/A"}}]
[null,null,null,null,null,null,null,null,null,null,null,null,"no email",{"$error":"#VALUE!"},{"$error":"#VALUE!"},{"$f":"VLOOKUP(K3781,references!$A$1:$B$7,2,FALSE)","v":{"$error":"#N/A"}}]
[null,null,null,null,null,null,null,null,null,null,null,null,"no email",{"$error":"#VALUE!"},{"$error":"#VALUE!"},{"$f":"VLOOKUP(K3782,references!$A$1:$B$7,2,FALSE)","v":{"$error":"#N/A"}}]
[null,null,null,null,null,null,null,null,null,null,null,null,"no email",{"$error":"#VALUE!"},{"$error":"#VALUE!"},{"$f":"VLOOKUP(K3783,references!$A$1:$B$7,2,FALSE)","v":{"$error":"#N/A"}}]
[null,null,null,null,null,null,null,null,null,null,null,null,"no email",{"$error":"#VALUE!"},{"$error":"#VALUE!"},{"$f":"VLOOKUP(K3784,references!$A$1:$B$7,2,FALSE)","v":{"$error":"#N/A"}}]
[null,null,null,null,null,null,null,null,null,null,null,null,"no email",{"$error":"#VALUE!"},{"$error":"#VALUE!"},{"$f":"VLOOKUP(K3785,references!$A$1:$B$7,2,FALSE)","v":{"$error":"#N/A"}}]
[null,null,null,null,null,null,null,null,null,null,null,null,"no email",{"$error":"#VALUE!"},{"$error":"#VALUE!"},{"$f":"VLOOKUP(K3786,references!$A$1:$B$7,2,FALSE)","v":{"$error":"#N/A"}}]
[null,null,null,null,null,null,null,null,null,null,null,null,"no email",{"$error":"#VALUE!"},{"$error":"#VALUE!"},{"$f":"VLOOKUP(K3787,references!$A$1:$B$7,2,FALSE)","v":{"$error":"#N/A"}}]
[null,null,null,null,null,null,null,null,null,null,null,null,"no email",{"$error":"#VALUE!"},{"$error":"#VALUE!"},{"$f":"VLOOKUP(K3788,references!$A$1:$B$7,2,FALSE)","v":{"$error":"#N/A"}}]
[null,null,null,null,null,null,null,null,null,null,null,null,"no email",{"$error":"#VALUE!"},{"$error":"#VALUE!"},{"$f":"VLOOKUP(K3789,references!$A$1:$B$7,2,FALSE)","v":{"$error":"#N/A"}}]
[null,null,null,null,null,null,null,null,null,null,null,null,"no email",{"$error":"#VALUE!"},{"$error":"#VALUE!"},{"$f":"VLOOKUP(K3790,references!$A$1:$B$7,2,FALSE)","v":{"$error":"#N/A"}}]
[null,null,null,null,null,null,null,null,null,null,null,null,"no email",{"$error":"#VALUE!"},{"$error":"#VALUE!"},{"$f":"VLOOKUP(K3791,references!$A$1:$B$7,2,FALSE)","v":{"$error":"#N/A"}}]
[null,null,null,null,null,null,null,null,null,null,null,null,"no email",{"$error":"#VALUE!"},{"$error":"#VALUE!"},{"$f":"VLOOKUP(K3792,references!$A$1:$B$7,2,FALSE)","v":{"$error":"#N/A"}}]
[null,null,null,null,null,null,null,null,null,null,null,null,"no email",{"$error":"#VALUE!"},{"$error":"#VALUE!"},{"$f":"VLOOKUP(K3793,references!$A$1:$B$7,2,FALSE)","v":{"$error":"#N/A"}}]
[null,null,null,null,null,null,null,null,null,null,null,null,"no email",{"$error":"#VALUE!"},{"$error":"#VALUE!"},{"$f":"VLOOKUP(K3794,references!$A$1:$B$7,2,FALSE)","v":{"$error":"#N/A"}}]
[null,null,null,null,null,null,null,null,null,null,null,null,"no email",{"$error":"#VALUE!"},{"$error":"#VALUE!"},{"$f":"VLOOKUP(K3795,references!$A$1:$B$7,2,FALSE)","v":{"$error":"#N/A"}}]
[null,null,null,null,null,null,null,null,null,null,null,null,"no email",{"$error":"#VALUE!"},{"$error":"#VALUE!"},{"$f":"VLOOKUP(K3796,references!$A$1:$B$7,2,FALSE)","v":{"$error":"#N/A"}}]
[null,null,null,null,null,null,null,null,null,null,null,null,"no email",{"$error":"#VALUE!"},{"$error":"#VALUE!"},{"$f":"VLOOKUP(K3797,references!$A$1:$B$7,2,FALSE)","v":{"$error":"#N/A"}}]
[null,null,null,null,null,null,null,null,null,null,null,null,"no email",{"$error":"#VALUE!"},{"$error":"#VALUE!"},{"$f":"VLOOKUP(K3798,references!$A$1:$B$7,2,FALSE)","v":{"$error":"#N/A"}}]
[null,null,null,null,null,null,null,null,null,null,null,null,"no email",{"$error":"#VALUE!"},{"$error":"#VALUE!"},{"$f":"VLOOKUP(K3799,references!$A$1:$B$7,2,FALSE)","v":{"$error":"#N/A"}}]
[null,null,null,null,null,null,null,null,null,null,null,null,"no email",{"$error":"#VALUE!"},{"$error":"#VALUE!"},{"$f":"VLOOKUP(K3800,references!$A$1:$B$7,2,FALSE)","v":{"$error":"#N/A"}}]
[null,null,null,null,null,null,null,null,null,null,null,null,"no email",{"$error":"#VALUE!"},{"$error":"#VALUE!"},{"$f":"VLOOKUP(K3801,references!$A$1:$B$7,2,FALSE)","v":{"$error":"#N/A"}}]
[null,null,null,null,null,null,null,null,null,null,null,null,"no email",{"$error":"#VALUE!"},{"$error":"#VALUE!"},{"$f":"VLOOKUP(K3802,references!$A$1:$B$7,2,FALSE)","v":{"$error":"#N/A"}}]
[null,null,null,null,null,null,null,null,null,null,null,null,"no email",{"$error":"#VALUE!"},{"$error":"#VALUE!"},{"$f":"VLOOKUP(K3803,references!$A$1:$B$7,2,FALSE)","v":{"$error":"#N/A"}}]
[null,null,null,null,null,null,null,null,null,null,null,null,"no email",{"$error":"#VALUE!"},{"$error":"#VALUE!"},{"$f":"VLOOKUP(K3804,references!$A$1:$B$7,2,FALSE)","v":{"$error":"#N/A"}}]
[null,null,null,null,null,null,null,null,null,null,null,null,"no email",{"$error":"#VALUE!"},{"$error":"#VALUE!"},{"$f":"VLOOKUP(K3805,references!$A$1:$B$7,2,FALSE)","v":{"$error":"#N/A"}}]
[null,null,null,null,null,null,null,null,null,null,null,null,"no email",{"$error":"#VALUE!"},{"$error":"#VALUE!"},{"$f":"VLOOKUP(K3806,references!$A$1:$B$7,2,FALSE)","v":{"$error":"#N/A"}}]
[null,null,null,null,null,null,null,null,null,null,null,null,"no email",{"$error":"#VALUE!"},{"$error":"#VALUE!"},{"$f":"VLOOKUP(K3807,references!$A$1:$B$7,2,FALSE)","v":{"$error":"#N/A"}}]
[null,null,null,null,null,null,null,null,null,null,null,null,"no email",{"$error":"#VALUE!"},{"$error":"#VALUE!"},{"$f":"VLOOKUP(K3808,references!$A$1:$B$7,2,FALSE)","v":{"$error":"#N/A"}}]
[null,null,null,null,null,null,null,null,null,null,null,null,"no email",{"$error":"#VALUE!"},{"$error":"#VALUE!"},{"$f":"VLOOKUP(K3809,references!$A$1:$B$7,2,FALSE)","v":{"$error":"#N/A"}}]
[null,null,null,null,null,null,null,null,null,null,null,null,"no email",{"$error":"#VALUE!"},{"$error":"#VALUE!"},{"$f":"VLOOKUP(K3810,references!$A$1:$B$7,2,FALSE)","v":{"$error":"#N/A"}}]
[null,null,null,null,null,null,null,null,null,null,null,null,"no email",{"$error":"#VALUE!"},{"$error":"#VALUE!"},{"$f":"VLOOKUP(K3811,references!$A$1:$B$7,2,FALSE)","v":{"$error":"#N/A"}}]
[null,null,null,null,null,null,null,null,null,null,null,null,"no email",{"$error":"#VALUE!"},{"$error":"#VALUE!"},{"$f":"VLOOKUP(K3812,references!$A$1:$B$7,2,FALSE)","v":{"$error":"#N/A"}}]
[null,null,null,null,null,null,null,null,null,null,null,null,"no email",{"$error":"#VALUE!"},{"$error":"#VALUE!"},{"$f":"VLOOKUP(K3813,references!$A$1:$B$7,2,FALSE)","v":{"$error":"#N/A"}}]
[null,null,null,null,null,null,null,null,null,null,null,null,"no email",{"$error":"#VALUE!"},{"$error":"#VALUE!"},{"$f":"VLOOKUP(K3814,references!$A$1:$B$7,2,FALSE)","v":{"$error":"#N/A"}}]
[null,null,null,null,null,null,null,null,null,null,null,null,"no email",{"$error":"#VALUE!"},{"$error":"#VALUE!"},{"$f":"VLOOKUP(K3815,references!$A$1:$B$7,2,FALSE)","v":{"$error":"#N/A"}}]
[null,null,null,null,null,null,null,null,null,null,null,null,"no email",{"$error":"#VALUE!"},{"$error":"#VALUE!"},{"$f":"VLOOKUP(K3816,references!$A$1:$B$7,2,FALSE)","v":{"$error":"#N/A"}}]
[null,null,null,null,null,null,null,null,null,null,null,null,"no email",{"$error":"#VALUE!"},{"$error":"#VALUE!"},{"$f":"VLOOKUP(K3817,references!$A$1:$B$7,2,FALSE)","v":{"$error":"#N/A"}}]
[null,null,null,null,null,null,null,null,null,null,null,null,"no email",{"$error":"#VALUE!"},{"$error":"#VALUE!"},{"$f":"VLOOKUP(K3818,references!$A$1:$B$7,2,FALSE)","v":{"$error":"#N/A"}}]
[null,null,null,null,null,null,null,null,null,null,null,null,"no email",{"$error":"#VALUE!"},{"$error":"#VALUE!"},{"$f":"VLOOKUP(K3819,references!$A$1:$B$7,2,FALSE)","v":{"$error":"#N/A"}}]
[null,null,null,null,null,null,null,null,null,null,null,null,"no email",{"$error":"#VALUE!"},{"$error":"#VALUE!"},{"$f":"VLOOKUP(K3820,references!$A$1:$B$7,2,FALSE)","v":{"$error":"#N/A"}}]
[null,null,null,null,null,null,null,null,null,null,null,null,"no email",{"$error":"#VALUE!"},{"$error":"#VALUE!"},{"$f":"VLOOKUP(K3821,references!$A$1:$B$7,2,FALSE)","v":{"$error":"#N/A"}}]
[null,null,null,null,null,null,null,null,null,null,null,null,"no email",{"$error":"#VALUE!"},{"$error":"#VALUE!"},{"$f":"VLOOKUP(K3822,references!$A$1:$B$7,2,FALSE)","v":{"$error":"#N/A"}}]
[null,null,null,null,null,null,null,null,null,null,null,null,"no email",{"$error":"#VALUE!"},{"$error":"#VALUE!"},{"$f":"VLOOKUP(K3823,references!$A$1:$B$7,2,FALSE)","v":{"$error":"#N/A"}}]
[null,null,null,null,null,null,null,null,null,null,null,null,"no email",{"$error":"#VALUE!"},{"$error":"#VALUE!"},{"$f":"VLOOKUP(K3824,references!$A$1:$B$7,2,FALSE)","v":{"$error":"#N/A"}}]
[null,null,null,null,null,null,null,null,null,null,null,null,"no email",{"$error":"#VALUE!"},{"$error":"#VALUE!"},{"$f":"VLOOKUP(K3825,references!$A$1:$B$7,2,FALSE)","v":{"$error":"#N/A"}}]
[null,null,null,null,null,null,null,null,null,null,null,null,"no email",{"$error":"#VALUE!"},{"$error":"#VALUE!"},{"$f":"VLOOKUP(K3826,references!$A$1:$B$7,2,FALSE)","v":{"$error":"#N/A"}}]
[null,null,null,null,null,null,null,null,null,null,null,null,"no email",{"$error":"#VALUE!"},{"$error":"#VALUE!"},{"$f":"VLOOKUP(K3827,references!$A$1:$B$7,2,FALSE)","v":{"$error":"#N/A"}}]
[null,null,null,null,null,null,null,null,null,null,null,null,"no email",{"$error":"#VALUE!"},{"$error":"#VALUE!"},{"$f":"VLOOKUP(K3828,references!$A$1:$B$7,2,FALSE)","v":{"$error":"#N/A"}}]
[null,null,null,null,null,null,null,null,null,null,null,null,"no email",{"$error":"#VALUE!"},{"$error":"#VALUE!"},{"$f":"VLOOKUP(K3829,references!$A$1:$B$7,2,FALSE)","v":{"$error":"#N/A"}}]
[null,null,null,null,null,null,null,null,null,null,null,null,"no email",{"$error":"#VALUE!"},{"$error":"#VALUE!"},{"$f":"VLOOKUP(K3830,references!$A$1:$B$7,2,FALSE)","v":{"$error":"#N/A"}}]
[null,null,null,null,null,null,null,null,null,null,null,null,"no email",{"$error":"#VALUE!"},{"$error":"#VALUE!"},{"$f":"VLOOKUP(K3831,references!$A$1:$B$7,2,FALSE)","v":{"$error":"#N/A"}}]
[null,null,null,null,null,null,null,null,null,null,null,null,"no email",{"$error":"#VALUE!"},{"$error":"#VALUE!"},{"$f":"VLOOKUP(K3832,references!$A$1:$B$7,2,FALSE)","v":{"$error":"#N/A"}}]
[null,null,null,null,null,null,null,null,null,null,null,null,"no email",{"$error":"#VALUE!"},{"$error":"#VALUE!"},{"$f":"VLOOKUP(K3833,references!$A$1:$B$7,2,FALSE)","v":{"$error":"#N/A"}}]
[null,null,null,null,null,null,null,null,null,null,null,null,"no email",{"$error":"#VALUE!"},{"$error":"#VALUE!"},{"$f":"VLOOKUP(K3834,references!$A$1:$B$7,2,FALSE)","v":{"$error":"#N/A"}}]
[null,null,null,null,null,null,null,null,null,null,null,null,"no email",{"$error":"#VALUE!"},{"$error":"#VALUE!"},{"$f":"VLOOKUP(K3835,references!$A$1:$B$7,2,FALSE)","v":{"$error":"#N/A"}}]
[null,null,null,null,null,null,null,null,null,null,null,null,"no email",{"$error":"#VALUE!"},{"$error":"#VALUE!"},{"$f":"VLOOKUP(K3836,references!$A$1:$B$7,2,FALSE)","v":{"$error":"#N/A"}}]
[null,null,null,null,null,null,null,null,null,null,null,null,"no email",{"$error":"#VALUE!"},{"$error":"#VALUE!"},{"$f":"VLOOKUP(K3837,references!$A$1:$B$7,2,FALSE)","v":{"$error":"#N/A"}}]
[null,null,null,null,null,null,null,null,null,null,null,null,"no email",{"$error":"#VALUE!"},{"$error":"#VALUE!"},{"$f":"VLOOKUP(K3838,references!$A$1:$B$7,2,FALSE)","v":{"$error":"#N/A"}}]
[null,null,null,null,null,null,null,null,null,null,null,null,"no email",{"$error":"#VALUE!"},{"$error":"#VALUE!"},{"$f":"VLOOKUP(K3839,references!$A$1:$B$7,2,FALSE)","v":{"$error":"#N/A"}}]
[null,null,null,null,null,null,null,null,null,null,null,null,"no email",{"$error":"#VALUE!"},{"$error":"#VALUE!"},{"$f":"VLOOKUP(K3840,references!$A$1:$B$7,2,FALSE)","v":{"$error":"#N/A"}}]
[null,null,null,null,null,null,null,null,null,null,null,null,"no email",{"$error":"#VALUE!"},{"$error":"#VALUE!"},{"$f":"VLOOKUP(K3841,references!$A$1:$B$7,2,FALSE)","v":{"$error":"#N/A"}}]
[null,null,null,null,null,null,null,null,null,null,null,null,{"$f":"IF(L3842=\"\", \"no email\",LOWER(L3842))","v":"no email"},{"$f":"LEFT(A3842, SEARCH(\",\",A3842,1)-1)","v":{"$error":"#VALUE!"}},{"$f":"RIGHT(A3842, LEN(A3842) -SEARCH(\",\",A3842,1)-1)","v":{"$error":"#VALUE!"}},{"$f":"VLOOKUP(K3842,references!$A$1:$B$7,2,FALSE)","v":{"$error":"#N/A"}}]
[null,null,null,null,null,null,null,null,null,null,null,null,"no email",{"$error":"#VALUE!"},{"$error":"#VALUE!"},{"$f":"VLOOKUP(K3843,references!$A$1:$B$7,2,FALSE)","v":{"$error":"#N/A"}}]
[null,null,null,null,null,null,null,null,null,null,null,null,"no email",{"$error":"#VALUE!"},{"$error":"#VALUE!"},{"$f":"VLOOKUP(K3844,references!$A$1:$B$7,2,FALSE)","v":{"$error":"#N/A"}}]
[null,null,null,null,null,null,null,null,null,null,null,null,"no email",{"$error":"#VALUE!"},{"$error":"#VALUE!"},{"$f":"VLOOKUP(K3845,references!$A$1:$B$7,2,FALSE)","v":{"$error":"#N/A"}}]
[null,null,null,null,null,null,null,null,null,null,null,null,"no email",{"$error":"#VALUE!"},{"$error":"#VALUE!"},{"$f":"VLOOKUP(K3846,references!$A$1:$B$7,2,FALSE)","v":{"$error":"#N/A"}}]
[null,null,null,null,null,null,null,null,null,null,null,null,"no email",{"$error":"#VALUE!"},{"$error":"#VALUE!"},{"$f":"VLOOKUP(K3847,references!$A$1:$B$7,2,FALSE)","v":{"$error":"#N/A"}}]
[null,null,null,null,null,null,null,null,null,null,null,null,"no email",{"$error":"#VALUE!"},{"$error":"#VALUE!"},{"$f":"VLOOKUP(K3848,references!$A$1:$B$7,2,FALSE)","v":{"$error":"#N/A"}}]
[null,null,null,null,null,null,null,null,null,null,null,null,"no email",{"$error":"#VALUE!"},{"$error":"#VALUE!"},{"$f":"VLOOKUP(K3849,references!$A$1:$B$7,2,FALSE)","v":{"$error":"#N/A"}}]
[null,null,null,null,null,null,null,null,null,null,null,null,"no email",{"$error":"#VALUE!"},{"$error":"#VALUE!"},{"$f":"VLOOKUP(K3850,references!$A$1:$B$7,2,FALSE)","v":{"$error":"#N/A"}}]
[null,null,null,null,null,null,null,null,null,null,null,null,"no email",{"$error":"#VALUE!"},{"$error":"#VALUE!"},{"$f":"VLOOKUP(K3851,references!$A$1:$B$7,2,FALSE)","v":{"$error":"#N/A"}}]
[null,null,null,null,null,null,null,null,null,null,null,null,"no email",{"$error":"#VALUE!"},{"$error":"#VALUE!"},{"$f":"VLOOKUP(K3852,references!$A$1:$B$7,2,FALSE)","v":{"$error":"#N/A"}}]
[null,null,null,null,null,null,null,null,null,null,null,null,"no email",{"$error":"#VALUE!"},{"$error":"#VALUE!"},{"$f":"VLOOKUP(K3853,references!$A$1:$B$7,2,FALSE)","v":{"$error":"#N/A"}}]
[null,null,null,null,null,null,null,null,null,null,null,null,"no email",{"$error":"#VALUE!"},{"$error":"#VALUE!"},{"$f":"VLOOKUP(K3854,references!$A$1:$B$7,2,FALSE)","v":{"$error":"#N/A"}}]
[null,null,null,null,null,null,null,null,null,null,null,null,"no email",{"$error":"#VALUE!"},{"$error":"#VALUE!"},{"$f":"VLOOKUP(K3855,references!$A$1:$B$7,2,FALSE)","v":{"$error":"#N/A"}}]
[null,null,null,null,null,null,null,null,null,null,null,null,"no email",{"$error":"#VALUE!"},{"$error":"#VALUE!"},{"$f":"VLOOKUP(K3856,references!$A$1:$B$7,2,FALSE)","v":{"$error":"#N/A"}}]
[null,null,null,null,null,null,null,null,null,null,null,null,"no email",{"$error":"#VALUE!"},{"$error":"#VALUE!"},{"$f":"VLOOKUP(K3857,references!$A$1:$B$7,2,FALSE)","v":{"$error":"#N/A"}}]
[null,null,null,null,null,null,null,null,null,null,null,null,"no email",{"$error":"#VALUE!"},{"$error":"#VALUE!"},{"$f":"VLOOKUP(K3858,references!$A$1:$B$7,2,FALSE)","v":{"$error":"#N/A"}}]
[null,null,null,null,null,null,null,null,null,null,null,null,"no email",{"$error":"#VALUE!"},{"$error":"#VALUE!"},{"$f":"VLOOKUP(K3859,references!$A$1:$B$7,2,FALSE)","v":{"$error":"#N/A"}}]
[null,null,null,null,null,null,null,null,null,null,null,null,"no email",{"$error":"#VALUE!"},{"$error":"#VALUE!"},{"$f":"VLOOKUP(K3860,references!$A$1:$B$7,2,FALSE)","v":{"$error":"#N/A"}}]
[null,null,null,null,null,null,null,null,null,null,null,null,"no email",{"$error":"#VALUE!"},{"$error":"#VALUE!"},{"$f":"VLOOKUP(K3861,references!$A$1:$B$7,2,FALSE)","v":{"$error":"#N/A"}}]
[null,null,null,null,null,null,null,null,null,null,null,null,"no email",{"$error":"#VALUE!"},{"$error":"#VALUE!"},{"$f":"VLOOKUP(K3862,references!$A$1:$B$7,2,FALSE)","v":{"$error":"#N/A"}}]
[null,null,null,null,null,null,null,null,null,null,null,null,"no email",{"$error":"#VALUE!"},{"$error":"#VALUE!"},{"$f":"VLOOKUP(K3863,references!$A$1:$B$7,2,FALSE)","v":{"$error":"#N/A"}}]
[null,null,null,null,null,null,null,null,null,null,null,null,"no email",{"$error":"#VALUE!"},{"$error":"#VALUE!"},{"$f":"VLOOKUP(K3864,references!$A$1:$B$7,2,FALSE)","v":{"$error":"#N/A"}}]
[null,null,null,null,null,null,null,null,null,null,null,null,"no email",{"$error":"#VALUE!"},{"$error":"#VALUE!"},{"$f":"VLOOKUP(K3865,references!$A$1:$B$7,2,FALSE)","v":{"$error":"#N/A"}}]
[null,null,null,null,null,null,null,null,null,null,null,null,"no email",{"$error":"#VALUE!"},{"$error":"#VALUE!"},{"$f":"VLOOKUP(K3866,references!$A$1:$B$7,2,FALSE)","v":{"$error":"#N/A"}}]
[null,null,null,null,null,null,null,null,null,null,null,null,"no email",{"$error":"#VALUE!"},{"$error":"#VALUE!"},{"$f":"VLOOKUP(K3867,references!$A$1:$B$7,2,FALSE)","v":{"$error":"#N/A"}}]
[null,null,null,null,null,null,null,null,null,null,null,null,"no email",{"$error":"#VALUE!"},{"$error":"#VALUE!"},{"$f":"VLOOKUP(K3868,references!$A$1:$B$7,2,FALSE)","v":{"$error":"#N/A"}}]
[null,null,null,null,null,null,null,null,null,null,null,null,"no email",{"$error":"#VALUE!"},{"$error":"#VALUE!"},{"$f":"VLOOKUP(K3869,references!$A$1:$B$7,2,FALSE)","v":{"$error":"#N/A"}}]
[null,null,null,null,null,null,null,null,null,null,null,null,"no email",{"$error":"#VALUE!"},{"$error":"#VALUE!"},{"$f":"VLOOKUP(K3870,references!$A$1:$B$7,2,FALSE)","v":{"$error":"#N/A"}}]
[null,null,null,null,null,null,null,null,null,null,null,null,"no email",{"$error":"#VALUE!"},{"$error":"#VALUE!"},{"$f":"VLOOKUP(K3871,references!$A$1:$B$7,2,FALSE)","v":{"$error":"#N/A"}}]
[null,null,null,null,null,null,null,null,null,null,null,null,"no email",{"$error":"#VALUE!"},{"$error":"#VALUE!"},{"$f":"VLOOKUP(K3872,references!$A$1:$B$7,2,FALSE)","v":{"$error":"#N/A"}}]
[null,null,null,null,null,null,null,null,null,null,null,null,"no email",{"$error":"#VALUE!"},{"$error":"#VALUE!"},{"$f":"VLOOKUP(K3873,references!$A$1:$B$7,2,FALSE)","v":{"$error":"#N/A"}}]
[null,null,null,null,null,null,null,null,null,null,null,null,"no email",{"$error":"#VALUE!"},{"$error":"#VALUE!"},{"$f":"VLOOKUP(K3874,references!$A$1:$B$7,2,FALSE)","v":{"$error":"#N/A"}}]
[null,null,null,null,null,null,null,null,null,null,null,null,"no email",{"$error":"#VALUE!"},{"$error":"#VALUE!"},{"$f":"VLOOKUP(K3875,references!$A$1:$B$7,2,FALSE)","v":{"$error":"#N/A"}}]
[null,null,null,null,null,null,null,null,null,null,null,null,"no email",{"$error":"#VALUE!"},{"$error":"#VALUE!"},{"$f":"VLOOKUP(K3876,references!$A$1:$B$7,2,FALSE)","v":{"$error":"#N/A"}}]
[null,null,null,null,null,null,null,null,null,null,null,null,"no email",{"$error":"#VALUE!"},{"$error":"#VALUE!"},{"$f":"VLOOKUP(K3877,references!$A$1:$B$7,2,FALSE)","v":{"$error":"#N/A"}}]
[null,null,null,null,null,null,null,null,null,null,null,null,"no email",{"$error":"#VALUE!"},{"$error":"#VALUE!"},{"$f":"VLOOKUP(K3878,references!$A$1:$B$7,2,FALSE)","v":{"$error":"#N/A"}}]
[null,null,null,null,null,null,null,null,null,null,null,null,"no email",{"$error":"#VALUE!"},{"$error":"#VALUE!"},{"$f":"VLOOKUP(K3879,references!$A$1:$B$7,2,FALSE)","v":{"$error":"#N/A"}}]
[null,null,null,null,null,null,null,null,null,null,null,null,"no email",{"$error":"#VALUE!"},{"$error":"#VALUE!"},{"$f":"VLOOKUP(K3880,references!$A$1:$B$7,2,FALSE)","v":{"$error":"#N/A"}}]
[null,null,null,null,null,null,null,null,null,null,null,null,"no email",{"$error":"#VALUE!"},{"$error":"#VALUE!"},{"$f":"VLOOKUP(K3881,references!$A$1:$B$7,2,FALSE)","v":{"$error":"#N/A"}}]
[null,null,null,null,null,null,null,null,null,null,null,null,"no email",{"$error":"#VALUE!"},{"$error":"#VALUE!"},{"$f":"VLOOKUP(K3882,references!$A$1:$B$7,2,FALSE)","v":{"$error":"#N/A"}}]
[null,null,null,null,null,null,null,null,null,null,null,null,"no email",{"$error":"#VALUE!"},{"$error":"#VALUE!"},{"$f":"VLOOKUP(K3883,references!$A$1:$B$7,2,FALSE)","v":{"$error":"#N/A"}}]
[null,null,null,null,null,null,null,null,null,null,null,null,"no email",{"$error":"#VALUE!"},{"$error":"#VALUE!"},{"$f":"VLOOKUP(K3884,references!$A$1:$B$7,2,FALSE)","v":{"$error":"#N/A"}}]
[null,null,null,null,null,null,null,null,null,null,null,null,"no email",{"$error":"#VALUE!"},{"$error":"#VALUE!"},{"$f":"VLOOKUP(K3885,references!$A$1:$B$7,2,FALSE)","v":{"$error":"#N/A"}}]
[null,null,null,null,null,null,null,null,null,null,null,null,"no email",{"$error":"#VALUE!"},{"$error":"#VALUE!"},{"$f":"VLOOKUP(K3886,references!$A$1:$B$7,2,FALSE)","v":{"$error":"#N/A"}}]
[null,null,null,null,null,null,null,null,null,null,null,null,"no email",{"$error":"#VALUE!"},{"$error":"#VALUE!"},{"$f":"VLOOKUP(K3887,references!$A$1:$B$7,2,FALSE)","v":{"$error":"#N/A"}}]
[null,null,null,null,null,null,null,null,null,null,null,null,"no email",{"$error":"#VALUE!"},{"$error":"#VALUE!"},{"$f":"VLOOKUP(K3888,references!$A$1:$B$7,2,FALSE)","v":{"$error":"#N/A"}}]
[null,null,null,null,null,null,null,null,null,null,null,null,"no email",{"$error":"#VALUE!"},{"$error":"#VALUE!"},{"$f":"VLOOKUP(K3889,references!$A$1:$B$7,2,FALSE)","v":{"$error":"#N/A"}}]
[null,null,null,null,null,null,null,null,null,null,null,null,"no email",{"$error":"#VALUE!"},{"$error":"#VALUE!"},{"$f":"VLOOKUP(K3890,references!$A$1:$B$7,2,FALSE)","v":{"$error":"#N/A"}}]
[null,null,null,null,null,null,null,null,null,null,null,null,"no email",{"$error":"#VALUE!"},{"$error":"#VALUE!"},{"$f":"VLOOKUP(K3891,references!$A$1:$B$7,2,FALSE)","v":{"$error":"#N/A"}}]
[null,null,null,null,null,null,null,null,null,null,null,null,"no email",{"$error":"#VALUE!"},{"$error":"#VALUE!"},{"$f":"VLOOKUP(K3892,references!$A$1:$B$7,2,FALSE)","v":{"$error":"#N/A"}}]
[null,null,null,null,null,null,null,null,null,null,null,null,"no email",{"$error":"#VALUE!"},{"$error":"#VALUE!"},{"$f":"VLOOKUP(K3893,references!$A$1:$B$7,2,FALSE)","v":{"$error":"#N/A"}}]
[null,null,null,null,null,null,null,null,null,null,null,null,"no email",{"$error":"#VALUE!"},{"$error":"#VALUE!"},{"$f":"VLOOKUP(K3894,references!$A$1:$B$7,2,FALSE)","v":{"$error":"#N/A"}}]
[null,null,null,null,null,null,null,null,null,null,null,null,"no email",{"$error":"#VALUE!"},{"$error":"#VALUE!"},{"$f":"VLOOKUP(K3895,references!$A$1:$B$7,2,FALSE)","v":{"$error":"#N/A"}}]
[null,null,null,null,null,null,null,null,null,null,null,null,"no email",{"$error":"#VALUE!"},{"$error":"#VALUE!"},{"$f":"VLOOKUP(K3896,references!$A$1:$B$7,2,FALSE)","v":{"$error":"#N/A"}}]
[null,null,null,null,null,null,null,null,null,null,null,null,"no email",{"$error":"#VALUE!"},{"$error":"#VALUE!"},{"$f":"VLOOKUP(K3897,references!$A$1:$B$7,2,FALSE)","v":{"$error":"#N/A"}}]
[null,null,null,null,null,null,null,null,null,null,null,null,"no email",{"$error":"#VALUE!"},{"$error":"#VALUE!"},{"$f":"VLOOKUP(K3898,references!$A$1:$B$7,2,FALSE)","v":{"$error":"#N/A"}}]
[null,null,null,null,null,null,null,null,null,null,null,null,"no email",{"$error":"#VALUE!"},{"$error":"#VALUE!"},{"$f":"VLOOKUP(K3899,references!$A$1:$B$7,2,FALSE)","v":{"$error":"#N/A"}}]
[null,null,null,null,null,null,null,null,null,null,null,null,"no email",{"$error":"#VALUE!"},{"$error":"#VALUE!"},{"$f":"VLOOKUP(K3900,references!$A$1:$B$7,2,FALSE)","v":{"$error":"#N/A"}}]
[null,null,null,null,null,null,null,null,null,null,null,null,"no email",{"$error":"#VALUE!"},{"$error":"#VALUE!"},{"$f":"VLOOKUP(K3901,references!$A$1:$B$7,2,FALSE)","v":{"$error":"#N/A"}}]
[null,null,null,null,null,null,null,null,null,null,null,null,"no email",{"$error":"#VALUE!"},{"$error":"#VALUE!"},{"$f":"VLOOKUP(K3902,references!$A$1:$B$7,2,FALSE)","v":{"$error":"#N/A"}}]
[null,null,null,null,null,null,null,null,null,null,null,null,"no email",{"$error":"#VALUE!"},{"$error":"#VALUE!"},{"$f":"VLOOKUP(K3903,references!$A$1:$B$7,2,FALSE)","v":{"$error":"#N/A"}}]
[null,null,null,null,null,null,null,null,null,null,null,null,"no email",{"$error":"#VALUE!"},{"$error":"#VALUE!"},{"$f":"VLOOKUP(K3904,references!$A$1:$B$7,2,FALSE)","v":{"$error":"#N/A"}}]
[null,null,null,null,null,null,null,null,null,null,null,null,"no email",{"$error":"#VALUE!"},{"$error":"#VALUE!"},{"$f":"VLOOKUP(K3905,references!$A$1:$B$7,2,FALSE)","v":{"$error":"#N/A"}}]
[null,null,null,null,null,null,null,null,null,null,null,null,{"$f":"IF(L3906=\"\", \"no email\",LOWER(L3906))","v":"no email"},{"$f":"LEFT(A3906, SEARCH(\",\",A3906,1)-1)","v":{"$error":"#VALUE!"}},{"$f":"RIGHT(A3906, LEN(A3906) -SEARCH(\",\",A3906,1)-1)","v":{"$error":"#VALUE!"}},{"$f":"VLOOKUP(K3906,references!$A$1:$B$7,2,FALSE)","v":{"$error":"#N/A"}}]
[null,null,null,null,null,null,null,null,null,null,null,null,"no email",{"$error":"#VALUE!"},{"$error":"#VALUE!"},{"$f":"VLOOKUP(K3907,references!$A$1:$B$7,2,FALSE)","v":{"$error":"#N/A"}}]
[null,null,null,null,null,null,null,null,null,null,null,null,"no email",{"$error":"#VALUE!"},{"$error":"#VALUE!"},{"$f":"VLOOKUP(K3908,references!$A$1:$B$7,2,FALSE)","v":{"$error":"#N/A"}}]
[null,null,null,null,null,null,null,null,null,null,null,null,"no email",{"$error":"#VALUE!"},{"$error":"#VALUE!"},{"$f":"VLOOKUP(K3909,references!$A$1:$B$7,2,FALSE)","v":{"$error":"#N/A"}}]
[null,null,null,null,null,null,null,null,null,null,null,null,"no email",{"$error":"#VALUE!"},{"$error":"#VALUE!"},{"$f":"VLOOKUP(K3910,references!$A$1:$B$7,2,FALSE)","v":{"$error":"#N/A"}}]
[null,null,null,null,null,null,null,null,null,null,null,null,"no email",{"$error":"#VALUE!"},{"$error":"#VALUE!"},{"$f":"VLOOKUP(K3911,references!$A$1:$B$7,2,FALSE)","v":{"$error":"#N/A"}}]
[null,null,null,null,null,null,null,null,null,null,null,null,"no email",{"$error":"#VALUE!"},{"$error":"#VALUE!"},{"$f":"VLOOKUP(K3912,references!$A$1:$B$7,2,FALSE)","v":{"$error":"#N/A"}}]
[null,null,null,null,null,null,null,null,null,null,null,null,"no email",{"$error":"#VALUE!"},{"$error":"#VALUE!"},{"$f":"VLOOKUP(K3913,references!$A$1:$B$7,2,FALSE)","v":{"$error":"#N/A"}}]
[null,null,null,null,null,null,null,null,null,null,null,null,"no email",{"$error":"#VALUE!"},{"$error":"#VALUE!"},{"$f":"VLOOKUP(K3914,references!$A$1:$B$7,2,FALSE)","v":{"$error":"#N/A"}}]
[null,null,null,null,null,null,null,null,null,null,null,null,"no email",{"$error":"#VALUE!"},{"$error":"#VALUE!"},{"$f":"VLOOKUP(K3915,references!$A$1:$B$7,2,FALSE)","v":{"$error":"#N/A"}}]
[null,null,null,null,null,null,null,null,null,null,null,null,"no email",{"$error":"#VALUE!"},{"$error":"#VALUE!"},{"$f":"VLOOKUP(K3916,references!$A$1:$B$7,2,FALSE)","v":{"$error":"#N/A"}}]
[null,null,null,null,null,null,null,null,null,null,null,null,"no email",{"$error":"#VALUE!"},{"$error":"#VALUE!"},{"$f":"VLOOKUP(K3917,references!$A$1:$B$7,2,FALSE)","v":{"$error":"#N/A"}}]
[null,null,null,null,null,null,null,null,null,null,null,null,"no email",{"$error":"#VALUE!"},{"$error":"#VALUE!"},{"$f":"VLOOKUP(K3918,references!$A$1:$B$7,2,FALSE)","v":{"$error":"#N/A"}}]
[null,null,null,null,null,null,null,null,null,null,null,null,"no email",{"$error":"#VALUE!"},{"$error":"#VALUE!"},{"$f":"VLOOKUP(K3919,references!$A$1:$B$7,2,FALSE)","v":{"$error":"#N/A"}}]
[null,null,null,null,null,null,null,null,null,null,null,null,"no email",{"$error":"#VALUE!"},{"$error":"#VALUE!"},{"$f":"VLOOKUP(K3920,references!$A$1:$B$7,2,FALSE)","v":{"$error":"#N/A"}}]
[null,null,null,null,null,null,null,null,null,null,null,null,"no email",{"$error":"#VALUE!"},{"$error":"#VALUE!"},{"$f":"VLOOKUP(K3921,references!$A$1:$B$7,2,FALSE)","v":{"$error":"#N/A"}}]
[null,null,null,null,null,null,null,null,null,null,null,null,"no email",{"$error":"#VALUE!"},{"$error":"#VALUE!"},{"$f":"VLOOKUP(K3922,references!$A$1:$B$7,2,FALSE)","v":{"$error":"#N/A"}}]
[null,null,null,null,null,null,null,null,null,null,null,null,"no email",{"$error":"#VALUE!"},{"$error":"#VALUE!"},{"$f":"VLOOKUP(K3923,references!$A$1:$B$7,2,FALSE)","v":{"$error":"#N/A"}}]
[null,null,null,null,null,null,null,null,null,null,null,null,"no email",{"$error":"#VALUE!"},{"$error":"#VALUE!"},{"$f":"VLOOKUP(K3924,references!$A$1:$B$7,2,FALSE)","v":{"$error":"#N/A"}}]
[null,null,null,null,null,null,null,null,null,null,null,null,"no email",{"$error":"#VALUE!"},{"$error":"#VALUE!"},{"$f":"VLOOKUP(K3925,references!$A$1:$B$7,2,FALSE)","v":{"$error":"#N/A"}}]
[null,null,null,null,null,null,null,null,null,null,null,null,"no email",{"$error":"#VALUE!"},{"$error":"#VALUE!"},{"$f":"VLOOKUP(K3926,references!$A$1:$B$7,2,FALSE)","v":{"$error":"#N/A"}}]
[null,null,null,null,null,null,null,null,null,null,null,null,"no email",{"$error":"#VALUE!"},{"$error":"#VALUE!"},{"$f":"VLOOKUP(K3927,references!$A$1:$B$7,2,FALSE)","v":{"$error":"#N/A"}}]
[null,null,null,null,null,null,null,null,null,null,null,null,"no email",{"$error":"#VALUE!"},{"$error":"#VALUE!"},{"$f":"VLOOKUP(K3928,references!$A$1:$B$7,2,FALSE)","v":{"$error":"#N/A"}}]
[null,null,null,null,null,null,null,null,null,null,null,null,"no email",{"$error":"#VALUE!"},{"$error":"#VALUE!"},{"$f":"VLOOKUP(K3929,references!$A$1:$B$7,2,FALSE)","v":{"$error":"#N/A"}}]
[null,null,null,null,null,null,null,null,null,null,null,null,"no email",{"$error":"#VALUE!"},{"$error":"#VALUE!"},{"$f":"VLOOKUP(K3930,references!$A$1:$B$7,2,FALSE)","v":{"$error":"#N/A"}}]
[null,null,null,null,null,null,null,null,null,null,null,null,"no email",{"$error":"#VALUE!"},{"$error":"#VALUE!"},{"$f":"VLOOKUP(K3931,references!$A$1:$B$7,2,FALSE)","v":{"$error":"#N/A"}}]
[null,null,null,null,null,null,null,null,null,null,null,null,"no email",{"$error":"#VALUE!"},{"$error":"#VALUE!"},{"$f":"VLOOKUP(K3932,references!$A$1:$B$7,2,FALSE)","v":{"$error":"#N/A"}}]
[null,null,null,null,null,null,null,null,null,null,null,null,"no email",{"$error":"#VALUE!"},{"$error":"#VALUE!"},{"$f":"VLOOKUP(K3933,references!$A$1:$B$7,2,FALSE)","v":{"$error":"#N/A"}}]
[null,null,null,null,null,null,null,null,null,null,null,null,"no email",{"$error":"#VALUE!"},{"$error":"#VALUE!"},{"$f":"VLOOKUP(K3934,references!$A$1:$B$7,2,FALSE)","v":{"$error":"#N/A"}}]
[null,null,null,null,null,null,null,null,null,null,null,null,"no email",{"$error":"#VALUE!"},{"$error":"#VALUE!"},{"$f":"VLOOKUP(K3935,references!$A$1:$B$7,2,FALSE)","v":{"$error":"#N/A"}}]
[null,null,null,null,null,null,null,null,null,null,null,null,"no email",{"$error":"#VALUE!"},{"$error":"#VALUE!"},{"$f":"VLOOKUP(K3936,references!$A$1:$B$7,2,FALSE)","v":{"$error":"#N/A"}}]
[null,null,null,null,null,null,null,null,null,null,null,null,"no email",{"$error":"#VALUE!"},{"$error":"#VALUE!"},{"$f":"VLOOKUP(K3937,references!$A$1:$B$7,2,FALSE)","v":{"$error":"#N/A"}}]
[null,null,null,null,null,null,null,null,null,null,null,null,"no email",{"$error":"#VALUE!"},{"$error":"#VALUE!"},{"$f":"VLOOKUP(K3938,references!$A$1:$B$7,2,FALSE)","v":{"$error":"#N/A"}}]
[null,null,null,null,null,null,null,null,null,null,null,null,"no email",{"$error":"#VALUE!"},{"$error":"#VALUE!"},{"$f":"VLOOKUP(K3939,references!$A$1:$B$7,2,FALSE)","v":{"$error":"#N/A"}}]
[null,null,null,null,null,null,null,null,null,null,null,null,"no email",{"$error":"#VALUE!"},{"$error":"#VALUE!"},{"$f":"VLOOKUP(K3940,references!$A$1:$B$7,2,FALSE)","v":{"$error":"#N/A"}}]
[null,null,null,null,null,null,null,null,null,null,null,null,"no email",{"$error":"#VALUE!"},{"$error":"#VALUE!"},{"$f":"VLOOKUP(K3941,references!$A$1:$B$7,2,FALSE)","v":{"$error":"#N/A"}}]
[null,null,null,null,null,null,null,null,null,null,null,null,"no email",{"$error":"#VALUE!"},{"$error":"#VALUE!"},{"$f":"VLOOKUP(K3942,references!$A$1:$B$7,2,FALSE)","v":{"$error":"#N/A"}}]
[null,null,null,null,null,null,null,null,null,null,null,null,"no email",{"$error":"#VALUE!"},{"$error":"#VALUE!"},{"$f":"VLOOKUP(K3943,references!$A$1:$B$7,2,FALSE)","v":{"$error":"#N/A"}}]
[null,null,null,null,null,null,null,null,null,null,null,null,"no email",{"$error":"#VALUE!"},{"$error":"#VALUE!"},{"$f":"VLOOKUP(K3944,references!$A$1:$B$7,2,FALSE)","v":{"$error":"#N/A"}}]
[null,null,null,null,null,null,null,null,null,null,null,null,"no email",{"$error":"#VALUE!"},{"$error":"#VALUE!"},{"$f":"VLOOKUP(K3945,references!$A$1:$B$7,2,FALSE)","v":{"$error":"#N/A"}}]
[null,null,null,null,null,null,null,null,null,null,null,null,"no email",{"$error":"#VALUE!"},{"$error":"#VALUE!"},{"$f":"VLOOKUP(K3946,references!$A$1:$B$7,2,FALSE)","v":{"$error":"#N/A"}}]
[null,null,null,null,null,null,null,null,null,null,null,null,"no email",{"$error":"#VALUE!"},{"$error":"#VALUE!"},{"$f":"VLOOKUP(K3947,references!$A$1:$B$7,2,FALSE)","v":{"$error":"#N/A"}}]
[null,null,null,null,null,null,null,null,null,null,null,null,"no email",{"$error":"#VALUE!"},{"$error":"#VALUE!"},{"$f":"VLOOKUP(K3948,references!$A$1:$B$7,2,FALSE)","v":{"$error":"#N/A"}}]
[null,null,null,null,null,null,null,null,null,null,null,null,"no email",{"$error":"#VALUE!"},{"$error":"#VALUE!"},{"$f":"VLOOKUP(K3949,references!$A$1:$B$7,2,FALSE)","v":{"$error":"#N/A"}}]
[null,null,null,null,null,null,null,null,null,null,null,null,"no email",{"$error":"#VALUE!"},{"$error":"#VALUE!"},{"$f":"VLOOKUP(K3950,references!$A$1:$B$7,2,FALSE)","v":{"$error":"#N/A"}}]
[null,null,null,null,null,null,null,null,null,null,null,null,"no email",{"$error":"#VALUE!"},{"$error":"#VALUE!"},{"$f":"VLOOKUP(K3951,references!$A$1:$B$7,2,FALSE)","v":{"$error":"#N/A"}}]
[null,null,null,null,null,null,null,null,null,null,null,null,"no email",{"$error":"#VALUE!"},{"$error":"#VALUE!"},{"$f":"VLOOKUP(K3952,references!$A$1:$B$7,2,FALSE)","v":{"$error":"#N/A"}}]
[null,null,null,null,null,null,null,null,null,null,null,null,"no email",{"$error":"#VALUE!"},{"$error":"#VALUE!"},{"$f":"VLOOKUP(K3953,references!$A$1:$B$7,2,FALSE)","v":{"$error":"#N/A"}}]
[null,null,null,null,null,null,null,null,null,null,null,null,"no email",{"$error":"#VALUE!"},{"$error":"#VALUE!"},{"$f":"VLOOKUP(K3954,references!$A$1:$B$7,2,FALSE)","v":{"$error":"#N/A"}}]
[null,null,null,null,null,null,null,null,null,null,null,null,"no email",{"$error":"#VALUE!"},{"$error":"#VALUE!"},{"$f":"VLOOKUP(K3955,references!$A$1:$B$7,2,FALSE)","v":{"$error":"#N/A"}}]
[null,null,null,null,null,null,null,null,null,null,null,null,"no email",{"$error":"#VALUE!"},{"$error":"#VALUE!"},{"$f":"VLOOKUP(K3956,references!$A$1:$B$7,2,FALSE)","v":{"$error":"#N/A"}}]
[null,null,null,null,null,null,null,null,null,null,null,null,"no email",{"$error":"#VALUE!"},{"$error":"#VALUE!"},{"$f":"VLOOKUP(K3957,references!$A$1:$B$7,2,FALSE)","v":{"$error":"#N/A"}}]
[null,null,null,null,null,null,null,null,null,null,null,null,"no email",{"$error":"#VALUE!"},{"$error":"#VALUE!"},{"$f":"VLOOKUP(K3958,references!$A$1:$B$7,2,FALSE)","v":{"$error":"#N/A"}}]
[null,null,null,null,null,null,null,null,null,null,null,null,"no email",{"$error":"#VALUE!"},{"$error":"#VALUE!"},{"$f":"VLOOKUP(K3959,references!$A$1:$B$7,2,FALSE)","v":{"$error":"#N/A"}}]
[null,null,null,null,null,null,null,null,null,null,null,null,"no email",{"$error":"#VALUE!"},{"$error":"#VALUE!"},{"$f":"VLOOKUP(K3960,references!$A$1:$B$7,2,FALSE)","v":{"$error":"#N/A"}}]
[null,null,null,null,null,null,null,null,null,null,null,null,"no email",{"$error":"#VALUE!"},{"$error":"#VALUE!"},{"$f":"VLOOKUP(K3961,references!$A$1:$B$7,2,FALSE)","v":{"$error":"#N/A"}}]
[null,null,null,null,null,null,null,null,null,null,null,null,"no email",{"$error":"#VALUE!"},{"$error":"#VALUE!"},{"$f":"VLOOKUP(K3962,references!$A$1:$B$7,2,FALSE)","v":{"$error":"#N/A"}}]
[null,null,null,null,null,null,null,null,null,null,null,null,"no email",{"$error":"#VALUE!"},{"$error":"#VALUE!"},{"$f":"VLOOKUP(K3963,references!$A$1:$B$7,2,FALSE)","v":{"$error":"#N/A"}}]
[null,null,null,null,null,null,null,null,null,null,null,null,"no email",{"$error":"#VALUE!"},{"$error":"#VALUE!"},{"$f":"VLOOKUP(K3964,references!$A$1:$B$7,2,FALSE)","v":{"$error":"#N/A"}}]
[null,null,null,null,null,null,null,null,null,null,null,null,"no email",{"$error":"#VALUE!"},{"$error":"#VALUE!"},{"$f":"VLOOKUP(K3965,references!$A$1:$B$7,2,FALSE)","v":{"$error":"#N/A"}}]
[null,null,null,null,null,null,null,null,null,null,null,null,"no email",{"$error":"#VALUE!"},{"$error":"#VALUE!"},{"$f":"VLOOKUP(K3966,references!$A$1:$B$7,2,FALSE)","v":{"$error":"#N/A"}}]
[null,null,null,null,null,null,null,null,null,null,null,null,"no email",{"$error":"#VALUE!"},{"$error":"#VALUE!"},{"$f":"VLOOKUP(K3967,references!$A$1:$B$7,2,FALSE)","v":{"$error":"#N/A"}}]
[null,null,null,null,null,null,null,null,null,null,null,null,"no email",{"$error":"#VALUE!"},{"$error":"#VALUE!"},{"$f":"VLOOKUP(K3968,references!$A$1:$B$7,2,FALSE)","v":{"$error":"#N/A"}}]
[null,null,null,null,null,null,null,null,null,null,null,null,"no email",{"$error":"#VALUE!"},{"$error":"#VALUE!"},{"$f":"VLOOKUP(K3969,references!$A$1:$B$7,2,FALSE)","v":{"$error":"#N/A"}}]
[null,null,null,null,null,null,null,null,null,null,null,null,{"$f":"IF(L3970=\"\", \"no email\",LOWER(L3970))","v":"no email"},{"$f":"LEFT(A3970, SEARCH(\",\",A3970,1)-1)","v":{"$error":"#VALUE!"}},{"$f":"RIGHT(A3970, LEN(A3970) -SEARCH(\",\",A3970,1)-1)","v":{"$error":"#VALUE!"}},{"$f":"VLOOKUP(K3970,references!$A$1:$B$7,2,FALSE)","v":{"$error":"#N/A"}}]
[null,null,null,null,null,null,null,null,null,null,null,null,"no email",{"$error":"#VALUE!"},{"$error":"#VALUE!"},{"$f":"VLOOKUP(K3971,references!$A$1:$B$7,2,FALSE)","v":{"$error":"#N/A"}}]
[null,null,null,null,null,null,null,null,null,null,null,null,"no email",{"$error":"#VALUE!"},{"$error":"#VALUE!"},{"$f":"VLOOKUP(K3972,references!$A$1:$B$7,2,FALSE)","v":{"$error":"#N/A"}}]
[null,null,null,null,null,null,null,null,null,null,null,null,"no email",{"$error":"#VALUE!"},{"$error":"#VALUE!"},{"$f":"VLOOKUP(K3973,references!$A$1:$B$7,2,FALSE)","v":{"$error":"#N/A"}}]
[null,null,null,null,null,null,null,null,null,null,null,null,"no email",{"$error":"#VALUE!"},{"$error":"#VALUE!"},{"$f":"VLOOKUP(K3974,references!$A$1:$B$7,2,FALSE)","v":{"$error":"#N/A"}}]
[null,null,null,null,null,null,null,null,null,null,null,null,"no email",{"$error":"#VALUE!"},{"$error":"#VALUE!"},{"$f":"VLOOKUP(K3975,references!$A$1:$B$7,2,FALSE)","v":{"$error":"#N/A"}}]
[null,null,null,null,null,null,null,null,null,null,null,null,"no email",{"$error":"#VALUE!"},{"$error":"#VALUE!"},{"$f":"VLOOKUP(K3976,references!$A$1:$B$7,2,FALSE)","v":{"$error":"#N/A"}}]
[null,null,null,null,null,null,null,null,null,null,null,null,"no email",{"$error":"#VALUE!"},{"$error":"#VALUE!"},{"$f":"VLOOKUP(K3977,references!$A$1:$B$7,2,FALSE)","v":{"$error":"#N/A"}}]
[null,null,null,null,null,null,null,null,null,null,null,null,"no email",{"$error":"#VALUE!"},{"$error":"#VALUE!"},{"$f":"VLOOKUP(K3978,references!$A$1:$B$7,2,FALSE)","v":{"$error":"#N/A"}}]
[null,null,null,null,null,null,null,null,null,null,null,null,"no email",{"$error":"#VALUE!"},{"$error":"#VALUE!"},{"$f":"VLOOKUP(K3979,references!$A$1:$B$7,2,FALSE)","v":{"$error":"#N/A"}}]
[null,null,null,null,null,null,null,null,null,null,null,null,"no email",{"$error":"#VALUE!"},{"$error":"#VALUE!"},{"$f":"VLOOKUP(K3980,references!$A$1:$B$7,2,FALSE)","v":{"$error":"#N/A"}}]
[null,null,null,null,null,null,null,null,null,null,null,null,"no email",{"$error":"#VALUE!"},{"$error":"#VALUE!"},{"$f":"VLOOKUP(K3981,references!$A$1:$B$7,2,FALSE)","v":{"$error":"#N/A"}}]
[null,null,null,null,null,null,null,null,null,null,null,null,"no email",{"$error":"#VALUE!"},{"$error":"#VALUE!"},{"$f":"VLOOKUP(K3982,references!$A$1:$B$7,2,FALSE)","v":{"$error":"#N/A"}}]
[null,null,null,null,null,null,null,null,null,null,null,null,"no email",{"$error":"#VALUE!"},{"$error":"#VALUE!"},{"$f":"VLOOKUP(K3983,references!$A$1:$B$7,2,FALSE)","v":{"$error":"#N/A"}}]
[null,null,null,null,null,null,null,null,null,null,null,null,"no email",{"$error":"#VALUE!"},{"$error":"#VALUE!"},{"$f":"VLOOKUP(K3984,references!$A$1:$B$7,2,FALSE)","v":{"$error":"#N/A"}}]
[null,null,null,null,null,null,null,null,null,null,null,null,"no email",{"$error":"#VALUE!"},{"$error":"#VALUE!"},{"$f":"VLOOKUP(K3985,references!$A$1:$B$7,2,FALSE)","v":{"$error":"#N/A"}}]
[null,null,null,null,null,null,null,null,null,null,null,null,"no email",{"$error":"#VALUE!"},{"$error":"#VALUE!"},{"$f":"VLOOKUP(K3986,references!$A$1:$B$7,2,FALSE)","v":{"$error":"#N/A"}}]
[null,null,null,null,null,null,null,null,null,null,null,null,"no email",{"$error":"#VALUE!"},{"$error":"#VALUE!"},{"$f":"VLOOKUP(K3987,references!$A$1:$B$7,2,FALSE)","v":{"$error":"#N/A"}}]
[null,null,null,null,null,null,null,null,null,null,null,null,"no email",{"$error":"#VALUE!"},{"$error":"#VALUE!"},{"$f":"VLOOKUP(K3988,references!$A$1:$B$7,2,FALSE)","v":{"$error":"#N/A"}}]
[null,null,null,null,null,null,null,null,null,null,null,null,"no email",{"$error":"#VALUE!"},{"$error":"#VALUE!"},{"$f":"VLOOKUP(K3989,references!$A$1:$B$7,2,FALSE)","v":{"$error":"#N/A"}}]
[null,null,null,null,null,null,null,null,null,null,null,null,"no email",{"$error":"#VALUE!"},{"$error":"#VALUE!"},{"$f":"VLOOKUP(K3990,references!$A$1:$B$7,2,FALSE)","v":{"$error":"#N/A"}}]
[null,null,null,null,null,null,null,null,null,null,null,null,"no email",{"$error":"#VALUE!"},{"$error":"#VALUE!"},{"$f":"VLOOKUP(K3991,references!$A$1:$B$7,2,FALSE)","v":{"$error":"#N/A"}}]
[null,null,null,null,null,null,null,null,null,null,null,null,"no email",{"$error":"#VALUE!"},{"$error":"#VALUE!"},{"$f":"VLOOKUP(K3992,references!$A$1:$B$7,2,FALSE)","v":{"$error":"#N/A"}}]
[null,null,null,null,null,null,null,null,null,null,null,null,"no email",{"$error":"#VALUE!"},{"$error":"#VALUE!"},{"$f":"VLOOKUP(K3993,references!$A$1:$B$7,2,FALSE)","v":{"$error":"#N/A"}}]
[null,null,null,null,null,null,null,null,null,null,null,null,"no email",{"$error":"#VALUE!"},{"$error":"#VALUE!"},{"$f":"VLOOKUP(K3994,references!$A$1:$B$7,2,FALSE)","v":{"$error":"#N/A"}}]
[null,null,null,null,null,null,null,null,null,null,null,null,"no email",{"$error":"#VALUE!"},{"$error":"#VALUE!"},{"$f":"VLOOKUP(K3995,references!$A$1:$B$7,2,FALSE)","v":{"$error":"#N/A"}}]
[null,null,null,null,null,null,null,null,null,null,null,null,"no email",{"$error":"#VALUE!"},{"$error":"#VALUE!"},{"$f":"VLOOKUP(K3996,references!$A$1:$B$7,2,FALSE)","v":{"$error":"#N/A"}}]
[null,null,null,null,null,null,null,null,null,null,null,null,"no email",{"$error":"#VALUE!"},{"$error":"#VALUE!"},{"$f":"VLOOKUP(K3997,references!$A$1:$B$7,2,FALSE)","v":{"$error":"#N/A"}}]
[null,null,null,null,null,null,null,null,null,null,null,null,"no email",{"$error":"#VALUE!"},{"$error":"#VALUE!"},{"$f":"VLOOKUP(K3998,references!$A$1:$B$7,2,FALSE)","v":{"$error":"#N/A"}}]
[null,null,null,null,null,null,null,null,null,null,null,null,"no email",{"$error":"#VALUE!"},{"$error":"#VALUE!"},{"$f":"VLOOKUP(K3999,references!$A$1:$B$7,2,FALSE)","v":{"$error":"#N/A"}}]
[null,null,null,null,null,null,null,null,null,null,null,null,"no email",{"$error":"#VALUE!"},{"$error":"#VALUE!"},{"$f":"VLOOKUP(K4000,references!$A$1:$B$7,2,FALSE)","v":{"$error":"#N/A"}}]
[null,null,null,null,null,null,null,null,null,null,null,null,"no email",{"$error":"#VALUE!"},{"$error":"#VALUE!"},{"$f":"VLOOKUP(K4001,references!$A$1:$B$7,2,FALSE)","v":{"$error":"#N/A"}}]
[null,null,null,null,null,null,null,null,null,null,null,null,"no email",{"$error":"#VALUE!"},{"$error":"#VALUE!"},{"$f":"VLOOKUP(K4002,references!$A$1:$B$7,2,FALSE)","v":{"$error":"#N/A"}}]
[null,null,null,null,null,null,null,null,null,null,null,null,"no email",{"$error":"#VALUE!"},{"$error":"#VALUE!"},{"$f":"VLOOKUP(K4003,references!$A$1:$B$7,2,FALSE)","v":{"$error":"#N/A"}}]
[null,null,null,null,null,null,null,null,null,null,null,null,"no email",{"$error":"#VALUE!"},{"$error":"#VALUE!"},{"$f":"VLOOKUP(K4004,references!$A$1:$B$7,2,FALSE)","v":{"$error":"#N/A"}}]
[null,null,null,null,null,null,null,null,null,null,null,null,"no email",{"$error":"#VALUE!"},{"$error":"#VALUE!"},{"$f":"VLOOKUP(K4005,references!$A$1:$B$7,2,FALSE)","v":{"$error":"#N/A"}}]
[null,null,null,null,null,null,null,null,null,null,null,null,"no email",{"$error":"#VALUE!"},{"$error":"#VALUE!"},{"$f":"VLOOKUP(K4006,references!$A$1:$B$7,2,FALSE)","v":{"$error":"#N/A"}}]
[null,null,null,null,null,null,null,null,null,null,null,null,"no email",{"$error":"#VALUE!"},{"$error":"#VALUE!"},{"$f":"VLOOKUP(K4007,references!$A$1:$B$7,2,FALSE)","v":{"$error":"#N/A"}}]
[null,null,null,null,null,null,null,null,null,null,null,null,"no email",{"$error":"#VALUE!"},{"$error":"#VALUE!"},{"$f":"VLOOKUP(K4008,references!$A$1:$B$7,2,FALSE)","v":{"$error":"#N/A"}}]
[null,null,null,null,null,null,null,null,null,null,null,null,"no email",{"$error":"#VALUE!"},{"$error":"#VALUE!"},{"$f":"VLOOKUP(K4009,references!$A$1:$B$7,2,FALSE)","v":{"$error":"#N/A"}}]
[null,null,null,null,null,null,null,null,null,null,null,null,"no email",{"$error":"#VALUE!"},{"$error":"#VALUE!"},{"$f":"VLOOKUP(K4010,references!$A$1:$B$7,2,FALSE)","v":{"$error":"#N/A"}}]
[null,null,null,null,null,null,null,null,null,null,null,null,"no email",{"$error":"#VALUE!"},{"$error":"#VALUE!"},{"$f":"VLOOKUP(K4011,references!$A$1:$B$7,2,FALSE)","v":{"$error":"#N/A"}}]
[null,null,null,null,null,null,null,null,null,null,null,null,"no email",{"$error":"#VALUE!"},{"$error":"#VALUE!"},{"$f":"VLOOKUP(K4012,references!$A$1:$B$7,2,FALSE)","v":{"$error":"#N/A"}}]
[null,null,null,null,null,null,null,null,null,null,null,null,"no email",{"$error":"#VALUE!"},{"$error":"#VALUE!"},{"$f":"VLOOKUP(K4013,references!$A$1:$B$7,2,FALSE)","v":{"$error":"#N/A"}}]
[null,null,null,null,null,null,null,null,null,null,null,null,"no email",{"$error":"#VALUE!"},{"$error":"#VALUE!"},{"$f":"VLOOKUP(K4014,references!$A$1:$B$7,2,FALSE)","v":{"$error":"#N/A"}}]
[null,null,null,null,null,null,null,null,null,null,null,null,"no email",{"$error":"#VALUE!"},{"$error":"#VALUE!"},{"$f":"VLOOKUP(K4015,references!$A$1:$B$7,2,FALSE)","v":{"$error":"#N/A"}}]
[null,null,null,null,null,null,null,null,null,null,null,null,"no email",{"$error":"#VALUE!"},{"$error":"#VALUE!"},{"$f":"VLOOKUP(K4016,references!$A$1:$B$7,2,FALSE)","v":{"$error":"#N/A"}}]
[null,null,null,null,null,null,null,null,null,null,null,null,"no email",{"$error":"#VALUE!"},{"$error":"#VALUE!"},{"$f":"VLOOKUP(K4017,references!$A$1:$B$7,2,FALSE)","v":{"$error":"#N/A"}}]
[null,null,null,null,null,null,null,null,null,null,null,null,"no email",{"$error":"#VALUE!"},{"$error":"#VALUE!"},{"$f":"VLOOKUP(K4018,references!$A$1:$B$7,2,FALSE)","v":{"$error":"#N/A"}}]
[null,null,null,null,null,null,null,null,null,null,null,null,"no email",{"$error":"#VALUE!"},{"$error":"#VALUE!"},{"$f":"VLOOKUP(K4019,references!$A$1:$B$7,2,FALSE)","v":{"$error":"#N/A"}}]
[null,null,null,null,null,null,null,null,null,null,null,null,"no email",{"$error":"#VALUE!"},{"$error":"#VALUE!"},{"$f":"VLOOKUP(K4020,references!$A$1:$B$7,2,FALSE)","v":{"$error":"#N/A"}}]
[null,null,null,null,null,null,null,null,null,null,null,null,"no email",{"$error":"#VALUE!"},{"$error":"#VALUE!"},{"$f":"VLOOKUP(K4021,references!$A$1:$B$7,2,FALSE)","v":{"$error":"#N/A"}}]
[null,null,null,null,null,null,null,null,null,null,null,null,"no email",{"$error":"#VALUE!"},{"$error":"#VALUE!"},{"$f":"VLOOKUP(K4022,references!$A$1:$B$7,2,FALSE)","v":{"$error":"#N/A"}}]
[null,null,null,null,null,null,null,null,null,null,null,null,"no email",{"$error":"#VALUE!"},{"$error":"#VALUE!"},{"$f":"VLOOKUP(K4023,references!$A$1:$B$7,2,FALSE)","v":{"$error":"#N/A"}}]
[null,null,null,null,null,null,null,null,null,null,null,null,"no email",{"$error":"#VALUE!"},{"$error":"#VALUE!"},{"$f":"VLOOKUP(K4024,references!$A$1:$B$7,2,FALSE)","v":{"$error":"#N/A"}}]
[null,null,null,null,null,null,null,null,null,null,null,null,"no email",{"$error":"#VALUE!"},{"$error":"#VALUE!"},{"$f":"VLOOKUP(K4025,references!$A$1:$B$7,2,FALSE)","v":{"$error":"#N/A"}}]
[null,null,null,null,null,null,null,null,null,null,null,null,"no email",{"$error":"#VALUE!"},{"$error":"#VALUE!"},{"$f":"VLOOKUP(K4026,references!$A$1:$B$7,2,FALSE)","v":{"$error":"#N/A"}}]
[null,null,null,null,null,null,null,null,null,null,null,null,"no email",{"$error":"#VALUE!"},{"$error":"#VALUE!"},{"$f":"VLOOKUP(K4027,references!$A$1:$B$7,2,FALSE)","v":{"$error":"#N/A"}}]
[null,null,null,null,null,null,null,null,null,null,null,null,"no email",{"$error":"#VALUE!"},{"$error":"#VALUE!"},{"$f":"VLOOKUP(K4028,references!$A$1:$B$7,2,FALSE)","v":{"$error":"#N/A"}}]
[null,null,null,null,null,null,null,null,null,null,null,null,"no email",{"$error":"#VALUE!"},{"$error":"#VALUE!"},{"$f":"VLOOKUP(K4029,references!$A$1:$B$7,2,FALSE)","v":{"$error":"#N/A"}}]
[null,null,null,null,null,null,null,null,null,null,null,null,"no email",{"$error":"#VALUE!"},{"$error":"#VALUE!"},{"$f":"VLOOKUP(K4030,references!$A$1:$B$7,2,FALSE)","v":{"$error":"#N/A"}}]
[null,null,null,null,null,null,null,null,null,null,null,null,"no email",{"$error":"#VALUE!"},{"$error":"#VALUE!"},{"$f":"VLOOKUP(K4031,references!$A$1:$B$7,2,FALSE)","v":{"$error":"#N/A"}}]
[null,null,null,null,null,null,null,null,null,null,null,null,"no email",{"$error":"#VALUE!"},{"$error":"#VALUE!"},{"$f":"VLOOKUP(K4032,references!$A$1:$B$7,2,FALSE)","v":{"$error":"#N/A"}}]
[null,null,null,null,null,null,null,null,null,null,null,null,"no email",{"$error":"#VALUE!"},{"$error":"#VALUE!"},{"$f":"VLOOKUP(K4033,references!$A$1:$B$7,2,FALSE)","v":{"$error":"#N/A"}}]
[null,null,null,null,null,null,null,null,null,null,null,null,{"$f":"IF(L4034=\"\", \"no email\",LOWER(L4034))","v":"no email"},{"$f":"LEFT(A4034, SEARCH(\",\",A4034,1)-1)","v":{"$error":"#VALUE!"}},{"$f":"RIGHT(A4034, LEN(A4034) -SEARCH(\",\",A4034,1)-1)","v":{"$error":"#VALUE!"}},{"$f":"VLOOKUP(K4034,references!$A$1:$B$7,2,FALSE)","v":{"$error":"#N/A"}}]
[null,null,null,null,null,null,null,null,null,null,null,null,"no email",{"$error":"#VALUE!"},{"$error":"#VALUE!"},{"$f":"VLOOKUP(K4035,references!$A$1:$B$7,2,FALSE)","v":{"$error":"#N/A"}}]
[null,null,null,null,null,null,null,null,null,null,null,null,"no email",{"$error":"#VALUE!"},{"$error":"#VALUE!"},{"$f":"VLOOKUP(K4036,references!$A$1:$B$7,2,FALSE)","v":{"$error":"#N/A"}}]
[null,null,null,null,null,null,null,null,null,null,null,null,"no email",{"$error":"#VALUE!"},{"$error":"#VALUE!"},{"$f":"VLOOKUP(K4037,references!$A$1:$B$7,2,FALSE)","v":{"$error":"#N/A"}}]
[null,null,null,null,null,null,null,null,null,null,null,null,"no email",{"$error":"#VALUE!"},{"$error":"#VALUE!"},{"$f":"VLOOKUP(K4038,references!$A$1:$B$7,2,FALSE)","v":{"$error":"#N/A"}}]
[null,null,null,null,null,null,null,null,null,null,null,null,"no email",{"$error":"#VALUE!"},{"$error":"#VALUE!"},{"$f":"VLOOKUP(K4039,references!$A$1:$B$7,2,FALSE)","v":{"$error":"#N/A"}}]
[null,null,null,null,null,null,null,null,null,null,null,null,"no email",{"$error":"#VALUE!"},{"$error":"#VALUE!"},{"$f":"VLOOKUP(K4040,references!$A$1:$B$7,2,FALSE)","v":{"$error":"#N/A"}}]
[null,null,null,null,null,null,null,null,null,null,null,null,"no email",{"$error":"#VALUE!"},{"$error":"#VALUE!"},{"$f":"VLOOKUP(K4041,references!$A$1:$B$7,2,FALSE)","v":{"$error":"#N/A"}}]
[null,null,null,null,null,null,null,null,null,null,null,null,"no email",{"$error":"#VALUE!"},{"$error":"#VALUE!"},{"$f":"VLOOKUP(K4042,references!$A$1:$B$7,2,FALSE)","v":{"$error":"#N/A"}}]
[null,null,null,null,null,null,null,null,null,null,null,null,"no email",{"$error":"#VALUE!"},{"$error":"#VALUE!"},{"$f":"VLOOKUP(K4043,references!$A$1:$B$7,2,FALSE)","v":{"$error":"#N/A"}}]
[null,null,null,null,null,null,null,null,null,null,null,null,"no email",{"$error":"#VALUE!"},{"$error":"#VALUE!"},{"$f":"VLOOKUP(K4044,references!$A$1:$B$7,2,FALSE)","v":{"$error":"#N/A"}}]
[null,null,null,null,null,null,null,null,null,null,null,null,"no email",{"$error":"#VALUE!"},{"$error":"#VALUE!"},{"$f":"VLOOKUP(K4045,references!$A$1:$B$7,2,FALSE)","v":{"$error":"#N/A"}}]
[null,null,null,null,null,null,null,null,null,null,null,null,"no email",{"$error":"#VALUE!"},{"$error":"#VALUE!"},{"$f":"VLOOKUP(K4046,references!$A$1:$B$7,2,FALSE)","v":{"$error":"#N/A"}}]
[null,null,null,null,null,null,null,null,null,null,null,null,"no email",{"$error":"#VALUE!"},{"$error":"#VALUE!"},{"$f":"VLOOKUP(K4047,references!$A$1:$B$7,2,FALSE)","v":{"$error":"#N/A"}}]
[null,null,null,null,null,null,null,null,null,null,null,null,"no email",{"$error":"#VALUE!"},{"$error":"#VALUE!"},{"$f":"VLOOKUP(K4048,references!$A$1:$B$7,2,FALSE)","v":{"$error":"#N/A"}}]
[null,null,null,null,null,null,null,null,null,null,null,null,"no email",{"$error":"#VALUE!"},{"$error":"#VALUE!"},{"$f":"VLOOKUP(K4049,references!$A$1:$B$7,2,FALSE)","v":{"$error":"#N/A"}}]
[null,null,null,null,null,null,null,null,null,null,null,null,"no email",{"$error":"#VALUE!"},{"$error":"#VALUE!"},{"$f":"VLOOKUP(K4050,references!$A$1:$B$7,2,FALSE)","v":{"$error":"#N/A"}}]
[null,null,null,null,null,null,null,null,null,null,null,null,"no email",{"$error":"#VALUE!"},{"$error":"#VALUE!"},{"$f":"VLOOKUP(K4051,references!$A$1:$B$7,2,FALSE)","v":{"$error":"#N/A"}}]
[null,null,null,null,null,null,null,null,null,null,null,null,"no email",{"$error":"#VALUE!"},{"$error":"#VALUE!"},{"$f":"VLOOKUP(K4052,references!$A$1:$B$7,2,FALSE)","v":{"$error":"#N/A"}}]
[null,null,null,null,null,null,null,null,null,null,null,null,"no email",{"$error":"#VALUE!"},{"$error":"#VALUE!"},{"$f":"VLOOKUP(K4053,references!$A$1:$B$7,2,FALSE)","v":{"$error":"#N/A"}}]
[null,null,null,null,null,null,null,null,null,null,null,null,"no email",{"$error":"#VALUE!"},{"$error":"#VALUE!"},{"$f":"VLOOKUP(K4054,references!$A$1:$B$7,2,FALSE)","v":{"$error":"#N/A"}}]
[null,null,null,null,null,null,null,null,null,null,null,null,"no email",{"$error":"#VALUE!"},{"$error":"#VALUE!"},{"$f":"VLOOKUP(K4055,references!$A$1:$B$7,2,FALSE)","v":{"$error":"#N/A"}}]
[null,null,null,null,null,null,null,null,null,null,null,null,"no email",{"$error":"#VALUE!"},{"$error":"#VALUE!"},{"$f":"VLOOKUP(K4056,references!$A$1:$B$7,2,FALSE)","v":{"$error":"#N/A"}}]
[null,null,null,null,null,null,null,null,null,null,null,null,"no email",{"$error":"#VALUE!"},{"$error":"#VALUE!"},{"$f":"VLOOKUP(K4057,references!$A$1:$B$7,2,FALSE)","v":{"$error":"#N/A"}}]
[null,null,null,null,null,null,null,null,null,null,null,null,"no email",{"$error":"#VALUE!"},{"$error":"#VALUE!"},{"$f":"VLOOKUP(K4058,references!$A$1:$B$7,2,FALSE)","v":{"$error":"#N/A"}}]
[null,null,null,null,null,null,null,null,null,null,null,null,"no email",{"$error":"#VALUE!"},{"$error":"#VALUE!"},{"$f":"VLOOKUP(K4059,references!$A$1:$B$7,2,FALSE)","v":{"$error":"#N/A"}}]
[null,null,null,null,null,null,null,null,null,null,null,null,"no email",{"$error":"#VALUE!"},{"$error":"#VALUE!"},{"$f":"VLOOKUP(K4060,references!$A$1:$B$7,2,FALSE)","v":{"$error":"#N/A"}}]
[null,null,null,null,null,null,null,null,null,null,null,null,"no email",{"$error":"#VALUE!"},{"$error":"#VALUE!"},{"$f":"VLOOKUP(K4061,references!$A$1:$B$7,2,FALSE)","v":{"$error":"#N/A"}}]
[null,null,null,null,null,null,null,null,null,null,null,null,"no email",{"$error":"#VALUE!"},{"$error":"#VALUE!"},{"$f":"VLOOKUP(K4062,references!$A$1:$B$7,2,FALSE)","v":{"$error":"#N/A"}}]
[null,null,null,null,null,null,null,null,null,null,null,null,"no email",{"$error":"#VALUE!"},{"$error":"#VALUE!"},{"$f":"VLOOKUP(K4063,references!$A$1:$B$7,2,FALSE)","v":{"$error":"#N/A"}}]
[null,null,null,null,null,null,null,null,null,null,null,null,"no email",{"$error":"#VALUE!"},{"$error":"#VALUE!"},{"$f":"VLOOKUP(K4064,references!$A$1:$B$7,2,FALSE)","v":{"$error":"#N/A"}}]
[null,null,null,null,null,null,null,null,null,null,null,null,"no email",{"$error":"#VALUE!"},{"$error":"#VALUE!"},{"$f":"VLOOKUP(K4065,references!$A$1:$B$7,2,FALSE)","v":{"$error":"#N/A"}}]
[null,null,null,null,null,null,null,null,null,null,null,null,"no email",{"$error":"#VALUE!"},{"$error":"#VALUE!"},{"$f":"VLOOKUP(K4066,references!$A$1:$B$7,2,FALSE)","v":{"$error":"#N/A"}}]
[null,null,null,null,null,null,null,null,null,null,null,null,"no email",{"$error":"#VALUE!"},{"$error":"#VALUE!"},{"$f":"VLOOKUP(K4067,references!$A$1:$B$7,2,FALSE)","v":{"$error":"#N/A"}}]
[null,null,null,null,null,null,null,null,null,null,null,null,"no email",{"$error":"#VALUE!"},{"$error":"#VALUE!"},{"$f":"VLOOKUP(K4068,references!$A$1:$B$7,2,FALSE)","v":{"$error":"#N/A"}}]
[null,null,null,null,null,null,null,null,null,null,null,null,"no email",{"$error":"#VALUE!"},{"$error":"#VALUE!"},{"$f":"VLOOKUP(K4069,references!$A$1:$B$7,2,FALSE)","v":{"$error":"#N/A"}}]
[null,null,null,null,null,null,null,null,null,null,null,null,"no email",{"$error":"#VALUE!"},{"$error":"#VALUE!"},{"$f":"VLOOKUP(K4070,references!$A$1:$B$7,2,FALSE)","v":{"$error":"#N/A"}}]
[null,null,null,null,null,null,null,null,null,null,null,null,"no email",{"$error":"#VALUE!"},{"$error":"#VALUE!"},{"$f":"VLOOKUP(K4071,references!$A$1:$B$7,2,FALSE)","v":{"$error":"#N/A"}}]
[null,null,null,null,null,null,null,null,null,null,null,null,"no email",{"$error":"#VALUE!"},{"$error":"#VALUE!"},{"$f":"VLOOKUP(K4072,references!$A$1:$B$7,2,FALSE)","v":{"$error":"#N/A"}}]
[null,null,null,null,null,null,null,null,null,null,null,null,"no email",{"$error":"#VALUE!"},{"$error":"#VALUE!"},{"$f":"VLOOKUP(K4073,references!$A$1:$B$7,2,FALSE)","v":{"$error":"#N/A"}}]
[null,null,null,null,null,null,null,null,null,null,null,null,"no email",{"$error":"#VALUE!"},{"$error":"#VALUE!"},{"$f":"VLOOKUP(K4074,references!$A$1:$B$7,2,FALSE)","v":{"$error":"#N/A"}}]
[null,null,null,null,null,null,null,null,null,null,null,null,"no email",{"$error":"#VALUE!"},{"$error":"#VALUE!"},{"$f":"VLOOKUP(K4075,references!$A$1:$B$7,2,FALSE)","v":{"$error":"#N/A"}}]
[null,null,null,null,null,null,null,null,null,null,null,null,"no email",{"$error":"#VALUE!"},{"$error":"#VALUE!"},{"$f":"VLOOKUP(K4076,references!$A$1:$B$7,2,FALSE)","v":{"$error":"#N/A"}}]
[null,null,null,null,null,null,null,null,null,null,null,null,"no email",{"$error":"#VALUE!"},{"$error":"#VALUE!"},{"$f":"VLOOKUP(K4077,references!$A$1:$B$7,2,FALSE)","v":{"$error":"#N/A"}}]
[null,null,null,null,null,null,null,null,null,null,null,null,"no email",{"$error":"#VALUE!"},{"$error":"#VALUE!"},{"$f":"VLOOKUP(K4078,references!$A$1:$B$7,2,FALSE)","v":{"$error":"#N/A"}}]
[null,null,null,null,null,null,null,null,null,null,null,null,"no email",{"$error":"#VALUE!"},{"$error":"#VALUE!"},{"$f":"VLOOKUP(K4079,references!$A$1:$B$7,2,FALSE)","v":{"$error":"#N/A"}}]
[null,null,null,null,null,null,null,null,null,null,null,null,"no email",{"$error":"#VALUE!"},{"$error":"#VALUE!"},{"$f":"VLOOKUP(K4080,references!$A$1:$B$7,2,FALSE)","v":{"$error":"#N/A"}}]
[null,null,null,null,null,null,null,null,null,null,null,null,"no email",{"$error":"#VALUE!"},{"$error":"#VALUE!"},{"$f":"VLOOKUP(K4081,references!$A$1:$B$7,2,FALSE)","v":{"$error":"#N/A"}}]
[null,null,null,null,null,null,null,null,null,null,null,null,"no email",{"$error":"#VALUE!"},{"$error":"#VALUE!"},{"$f":"VLOOKUP(K4082,references!$A$1:$B$7,2,FALSE)","v":{"$error":"#N/A"}}]
[null,null,null,null,null,null,null,null,null,null,null,null,"no email",{"$error":"#VALUE!"},{"$error":"#VALUE!"},{"$f":"VLOOKUP(K4083,references!$A$1:$B$7,2,FALSE)","v":{"$error":"#N/A"}}]
[null,null,null,null,null,null,null,null,null,null,null,null,"no email",{"$error":"#VALUE!"},{"$error":"#VALUE!"},{"$f":"VLOOKUP(K4084,references!$A$1:$B$7,2,FALSE)","v":{"$error":"#N/A"}}]
[null,null,null,null,null,null,null,null,null,null,null,null,"no email",{"$error":"#VALUE!"},{"$error":"#VALUE!"},{"$f":"VLOOKUP(K4085,references!$A$1:$B$7,2,FALSE)","v":{"$error":"#N/A"}}]
[null,null,null,null,null,null,null,null,null,null,null,null,"no email",{"$error":"#VALUE!"},{"$error":"#VALUE!"},{"$f":"VLOOKUP(K4086,references!$A$1:$B$7,2,FALSE)","v":{"$error":"#N/A"}}]
[null,null,null,null,null,null,null,null,null,null,null,null,"no email",{"$error":"#VALUE!"},{"$error":"#VALUE!"},{"$f":"VLOOKUP(K4087,references!$A$1:$B$7,2,FALSE)","v":{"$error":"#N/A"}}]
[null,null,null,null,null,null,null,null,null,null,null,null,"no email",{"$error":"#VALUE!"},{"$error":"#VALUE!"},{"$f":"VLOOKUP(K4088,references!$A$1:$B$7,2,FALSE)","v":{"$error":"#N/A"}}]
[null,null,null,null,null,null,null,null,null,null,null,null,"no email",{"$error":"#VALUE!"},{"$error":"#VALUE!"},{"$f":"VLOOKUP(K4089,references!$A$1:$B$7,2,FALSE)","v":{"$error":"#N/A"}}]
[null,null,null,null,null,null,null,null,null,null,null,null,"no email",{"$error":"#VALUE!"},{"$error":"#VALUE!"},{"$f":"VLOOKUP(K4090,references!$A$1:$B$7,2,FALSE)","v":{"$error":"#N/A"}}]
[null,null,null,null,null,null,null,null,null,null,null,null,"no email",{"$error":"#VALUE!"},{"$error":"#VALUE!"},{"$f":"VLOOKUP(K4091,references!$A$1:$B$7,2,FALSE)","v":{"$error":"#N/A"}}]
[null,null,null,null,null,null,null,null,null,null,null,null,"no email",{"$error":"#VALUE!"},{"$error":"#VALUE!"},{"$f":"VLOOKUP(K4092,references!$A$1:$B$7,2,FALSE)","v":{"$error":"#N/A"}}]
[null,null,null,null,null,null,null,null,null,null,null,null,"no email",{"$error":"#VALUE!"},{"$error":"#VALUE!"},{"$f":"VLOOKUP(K4093,references!$A$1:$B$7,2,FALSE)","v":{"$error":"#N/A"}}]
[null,null,null,null,null,null,null,null,null,null,null,null,"no email",{"$error":"#VALUE!"},{"$error":"#VALUE!"},{"$f":"VLOOKUP(K4094,references!$A$1:$B$7,2,FALSE)","v":{"$error":"#N/A"}}]
[null,null,null,null,null,null,null,null,null,null,null,null,"no email",{"$error":"#VALUE!"},{"$error":"#VALUE!"},{"$f":"VLOOKUP(K4095,references!$A$1:$B$7,2,FALSE)","v":{"$error":"#N/A"}}]
[null,null,null,null,null,null,null,null,null,null,null,null,"no email",{"$error":"#VALUE!"},{"$error":"#VALUE!"},{"$f":"VLOOKUP(K4096,references!$A$1:$B$7,2,FALSE)","v":{"$error":"#N/A"}}]
[null,null,null,null,null,null,null,null,null,null,null,null,"no email",{"$error":"#VALUE!"},{"$error":"#VALUE!"},{"$f":"VLOOKUP(K4097,references!$A$1:$B$7,2,FALSE)","v":{"$error":"#N/A"}}]
[null,null,null,null,null,null,null,null,null,null,null,null,{"$f":"IF(L4098=\"\", \"no email\",LOWER(L4098))","v":"no email"},{"$f":"LEFT(A4098, SEARCH(\",\",A4098,1)-1)","v":{"$error":"#VALUE!"}},{"$f":"RIGHT(A4098, LEN(A4098) -SEARCH(\",\",A4098,1)-1)","v":{"$error":"#VALUE!"}},{"$f":"VLOOKUP(K4098,references!$A$1:$B$7,2,FALSE)","v":{"$error":"#N/A"}}]
[null,null,null,null,null,null,null,null,null,null,null,null,"no email",{"$error":"#VALUE!"},{"$error":"#VALUE!"},{"$f":"VLOOKUP(K4099,references!$A$1:$B$7,2,FALSE)","v":{"$error":"#N/A"}}]
[null,null,null,null,null,null,null,null,null,null,null,null,"no email",{"$error":"#VALUE!"},{"$error":"#VALUE!"},{"$f":"VLOOKUP(K4100,references!$A$1:$B$7,2,FALSE)","v":{"$error":"#N/A"}}]
[null,null,null,null,null,null,null,null,null,null,null,null,"no email",{"$error":"#VALUE!"},{"$error":"#VALUE!"},{"$f":"VLOOKUP(K4101,references!$A$1:$B$7,2,FALSE)","v":{"$error":"#N/A"}}]
[null,null,null,null,null,null,null,null,null,null,null,null,"no email",{"$error":"#VALUE!"},{"$error":"#VALUE!"},{"$f":"VLOOKUP(K4102,references!$A$1:$B$7,2,FALSE)","v":{"$error":"#N/A"}}]
[null,null,null,null,null,null,null,null,null,null,null,null,"no email",{"$error":"#VALUE!"},{"$error":"#VALUE!"},{"$f":"VLOOKUP(K4103,references!$A$1:$B$7,2,FALSE)","v":{"$error":"#N/A"}}]
[null,null,null,null,null,null,null,null,null,null,null,null,"no email",{"$error":"#VALUE!"},{"$error":"#VALUE!"},{"$f":"VLOOKUP(K4104,references!$A$1:$B$7,2,FALSE)","v":{"$error":"#N/A"}}]
[null,null,null,null,null,null,null,null,null,null,null,null,"no email",{"$error":"#VALUE!"},{"$error":"#VALUE!"},{"$f":"VLOOKUP(K4105,references!$A$1:$B$7,2,FALSE)","v":{"$error":"#N/A"}}]
[null,null,null,null,null,null,null,null,null,null,null,null,"no email",{"$error":"#VALUE!"},{"$error":"#VALUE!"},{"$f":"VLOOKUP(K4106,references!$A$1:$B$7,2,FALSE)","v":{"$error":"#N/A"}}]
[null,null,null,null,null,null,null,null,null,null,null,null,"no email",{"$error":"#VALUE!"},{"$error":"#VALUE!"},{"$f":"VLOOKUP(K4107,references!$A$1:$B$7,2,FALSE)","v":{"$error":"#N/A"}}]
[null,null,null,null,null,null,null,null,null,null,null,null,"no email",{"$error":"#VALUE!"},{"$error":"#VALUE!"},{"$f":"VLOOKUP(K4108,references!$A$1:$B$7,2,FALSE)","v":{"$error":"#N/A"}}]
[null,null,null,null,null,null,null,null,null,null,null,null,"no email",{"$error":"#VALUE!"},{"$error":"#VALUE!"},{"$f":"VLOOKUP(K4109,references!$A$1:$B$7,2,FALSE)","v":{"$error":"#N/A"}}]
[null,null,null,null,null,null,null,null,null,null,null,null,"no email",{"$error":"#VALUE!"},{"$error":"#VALUE!"},{"$f":"VLOOKUP(K4110,references!$A$1:$B$7,2,FALSE)","v":{"$error":"#N/A"}}]
[null,null,null,null,null,null,null,null,null,null,null,null,"no email",{"$error":"#VALUE!"},{"$error":"#VALUE!"},{"$f":"VLOOKUP(K4111,references!$A$1:$B$7,2,FALSE)","v":{"$error":"#N/A"}}]
[null,null,null,null,null,null,null,null,null,null,null,null,"no email",{"$error":"#VALUE!"},{"$error":"#VALUE!"},{"$f":"VLOOKUP(K4112,references!$A$1:$B$7,2,FALSE)","v":{"$error":"#N/A"}}]
[null,null,null,null,null,null,null,null,null,null,null,null,"no email",{"$error":"#VALUE!"},{"$error":"#VALUE!"},{"$f":"VLOOKUP(K4113,references!$A$1:$B$7,2,FALSE)","v":{"$error":"#N/A"}}]
[null,null,null,null,null,null,null,null,null,null,null,null,"no email",{"$error":"#VALUE!"},{"$error":"#VALUE!"},{"$f":"VLOOKUP(K4114,references!$A$1:$B$7,2,FALSE)","v":{"$error":"#N/A"}}]
[null,null,null,null,null,null,null,null,null,null,null,null,"no email",{"$error":"#VALUE!"},{"$error":"#VALUE!"},{"$f":"VLOOKUP(K4115,references!$A$1:$B$7,2,FALSE)","v":{"$error":"#N/A"}}]
[null,null,null,null,null,null,null,null,null,null,null,null,"no email",{"$error":"#VALUE!"},{"$error":"#VALUE!"},{"$f":"VLOOKUP(K4116,references!$A$1:$B$7,2,FALSE)","v":{"$error":"#N/A"}}]
[null,null,null,null,null,null,null,null,null,null,null,null,"no email",{"$error":"#VALUE!"},{"$error":"#VALUE!"},{"$f":"VLOOKUP(K4117,references!$A$1:$B$7,2,FALSE)","v":{"$error":"#N/A"}}]
[null,null,null,null,null,null,null,null,null,null,null,null,"no email",{"$error":"#VALUE!"},{"$error":"#VALUE!"},{"$f":"VLOOKUP(K4118,references!$A$1:$B$7,2,FALSE)","v":{"$error":"#N/A"}}]
[null,null,null,null,null,null,null,null,null,null,null,null,"no email",{"$error":"#VALUE!"},{"$error":"#VALUE!"},{"$f":"VLOOKUP(K4119,references!$A$1:$B$7,2,FALSE)","v":{"$error":"#N/A"}}]
[null,null,null,null,null,null,null,null,null,null,null,null,"no email",{"$error":"#VALUE!"},{"$error":"#VALUE!"},{"$f":"VLOOKUP(K4120,references!$A$1:$B$7,2,FALSE)","v":{"$error":"#N/A"}}]
[null,null,null,null,null,null,null,null,null,null,null,null,"no email",{"$error":"#VALUE!"},{"$error":"#VALUE!"},{"$f":"VLOOKUP(K4121,references!$A$1:$B$7,2,FALSE)","v":{"$error":"#N/A"}}]
[null,null,null,null,null,null,null,null,null,null,null,null,"no email",{"$error":"#VALUE!"},{"$error":"#VALUE!"},{"$f":"VLOOKUP(K4122,references!$A$1:$B$7,2,FALSE)","v":{"$error":"#N/A"}}]
[null,null,null,null,null,null,null,null,null,null,null,null,"no email",{"$error":"#VALUE!"},{"$error":"#VALUE!"},{"$f":"VLOOKUP(K4123,references!$A$1:$B$7,2,FALSE)","v":{"$error":"#N/A"}}]
[null,null,null,null,null,null,null,null,null,null,null,null,"no email",{"$error":"#VALUE!"},{"$error":"#VALUE!"},{"$f":"VLOOKUP(K4124,references!$A$1:$B$7,2,FALSE)","v":{"$error":"#N/A"}}]
[null,null,null,null,null,null,null,null,null,null,null,null,"no email",{"$error":"#VALUE!"},{"$error":"#VALUE!"},{"$f":"VLOOKUP(K4125,references!$A$1:$B$7,2,FALSE)","v":{"$error":"#N/A"}}]
[null,null,null,null,null,null,null,null,null,null,null,null,"no email",{"$error":"#VALUE!"},{"$error":"#VALUE!"},{"$f":"VLOOKUP(K4126,references!$A$1:$B$7,2,FALSE)","v":{"$error":"#N/A"}}]
[null,null,null,null,null,null,null,null,null,null,null,null,"no email",{"$error":"#VALUE!"},{"$error":"#VALUE!"},{"$f":"VLOOKUP(K4127,references!$A$1:$B$7,2,FALSE)","v":{"$error":"#N/A"}}]
[null,null,null,null,null,null,null,null,null,null,null,null,"no email",{"$error":"#VALUE!"},{"$error":"#VALUE!"},{"$f":"VLOOKUP(K4128,references!$A$1:$B$7,2,FALSE)","v":{"$error":"#N/A"}}]
[null,null,null,null,null,null,null,null,null,null,null,null,"no email",{"$error":"#VALUE!"},{"$error":"#VALUE!"},{"$f":"VLOOKUP(K4129,references!$A$1:$B$7,2,FALSE)","v":{"$error":"#N/A"}}]
[null,null,null,null,null,null,null,null,null,null,null,null,"no email",{"$error":"#VALUE!"},{"$error":"#VALUE!"},{"$f":"VLOOKUP(K4130,references!$A$1:$B$7,2,FALSE)","v":{"$error":"#N/A"}}]
[null,null,null,null,null,null,null,null,null,null,null,null,"no email",{"$error":"#VALUE!"},{"$error":"#VALUE!"},{"$f":"VLOOKUP(K4131,references!$A$1:$B$7,2,FALSE)","v":{"$error":"#N/A"}}]
[null,null,null,null,null,null,null,null,null,null,null,null,"no email",{"$error":"#VALUE!"},{"$error":"#VALUE!"},{"$f":"VLOOKUP(K4132,references!$A$1:$B$7,2,FALSE)","v":{"$error":"#N/A"}}]
[null,null,null,null,null,null,null,null,null,null,null,null,"no email",{"$error":"#VALUE!"},{"$error":"#VALUE!"},{"$f":"VLOOKUP(K4133,references!$A$1:$B$7,2,FALSE)","v":{"$error":"#N/A"}}]
[null,null,null,null,null,null,null,null,null,null,null,null,"no email",{"$error":"#VALUE!"},{"$error":"#VALUE!"},{"$f":"VLOOKUP(K4134,references!$A$1:$B$7,2,FALSE)","v":{"$error":"#N/A"}}]
[null,null,null,null,null,null,null,null,null,null,null,null,"no email",{"$error":"#VALUE!"},{"$error":"#VALUE!"},{"$f":"VLOOKUP(K4135,references!$A$1:$B$7,2,FALSE)","v":{"$error":"#N/A"}}]
[null,null,null,null,null,null,null,null,null,null,null,null,"no email",{"$error":"#VALUE!"},{"$error":"#VALUE!"},{"$f":"VLOOKUP(K4136,references!$A$1:$B$7,2,FALSE)","v":{"$error":"#N/A"}}]
[null,null,null,null,null,null,null,null,null,null,null,null,"no email",{"$error":"#VALUE!"},{"$error":"#VALUE!"},{"$f":"VLOOKUP(K4137,references!$A$1:$B$7,2,FALSE)","v":{"$error":"#N/A"}}]
[null,null,null,null,null,null,null,null,null,null,null,null,"no email",{"$error":"#VALUE!"},{"$error":"#VALUE!"},{"$f":"VLOOKUP(K4138,references!$A$1:$B$7,2,FALSE)","v":{"$error":"#N/A"}}]
[null,null,null,null,null,null,null,null,null,null,null,null,"no email",{"$error":"#VALUE!"},{"$error":"#VALUE!"},{"$f":"VLOOKUP(K4139,references!$A$1:$B$7,2,FALSE)","v":{"$error":"#N/A"}}]
[null,null,null,null,null,null,null,null,null,null,null,null,"no email",{"$error":"#VALUE!"},{"$error":"#VALUE!"},{"$f":"VLOOKUP(K4140,references!$A$1:$B$7,2,FALSE)","v":{"$error":"#N/A"}}]
[null,null,null,null,null,null,null,null,null,null,null,null,"no email",{"$error":"#VALUE!"},{"$error":"#VALUE!"},{"$f":"VLOOKUP(K4141,references!$A$1:$B$7,2,FALSE)","v":{"$error":"#N/A"}}]
[null,null,null,null,null,null,null,null,null,null,null,null,"no email",{"$error":"#VALUE!"},{"$error":"#VALUE!"},{"$f":"VLOOKUP(K4142,references!$A$1:$B$7,2,FALSE)","v":{"$error":"#N/A"}}]
[null,null,null,null,null,null,null,null,null,null,null,null,"no email",{"$error":"#VALUE!"},{"$error":"#VALUE!"},{"$f":"VLOOKUP(K4143,references!$A$1:$B$7,2,FALSE)","v":{"$error":"#N/A"}}]
[null,null,null,null,null,null,null,null,null,null,null,null,"no email",{"$error":"#VALUE!"},{"$error":"#VALUE!"},{"$f":"VLOOKUP(K4144,references!$A$1:$B$7,2,FALSE)","v":{"$error":"#N/A"}}]
[null,null,null,null,null,null,null,null,null,null,null,null,"no email",{"$error":"#VALUE!"},{"$error":"#VALUE!"},{"$f":"VLOOKUP(K4145,references!$A$1:$B$7,2,FALSE)","v":{"$error":"#N/A"}}]
[null,null,null,null,null,null,null,null,null,null,null,null,"no email",{"$error":"#VALUE!"},{"$error":"#VALUE!"},{"$f":"VLOOKUP(K4146,references!$A$1:$B$7,2,FALSE)","v":{"$error":"#N/A"}}]
[null,null,null,null,null,null,null,null,null,null,null,null,"no email",{"$error":"#VALUE!"},{"$error":"#VALUE!"},{"$f":"VLOOKUP(K4147,references!$A$1:$B$7,2,FALSE)","v":{"$error":"#N/A"}}]
[null,null,null,null,null,null,null,null,null,null,null,null,"no email",{"$error":"#VALUE!"},{"$error":"#VALUE!"},{"$f":"VLOOKUP(K4148,references!$A$1:$B$7,2,FALSE)","v":{"$error":"#N/A"}}]
[null,null,null,null,null,null,null,null,null,null,null,null,"no email",{"$error":"#VALUE!"},{"$error":"#VALUE!"},{"$f":"VLOOKUP(K4149,references!$A$1:$B$7,2,FALSE)","v":{"$error":"#N/A"}}]
[null,null,null,null,null,null,null,null,null,null,null,null,"no email",{"$error":"#VALUE!"},{"$error":"#VALUE!"},{"$f":"VLOOKUP(K4150,references!$A$1:$B$7,2,FALSE)","v":{"$error":"#N/A"}}]
[null,null,null,null,null,null,null,null,null,null,null,null,"no email",{"$error":"#VALUE!"},{"$error":"#VALUE!"},{"$f":"VLOOKUP(K4151,references!$A$1:$B$7,2,FALSE)","v":{"$error":"#N/A"}}]
[null,null,null,null,null,null,null,null,null,null,null,null,"no email",{"$error":"#VALUE!"},{"$error":"#VALUE!"},{"$f":"VLOOKUP(K4152,references!$A$1:$B$7,2,FALSE)","v":{"$error":"#N/A"}}]
[null,null,null,null,null,null,null,null,null,null,null,null,"no email",{"$error":"#VALUE!"},{"$error":"#VALUE!"},{"$f":"VLOOKUP(K4153,references!$A$1:$B$7,2,FALSE)","v":{"$error":"#N/A"}}]
[null,null,null,null,null,null,null,null,null,null,null,null,"no email",{"$error":"#VALUE!"},{"$error":"#VALUE!"},{"$f":"VLOOKUP(K4154,references!$A$1:$B$7,2,FALSE)","v":{"$error":"#N/A"}}]
[null,null,null,null,null,null,null,null,null,null,null,null,"no email",{"$error":"#VALUE!"},{"$error":"#VALUE!"},{"$f":"VLOOKUP(K4155,references!$A$1:$B$7,2,FALSE)","v":{"$error":"#N/A"}}]
[null,null,null,null,null,null,null,null,null,null,null,null,"no email",{"$error":"#VALUE!"},{"$error":"#VALUE!"},{"$f":"VLOOKUP(K4156,references!$A$1:$B$7,2,FALSE)","v":{"$error":"#N/A"}}]
[null,null,null,null,null,null,null,null,null,null,null,null,"no email",{"$error":"#VALUE!"},{"$error":"#VALUE!"},{"$f":"VLOOKUP(K4157,references!$A$1:$B$7,2,FALSE)","v":{"$error":"#N/A"}}]
[null,null,null,null,null,null,null,null,null,null,null,null,"no email",{"$error":"#VALUE!"},{"$error":"#VALUE!"},{"$f":"VLOOKUP(K4158,references!$A$1:$B$7,2,FALSE)","v":{"$error":"#N/A"}}]
[null,null,null,null,null,null,null,null,null,null,null,null,"no email",{"$error":"#VALUE!"},{"$error":"#VALUE!"},{"$f":"VLOOKUP(K4159,references!$A$1:$B$7,2,FALSE)","v":{"$error":"#N/A"}}]
[null,null,null,null,null,null,null,null,null,null,null,null,"no email",{"$error":"#VALUE!"},{"$error":"#VALUE!"},{"$f":"VLOOKUP(K4160,references!$A$1:$B$7,2,FALSE)","v":{"$error":"#N/A"}}]
[null,null,null,null,null,null,null,null,null,null,null,null,"no email",{"$error":"#VALUE!"},{"$error":"#VALUE!"},{"$f":"VLOOKUP(K4161,references!$A$1:$B$7,2,FALSE)","v":{"$error":"#N/A"}}]
[null,null,null,null,null,null,null,null,null,null,null,null,{"$f":"IF(L4162=\"\", \"no email\",LOWER(L4162))","v":"no email"},{"$f":"LEFT(A4162, SEARCH(\",\",A4162,1)-1)","v":{"$error":"#VALUE!"}},{"$f":"RIGHT(A4162, LEN(A4162) -SEARCH(\",\",A4162,1)-1)","v":{"$error":"#VALUE!"}},{"$f":"VLOOKUP(K4162,references!$A$1:$B$7,2,FALSE)","v":{"$error":"#N/A"}}]
[null,null,null,null,null,null,null,null,null,null,null,null,"no email",{"$error":"#VALUE!"},{"$error":"#VALUE!"},{"$f":"VLOOKUP(K4163,references!$A$1:$B$7,2,FALSE)","v":{"$error":"#N/A"}}]
[null,null,null,null,null,null,null,null,null,null,null,null,"no email",{"$error":"#VALUE!"},{"$error":"#VALUE!"},{"$f":"VLOOKUP(K4164,references!$A$1:$B$7,2,FALSE)","v":{"$error":"#N/A"}}]
[null,null,null,null,null,null,null,null,null,null,null,null,"no email",{"$error":"#VALUE!"},{"$error":"#VALUE!"},{"$f":"VLOOKUP(K4165,references!$A$1:$B$7,2,FALSE)","v":{"$error":"#N/A"}}]
[null,null,null,null,null,null,null,null,null,null,null,null,"no email",{"$error":"#VALUE!"},{"$error":"#VALUE!"},{"$f":"VLOOKUP(K4166,references!$A$1:$B$7,2,FALSE)","v":{"$error":"#N/A"}}]
[null,null,null,null,null,null,null,null,null,null,null,null,"no email",{"$error":"#VALUE!"},{"$error":"#VALUE!"},{"$f":"VLOOKUP(K4167,references!$A$1:$B$7,2,FALSE)","v":{"$error":"#N/A"}}]
[null,null,null,null,null,null,null,null,null,null,null,null,"no email",{"$error":"#VALUE!"},{"$error":"#VALUE!"},{"$f":"VLOOKUP(K4168,references!$A$1:$B$7,2,FALSE)","v":{"$error":"#N/A"}}]
[null,null,null,null,null,null,null,null,null,null,null,null,"no email",{"$error":"#VALUE!"},{"$error":"#VALUE!"},{"$f":"VLOOKUP(K4169,references!$A$1:$B$7,2,FALSE)","v":{"$error":"#N/A"}}]
[null,null,null,null,null,null,null,null,null,null,null,null,"no email",{"$error":"#VALUE!"},{"$error":"#VALUE!"},{"$f":"VLOOKUP(K4170,references!$A$1:$B$7,2,FALSE)","v":{"$error":"#N/A"}}]
[null,null,null,null,null,null,null,null,null,null,null,null,"no email",{"$error":"#VALUE!"},{"$error":"#VALUE!"},{"$f":"VLOOKUP(K4171,references!$A$1:$B$7,2,FALSE)","v":{"$error":"#N/A"}}]
[null,null,null,null,null,null,null,null,null,null,null,null,"no email",{"$error":"#VALUE!"},{"$error":"#VALUE!"},{"$f":"VLOOKUP(K4172,references!$A$1:$B$7,2,FALSE)","v":{"$error":"#N/A"}}]
[null,null,null,null,null,null,null,null,null,null,null,null,"no email",{"$error":"#VALUE!"},{"$error":"#VALUE!"},{"$f":"VLOOKUP(K4173,references!$A$1:$B$7,2,FALSE)","v":{"$error":"#N/A"}}]
[null,null,null,null,null,null,null,null,null,null,null,null,"no email",{"$error":"#VALUE!"},{"$error":"#VALUE!"},{"$f":"VLOOKUP(K4174,references!$A$1:$B$7,2,FALSE)","v":{"$error":"#N/A"}}]
[null,null,null,null,null,null,null,null,null,null,null,null,"no email",{"$error":"#VALUE!"},{"$error":"#VALUE!"},{"$f":"VLOOKUP(K4175,references!$A$1:$B$7,2,FALSE)","v":{"$error":"#N/A"}}]
[null,null,null,null,null,null,null,null,null,null,null,null,"no email",{"$error":"#VALUE!"},{"$error":"#VALUE!"},{"$f":"VLOOKUP(K4176,references!$A$1:$B$7,2,FALSE)","v":{"$error":"#N/A"}}]
[null,null,null,null,null,null,null,null,null,null,null,null,"no email",{"$error":"#VALUE!"},{"$error":"#VALUE!"},{"$f":"VLOOKUP(K4177,references!$A$1:$B$7,2,FALSE)","v":{"$error":"#N/A"}}]
[null,null,null,null,null,null,null,null,null,null,null,null,"no email",{"$error":"#VALUE!"},{"$error":"#VALUE!"},{"$f":"VLOOKUP(K4178,references!$A$1:$B$7,2,FALSE)","v":{"$error":"#N/A"}}]
[null,null,null,null,null,null,null,null,null,null,null,null,"no email",{"$error":"#VALUE!"},{"$error":"#VALUE!"},{"$f":"VLOOKUP(K4179,references!$A$1:$B$7,2,FALSE)","v":{"$error":"#N/A"}}]
[null,null,null,null,null,null,null,null,null,null,null,null,"no email",{"$error":"#VALUE!"},{"$error":"#VALUE!"},{"$f":"VLOOKUP(K4180,references!$A$1:$B$7,2,FALSE)","v":{"$error":"#N/A"}}]
[null,null,null,null,null,null,null,null,null,null,null,null,"no email",{"$error":"#VALUE!"},{"$error":"#VALUE!"},{"$f":"VLOOKUP(K4181,references!$A$1:$B$7,2,FALSE)","v":{"$error":"#N/A"}}]
[null,null,null,null,null,null,null,null,null,null,null,null,"no email",{"$error":"#VALUE!"},{"$error":"#VALUE!"},{"$f":"VLOOKUP(K4182,references!$A$1:$B$7,2,FALSE)","v":{"$error":"#N/A"}}]
[null,null,null,null,null,null,null,null,null,null,null,null,"no email",{"$error":"#VALUE!"},{"$error":"#VALUE!"},{"$f":"VLOOKUP(K4183,references!$A$1:$B$7,2,FALSE)","v":{"$error":"#N/A"}}]
[null,null,null,null,null,null,null,null,null,null,null,null,"no email",{"$error":"#VALUE!"},{"$error":"#VALUE!"},{"$f":"VLOOKUP(K4184,references!$A$1:$B$7,2,FALSE)","v":{"$error":"#N/A"}}]
[null,null,null,null,null,null,null,null,null,null,null,null,"no email",{"$error":"#VALUE!"},{"$error":"#VALUE!"},{"$f":"VLOOKUP(K4185,references!$A$1:$B$7,2,FALSE)","v":{"$error":"#N/A"}}]
[null,null,null,null,null,null,null,null,null,null,null,null,"no email",{"$error":"#VALUE!"},{"$error":"#VALUE!"},{"$f":"VLOOKUP(K4186,references!$A$1:$B$7,2,FALSE)","v":{"$error":"#N/A"}}]
[null,null,null,null,null,null,null,null,null,null,null,null,"no email",{"$error":"#VALUE!"},{"$error":"#VALUE!"},{"$f":"VLOOKUP(K4187,references!$A$1:$B$7,2,FALSE)","v":{"$error":"#N/A"}}]
[null,null,null,null,null,null,null,null,null,null,null,null,"no email",{"$error":"#VALUE!"},{"$error":"#VALUE!"},{"$f":"VLOOKUP(K4188,references!$A$1:$B$7,2,FALSE)","v":{"$error":"#N/A"}}]
[null,null,null,null,null,null,null,null,null,null,null,null,"no email",{"$error":"#VALUE!"},{"$error":"#VALUE!"},{"$f":"VLOOKUP(K4189,references!$A$1:$B$7,2,FALSE)","v":{"$error":"#N/A"}}]
[null,null,null,null,null,null,null,null,null,null,null,null,"no email",{"$error":"#VALUE!"},{"$error":"#VALUE!"},{"$f":"VLOOKUP(K4190,references!$A$1:$B$7,2,FALSE)","v":{"$error":"#N/A"}}]
[null,null,null,null,null,null,null,null,null,null,null,null,"no email",{"$error":"#VALUE!"},{"$error":"#VALUE!"},{"$f":"VLOOKUP(K4191,references!$A$1:$B$7,2,FALSE)","v":{"$error":"#N/A"}}]
[null,null,null,null,null,null,null,null,null,null,null,null,"no email",{"$error":"#VALUE!"},{"$error":"#VALUE!"},{"$f":"VLOOKUP(K4192,references!$A$1:$B$7,2,FALSE)","v":{"$error":"#N/A"}}]
[null,null,null,null,null,null,null,null,null,null,null,null,"no email",{"$error":"#VALUE!"},{"$error":"#VALUE!"},{"$f":"VLOOKUP(K4193,references!$A$1:$B$7,2,FALSE)","v":{"$error":"#N/A"}}]
[null,null,null,null,null,null,null,null,null,null,null,null,"no email",{"$error":"#VALUE!"},{"$error":"#VALUE!"},{"$f":"VLOOKUP(K4194,references!$A$1:$B$7,2,FALSE)","v":{"$error":"#N/A"}}]
[null,null,null,null,null,null,null,null,null,null,null,null,"no email",{"$error":"#VALUE!"},{"$error":"#VALUE!"},{"$f":"VLOOKUP(K4195,references!$A$1:$B$7,2,FALSE)","v":{"$error":"#N/A"}}]
[null,null,null,null,null,null,null,null,null,null,null,null,"no email",{"$error":"#VALUE!"},{"$error":"#VALUE!"},{"$f":"VLOOKUP(K4196,references!$A$1:$B$7,2,FALSE)","v":{"$error":"#N/A"}}]
[null,null,null,null,null,null,null,null,null,null,null,null,"no email",{"$error":"#VALUE!"},{"$error":"#VALUE!"},{"$f":"VLOOKUP(K4197,references!$A$1:$B$7,2,FALSE)","v":{"$error":"#N/A"}}]
[null,null,null,null,null,null,null,null,null,null,null,null,"no email",{"$error":"#VALUE!"},{"$error":"#VALUE!"},{"$f":"VLOOKUP(K4198,references!$A$1:$B$7,2,FALSE)","v":{"$error":"#N/A"}}]
[null,null,null,null,null,null,null,null,null,null,null,null,"no email",{"$error":"#VALUE!"},{"$error":"#VALUE!"},{"$f":"VLOOKUP(K4199,references!$A$1:$B$7,2,FALSE)","v":{"$error":"#N/A"}}]
[null,null,null,null,null,null,null,null,null,null,null,null,"no email",{"$error":"#VALUE!"},{"$error":"#VALUE!"},{"$f":"VLOOKUP(K4200,references!$A$1:$B$7,2,FALSE)","v":{"$error":"#N/A"}}]
[null,null,null,null,null,null,null,null,null,null,null,null,"no email",{"$error":"#VALUE!"},{"$error":"#VALUE!"},{"$f":"VLOOKUP(K4201,references!$A$1:$B$7,2,FALSE)","v":{"$error":"#N/A"}}]
[null,null,null,null,null,null,null,null,null,null,null,null,"no email",{"$error":"#VALUE!"},{"$error":"#VALUE!"},{"$f":"VLOOKUP(K4202,references!$A$1:$B$7,2,FALSE)","v":{"$error":"#N/A"}}]
[null,null,null,null,null,null,null,null,null,null,null,null,"no email",{"$error":"#VALUE!"},{"$error":"#VALUE!"},{"$f":"VLOOKUP(K4203,references!$A$1:$B$7,2,FALSE)","v":{"$error":"#N/A"}}]
[null,null,null,null,null,null,null,null,null,null,null,null,"no email",{"$error":"#VALUE!"},{"$error":"#VALUE!"},{"$f":"VLOOKUP(K4204,references!$A$1:$B$7,2,FALSE)","v":{"$error":"#N/A"}}]
[null,null,null,null,null,null,null,null,null,null,null,null,"no email",{"$error":"#VALUE!"},{"$error":"#VALUE!"},{"$f":"VLOOKUP(K4205,references!$A$1:$B$7,2,FALSE)","v":{"$error":"#N/A"}}]
[null,null,null,null,null,null,null,null,null,null,null,null,"no email",{"$error":"#VALUE!"},{"$error":"#VALUE!"},{"$f":"VLOOKUP(K4206,references!$A$1:$B$7,2,FALSE)","v":{"$error":"#N/A"}}]
[null,null,null,null,null,null,null,null,null,null,null,null,"no email",{"$error":"#VALUE!"},{"$error":"#VALUE!"},{"$f":"VLOOKUP(K4207,references!$A$1:$B$7,2,FALSE)","v":{"$error":"#N/A"}}]
[null,null,null,null,null,null,null,null,null,null,null,null,"no email",{"$error":"#VALUE!"},{"$error":"#VALUE!"},{"$f":"VLOOKUP(K4208,references!$A$1:$B$7,2,FALSE)","v":{"$error":"#N/A"}}]
[null,null,null,null,null,null,null,null,null,null,null,null,"no email",{"$error":"#VALUE!"},{"$error":"#VALUE!"},{"$f":"VLOOKUP(K4209,references!$A$1:$B$7,2,FALSE)","v":{"$error":"#N/A"}}]
[null,null,null,null,null,null,null,null,null,null,null,null,"no email",{"$error":"#VALUE!"},{"$error":"#VALUE!"},{"$f":"VLOOKUP(K4210,references!$A$1:$B$7,2,FALSE)","v":{"$error":"#N/A"}}]
[null,null,null,null,null,null,null,null,null,null,null,null,"no email",{"$error":"#VALUE!"},{"$error":"#VALUE!"},{"$f":"VLOOKUP(K4211,references!$A$1:$B$7,2,FALSE)","v":{"$error":"#N/A"}}]
[null,null,null,null,null,null,null,null,null,null,null,null,"no email",{"$error":"#VALUE!"},{"$error":"#VALUE!"},{"$f":"VLOOKUP(K4212,references!$A$1:$B$7,2,FALSE)","v":{"$error":"#N/A"}}]
[null,null,null,null,null,null,null,null,null,null,null,null,"no email",{"$error":"#VALUE!"},{"$error":"#VALUE!"},{"$f":"VLOOKUP(K4213,references!$A$1:$B$7,2,FALSE)","v":{"$error":"#N/A"}}]
[null,null,null,null,null,null,null,null,null,null,null,null,"no email",{"$error":"#VALUE!"},{"$error":"#VALUE!"},{"$f":"VLOOKUP(K4214,references!$A$1:$B$7,2,FALSE)","v":{"$error":"#N/A"}}]
[null,null,null,null,null,null,null,null,null,null,null,null,"no email",{"$error":"#VALUE!"},{"$error":"#VALUE!"},{"$f":"VLOOKUP(K4215,references!$A$1:$B$7,2,FALSE)","v":{"$error":"#N/A"}}]
[null,null,null,null,null,null,null,null,null,null,null,null,"no email",{"$error":"#VALUE!"},{"$error":"#VALUE!"},{"$f":"VLOOKUP(K4216,references!$A$1:$B$7,2,FALSE)","v":{"$error":"#N/A"}}]
[null,null,null,null,null,null,null,null,null,null,null,null,"no email",{"$error":"#VALUE!"},{"$error":"#VALUE!"},{"$f":"VLOOKUP(K4217,references!$A$1:$B$7,2,FALSE)","v":{"$error":"#N/A"}}]
[null,null,null,null,null,null,null,null,null,null,null,null,"no email",{"$error":"#VALUE!"},{"$error":"#VALUE!"},{"$f":"VLOOKUP(K4218,references!$A$1:$B$7,2,FALSE)","v":{"$error":"#N/A"}}]
[null,null,null,null,null,null,null,null,null,null,null,null,"no email",{"$error":"#VALUE!"},{"$error":"#VALUE!"},{"$f":"VLOOKUP(K4219,references!$A$1:$B$7,2,FALSE)","v":{"$error":"#N/A"}}]
[null,null,null,null,null,null,null,null,null,null,null,null,"no email",{"$error":"#VALUE!"},{"$error":"#VALUE!"},{"$f":"VLOOKUP(K4220,references!$A$1:$B$7,2,FALSE)","v":{"$error":"#N/A"}}]
[null,null,null,null,null,null,null,null,null,null,null,null,"no email",{"$error":"#VALUE!"},{"$error":"#VALUE!"},{"$f":"VLOOKUP(K4221,references!$A$1:$B$7,2,FALSE)","v":{"$error":"#N/A"}}]
[null,null,null,null,null,null,null,null,null,null,null,null,"no email",{"$error":"#VALUE!"},{"$error":"#VALUE!"},{"$f":"VLOOKUP(K4222,references!$A$1:$B$7,2,FALSE)","v":{"$error":"#N/A"}}]
[null,null,null,null,null,null,null,null,null,null,null,null,"no email",{"$error":"#VALUE!"},{"$error":"#VALUE!"},{"$f":"VLOOKUP(K4223,references!$A$1:$B$7,2,FALSE)","v":{"$error":"#N/A"}}]
[null,null,null,null,null,null,null,null,null,null,null,null,"no email",{"$error":"#VALUE!"},{"$error":"#VALUE!"},{"$f":"VLOOKUP(K4224,references!$A$1:$B$7,2,FALSE)","v":{"$error":"#N/A"}}]
[null,null,null,null,null,null,null,null,null,null,null,null,"no email",{"$error":"#VALUE!"},{"$error":"#VALUE!"},{"$f":"VLOOKUP(K4225,references!$A$1:$B$7,2,FALSE)","v":{"$error":"#N/A"}}]
[null,null,null,null,null,null,null,null,null,null,null,null,{"$f":"IF(L4226=\"\", \"no email\",LOWER(L4226))","v":"no email"},{"$f":"LEFT(A4226, SEARCH(\",\",A4226,1)-1)","v":{"$error":"#VALUE!"}},{"$f":"RIGHT(A4226, LEN(A4226) -SEARCH(\",\",A4226,1)-1)","v":{"$error":"#VALUE!"}},{"$f":"VLOOKUP(K4226,references!$A$1:$B$7,2,FALSE)","v":{"$error":"#N/A"}}]
[null,null,null,null,null,null,null,null,null,null,null,null,"no email",{"$error":"#VALUE!"},{"$error":"#VALUE!"},{"$f":"VLOOKUP(K4227,references!$A$1:$B$7,2,FALSE)","v":{"$error":"#N/A"}}]
[null,null,null,null,null,null,null,null,null,null,null,null,"no email",{"$error":"#VALUE!"},{"$error":"#VALUE!"},{"$f":"VLOOKUP(K4228,references!$A$1:$B$7,2,FALSE)","v":{"$error":"#N/A"}}]
[null,null,null,null,null,null,null,null,null,null,null,null,"no email",{"$error":"#VALUE!"},{"$error":"#VALUE!"},{"$f":"VLOOKUP(K4229,references!$A$1:$B$7,2,FALSE)","v":{"$error":"#N/A"}}]
[null,null,null,null,null,null,null,null,null,null,null,null,"no email",{"$error":"#VALUE!"},{"$error":"#VALUE!"},{"$f":"VLOOKUP(K4230,references!$A$1:$B$7,2,FALSE)","v":{"$error":"#N/A"}}]
[null,null,null,null,null,null,null,null,null,null,null,null,"no email",{"$error":"#VALUE!"},{"$error":"#VALUE!"},{"$f":"VLOOKUP(K4231,references!$A$1:$B$7,2,FALSE)","v":{"$error":"#N/A"}}]
[null,null,null,null,null,null,null,null,null,null,null,null,"no email",{"$error":"#VALUE!"},{"$error":"#VALUE!"},{"$f":"VLOOKUP(K4232,references!$A$1:$B$7,2,FALSE)","v":{"$error":"#N/A"}}]
[null,null,null,null,null,null,null,null,null,null,null,null,"no email",{"$error":"#VALUE!"},{"$error":"#VALUE!"},{"$f":"VLOOKUP(K4233,references!$A$1:$B$7,2,FALSE)","v":{"$error":"#N/A"}}]
[null,null,null,null,null,null,null,null,null,null,null,null,"no email",{"$error":"#VALUE!"},{"$error":"#VALUE!"},{"$f":"VLOOKUP(K4234,references!$A$1:$B$7,2,FALSE)","v":{"$error":"#N/A"}}]
[null,null,null,null,null,null,null,null,null,null,null,null,"no email",{"$error":"#VALUE!"},{"$error":"#VALUE!"},{"$f":"VLOOKUP(K4235,references!$A$1:$B$7,2,FALSE)","v":{"$error":"#N/A"}}]
[null,null,null,null,null,null,null,null,null,null,null,null,"no email",{"$error":"#VALUE!"},{"$error":"#VALUE!"},{"$f":"VLOOKUP(K4236,references!$A$1:$B$7,2,FALSE)","v":{"$error":"#N/A"}}]
[null,null,null,null,null,null,null,null,null,null,null,null,"no email",{"$error":"#VALUE!"},{"$error":"#VALUE!"},{"$f":"VLOOKUP(K4237,references!$A$1:$B$7,2,FALSE)","v":{"$error":"#N/A"}}]
[null,null,null,null,null,null,null,null,null,null,null,null,"no email",{"$error":"#VALUE!"},{"$error":"#VALUE!"},{"$f":"VLOOKUP(K4238,references!$A$1:$B$7,2,FALSE)","v":{"$error":"#N/A"}}]
[null,null,null,null,null,null,null,null,null,null,null,null,"no email",{"$error":"#VALUE!"},{"$error":"#VALUE!"},{"$f":"VLOOKUP(K4239,references!$A$1:$B$7,2,FALSE)","v":{"$error":"#N/A"}}]
[null,null,null,null,null,null,null,null,null,null,null,null,"no email",{"$error":"#VALUE!"},{"$error":"#VALUE!"},{"$f":"VLOOKUP(K4240,references!$A$1:$B$7,2,FALSE)","v":{"$error":"#N/A"}}]
[null,null,null,null,null,null,null,null,null,null,null,null,"no email",{"$error":"#VALUE!"},{"$error":"#VALUE!"},{"$f":"VLOOKUP(K4241,references!$A$1:$B$7,2,FALSE)","v":{"$error":"#N/A"}}]
[null,null,null,null,null,null,null,null,null,null,null,null,"no email",{"$error":"#VALUE!"},{"$error":"#VALUE!"},{"$f":"VLOOKUP(K4242,references!$A$1:$B$7,2,FALSE)","v":{"$error":"#N/A"}}]
[null,null,null,null,null,null,null,null,null,null,null,null,"no email",{"$error":"#VALUE!"},{"$error":"#VALUE!"},{"$f":"VLOOKUP(K4243,references!$A$1:$B$7,2,FALSE)","v":{"$error":"#N/A"}}]
[null,null,null,null,null,null,null,null,null,null,null,null,"no email",{"$error":"#VALUE!"},{"$error":"#VALUE!"},{"$f":"VLOOKUP(K4244,references!$A$1:$B$7,2,FALSE)","v":{"$error":"#N/A"}}]
[null,null,null,null,null,null,null,null,null,null,null,null,"no email",{"$error":"#VALUE!"},{"$error":"#VALUE!"},{"$f":"VLOOKUP(K4245,references!$A$1:$B$7,2,FALSE)","v":{"$error":"#N/A"}}]
[null,null,null,null,null,null,null,null,null,null,null,null,"no email",{"$error":"#VALUE!"},{"$error":"#VALUE!"},{"$f":"VLOOKUP(K4246,references!$A$1:$B$7,2,FALSE)","v":{"$error":"#N/A"}}]
[null,null,null,null,null,null,null,null,null,null,null,null,"no email",{"$error":"#VALUE!"},{"$error":"#VALUE!"},{"$f":"VLOOKUP(K4247,references!$A$1:$B$7,2,FALSE)","v":{"$error":"#N/A"}}]
[null,null,null,null,null,null,null,null,null,null,null,null,"no email",{"$error":"#VALUE!"},{"$error":"#VALUE!"},{"$f":"VLOOKUP(K4248,references!$A$1:$B$7,2,FALSE)","v":{"$error":"#N/A"}}]
[null,null,null,null,null,null,null,null,null,null,null,null,"no email",{"$error":"#VALUE!"},{"$error":"#VALUE!"},{"$f":"VLOOKUP(K4249,references!$A$1:$B$7,2,FALSE)","v":{"$error":"#N/A"}}]
[null,null,null,null,null,null,null,null,null,null,null,null,"no email",{"$error":"#VALUE!"},{"$error":"#VALUE!"},{"$f":"VLOOKUP(K4250,references!$A$1:$B$7,2,FALSE)","v":{"$error":"#N/A"}}]
[null,null,null,null,null,null,null,null,null,null,null,null,"no email",{"$error":"#VALUE!"},{"$error":"#VALUE!"},{"$f":"VLOOKUP(K4251,references!$A$1:$B$7,2,FALSE)","v":{"$error":"#N/A"}}]
[null,null,null,null,null,null,null,null,null,null,null,null,"no email",{"$error":"#VALUE!"},{"$error":"#VALUE!"},{"$f":"VLOOKUP(K4252,references!$A$1:$B$7,2,FALSE)","v":{"$error":"#N/A"}}]
[null,null,null,null,null,null,null,null,null,null,null,null,"no email",{"$error":"#VALUE!"},{"$error":"#VALUE!"},{"$f":"VLOOKUP(K4253,references!$A$1:$B$7,2,FALSE)","v":{"$error":"#N/A"}}]
[null,null,null,null,null,null,null,null,null,null,null,null,"no email",{"$error":"#VALUE!"},{"$error":"#VALUE!"},{"$f":"VLOOKUP(K4254,references!$A$1:$B$7,2,FALSE)","v":{"$error":"#N/A"}}]
[null,null,null,null,null,null,null,null,null,null,null,null,"no email",{"$error":"#VALUE!"},{"$error":"#VALUE!"},{"$f":"VLOOKUP(K4255,references!$A$1:$B$7,2,FALSE)","v":{"$error":"#N/A"}}]
[null,null,null,null,null,null,null,null,null,null,null,null,"no email",{"$error":"#VALUE!"},{"$error":"#VALUE!"},{"$f":"VLOOKUP(K4256,references!$A$1:$B$7,2,FALSE)","v":{"$error":"#N/A"}}]
[null,null,null,null,null,null,null,null,null,null,null,null,"no email",{"$error":"#VALUE!"},{"$error":"#VALUE!"},{"$f":"VLOOKUP(K4257,references!$A$1:$B$7,2,FALSE)","v":{"$error":"#N/A"}}]
[null,null,null,null,null,null,null,null,null,null,null,null,"no email",{"$error":"#VALUE!"},{"$error":"#VALUE!"},{"$f":"VLOOKUP(K4258,references!$A$1:$B$7,2,FALSE)","v":{"$error":"#N/A"}}]
[null,null,null,null,null,null,null,null,null,null,null,null,"no email",{"$error":"#VALUE!"},{"$error":"#VALUE!"},{"$f":"VLOOKUP(K4259,references!$A$1:$B$7,2,FALSE)","v":{"$error":"#N/A"}}]
[null,null,null,null,null,null,null,null,null,null,null,null,"no email",{"$error":"#VALUE!"},{"$error":"#VALUE!"},{"$f":"VLOOKUP(K4260,references!$A$1:$B$7,2,FALSE)","v":{"$error":"#N/A"}}]
[null,null,null,null,null,null,null,null,null,null,null,null,"no email",{"$error":"#VALUE!"},{"$error":"#VALUE!"},{"$f":"VLOOKUP(K4261,references!$A$1:$B$7,2,FALSE)","v":{"$error":"#N/A"}}]
[null,null,null,null,null,null,null,null,null,null,null,null,"no email",{"$error":"#VALUE!"},{"$error":"#VALUE!"},{"$f":"VLOOKUP(K4262,references!$A$1:$B$7,2,FALSE)","v":{"$error":"#N/A"}}]
[null,null,null,null,null,null,null,null,null,null,null,null,"no email",{"$error":"#VALUE!"},{"$error":"#VALUE!"},{"$f":"VLOOKUP(K4263,references!$A$1:$B$7,2,FALSE)","v":{"$error":"#N/A"}}]
[null,null,null,null,null,null,null,null,null,null,null,null,"no email",{"$error":"#VALUE!"},{"$error":"#VALUE!"},{"$f":"VLOOKUP(K4264,references!$A$1:$B$7,2,FALSE)","v":{"$error":"#N/A"}}]
[null,null,null,null,null,null,null,null,null,null,null,null,"no email",{"$error":"#VALUE!"},{"$error":"#VALUE!"},{"$f":"VLOOKUP(K4265,references!$A$1:$B$7,2,FALSE)","v":{"$error":"#N/A"}}]
[null,null,null,null,null,null,null,null,null,null,null,null,"no email",{"$error":"#VALUE!"},{"$error":"#VALUE!"},{"$f":"VLOOKUP(K4266,references!$A$1:$B$7,2,FALSE)","v":{"$error":"#N/A"}}]
[null,null,null,null,null,null,null,null,null,null,null,null,"no email",{"$error":"#VALUE!"},{"$error":"#VALUE!"},{"$f":"VLOOKUP(K4267,references!$A$1:$B$7,2,FALSE)","v":{"$error":"#N/A"}}]
[null,null,null,null,null,null,null,null,null,null,null,null,"no email",{"$error":"#VALUE!"},{"$error":"#VALUE!"},{"$f":"VLOOKUP(K4268,references!$A$1:$B$7,2,FALSE)","v":{"$error":"#N/A"}}]
[null,null,null,null,null,null,null,null,null,null,null,null,"no email",{"$error":"#VALUE!"},{"$error":"#VALUE!"},{"$f":"VLOOKUP(K4269,references!$A$1:$B$7,2,FALSE)","v":{"$error":"#N/A"}}]
[null,null,null,null,null,null,null,null,null,null,null,null,"no email",{"$error":"#VALUE!"},{"$error":"#VALUE!"},{"$f":"VLOOKUP(K4270,references!$A$1:$B$7,2,FALSE)","v":{"$error":"#N/A"}}]
[null,null,null,null,null,null,null,null,null,null,null,null,"no email",{"$error":"#VALUE!"},{"$error":"#VALUE!"},{"$f":"VLOOKUP(K4271,references!$A$1:$B$7,2,FALSE)","v":{"$error":"#N/A"}}]
[null,null,null,null,null,null,null,null,null,null,null,null,"no email",{"$error":"#VALUE!"},{"$error":"#VALUE!"},{"$f":"VLOOKUP(K4272,references!$A$1:$B$7,2,FALSE)","v":{"$error":"#N/A"}}]
[null,null,null,null,null,null,null,null,null,null,null,null,"no email",{"$error":"#VALUE!"},{"$error":"#VALUE!"},{"$f":"VLOOKUP(K4273,references!$A$1:$B$7,2,FALSE)","v":{"$error":"#N/A"}}]
[null,null,null,null,null,null,null,null,null,null,null,null,"no email",{"$error":"#VALUE!"},{"$error":"#VALUE!"},{"$f":"VLOOKUP(K4274,references!$A$1:$B$7,2,FALSE)","v":{"$error":"#N/A"}}]
[null,null,null,null,null,null,null,null,null,null,null,null,"no email",{"$error":"#VALUE!"},{"$error":"#VALUE!"},{"$f":"VLOOKUP(K4275,references!$A$1:$B$7,2,FALSE)","v":{"$error":"#N/A"}}]
[null,null,null,null,null,null,null,null,null,null,null,null,"no email",{"$error":"#VALUE!"},{"$error":"#VALUE!"},{"$f":"VLOOKUP(K4276,references!$A$1:$B$7,2,FALSE)","v":{"$error":"#N/A"}}]
[null,null,null,null,null,null,null,null,null,null,null,null,"no email",{"$error":"#VALUE!"},{"$error":"#VALUE!"},{"$f":"VLOOKUP(K4277,references!$A$1:$B$7,2,FALSE)","v":{"$error":"#N/A"}}]
[null,null,null,null,null,null,null,null,null,null,null,null,"no email",{"$error":"#VALUE!"},{"$error":"#VALUE!"},{"$f":"VLOOKUP(K4278,references!$A$1:$B$7,2,FALSE)","v":{"$error":"#N/A"}}]
[null,null,null,null,null,null,null,null,null,null,null,null,"no email",{"$error":"#VALUE!"},{"$error":"#VALUE!"},{"$f":"VLOOKUP(K4279,references!$A$1:$B$7,2,FALSE)","v":{"$error":"#N/A"}}]
[null,null,null,null,null,null,null,null,null,null,null,null,"no email",{"$error":"#VALUE!"},{"$error":"#VALUE!"},{"$f":"VLOOKUP(K4280,references!$A$1:$B$7,2,FALSE)","v":{"$error":"#N/A"}}]
[null,null,null,null,null,null,null,null,null,null,null,null,"no email",{"$error":"#VALUE!"},{"$error":"#VALUE!"},{"$f":"VLOOKUP(K4281,references!$A$1:$B$7,2,FALSE)","v":{"$error":"#N/A"}}]
[null,null,null,null,null,null,null,null,null,null,null,null,"no email",{"$error":"#VALUE!"},{"$error":"#VALUE!"},{"$f":"VLOOKUP(K4282,references!$A$1:$B$7,2,FALSE)","v":{"$error":"#N/A"}}]
[null,null,null,null,null,null,null,null,null,null,null,null,"no email",{"$error":"#VALUE!"},{"$error":"#VALUE!"},{"$f":"VLOOKUP(K4283,references!$A$1:$B$7,2,FALSE)","v":{"$error":"#N/A"}}]
[null,null,null,null,null,null,null,null,null,null,null,null,"no email",{"$error":"#VALUE!"},{"$error":"#VALUE!"},{"$f":"VLOOKUP(K4284,references!$A$1:$B$7,2,FALSE)","v":{"$error":"#N/A"}}]
[null,null,null,null,null,null,null,null,null,null,null,null,"no email",{"$error":"#VALUE!"},{"$error":"#VALUE!"},{"$f":"VLOOKUP(K4285,references!$A$1:$B$7,2,FALSE)","v":{"$error":"#N/A"}}]
[null,null,null,null,null,null,null,null,null,null,null,null,"no email",{"$error":"#VALUE!"},{"$error":"#VALUE!"},{"$f":"VLOOKUP(K4286,references!$A$1:$B$7,2,FALSE)","v":{"$error":"#N/A"}}]
[null,null,null,null,null,null,null,null,null,null,null,null,"no email",{"$error":"#VALUE!"},{"$error":"#VALUE!"},{"$f":"VLOOKUP(K4287,references!$A$1:$B$7,2,FALSE)","v":{"$error":"#N/A"}}]
[null,null,null,null,null,null,null,null,null,null,null,null,"no email",{"$error":"#VALUE!"},{"$error":"#VALUE!"},{"$f":"VLOOKUP(K4288,references!$A$1:$B$7,2,FALSE)","v":{"$error":"#N/A"}}]
[null,null,null,null,null,null,null,null,null,null,null,null,"no email",{"$error":"#VALUE!"},{"$error":"#VALUE!"},{"$f":"VLOOKUP(K4289,references!$A$1:$B$7,2,FALSE)","v":{"$error":"#N/A"}}]
[null,null,null,null,null,null,null,null,null,null,null,null,{"$f":"IF(L4290=\"\", \"no email\",LOWER(L4290))","v":"no email"},{"$f":"LEFT(A4290, SEARCH(\",\",A4290,1)-1)","v":{"$error":"#VALUE!"}},{"$f":"RIGHT(A4290, LEN(A4290) -SEARCH(\",\",A4290,1)-1)","v":{"$error":"#VALUE!"}},{"$f":"VLOOKUP(K4290,references!$A$1:$B$7,2,FALSE)","v":{"$error":"#N/A"}}]
[null,null,null,null,null,null,null,null,null,null,null,null,"no email",{"$error":"#VALUE!"},{"$error":"#VALUE!"},{"$f":"VLOOKUP(K4291,references!$A$1:$B$7,2,FALSE)","v":{"$error":"#N/A"}}]
[null,null,null,null,null,null,null,null,null,null,null,null,"no email",{"$error":"#VALUE!"},{"$error":"#VALUE!"},{"$f":"VLOOKUP(K4292,references!$A$1:$B$7,2,FALSE)","v":{"$error":"#N/A"}}]
[null,null,null,null,null,null,null,null,null,null,null,null,"no email",{"$error":"#VALUE!"},{"$error":"#VALUE!"},{"$f":"VLOOKUP(K4293,references!$A$1:$B$7,2,FALSE)","v":{"$error":"#N/A"}}]
[null,null,null,null,null,null,null,null,null,null,null,null,"no email",{"$error":"#VALUE!"},{"$error":"#VALUE!"},{"$f":"VLOOKUP(K4294,references!$A$1:$B$7,2,FALSE)","v":{"$error":"#N/A"}}]
[null,null,null,null,null,null,null,null,null,null,null,null,"no email",{"$error":"#VALUE!"},{"$error":"#VALUE!"},{"$f":"VLOOKUP(K4295,references!$A$1:$B$7,2,FALSE)","v":{"$error":"#N/A"}}]
[null,null,null,null,null,null,null,null,null,null,null,null,"no email",{"$error":"#VALUE!"},{"$error":"#VALUE!"},{"$f":"VLOOKUP(K4296,references!$A$1:$B$7,2,FALSE)","v":{"$error":"#N/A"}}]
[null,null,null,null,null,null,null,null,null,null,null,null,"no email",{"$error":"#VALUE!"},{"$error":"#VALUE!"},{"$f":"VLOOKUP(K4297,references!$A$1:$B$7,2,FALSE)","v":{"$error":"#N/A"}}]
[null,null,null,null,null,null,null,null,null,null,null,null,"no email",{"$error":"#VALUE!"},{"$error":"#VALUE!"},{"$f":"VLOOKUP(K4298,references!$A$1:$B$7,2,FALSE)","v":{"$error":"#N/A"}}]
[null,null,null,null,null,null,null,null,null,null,null,null,"no email",{"$error":"#VALUE!"},{"$error":"#VALUE!"},{"$f":"VLOOKUP(K4299,references!$A$1:$B$7,2,FALSE)","v":{"$error":"#N/A"}}]
[null,null,null,null,null,null,null,null,null,null,null,null,"no email",{"$error":"#VALUE!"},{"$error":"#VALUE!"},{"$f":"VLOOKUP(K4300,references!$A$1:$B$7,2,FALSE)","v":{"$error":"#N/A"}}]
[null,null,null,null,null,null,null,null,null,null,null,null,"no email",{"$error":"#VALUE!"},{"$error":"#VALUE!"},{"$f":"VLOOKUP(K4301,references!$A$1:$B$7,2,FALSE)","v":{"$error":"#N/A"}}]
[null,null,null,null,null,null,null,null,null,null,null,null,"no email",{"$error":"#VALUE!"},{"$error":"#VALUE!"},{"$f":"VLOOKUP(K4302,references!$A$1:$B$7,2,FALSE)","v":{"$error":"#N/A"}}]
[null,null,null,null,null,null,null,null,null,null,null,null,"no email",{"$error":"#VALUE!"},{"$error":"#VALUE!"},{"$f":"VLOOKUP(K4303,references!$A$1:$B$7,2,FALSE)","v":{"$error":"#N/A"}}]
[null,null,null,null,null,null,null,null,null,null,null,null,"no email",{"$error":"#VALUE!"},{"$error":"#VALUE!"},{"$f":"VLOOKUP(K4304,references!$A$1:$B$7,2,FALSE)","v":{"$error":"#N/A"}}]
[null,null,null,null,null,null,null,null,null,null,null,null,"no email",{"$error":"#VALUE!"},{"$error":"#VALUE!"},{"$f":"VLOOKUP(K4305,references!$A$1:$B$7,2,FALSE)","v":{"$error":"#N/A"}}]
[null,null,null,null,null,null,null,null,null,null,null,null,"no email",{"$error":"#VALUE!"},{"$error":"#VALUE!"},{"$f":"VLOOKUP(K4306,references!$A$1:$B$7,2,FALSE)","v":{"$error":"#N/A"}}]
[null,null,null,null,null,null,null,null,null,null,null,null,"no email",{"$error":"#VALUE!"},{"$error":"#VALUE!"},{"$f":"VLOOKUP(K4307,references!$A$1:$B$7,2,FALSE)","v":{"$error":"#N/A"}}]
[null,null,null,null,null,null,null,null,null,null,null,null,"no email",{"$error":"#VALUE!"},{"$error":"#VALUE!"},{"$f":"VLOOKUP(K4308,references!$A$1:$B$7,2,FALSE)","v":{"$error":"#N/A"}}]
[null,null,null,null,null,null,null,null,null,null,null,null,"no email",{"$error":"#VALUE!"},{"$error":"#VALUE!"},{"$f":"VLOOKUP(K4309,references!$A$1:$B$7,2,FALSE)","v":{"$error":"#N/A"}}]
[null,null,null,null,null,null,null,null,null,null,null,null,"no email",{"$error":"#VALUE!"},{"$error":"#VALUE!"},{"$f":"VLOOKUP(K4310,references!$A$1:$B$7,2,FALSE)","v":{"$error":"#N/A"}}]
[null,null,null,null,null,null,null,null,null,null,null,null,"no email",{"$error":"#VALUE!"},{"$error":"#VALUE!"},{"$f":"VLOOKUP(K4311,references!$A$1:$B$7,2,FALSE)","v":{"$error":"#N/A"}}]
[null,null,null,null,null,null,null,null,null,null,null,null,"no email",{"$error":"#VALUE!"},{"$error":"#VALUE!"},{"$f":"VLOOKUP(K4312,references!$A$1:$B$7,2,FALSE)","v":{"$error":"#N/A"}}]
[null,null,null,null,null,null,null,null,null,null,null,null,"no email",{"$error":"#VALUE!"},{"$error":"#VALUE!"},{"$f":"VLOOKUP(K4313,references!$A$1:$B$7,2,FALSE)","v":{"$error":"#N/A"}}]
[null,null,null,null,null,null,null,null,null,null,null,null,"no email",{"$error":"#VALUE!"},{"$error":"#VALUE!"},{"$f":"VLOOKUP(K4314,references!$A$1:$B$7,2,FALSE)","v":{"$error":"#N/A"}}]
[null,null,null,null,null,null,null,null,null,null,null,null,"no email",{"$error":"#VALUE!"},{"$error":"#VALUE!"},{"$f":"VLOOKUP(K4315,references!$A$1:$B$7,2,FALSE)","v":{"$error":"#N/A"}}]
[null,null,null,null,null,null,null,null,null,null,null,null,"no email",{"$error":"#VALUE!"},{"$error":"#VALUE!"},{"$f":"VLOOKUP(K4316,references!$A$1:$B$7,2,FALSE)","v":{"$error":"#N/A"}}]
[null,null,null,null,null,null,null,null,null,null,null,null,"no email",{"$error":"#VALUE!"},{"$error":"#VALUE!"},{"$f":"VLOOKUP(K4317,references!$A$1:$B$7,2,FALSE)","v":{"$error":"#N/A"}}]
[null,null,null,null,null,null,null,null,null,null,null,null,"no email",{"$error":"#VALUE!"},{"$error":"#VALUE!"},{"$f":"VLOOKUP(K4318,references!$A$1:$B$7,2,FALSE)","v":{"$error":"#N/A"}}]
[null,null,null,null,null,null,null,null,null,null,null,null,"no email",{"$error":"#VALUE!"},{"$error":"#VALUE!"},{"$f":"VLOOKUP(K4319,references!$A$1:$B$7,2,FALSE)","v":{"$error":"#N/A"}}]
[null,null,null,null,null,null,null,null,null,null,null,null,"no email",{"$error":"#VALUE!"},{"$error":"#VALUE!"},{"$f":"VLOOKUP(K4320,references!$A$1:$B$7,2,FALSE)","v":{"$error":"#N/A"}}]
[null,null,null,null,null,null,null,null,null,null,null,null,"no email",{"$error":"#VALUE!"},{"$error":"#VALUE!"},{"$f":"VLOOKUP(K4321,references!$A$1:$B$7,2,FALSE)","v":{"$error":"#N/A"}}]
[null,null,null,null,null,null,null,null,null,null,null,null,"no email",{"$error":"#VALUE!"},{"$error":"#VALUE!"},{"$f":"VLOOKUP(K4322,references!$A$1:$B$7,2,FALSE)","v":{"$error":"#N/A"}}]
[null,null,null,null,null,null,null,null,null,null,null,null,"no email",{"$error":"#VALUE!"},{"$error":"#VALUE!"},{"$f":"VLOOKUP(K4323,references!$A$1:$B$7,2,FALSE)","v":{"$error":"#N/A"}}]
[null,null,null,null,null,null,null,null,null,null,null,null,"no email",{"$error":"#VALUE!"},{"$error":"#VALUE!"},{"$f":"VLOOKUP(K4324,references!$A$1:$B$7,2,FALSE)","v":{"$error":"#N/A"}}]
[null,null,null,null,null,null,null,null,null,null,null,null,"no email",{"$error":"#VALUE!"},{"$error":"#VALUE!"},{"$f":"VLOOKUP(K4325,references!$A$1:$B$7,2,FALSE)","v":{"$error":"#N/A"}}]
[null,null,null,null,null,null,null,null,null,null,null,null,"no email",{"$error":"#VALUE!"},{"$error":"#VALUE!"},{"$f":"VLOOKUP(K4326,references!$A$1:$B$7,2,FALSE)","v":{"$error":"#N/A"}}]
[null,null,null,null,null,null,null,null,null,null,null,null,"no email",{"$error":"#VALUE!"},{"$error":"#VALUE!"},{"$f":"VLOOKUP(K4327,references!$A$1:$B$7,2,FALSE)","v":{"$error":"#N/A"}}]
[null,null,null,null,null,null,null,null,null,null,null,null,"no email",{"$error":"#VALUE!"},{"$error":"#VALUE!"},{"$f":"VLOOKUP(K4328,references!$A$1:$B$7,2,FALSE)","v":{"$error":"#N/A"}}]
[null,null,null,null,null,null,null,null,null,null,null,null,"no email",{"$error":"#VALUE!"},{"$error":"#VALUE!"},{"$f":"VLOOKUP(K4329,references!$A$1:$B$7,2,FALSE)","v":{"$error":"#N/A"}}]
[null,null,null,null,null,null,null,null,null,null,null,null,"no email",{"$error":"#VALUE!"},{"$error":"#VALUE!"},{"$f":"VLOOKUP(K4330,references!$A$1:$B$7,2,FALSE)","v":{"$error":"#N/A"}}]
[null,null,null,null,null,null,null,null,null,null,null,null,"no email",{"$error":"#VALUE!"},{"$error":"#VALUE!"},{"$f":"VLOOKUP(K4331,references!$A$1:$B$7,2,FALSE)","v":{"$error":"#N/A"}}]
[null,null,null,null,null,null,null,null,null,null,null,null,"no email",{"$error":"#VALUE!"},{"$error":"#VALUE!"},{"$f":"VLOOKUP(K4332,references!$A$1:$B$7,2,FALSE)","v":{"$error":"#N/A"}}]
[null,null,null,null,null,null,null,null,null,null,null,null,"no email",{"$error":"#VALUE!"},{"$error":"#VALUE!"},{"$f":"VLOOKUP(K4333,references!$A$1:$B$7,2,FALSE)","v":{"$error":"#N/A"}}]
[null,null,null,null,null,null,null,null,null,null,null,null,"no email",{"$error":"#VALUE!"},{"$error":"#VALUE!"},{"$f":"VLOOKUP(K4334,references!$A$1:$B$7,2,FALSE)","v":{"$error":"#N/A"}}]
[null,null,null,null,null,null,null,null,null,null,null,null,"no email",{"$error":"#VALUE!"},{"$error":"#VALUE!"},{"$f":"VLOOKUP(K4335,references!$A$1:$B$7,2,FALSE)","v":{"$error":"#N/A"}}]
[null,null,null,null,null,null,null,null,null,null,null,null,"no email",{"$error":"#VALUE!"},{"$error":"#VALUE!"},{"$f":"VLOOKUP(K4336,references!$A$1:$B$7,2,FALSE)","v":{"$error":"#N/A"}}]
[null,null,null,null,null,null,null,null,null,null,null,null,"no email",{"$error":"#VALUE!"},{"$error":"#VALUE!"},{"$f":"VLOOKUP(K4337,references!$A$1:$B$7,2,FALSE)","v":{"$error":"#N/A"}}]
[null,null,null,null,null,null,null,null,null,null,null,null,"no email",{"$error":"#VALUE!"},{"$error":"#VALUE!"},{"$f":"VLOOKUP(K4338,references!$A$1:$B$7,2,FALSE)","v":{"$error":"#N/A"}}]
[null,null,null,null,null,null,null,null,null,null,null,null,"no email",{"$error":"#VALUE!"},{"$error":"#VALUE!"},{"$f":"VLOOKUP(K4339,references!$A$1:$B$7,2,FALSE)","v":{"$error":"#N/A"}}]
[null,null,null,null,null,null,null,null,null,null,null,null,"no email",{"$error":"#VALUE!"},{"$error":"#VALUE!"},{"$f":"VLOOKUP(K4340,references!$A$1:$B$7,2,FALSE)","v":{"$error":"#N/A"}}]
[null,null,null,null,null,null,null,null,null,null,null,null,"no email",{"$error":"#VALUE!"},{"$error":"#VALUE!"},{"$f":"VLOOKUP(K4341,references!$A$1:$B$7,2,FALSE)","v":{"$error":"#N/A"}}]
[null,null,null,null,null,null,null,null,null,null,null,null,"no email",{"$error":"#VALUE!"},{"$error":"#VALUE!"},{"$f":"VLOOKUP(K4342,references!$A$1:$B$7,2,FALSE)","v":{"$error":"#N/A"}}]
[null,null,null,null,null,null,null,null,null,null,null,null,"no email",{"$error":"#VALUE!"},{"$error":"#VALUE!"},{"$f":"VLOOKUP(K4343,references!$A$1:$B$7,2,FALSE)","v":{"$error":"#N/A"}}]
[null,null,null,null,null,null,null,null,null,null,null,null,"no email",{"$error":"#VALUE!"},{"$error":"#VALUE!"},{"$f":"VLOOKUP(K4344,references!$A$1:$B$7,2,FALSE)","v":{"$error":"#N/A"}}]
[null,null,null,null,null,null,null,null,null,null,null,null,"no email",{"$error":"#VALUE!"},{"$error":"#VALUE!"},{"$f":"VLOOKUP(K4345,references!$A$1:$B$7,2,FALSE)","v":{"$error":"#N/A"}}]
[null,null,null,null,null,null,null,null,null,null,null,null,"no email",{"$error":"#VALUE!"},{"$error":"#VALUE!"},{"$f":"VLOOKUP(K4346,references!$A$1:$B$7,2,FALSE)","v":{"$error":"#N/A"}}]
[null,null,null,null,null,null,null,null,null,null,null,null,"no email",{"$error":"#VALUE!"},{"$error":"#VALUE!"},{"$f":"VLOOKUP(K4347,references!$A$1:$B$7,2,FALSE)","v":{"$error":"#N/A"}}]
[null,null,null,null,null,null,null,null,null,null,null,null,"no email",{"$error":"#VALUE!"},{"$error":"#VALUE!"},{"$f":"VLOOKUP(K4348,references!$A$1:$B$7,2,FALSE)","v":{"$error":"#N/A"}}]
[null,null,null,null,null,null,null,null,null,null,null,null,"no email",{"$error":"#VALUE!"},{"$error":"#VALUE!"},{"$f":"VLOOKUP(K4349,references!$A$1:$B$7,2,FALSE)","v":{"$error":"#N/A"}}]
[null,null,null,null,null,null,null,null,null,null,null,null,"no email",{"$error":"#VALUE!"},{"$error":"#VALUE!"},{"$f":"VLOOKUP(K4350,references!$A$1:$B$7,2,FALSE)","v":{"$error":"#N/A"}}]
[null,null,null,null,null,null,null,null,null,null,null,null,"no email",{"$error":"#VALUE!"},{"$error":"#VALUE!"},{"$f":"VLOOKUP(K4351,references!$A$1:$B$7,2,FALSE)","v":{"$error":"#N/A"}}]
[null,null,null,null,null,null,null,null,null,null,null,null,"no email",{"$error":"#VALUE!"},{"$error":"#VALUE!"},{"$f":"VLOOKUP(K4352,references!$A$1:$B$7,2,FALSE)","v":{"$error":"#N/A"}}]
[null,null,null,null,null,null,null,null,null,null,null,null,"no email",{"$error":"#VALUE!"},{"$error":"#VALUE!"},{"$f":"VLOOKUP(K4353,references!$A$1:$B$7,2,FALSE)","v":{"$error":"#N/A"}}]
[null,null,null,null,null,null,null,null,null,null,null,null,{"$f":"IF(L4354=\"\", \"no email\",LOWER(L4354))","v":"no email"},{"$f":"LEFT(A4354, SEARCH(\",\",A4354,1)-1)","v":{"$error":"#VALUE!"}},{"$f":"RIGHT(A4354, LEN(A4354) -SEARCH(\",\",A4354,1)-1)","v":{"$error":"#VALUE!"}},{"$f":"VLOOKUP(K4354,references!$A$1:$B$7,2,FALSE)","v":{"$error":"#N/A"}}]
[null,null,null,null,null,null,null,null,null,null,null,null,"no email",{"$error":"#VALUE!"},{"$error":"#VALUE!"},{"$f":"VLOOKUP(K4355,references!$A$1:$B$7,2,FALSE)","v":{"$error":"#N/A"}}]
[null,null,null,null,null,null,null,null,null,null,null,null,"no email",{"$error":"#VALUE!"},{"$error":"#VALUE!"},{"$f":"VLOOKUP(K4356,references!$A$1:$B$7,2,FALSE)","v":{"$error":"#N/A"}}]
[null,null,null,null,null,null,null,null,null,null,null,null,"no email",{"$error":"#VALUE!"},{"$error":"#VALUE!"},{"$f":"VLOOKUP(K4357,references!$A$1:$B$7,2,FALSE)","v":{"$error":"#N/A"}}]
[null,null,null,null,null,null,null,null,null,null,null,null,"no email",{"$error":"#VALUE!"},{"$error":"#VALUE!"},{"$f":"VLOOKUP(K4358,references!$A$1:$B$7,2,FALSE)","v":{"$error":"#N/A"}}]
[null,null,null,null,null,null,null,null,null,null,null,null,"no email",{"$error":"#VALUE!"},{"$error":"#VALUE!"},{"$f":"VLOOKUP(K4359,references!$A$1:$B$7,2,FALSE)","v":{"$error":"#N/A"}}]
[null,null,null,null,null,null,null,null,null,null,null,null,"no email",{"$error":"#VALUE!"},{"$error":"#VALUE!"},{"$f":"VLOOKUP(K4360,references!$A$1:$B$7,2,FALSE)","v":{"$error":"#N/A"}}]
[null,null,null,null,null,null,null,null,null,null,null,null,"no email",{"$error":"#VALUE!"},{"$error":"#VALUE!"},{"$f":"VLOOKUP(K4361,references!$A$1:$B$7,2,FALSE)","v":{"$error":"#N/A"}}]
[null,null,null,null,null,null,null,null,null,null,null,null,"no email",{"$error":"#VALUE!"},{"$error":"#VALUE!"},{"$f":"VLOOKUP(K4362,references!$A$1:$B$7,2,FALSE)","v":{"$error":"#N/A"}}]
[null,null,null,null,null,null,null,null,null,null,null,null,"no email",{"$error":"#VALUE!"},{"$error":"#VALUE!"},{"$f":"VLOOKUP(K4363,references!$A$1:$B$7,2,FALSE)","v":{"$error":"#N/A"}}]
[null,null,null,null,null,null,null,null,null,null,null,null,"no email",{"$error":"#VALUE!"},{"$error":"#VALUE!"},{"$f":"VLOOKUP(K4364,references!$A$1:$B$7,2,FALSE)","v":{"$error":"#N/A"}}]
[null,null,null,null,null,null,null,null,null,null,null,null,"no email",{"$error":"#VALUE!"},{"$error":"#VALUE!"},{"$f":"VLOOKUP(K4365,references!$A$1:$B$7,2,FALSE)","v":{"$error":"#N/A"}}]
[null,null,null,null,null,null,null,null,null,null,null,null,"no email",{"$error":"#VALUE!"},{"$error":"#VALUE!"},{"$f":"VLOOKUP(K4366,references!$A$1:$B$7,2,FALSE)","v":{"$error":"#N/A"}}]
[null,null,null,null,null,null,null,null,null,null,null,null,"no email",{"$error":"#VALUE!"},{"$error":"#VALUE!"},{"$f":"VLOOKUP(K4367,references!$A$1:$B$7,2,FALSE)","v":{"$error":"#N/A"}}]
[null,null,null,null,null,null,null,null,null,null,null,null,"no email",{"$error":"#VALUE!"},{"$error":"#VALUE!"},{"$f":"VLOOKUP(K4368,references!$A$1:$B$7,2,FALSE)","v":{"$error":"#N/A"}}]
[null,null,null,null,null,null,null,null,null,null,null,null,"no email",{"$error":"#VALUE!"},{"$error":"#VALUE!"},{"$f":"VLOOKUP(K4369,references!$A$1:$B$7,2,FALSE)","v":{"$error":"#N/A"}}]
[null,null,null,null,null,null,null,null,null,null,null,null,"no email",{"$error":"#VALUE!"},{"$error":"#VALUE!"},{"$f":"VLOOKUP(K4370,references!$A$1:$B$7,2,FALSE)","v":{"$error":"#N/A"}}]
[null,null,null,null,null,null,null,null,null,null,null,null,"no email",{"$error":"#VALUE!"},{"$error":"#VALUE!"},{"$f":"VLOOKUP(K4371,references!$A$1:$B$7,2,FALSE)","v":{"$error":"#N/A"}}]
[null,null,null,null,null,null,null,null,null,null,null,null,"no email",{"$error":"#VALUE!"},{"$error":"#VALUE!"},{"$f":"VLOOKUP(K4372,references!$A$1:$B$7,2,FALSE)","v":{"$error":"#N/A"}}]
[null,null,null,null,null,null,null,null,null,null,null,null,"no email",{"$error":"#VALUE!"},{"$error":"#VALUE!"},{"$f":"VLOOKUP(K4373,references!$A$1:$B$7,2,FALSE)","v":{"$error":"#N/A"}}]
[null,null,null,null,null,null,null,null,null,null,null,null,"no email",{"$error":"#VALUE!"},{"$error":"#VALUE!"},{"$f":"VLOOKUP(K4374,references!$A$1:$B$7,2,FALSE)","v":{"$error":"#N/A"}}]
[null,null,null,null,null,null,null,null,null,null,null,null,"no email",{"$error":"#VALUE!"},{"$error":"#VALUE!"},{"$f":"VLOOKUP(K4375,references!$A$1:$B$7,2,FALSE)","v":{"$error":"#N/A"}}]
[null,null,null,null,null,null,null,null,null,null,null,null,"no email",{"$error":"#VALUE!"},{"$error":"#VALUE!"},{"$f":"VLOOKUP(K4376,references!$A$1:$B$7,2,FALSE)","v":{"$error":"#N/A"}}]
[null,null,null,null,null,null,null,null,null,null,null,null,"no email",{"$error":"#VALUE!"},{"$error":"#VALUE!"},{"$f":"VLOOKUP(K4377,references!$A$1:$B$7,2,FALSE)","v":{"$error":"#N/A"}}]
[null,null,null,null,null,null,null,null,null,null,null,null,"no email",{"$error":"#VALUE!"},{"$error":"#VALUE!"},{"$f":"VLOOKUP(K4378,references!$A$1:$B$7,2,FALSE)","v":{"$error":"#N/A"}}]
[null,null,null,null,null,null,null,null,null,null,null,null,"no email",{"$error":"#VALUE!"},{"$error":"#VALUE!"},{"$f":"VLOOKUP(K4379,references!$A$1:$B$7,2,FALSE)","v":{"$error":"#N/A"}}]
[null,null,null,null,null,null,null,null,null,null,null,null,"no email",{"$error":"#VALUE!"},{"$error":"#VALUE!"},{"$f":"VLOOKUP(K4380,references!$A$1:$B$7,2,FALSE)","v":{"$error":"#N/A"}}]
[null,null,null,null,null,null,null,null,null,null,null,null,"no email",{"$error":"#VALUE!"},{"$error":"#VALUE!"},{"$f":"VLOOKUP(K4381,references!$A$1:$B$7,2,FALSE)","v":{"$error":"#N/A"}}]
[null,null,null,null,null,null,null,null,null,null,null,null,"no email",{"$error":"#VALUE!"},{"$error":"#VALUE!"},{"$f":"VLOOKUP(K4382,references!$A$1:$B$7,2,FALSE)","v":{"$error":"#N/A"}}]
[null,null,null,null,null,null,null,null,null,null,null,null,"no email",{"$error":"#VALUE!"},{"$error":"#VALUE!"},{"$f":"VLOOKUP(K4383,references!$A$1:$B$7,2,FALSE)","v":{"$error":"#N/A"}}]
[null,null,null,null,null,null,null,null,null,null,null,null,"no email",{"$error":"#VALUE!"},{"$error":"#VALUE!"},{"$f":"VLOOKUP(K4384,references!$A$1:$B$7,2,FALSE)","v":{"$error":"#N/A"}}]
[null,null,null,null,null,null,null,null,null,null,null,null,"no email",{"$error":"#VALUE!"},{"$error":"#VALUE!"},{"$f":"VLOOKUP(K4385,references!$A$1:$B$7,2,FALSE)","v":{"$error":"#N/A"}}]
[null,null,null,null,null,null,null,null,null,null,null,null,"no email",{"$error":"#VALUE!"},{"$error":"#VALUE!"},{"$f":"VLOOKUP(K4386,references!$A$1:$B$7,2,FALSE)","v":{"$error":"#N/A"}}]
[null,null,null,null,null,null,null,null,null,null,null,null,"no email",{"$error":"#VALUE!"},{"$error":"#VALUE!"},{"$f":"VLOOKUP(K4387,references!$A$1:$B$7,2,FALSE)","v":{"$error":"#N/A"}}]
[null,null,null,null,null,null,null,null,null,null,null,null,"no email",{"$error":"#VALUE!"},{"$error":"#VALUE!"},{"$f":"VLOOKUP(K4388,references!$A$1:$B$7,2,FALSE)","v":{"$error":"#N/A"}}]
[null,null,null,null,null,null,null,null,null,null,null,null,"no email",{"$error":"#VALUE!"},{"$error":"#VALUE!"},{"$f":"VLOOKUP(K4389,references!$A$1:$B$7,2,FALSE)","v":{"$error":"#N/A"}}]
[null,null,null,null,null,null,null,null,null,null,null,null,"no email",{"$error":"#VALUE!"},{"$error":"#VALUE!"},{"$f":"VLOOKUP(K4390,references!$A$1:$B$7,2,FALSE)","v":{"$error":"#N/A"}}]
[null,null,null,null,null,null,null,null,null,null,null,null,"no email",{"$error":"#VALUE!"},{"$error":"#VALUE!"},{"$f":"VLOOKUP(K4391,references!$A$1:$B$7,2,FALSE)","v":{"$error":"#N/A"}}]
[null,null,null,null,null,null,null,null,null,null,null,null,"no email",{"$error":"#VALUE!"},{"$error":"#VALUE!"},{"$f":"VLOOKUP(K4392,references!$A$1:$B$7,2,FALSE)","v":{"$error":"#N/A"}}]
[null,null,null,null,null,null,null,null,null,null,null,null,"no email",{"$error":"#VALUE!"},{"$error":"#VALUE!"},{"$f":"VLOOKUP(K4393,references!$A$1:$B$7,2,FALSE)","v":{"$error":"#N/A"}}]
[null,null,null,null,null,null,null,null,null,null,null,null,"no email",{"$error":"#VALUE!"},{"$error":"#VALUE!"},{"$f":"VLOOKUP(K4394,references!$A$1:$B$7,2,FALSE)","v":{"$error":"#N/A"}}]
[null,null,null,null,null,null,null,null,null,null,null,null,"no email",{"$error":"#VALUE!"},{"$error":"#VALUE!"},{"$f":"VLOOKUP(K4395,references!$A$1:$B$7,2,FALSE)","v":{"$error":"#N/A"}}]
[null,null,null,null,null,null,null,null,null,null,null,null,"no email",{"$error":"#VALUE!"},{"$error":"#VALUE!"},{"$f":"VLOOKUP(K4396,references!$A$1:$B$7,2,FALSE)","v":{"$error":"#N/A"}}]
[null,null,null,null,null,null,null,null,null,null,null,null,"no email",{"$error":"#VALUE!"},{"$error":"#VALUE!"},{"$f":"VLOOKUP(K4397,references!$A$1:$B$7,2,FALSE)","v":{"$error":"#N/A"}}]
[null,null,null,null,null,null,null,null,null,null,null,null,"no email",{"$error":"#VALUE!"},{"$error":"#VALUE!"},{"$f":"VLOOKUP(K4398,references!$A$1:$B$7,2,FALSE)","v":{"$error":"#N/A"}}]
[null,null,null,null,null,null,null,null,null,null,null,null,"no email",{"$error":"#VALUE!"},{"$error":"#VALUE!"},{"$f":"VLOOKUP(K4399,references!$A$1:$B$7,2,FALSE)","v":{"$error":"#N/A"}}]
[null,null,null,null,null,null,null,null,null,null,null,null,"no email",{"$error":"#VALUE!"},{"$error":"#VALUE!"},{"$f":"VLOOKUP(K4400,references!$A$1:$B$7,2,FALSE)","v":{"$error":"#N/A"}}]
[null,null,null,null,null,null,null,null,null,null,null,null,"no email",{"$error":"#VALUE!"},{"$error":"#VALUE!"},{"$f":"VLOOKUP(K4401,references!$A$1:$B$7,2,FALSE)","v":{"$error":"#N/A"}}]
[null,null,null,null,null,null,null,null,null,null,null,null,"no email",{"$error":"#VALUE!"},{"$error":"#VALUE!"},{"$f":"VLOOKUP(K4402,references!$A$1:$B$7,2,FALSE)","v":{"$error":"#N/A"}}]
[null,null,null,null,null,null,null,null,null,null,null,null,"no email",{"$error":"#VALUE!"},{"$error":"#VALUE!"},{"$f":"VLOOKUP(K4403,references!$A$1:$B$7,2,FALSE)","v":{"$error":"#N/A"}}]
[null,null,null,null,null,null,null,null,null,null,null,null,"no email",{"$error":"#VALUE!"},{"$error":"#VALUE!"},{"$f":"VLOOKUP(K4404,references!$A$1:$B$7,2,FALSE)","v":{"$error":"#N/A"}}]
[null,null,null,null,null,null,null,null,null,null,null,null,"no email",{"$error":"#VALUE!"},{"$error":"#VALUE!"},{"$f":"VLOOKUP(K4405,references!$A$1:$B$7,2,FALSE)","v":{"$error":"#N/A"}}]
[null,null,null,null,null,null,null,null,null,null,null,null,"no email",{"$error":"#VALUE!"},{"$error":"#VALUE!"},{"$f":"VLOOKUP(K4406,references!$A$1:$B$7,2,FALSE)","v":{"$error":"#N/A"}}]
[null,null,null,null,null,null,null,null,null,null,null,null,"no email",{"$error":"#VALUE!"},{"$error":"#VALUE!"},{"$f":"VLOOKUP(K4407,references!$A$1:$B$7,2,FALSE)","v":{"$error":"#N/A"}}]
[null,null,null,null,null,null,null,null,null,null,null,null,"no email",{"$error":"#VALUE!"},{"$error":"#VALUE!"},{"$f":"VLOOKUP(K4408,references!$A$1:$B$7,2,FALSE)","v":{"$error":"#N/A"}}]
[null,null,null,null,null,null,null,null,null,null,null,null,"no email",{"$error":"#VALUE!"},{"$error":"#VALUE!"},{"$f":"VLOOKUP(K4409,references!$A$1:$B$7,2,FALSE)","v":{"$error":"#N/A"}}]
[null,null,null,null,null,null,null,null,null,null,null,null,"no email",{"$error":"#VALUE!"},{"$error":"#VALUE!"},{"$f":"VLOOKUP(K4410,references!$A$1:$B$7,2,FALSE)","v":{"$error":"#N/A"}}]
[null,null,null,null,null,null,null,null,null,null,null,null,"no email",{"$error":"#VALUE!"},{"$error":"#VALUE!"},{"$f":"VLOOKUP(K4411,references!$A$1:$B$7,2,FALSE)","v":{"$error":"#N/A"}}]
[null,null,null,null,null,null,null,null,null,null,null,null,"no email",{"$error":"#VALUE!"},{"$error":"#VALUE!"},{"$f":"VLOOKUP(K4412,references!$A$1:$B$7,2,FALSE)","v":{"$error":"#N/A"}}]
[null,null,null,null,null,null,null,null,null,null,null,null,"no email",{"$error":"#VALUE!"},{"$error":"#VALUE!"},{"$f":"VLOOKUP(K4413,references!$A$1:$B$7,2,FALSE)","v":{"$error":"#N/A"}}]
[null,null,null,null,null,null,null,null,null,null,null,null,"no email",{"$error":"#VALUE!"},{"$error":"#VALUE!"},{"$f":"VLOOKUP(K4414,references!$A$1:$B$7,2,FALSE)","v":{"$error":"#N/A"}}]
[null,null,null,null,null,null,null,null,null,null,null,null,"no email",{"$error":"#VALUE!"},{"$error":"#VALUE!"},{"$f":"VLOOKUP(K4415,references!$A$1:$B$7,2,FALSE)","v":{"$error":"#N/A"}}]
[null,null,null,null,null,null,null,null,null,null,null,null,"no email",{"$error":"#VALUE!"},{"$error":"#VALUE!"},{"$f":"VLOOKUP(K4416,references!$A$1:$B$7,2,FALSE)","v":{"$error":"#N/A"}}]
[null,null,null,null,null,null,null,null,null,null,null,null,"no email",{"$error":"#VALUE!"},{"$error":"#VALUE!"},{"$f":"VLOOKUP(K4417,references!$A$1:$B$7,2,FALSE)","v":{"$error":"#N/A"}}]
[null,null,null,null,null,null,null,null,null,null,null,null,{"$f":"IF(L4418=\"\", \"no email\",LOWER(L4418))","v":"no email"},{"$f":"LEFT(A4418, SEARCH(\",\",A4418,1)-1)","v":{"$error":"#VALUE!"}},{"$f":"RIGHT(A4418, LEN(A4418) -SEARCH(\",\",A4418,1)-1)","v":{"$error":"#VALUE!"}},{"$f":"VLOOKUP(K4418,references!$A$1:$B$7,2,FALSE)","v":{"$error":"#N/A"}}]
[null,null,null,null,null,null,null,null,null,null,null,null,"no email",{"$error":"#VALUE!"},{"$error":"#VALUE!"},{"$f":"VLOOKUP(K4419,references!$A$1:$B$7,2,FALSE)","v":{"$error":"#N/A"}}]
[null,null,null,null,null,null,null,null,null,null,null,null,"no email",{"$error":"#VALUE!"},{"$error":"#VALUE!"},{"$f":"VLOOKUP(K4420,references!$A$1:$B$7,2,FALSE)","v":{"$error":"#N/A"}}]
[null,null,null,null,null,null,null,null,null,null,null,null,"no email",{"$error":"#VALUE!"},{"$error":"#VALUE!"},{"$f":"VLOOKUP(K4421,references!$A$1:$B$7,2,FALSE)","v":{"$error":"#N/A"}}]
[null,null,null,null,null,null,null,null,null,null,null,null,"no email",{"$error":"#VALUE!"},{"$error":"#VALUE!"},{"$f":"VLOOKUP(K4422,references!$A$1:$B$7,2,FALSE)","v":{"$error":"#N/A"}}]
[null,null,null,null,null,null,null,null,null,null,null,null,"no email",{"$error":"#VALUE!"},{"$error":"#VALUE!"},{"$f":"VLOOKUP(K4423,references!$A$1:$B$7,2,FALSE)","v":{"$error":"#N/A"}}]
[null,null,null,null,null,null,null,null,null,null,null,null,"no email",{"$error":"#VALUE!"},{"$error":"#VALUE!"},{"$f":"VLOOKUP(K4424,references!$A$1:$B$7,2,FALSE)","v":{"$error":"#N/A"}}]
[null,null,null,null,null,null,null,null,null,null,null,null,"no email",{"$error":"#VALUE!"},{"$error":"#VALUE!"},{"$f":"VLOOKUP(K4425,references!$A$1:$B$7,2,FALSE)","v":{"$error":"#N/A"}}]
[null,null,null,null,null,null,null,null,null,null,null,null,"no email",{"$error":"#VALUE!"},{"$error":"#VALUE!"},{"$f":"VLOOKUP(K4426,references!$A$1:$B$7,2,FALSE)","v":{"$error":"#N/A"}}]
[null,null,null,null,null,null,null,null,null,null,null,null,"no email",{"$error":"#VALUE!"},{"$error":"#VALUE!"},{"$f":"VLOOKUP(K4427,references!$A$1:$B$7,2,FALSE)","v":{"$error":"#N/A"}}]
[null,null,null,null,null,null,null,null,null,null,null,null,"no email",{"$error":"#VALUE!"},{"$error":"#VALUE!"},{"$f":"VLOOKUP(K4428,references!$A$1:$B$7,2,FALSE)","v":{"$error":"#N/A"}}]
[null,null,null,null,null,null,null,null,null,null,null,null,"no email",{"$error":"#VALUE!"},{"$error":"#VALUE!"},{"$f":"VLOOKUP(K4429,references!$A$1:$B$7,2,FALSE)","v":{"$error":"#N/A"}}]
[null,null,null,null,null,null,null,null,null,null,null,null,"no email",{"$error":"#VALUE!"},{"$error":"#VALUE!"},{"$f":"VLOOKUP(K4430,references!$A$1:$B$7,2,FALSE)","v":{"$error":"#N/A"}}]
[null,null,null,null,null,null,null,null,null,null,null,null,"no email",{"$error":"#VALUE!"},{"$error":"#VALUE!"},{"$f":"VLOOKUP(K4431,references!$A$1:$B$7,2,FALSE)","v":{"$error":"#N/A"}}]
[null,null,null,null,null,null,null,null,null,null,null,null,"no email",{"$error":"#VALUE!"},{"$error":"#VALUE!"},{"$f":"VLOOKUP(K4432,references!$A$1:$B$7,2,FALSE)","v":{"$error":"#N/A"}}]
[null,null,null,null,null,null,null,null,null,null,null,null,"no email",{"$error":"#VALUE!"},{"$error":"#VALUE!"},{"$f":"VLOOKUP(K4433,references!$A$1:$B$7,2,FALSE)","v":{"$error":"#N/A"}}]
[null,null,null,null,null,null,null,null,null,null,null,null,"no email",{"$error":"#VALUE!"},{"$error":"#VALUE!"},{"$f":"VLOOKUP(K4434,references!$A$1:$B$7,2,FALSE)","v":{"$error":"#N/A"}}]
[null,null,null,null,null,null,null,null,null,null,null,null,"no email",{"$error":"#VALUE!"},{"$error":"#VALUE!"},{"$f":"VLOOKUP(K4435,references!$A$1:$B$7,2,FALSE)","v":{"$error":"#N/A"}}]
[null,null,null,null,null,null,null,null,null,null,null,null,"no email",{"$error":"#VALUE!"},{"$error":"#VALUE!"},{"$f":"VLOOKUP(K4436,references!$A$1:$B$7,2,FALSE)","v":{"$error":"#N/A"}}]
[null,null,null,null,null,null,null,null,null,null,null,null,"no email",{"$error":"#VALUE!"},{"$error":"#VALUE!"},{"$f":"VLOOKUP(K4437,references!$A$1:$B$7,2,FALSE)","v":{"$error":"#N/A"}}]
[null,null,null,null,null,null,null,null,null,null,null,null,"no email",{"$error":"#VALUE!"},{"$error":"#VALUE!"},{"$f":"VLOOKUP(K4438,references!$A$1:$B$7,2,FALSE)","v":{"$error":"#N/A"}}]
[null,null,null,null,null,null,null,null,null,null,null,null,"no email",{"$error":"#VALUE!"},{"$error":"#VALUE!"},{"$f":"VLOOKUP(K4439,references!$A$1:$B$7,2,FALSE)","v":{"$error":"#N/A"}}]
[null,null,null,null,null,null,null,null,null,null,null,null,"no email",{"$error":"#VALUE!"},{"$error":"#VALUE!"},{"$f":"VLOOKUP(K4440,references!$A$1:$B$7,2,FALSE)","v":{"$error":"#N/A"}}]
[null,null,null,null,null,null,null,null,null,null,null,null,"no email",{"$error":"#VALUE!"},{"$error":"#VALUE!"},{"$f":"VLOOKUP(K4441,references!$A$1:$B$7,2,FALSE)","v":{"$error":"#N/A"}}]
[null,null,null,null,null,null,null,null,null,null,null,null,"no email",{"$error":"#VALUE!"},{"$error":"#VALUE!"},{"$f":"VLOOKUP(K4442,references!$A$1:$B$7,2,FALSE)","v":{"$error":"#N/A"}}]
[null,null,null,null,null,null,null,null,null,null,null,null,"no email",{"$error":"#VALUE!"},{"$error":"#VALUE!"},{"$f":"VLOOKUP(K4443,references!$A$1:$B$7,2,FALSE)","v":{"$error":"#N/A"}}]
[null,null,null,null,null,null,null,null,null,null,null,null,"no email",{"$error":"#VALUE!"},{"$error":"#VALUE!"},{"$f":"VLOOKUP(K4444,references!$A$1:$B$7,2,FALSE)","v":{"$error":"#N/A"}}]
[null,null,null,null,null,null,null,null,null,null,null,null,"no email",{"$error":"#VALUE!"},{"$error":"#VALUE!"},{"$f":"VLOOKUP(K4445,references!$A$1:$B$7,2,FALSE)","v":{"$error":"#N/A"}}]
[null,null,null,null,null,null,null,null,null,null,null,null,"no email",{"$error":"#VALUE!"},{"$error":"#VALUE!"},{"$f":"VLOOKUP(K4446,references!$A$1:$B$7,2,FALSE)","v":{"$error":"#N/A"}}]
[null,null,null,null,null,null,null,null,null,null,null,null,"no email",{"$error":"#VALUE!"},{"$error":"#VALUE!"},{"$f":"VLOOKUP(K4447,references!$A$1:$B$7,2,FALSE)","v":{"$error":"#N/A"}}]
[null,null,null,null,null,null,null,null,null,null,null,null,"no email",{"$error":"#VALUE!"},{"$error":"#VALUE!"},{"$f":"VLOOKUP(K4448,references!$A$1:$B$7,2,FALSE)","v":{"$error":"#N/A"}}]
[null,null,null,null,null,null,null,null,null,null,null,null,"no email",{"$error":"#VALUE!"},{"$error":"#VALUE!"},{"$f":"VLOOKUP(K4449,references!$A$1:$B$7,2,FALSE)","v":{"$error":"#N/A"}}]
[null,null,null,null,null,null,null,null,null,null,null,null,"no email",{"$error":"#VALUE!"},{"$error":"#VALUE!"},{"$f":"VLOOKUP(K4450,references!$A$1:$B$7,2,FALSE)","v":{"$error":"#N/A"}}]
[null,null,null,null,null,null,null,null,null,null,null,null,"no email",{"$error":"#VALUE!"},{"$error":"#VALUE!"},{"$f":"VLOOKUP(K4451,references!$A$1:$B$7,2,FALSE)","v":{"$error":"#N/A"}}]
[null,null,null,null,null,null,null,null,null,null,null,null,"no email",{"$error":"#VALUE!"},{"$error":"#VALUE!"},{"$f":"VLOOKUP(K4452,references!$A$1:$B$7,2,FALSE)","v":{"$error":"#N/A"}}]
[null,null,null,null,null,null,null,null,null,null,null,null,"no email",{"$error":"#VALUE!"},{"$error":"#VALUE!"},{"$f":"VLOOKUP(K4453,references!$A$1:$B$7,2,FALSE)","v":{"$error":"#N/A"}}]
[null,null,null,null,null,null,null,null,null,null,null,null,"no email",{"$error":"#VALUE!"},{"$error":"#VALUE!"},{"$f":"VLOOKUP(K4454,references!$A$1:$B$7,2,FALSE)","v":{"$error":"#N/A"}}]
[null,null,null,null,null,null,null,null,null,null,null,null,"no email",{"$error":"#VALUE!"},{"$error":"#VALUE!"},{"$f":"VLOOKUP(K4455,references!$A$1:$B$7,2,FALSE)","v":{"$error":"#N/A"}}]
[null,null,null,null,null,null,null,null,null,null,null,null,"no email",{"$error":"#VALUE!"},{"$error":"#VALUE!"},{"$f":"VLOOKUP(K4456,references!$A$1:$B$7,2,FALSE)","v":{"$error":"#N/A"}}]
[null,null,null,null,null,null,null,null,null,null,null,null,"no email",{"$error":"#VALUE!"},{"$error":"#VALUE!"},{"$f":"VLOOKUP(K4457,references!$A$1:$B$7,2,FALSE)","v":{"$error":"#N/A"}}]
[null,null,null,null,null,null,null,null,null,null,null,null,"no email",{"$error":"#VALUE!"},{"$error":"#VALUE!"},{"$f":"VLOOKUP(K4458,references!$A$1:$B$7,2,FALSE)","v":{"$error":"#N/A"}}]
[null,null,null,null,null,null,null,null,null,null,null,null,"no email",{"$error":"#VALUE!"},{"$error":"#VALUE!"},{"$f":"VLOOKUP(K4459,references!$A$1:$B$7,2,FALSE)","v":{"$error":"#N/A"}}]
[null,null,null,null,null,null,null,null,null,null,null,null,"no email",{"$error":"#VALUE!"},{"$error":"#VALUE!"},{"$f":"VLOOKUP(K4460,references!$A$1:$B$7,2,FALSE)","v":{"$error":"#N/A"}}]
[null,null,null,null,null,null,null,null,null,null,null,null,"no email",{"$error":"#VALUE!"},{"$error":"#VALUE!"},{"$f":"VLOOKUP(K4461,references!$A$1:$B$7,2,FALSE)","v":{"$error":"#N/A"}}]
[null,null,null,null,null,null,null,null,null,null,null,null,"no email",{"$error":"#VALUE!"},{"$error":"#VALUE!"},{"$f":"VLOOKUP(K4462,references!$A$1:$B$7,2,FALSE)","v":{"$error":"#N/A"}}]
[null,null,null,null,null,null,null,null,null,null,null,null,"no email",{"$error":"#VALUE!"},{"$error":"#VALUE!"},{"$f":"VLOOKUP(K4463,references!$A$1:$B$7,2,FALSE)","v":{"$error":"#N/A"}}]
[null,null,null,null,null,null,null,null,null,null,null,null,"no email",{"$error":"#VALUE!"},{"$error":"#VALUE!"},{"$f":"VLOOKUP(K4464,references!$A$1:$B$7,2,FALSE)","v":{"$error":"#N/A"}}]
[null,null,null,null,null,null,null,null,null,null,null,null,"no email",{"$error":"#VALUE!"},{"$error":"#VALUE!"},{"$f":"VLOOKUP(K4465,references!$A$1:$B$7,2,FALSE)","v":{"$error":"#N/A"}}]
[null,null,null,null,null,null,null,null,null,null,null,null,"no email",{"$error":"#VALUE!"},{"$error":"#VALUE!"},{"$f":"VLOOKUP(K4466,references!$A$1:$B$7,2,FALSE)","v":{"$error":"#N/A"}}]
[null,null,null,null,null,null,null,null,null,null,null,null,"no email",{"$error":"#VALUE!"},{"$error":"#VALUE!"},{"$f":"VLOOKUP(K4467,references!$A$1:$B$7,2,FALSE)","v":{"$error":"#N/A"}}]
[null,null,null,null,null,null,null,null,null,null,null,null,"no email",{"$error":"#VALUE!"},{"$error":"#VALUE!"},{"$f":"VLOOKUP(K4468,references!$A$1:$B$7,2,FALSE)","v":{"$error":"#N/A"}}]
[null,null,null,null,null,null,null,null,null,null,null,null,"no email",{"$error":"#VALUE!"},{"$error":"#VALUE!"},{"$f":"VLOOKUP(K4469,references!$A$1:$B$7,2,FALSE)","v":{"$error":"#N/A"}}]
[null,null,null,null,null,null,null,null,null,null,null,null,"no email",{"$error":"#VALUE!"},{"$error":"#VALUE!"},{"$f":"VLOOKUP(K4470,references!$A$1:$B$7,2,FALSE)","v":{"$error":"#N/A"}}]
[null,null,null,null,null,null,null,null,null,null,null,null,"no email",{"$error":"#VALUE!"},{"$error":"#VALUE!"},{"$f":"VLOOKUP(K4471,references!$A$1:$B$7,2,FALSE)","v":{"$error":"#N/A"}}]
[null,null,null,null,null,null,null,null,null,null,null,null,"no email",{"$error":"#VALUE!"},{"$error":"#VALUE!"},{"$f":"VLOOKUP(K4472,references!$A$1:$B$7,2,FALSE)","v":{"$error":"#N/A"}}]
[null,null,null,null,null,null,null,null,null,null,null,null,"no email",{"$error":"#VALUE!"},{"$error":"#VALUE!"},{"$f":"VLOOKUP(K4473,references!$A$1:$B$7,2,FALSE)","v":{"$error":"#N/A"}}]
[null,null,null,null,null,null,null,null,null,null,null,null,"no email",{"$error":"#VALUE!"},{"$error":"#VALUE!"},{"$f":"VLOOKUP(K4474,references!$A$1:$B$7,2,FALSE)","v":{"$error":"#N/A"}}]
[null,null,null,null,null,null,null,null,null,null,null,null,"no email",{"$error":"#VALUE!"},{"$error":"#VALUE!"},{"$f":"VLOOKUP(K4475,references!$A$1:$B$7,2,FALSE)","v":{"$error":"#N/A"}}]
[null,null,null,null,null,null,null,null,null,null,null,null,"no email",{"$error":"#VALUE!"},{"$error":"#VALUE!"},{"$f":"VLOOKUP(K4476,references!$A$1:$B$7,2,FALSE)","v":{"$error":"#N/A"}}]
[null,null,null,null,null,null,null,null,null,null,null,null,"no email",{"$error":"#VALUE!"},{"$error":"#VALUE!"},{"$f":"VLOOKUP(K4477,references!$A$1:$B$7,2,FALSE)","v":{"$error":"#N/A"}}]
[null,null,null,null,null,null,null,null,null,null,null,null,"no email",{"$error":"#VALUE!"},{"$error":"#VALUE!"},{"$f":"VLOOKUP(K4478,references!$A$1:$B$7,2,FALSE)","v":{"$error":"#N/A"}}]
[null,null,null,null,null,null,null,null,null,null,null,null,"no email",{"$error":"#VALUE!"},{"$error":"#VALUE!"},{"$f":"VLOOKUP(K4479,references!$A$1:$B$7,2,FALSE)","v":{"$error":"#N/A"}}]
[null,null,null,null,null,null,null,null,null,null,null,null,"no email",{"$error":"#VALUE!"},{"$error":"#VALUE!"},{"$f":"VLOOKUP(K4480,references!$A$1:$B$7,2,FALSE)","v":{"$error":"#N/A"}}]
[null,null,null,null,null,null,null,null,null,null,null,null,"no email",{"$error":"#VALUE!"},{"$error":"#VALUE!"},{"$f":"VLOOKUP(K4481,references!$A$1:$B$7,2,FALSE)","v":{"$error":"#N/A"}}]
[null,null,null,null,null,null,null,null,null,null,null,null,{"$f":"IF(L4482=\"\", \"no email\",LOWER(L4482))","v":"no email"},{"$f":"LEFT(A4482, SEARCH(\",\",A4482,1)-1)","v":{"$error":"#VALUE!"}},{"$f":"RIGHT(A4482, LEN(A4482) -SEARCH(\",\",A4482,1)-1)","v":{"$error":"#VALUE!"}},{"$f":"VLOOKUP(K4482,references!$A$1:$B$7,2,FALSE)","v":{"$error":"#N/A"}}]
[null,null,null,null,null,null,null,null,null,null,null,null,"no email",{"$error":"#VALUE!"},{"$error":"#VALUE!"},{"$f":"VLOOKUP(K4483,references!$A$1:$B$7,2,FALSE)","v":{"$error":"#N/A"}}]
[null,null,null,null,null,null,null,null,null,null,null,null,"no email",{"$error":"#VALUE!"},{"$error":"#VALUE!"},{"$f":"VLOOKUP(K4484,references!$A$1:$B$7,2,FALSE)","v":{"$error":"#N/A"}}]
[null,null,null,null,null,null,null,null,null,null,null,null,"no email",{"$error":"#VALUE!"},{"$error":"#VALUE!"},{"$f":"VLOOKUP(K4485,references!$A$1:$B$7,2,FALSE)","v":{"$error":"#N/A"}}]
[null,null,null,null,null,null,null,null,null,null,null,null,"no email",{"$error":"#VALUE!"},{"$error":"#VALUE!"},{"$f":"VLOOKUP(K4486,references!$A$1:$B$7,2,FALSE)","v":{"$error":"#N/A"}}]
[null,null,null,null,null,null,null,null,null,null,null,null,"no email",{"$error":"#VALUE!"},{"$error":"#VALUE!"},{"$f":"VLOOKUP(K4487,references!$A$1:$B$7,2,FALSE)","v":{"$error":"#N/A"}}]
[null,null,null,null,null,null,null,null,null,null,null,null,"no email",{"$error":"#VALUE!"},{"$error":"#VALUE!"},{"$f":"VLOOKUP(K4488,references!$A$1:$B$7,2,FALSE)","v":{"$error":"#N/A"}}]
[null,null,null,null,null,null,null,null,null,null,null,null,"no email",{"$error":"#VALUE!"},{"$error":"#VALUE!"},{"$f":"VLOOKUP(K4489,references!$A$1:$B$7,2,FALSE)","v":{"$error":"#N/A"}}]
[null,null,null,null,null,null,null,null,null,null,null,null,"no email",{"$error":"#VALUE!"},{"$error":"#VALUE!"},{"$f":"VLOOKUP(K4490,references!$A$1:$B$7,2,FALSE)","v":{"$error":"#N/A"}}]
[null,null,null,null,null,null,null,null,null,null,null,null,"no email",{"$error":"#VALUE!"},{"$error":"#VALUE!"},{"$f":"VLOOKUP(K4491,references!$A$1:$B$7,2,FALSE)","v":{"$error":"#N/A"}}]
[null,null,null,null,null,null,null,null,null,null,null,null,"no email",{"$error":"#VALUE!"},{"$error":"#VALUE!"},{"$f":"VLOOKUP(K4492,references!$A$1:$B$7,2,FALSE)","v":{"$error":"#N/A"}}]
[null,null,null,null,null,null,null,null,null,null,null,null,"no email",{"$error":"#VALUE!"},{"$error":"#VALUE!"},{"$f":"VLOOKUP(K4493,references!$A$1:$B$7,2,FALSE)","v":{"$error":"#N/A"}}]
[null,null,null,null,null,null,null,null,null,null,null,null,"no email",{"$error":"#VALUE!"},{"$error":"#VALUE!"},{"$f":"VLOOKUP(K4494,references!$A$1:$B$7,2,FALSE)","v":{"$error":"#N/A"}}]
[null,null,null,null,null,null,null,null,null,null,null,null,"no email",{"$error":"#VALUE!"},{"$error":"#VALUE!"},{"$f":"VLOOKUP(K4495,references!$A$1:$B$7,2,FALSE)","v":{"$error":"#N/A"}}]
[null,null,null,null,null,null,null,null,null,null,null,null,"no email",{"$error":"#VALUE!"},{"$error":"#VALUE!"},{"$f":"VLOOKUP(K4496,references!$A$1:$B$7,2,FALSE)","v":{"$error":"#N/A"}}]
[null,null,null,null,null,null,null,null,null,null,null,null,"no email",{"$error":"#VALUE!"},{"$error":"#VALUE!"},{"$f":"VLOOKUP(K4497,references!$A$1:$B$7,2,FALSE)","v":{"$error":"#N/A"}}]
[null,null,null,null,null,null,null,null,null,null,null,null,"no email",{"$error":"#VALUE!"},{"$error":"#VALUE!"},{"$f":"VLOOKUP(K4498,references!$A$1:$B$7,2,FALSE)","v":{"$error":"#N/A"}}]
[null,null,null,null,null,null,null,null,null,null,null,null,"no email",{"$error":"#VALUE!"},{"$error":"#VALUE!"},{"$f":"VLOOKUP(K4499,references!$A$1:$B$7,2,FALSE)","v":{"$error":"#N/A"}}]
[null,null,null,null,null,null,null,null,null,null,null,null,"no email",{"$error":"#VALUE!"},{"$error":"#VALUE!"},{"$f":"VLOOKUP(K4500,references!$A$1:$B$7,2,FALSE)","v":{"$error":"#N/A"}}]
[null,null,null,null,null,null,null,null,null,null,null,null,"no email",{"$error":"#VALUE!"},{"$error":"#VALUE!"},{"$f":"VLOOKUP(K4501,references!$A$1:$B$7,2,FALSE)","v":{"$error":"#N/A"}}]
[null,null,null,null,null,null,null,null,null,null,null,null,"no email",{"$error":"#VALUE!"},{"$error":"#VALUE!"},{"$f":"VLOOKUP(K4502,references!$A$1:$B$7,2,FALSE)","v":{"$error":"#N/A"}}]
[null,null,null,null,null,null,null,null,null,null,null,null,"no email",{"$error":"#VALUE!"},{"$error":"#VALUE!"},{"$f":"VLOOKUP(K4503,references!$A$1:$B$7,2,FALSE)","v":{"$error":"#N/A"}}]
[null,null,null,null,null,null,null,null,null,null,null,null,"no email",{"$error":"#VALUE!"},{"$error":"#VALUE!"},{"$f":"VLOOKUP(K4504,references!$A$1:$B$7,2,FALSE)","v":{"$error":"#N/A"}}]
[null,null,null,null,null,null,null,null,null,null,null,null,"no email",{"$error":"#VALUE!"},{"$error":"#VALUE!"},{"$f":"VLOOKUP(K4505,references!$A$1:$B$7,2,FALSE)","v":{"$error":"#N/A"}}]
[null,null,null,null,null,null,null,null,null,null,null,null,"no email",{"$error":"#VALUE!"},{"$error":"#VALUE!"},{"$f":"VLOOKUP(K4506,references!$A$1:$B$7,2,FALSE)","v":{"$error":"#N/A"}}]
[null,null,null,null,null,null,null,null,null,null,null,null,"no email",{"$error":"#VALUE!"},{"$error":"#VALUE!"},{"$f":"VLOOKUP(K4507,references!$A$1:$B$7,2,FALSE)","v":{"$error":"#N/A"}}]
[null,null,null,null,null,null,null,null,null,null,null,null,"no email",{"$error":"#VALUE!"},{"$error":"#VALUE!"},{"$f":"VLOOKUP(K4508,references!$A$1:$B$7,2,FALSE)","v":{"$error":"#N/A"}}]
[null,null,null,null,null,null,null,null,null,null,null,null,"no email",{"$error":"#VALUE!"},{"$error":"#VALUE!"},{"$f":"VLOOKUP(K4509,references!$A$1:$B$7,2,FALSE)","v":{"$error":"#N/A"}}]
[null,null,null,null,null,null,null,null,null,null,null,null,"no email",{"$error":"#VALUE!"},{"$error":"#VALUE!"},{"$f":"VLOOKUP(K4510,references!$A$1:$B$7,2,FALSE)","v":{"$error":"#N/A"}}]
[null,null,null,null,null,null,null,null,null,null,null,null,"no email",{"$error":"#VALUE!"},{"$error":"#VALUE!"},{"$f":"VLOOKUP(K4511,references!$A$1:$B$7,2,FALSE)","v":{"$error":"#N/A"}}]
[null,null,null,null,null,null,null,null,null,null,null,null,"no email",{"$error":"#VALUE!"},{"$error":"#VALUE!"},{"$f":"VLOOKUP(K4512,references!$A$1:$B$7,2,FALSE)","v":{"$error":"#N/A"}}]
[null,null,null,null,null,null,null,null,null,null,null,null,"no email",{"$error":"#VALUE!"},{"$error":"#VALUE!"},{"$f":"VLOOKUP(K4513,references!$A$1:$B$7,2,FALSE)","v":{"$error":"#N/A"}}]
[null,null,null,null,null,null,null,null,null,null,null,null,"no email",{"$error":"#VALUE!"},{"$error":"#VALUE!"},{"$f":"VLOOKUP(K4514,references!$A$1:$B$7,2,FALSE)","v":{"$error":"#N/A"}}]
[null,null,null,null,null,null,null,null,null,null,null,null,"no email",{"$error":"#VALUE!"},{"$error":"#VALUE!"},{"$f":"VLOOKUP(K4515,references!$A$1:$B$7,2,FALSE)","v":{"$error":"#N/A"}}]
[null,null,null,null,null,null,null,null,null,null,null,null,"no email",{"$error":"#VALUE!"},{"$error":"#VALUE!"},{"$f":"VLOOKUP(K4516,references!$A$1:$B$7,2,FALSE)","v":{"$error":"#N/A"}}]
[null,null,null,null,null,null,null,null,null,null,null,null,"no email",{"$error":"#VALUE!"},{"$error":"#VALUE!"},{"$f":"VLOOKUP(K4517,references!$A$1:$B$7,2,FALSE)","v":{"$error":"#N/A"}}]
[null,null,null,null,null,null,null,null,null,null,null,null,"no email",{"$error":"#VALUE!"},{"$error":"#VALUE!"},{"$f":"VLOOKUP(K4518,references!$A$1:$B$7,2,FALSE)","v":{"$error":"#N/A"}}]
[null,null,null,null,null,null,null,null,null,null,null,null,"no email",{"$error":"#VALUE!"},{"$error":"#VALUE!"},{"$f":"VLOOKUP(K4519,references!$A$1:$B$7,2,FALSE)","v":{"$error":"#N/A"}}]
[null,null,null,null,null,null,null,null,null,null,null,null,"no email",{"$error":"#VALUE!"},{"$error":"#VALUE!"},{"$f":"VLOOKUP(K4520,references!$A$1:$B$7,2,FALSE)","v":{"$error":"#N/A"}}]
[null,null,null,null,null,null,null,null,null,null,null,null,"no email",{"$error":"#VALUE!"},{"$error":"#VALUE!"},{"$f":"VLOOKUP(K4521,references!$A$1:$B$7,2,FALSE)","v":{"$error":"#N/A"}}]
[null,null,null,null,null,null,null,null,null,null,null,null,"no email",{"$error":"#VALUE!"},{"$error":"#VALUE!"},{"$f":"VLOOKUP(K4522,references!$A$1:$B$7,2,FALSE)","v":{"$error":"#N/A"}}]
[null,null,null,null,null,null,null,null,null,null,null,null,"no email",{"$error":"#VALUE!"},{"$error":"#VALUE!"},{"$f":"VLOOKUP(K4523,references!$A$1:$B$7,2,FALSE)","v":{"$error":"#N/A"}}]
[null,null,null,null,null,null,null,null,null,null,null,null,"no email",{"$error":"#VALUE!"},{"$error":"#VALUE!"},{"$f":"VLOOKUP(K4524,references!$A$1:$B$7,2,FALSE)","v":{"$error":"#N/A"}}]
[null,null,null,null,null,null,null,null,null,null,null,null,"no email",{"$error":"#VALUE!"},{"$error":"#VALUE!"},{"$f":"VLOOKUP(K4525,references!$A$1:$B$7,2,FALSE)","v":{"$error":"#N/A"}}]
[null,null,null,null,null,null,null,null,null,null,null,null,"no email",{"$error":"#VALUE!"},{"$error":"#VALUE!"},{"$f":"VLOOKUP(K4526,references!$A$1:$B$7,2,FALSE)","v":{"$error":"#N/A"}}]
[null,null,null,null,null,null,null,null,null,null,null,null,"no email",{"$error":"#VALUE!"},{"$error":"#VALUE!"},{"$f":"VLOOKUP(K4527,references!$A$1:$B$7,2,FALSE)","v":{"$error":"#N/A"}}]
[null,null,null,null,null,null,null,null,null,null,null,null,"no email",{"$error":"#VALUE!"},{"$error":"#VALUE!"},{"$f":"VLOOKUP(K4528,references!$A$1:$B$7,2,FALSE)","v":{"$error":"#N/A"}}]
[null,null,null,null,null,null,null,null,null,null,null,null,"no email",{"$error":"#VALUE!"},{"$error":"#VALUE!"},{"$f":"VLOOKUP(K4529,references!$A$1:$B$7,2,FALSE)","v":{"$error":"#N/A"}}]
[null,null,null,null,null,null,null,null,null,null,null,null,"no email",{"$error":"#VALUE!"},{"$error":"#VALUE!"},{"$f":"VLOOKUP(K4530,references!$A$1:$B$7,2,FALSE)","v":{"$error":"#N/A"}}]
[null,null,null,null,null,null,null,null,null,null,null,null,"no email",{"$error":"#VALUE!"},{"$error":"#VALUE!"},{"$f":"VLOOKUP(K4531,references!$A$1:$B$7,2,FALSE)","v":{"$error":"#N/A"}}]
[null,null,null,null,null,null,null,null,null,null,null,null,"no email",{"$error":"#VALUE!"},{"$error":"#VALUE!"},{"$f":"VLOOKUP(K4532,references!$A$1:$B$7,2,FALSE)","v":{"$error":"#N/A"}}]
[null,null,null,null,null,null,null,null,null,null,null,null,"no email",{"$error":"#VALUE!"},{"$error":"#VALUE!"},{"$f":"VLOOKUP(K4533,references!$A$1:$B$7,2,FALSE)","v":{"$error":"#N/A"}}]
[null,null,null,null,null,null,null,null,null,null,null,null,"no email",{"$error":"#VALUE!"},{"$error":"#VALUE!"},{"$f":"VLOOKUP(K4534,references!$A$1:$B$7,2,FALSE)","v":{"$error":"#N/A"}}]
[null,null,null,null,null,null,null,null,null,null,null,null,"no email",{"$error":"#VALUE!"},{"$error":"#VALUE!"},{"$f":"VLOOKUP(K4535,references!$A$1:$B$7,2,FALSE)","v":{"$error":"#N/A"}}]
[null,null,null,null,null,null,null,null,null,null,null,null,"no email",{"$error":"#VALUE!"},{"$error":"#VALUE!"},{"$f":"VLOOKUP(K4536,references!$A$1:$B$7,2,FALSE)","v":{"$error":"#N/A"}}]
[null,null,null,null,null,null,null,null,null,null,null,null,"no email",{"$error":"#VALUE!"},{"$error":"#VALUE!"},{"$f":"VLOOKUP(K4537,references!$A$1:$B$7,2,FALSE)","v":{"$error":"#N/A"}}]
[null,null,null,null,null,null,null,null,null,null,null,null,"no email",{"$error":"#VALUE!"},{"$error":"#VALUE!"},{"$f":"VLOOKUP(K4538,references!$A$1:$B$7,2,FALSE)","v":{"$error":"#N/A"}}]
[null,null,null,null,null,null,null,null,null,null,null,null,"no email",{"$error":"#VALUE!"},{"$error":"#VALUE!"},{"$f":"VLOOKUP(K4539,references!$A$1:$B$7,2,FALSE)","v":{"$error":"#N/A"}}]
[null,null,null,null,null,null,null,null,null,null,null,null,"no email",{"$error":"#VALUE!"},{"$error":"#VALUE!"},{"$f":"VLOOKUP(K4540,references!$A$1:$B$7,2,FALSE)","v":{"$error":"#N/A"}}]
[null,null,null,null,null,null,null,null,null,null,null,null,"no email",{"$error":"#VALUE!"},{"$error":"#VALUE!"},{"$f":"VLOOKUP(K4541,references!$A$1:$B$7,2,FALSE)","v":{"$error":"#N/A"}}]
[null,null,null,null,null,null,null,null,null,null,null,null,"no email",{"$error":"#VALUE!"},{"$error":"#VALUE!"},{"$f":"VLOOKUP(K4542,references!$A$1:$B$7,2,FALSE)","v":{"$error":"#N/A"}}]
[null,null,null,null,null,null,null,null,null,null,null,null,"no email",{"$error":"#VALUE!"},{"$error":"#VALUE!"},{"$f":"VLOOKUP(K4543,references!$A$1:$B$7,2,FALSE)","v":{"$error":"#N/A"}}]
[null,null,null,null,null,null,null,null,null,null,null,null,"no email",{"$error":"#VALUE!"},{"$error":"#VALUE!"},{"$f":"VLOOKUP(K4544,references!$A$1:$B$7,2,FALSE)","v":{"$error":"#N/A"}}]
[null,null,null,null,null,null,null,null,null,null,null,null,"no email",{"$error":"#VALUE!"},{"$error":"#VALUE!"},{"$f":"VLOOKUP(K4545,references!$A$1:$B$7,2,FALSE)","v":{"$error":"#N/A"}}]
[null,null,null,null,null,null,null,null,null,null,null,null,{"$f":"IF(L4546=\"\", \"no email\",LOWER(L4546))","v":"no email"},{"$f":"LEFT(A4546, SEARCH(\",\",A4546,1)-1)","v":{"$error":"#VALUE!"}},{"$f":"RIGHT(A4546, LEN(A4546) -SEARCH(\",\",A4546,1)-1)","v":{"$error":"#VALUE!"}},{"$f":"VLOOKUP(K4546,references!$A$1:$B$7,2,FALSE)","v":{"$error":"#N/A"}}]
[null,null,null,null,null,null,null,null,null,null,null,null,"no email",{"$error":"#VALUE!"},{"$error":"#VALUE!"},{"$f":"VLOOKUP(K4547,references!$A$1:$B$7,2,FALSE)","v":{"$error":"#N/A"}}]
[null,null,null,null,null,null,null,null,null,null,null,null,"no email",{"$error":"#VALUE!"},{"$error":"#VALUE!"},{"$f":"VLOOKUP(K4548,references!$A$1:$B$7,2,FALSE)","v":{"$error":"#N/A"}}]
[null,null,null,null,null,null,null,null,null,null,null,null,"no email",{"$error":"#VALUE!"},{"$error":"#VALUE!"},{"$f":"VLOOKUP(K4549,references!$A$1:$B$7,2,FALSE)","v":{"$error":"#N/A"}}]
[null,null,null,null,null,null,null,null,null,null,null,null,"no email",{"$error":"#VALUE!"},{"$error":"#VALUE!"},{"$f":"VLOOKUP(K4550,references!$A$1:$B$7,2,FALSE)","v":{"$error":"#N/A"}}]
[null,null,null,null,null,null,null,null,null,null,null,null,"no email",{"$error":"#VALUE!"},{"$error":"#VALUE!"},{"$f":"VLOOKUP(K4551,references!$A$1:$B$7,2,FALSE)","v":{"$error":"#N/A"}}]
[null,null,null,null,null,null,null,null,null,null,null,null,"no email",{"$error":"#VALUE!"},{"$error":"#VALUE!"},{"$f":"VLOOKUP(K4552,references!$A$1:$B$7,2,FALSE)","v":{"$error":"#N/A"}}]
[null,null,null,null,null,null,null,null,null,null,null,null,"no email",{"$error":"#VALUE!"},{"$error":"#VALUE!"},{"$f":"VLOOKUP(K4553,references!$A$1:$B$7,2,FALSE)","v":{"$error":"#N/A"}}]
[null,null,null,null,null,null,null,null,null,null,null,null,"no email",{"$error":"#VALUE!"},{"$error":"#VALUE!"},{"$f":"VLOOKUP(K4554,references!$A$1:$B$7,2,FALSE)","v":{"$error":"#N/A"}}]
[null,null,null,null,null,null,null,null,null,null,null,null,"no email",{"$error":"#VALUE!"},{"$error":"#VALUE!"},{"$f":"VLOOKUP(K4555,references!$A$1:$B$7,2,FALSE)","v":{"$error":"#N/A"}}]
[null,null,null,null,null,null,null,null,null,null,null,null,"no email",{"$error":"#VALUE!"},{"$error":"#VALUE!"},{"$f":"VLOOKUP(K4556,references!$A$1:$B$7,2,FALSE)","v":{"$error":"#N/A"}}]
[null,null,null,null,null,null,null,null,null,null,null,null,"no email",{"$error":"#VALUE!"},{"$error":"#VALUE!"},{"$f":"VLOOKUP(K4557,references!$A$1:$B$7,2,FALSE)","v":{"$error":"#N/A"}}]
[null,null,null,null,null,null,null,null,null,null,null,null,"no email",{"$error":"#VALUE!"},{"$error":"#VALUE!"},{"$f":"VLOOKUP(K4558,references!$A$1:$B$7,2,FALSE)","v":{"$error":"#N/A"}}]
[null,null,null,null,null,null,null,null,null,null,null,null,"no email",{"$error":"#VALUE!"},{"$error":"#VALUE!"},{"$f":"VLOOKUP(K4559,references!$A$1:$B$7,2,FALSE)","v":{"$error":"#N/A"}}]
[null,null,null,null,null,null,null,null,null,null,null,null,"no email",{"$error":"#VALUE!"},{"$error":"#VALUE!"},{"$f":"VLOOKUP(K4560,references!$A$1:$B$7,2,FALSE)","v":{"$error":"#N/A"}}]
[null,null,null,null,null,null,null,null,null,null,null,null,"no email",{"$error":"#VALUE!"},{"$error":"#VALUE!"},{"$f":"VLOOKUP(K4561,references!$A$1:$B$7,2,FALSE)","v":{"$error":"#N/A"}}]
[null,null,null,null,null,null,null,null,null,null,null,null,"no email",{"$error":"#VALUE!"},{"$error":"#VALUE!"},{"$f":"VLOOKUP(K4562,references!$A$1:$B$7,2,FALSE)","v":{"$error":"#N/A"}}]
[null,null,null,null,null,null,null,null,null,null,null,null,"no email",{"$error":"#VALUE!"},{"$error":"#VALUE!"},{"$f":"VLOOKUP(K4563,references!$A$1:$B$7,2,FALSE)","v":{"$error":"#N/A"}}]
[null,null,null,null,null,null,null,null,null,null,null,null,"no email",{"$error":"#VALUE!"},{"$error":"#VALUE!"},{"$f":"VLOOKUP(K4564,references!$A$1:$B$7,2,FALSE)","v":{"$error":"#N/A"}}]
[null,null,null,null,null,null,null,null,null,null,null,null,"no email",{"$error":"#VALUE!"},{"$error":"#VALUE!"},{"$f":"VLOOKUP(K4565,references!$A$1:$B$7,2,FALSE)","v":{"$error":"#N/A"}}]
[null,null,null,null,null,null,null,null,null,null,null,null,"no email",{"$error":"#VALUE!"},{"$error":"#VALUE!"},{"$f":"VLOOKUP(K4566,references!$A$1:$B$7,2,FALSE)","v":{"$error":"#N/A"}}]
[null,null,null,null,null,null,null,null,null,null,null,null,"no email",{"$error":"#VALUE!"},{"$error":"#VALUE!"},{"$f":"VLOOKUP(K4567,references!$A$1:$B$7,2,FALSE)","v":{"$error":"#N/A"}}]
[null,null,null,null,null,null,null,null,null,null,null,null,"no email",{"$error":"#VALUE!"},{"$error":"#VALUE!"},{"$f":"VLOOKUP(K4568,references!$A$1:$B$7,2,FALSE)","v":{"$error":"#N/A"}}]
[null,null,null,null,null,null,null,null,null,null,null,null,"no email",{"$error":"#VALUE!"},{"$error":"#VALUE!"},{"$f":"VLOOKUP(K4569,references!$A$1:$B$7,2,FALSE)","v":{"$error":"#N/A"}}]
[null,null,null,null,null,null,null,null,null,null,null,null,"no email",{"$error":"#VALUE!"},{"$error":"#VALUE!"},{"$f":"VLOOKUP(K4570,references!$A$1:$B$7,2,FALSE)","v":{"$error":"#N/A"}}]
[null,null,null,null,null,null,null,null,null,null,null,null,"no email",{"$error":"#VALUE!"},{"$error":"#VALUE!"},{"$f":"VLOOKUP(K4571,references!$A$1:$B$7,2,FALSE)","v":{"$error":"#N/A"}}]
[null,null,null,null,null,null,null,null,null,null,null,null,"no email",{"$error":"#VALUE!"},{"$error":"#VALUE!"},{"$f":"VLOOKUP(K4572,references!$A$1:$B$7,2,FALSE)","v":{"$error":"#N/A"}}]
[null,null,null,null,null,null,null,null,null,null,null,null,"no email",{"$error":"#VALUE!"},{"$error":"#VALUE!"},{"$f":"VLOOKUP(K4573,references!$A$1:$B$7,2,FALSE)","v":{"$error":"#N/A"}}]
[null,null,null,null,null,null,null,null,null,null,null,null,"no email",{"$error":"#VALUE!"},{"$error":"#VALUE!"},{"$f":"VLOOKUP(K4574,references!$A$1:$B$7,2,FALSE)","v":{"$error":"#N/A"}}]
[null,null,null,null,null,null,null,null,null,null,null,null,"no email",{"$error":"#VALUE!"},{"$error":"#VALUE!"},{"$f":"VLOOKUP(K4575,references!$A$1:$B$7,2,FALSE)","v":{"$error":"#N/A"}}]
[null,null,null,null,null,null,null,null,null,null,null,null,"no email",{"$error":"#VALUE!"},{"$error":"#VALUE!"},{"$f":"VLOOKUP(K4576,references!$A$1:$B$7,2,FALSE)","v":{"$error":"#N/A"}}]
[null,null,null,null,null,null,null,null,null,null,null,null,"no email",{"$error":"#VALUE!"},{"$error":"#VALUE!"},{"$f":"VLOOKUP(K4577,references!$A$1:$B$7,2,FALSE)","v":{"$error":"#N/A"}}]
[null,null,null,null,null,null,null,null,null,null,null,null,"no email",{"$error":"#VALUE!"},{"$error":"#VALUE!"},{"$f":"VLOOKUP(K4578,references!$A$1:$B$7,2,FALSE)","v":{"$error":"#N/A"}}]
[null,null,null,null,null,null,null,null,null,null,null,null,"no email",{"$error":"#VALUE!"},{"$error":"#VALUE!"},{"$f":"VLOOKUP(K4579,references!$A$1:$B$7,2,FALSE)","v":{"$error":"#N/A"}}]
[null,null,null,null,null,null,null,null,null,null,null,null,"no email",{"$error":"#VALUE!"},{"$error":"#VALUE!"},{"$f":"VLOOKUP(K4580,references!$A$1:$B$7,2,FALSE)","v":{"$error":"#N/A"}}]
[null,null,null,null,null,null,null,null,null,null,null,null,"no email",{"$error":"#VALUE!"},{"$error":"#VALUE!"},{"$f":"VLOOKUP(K4581,references!$A$1:$B$7,2,FALSE)","v":{"$error":"#N/A"}}]
[null,null,null,null,null,null,null,null,null,null,null,null,"no email",{"$error":"#VALUE!"},{"$error":"#VALUE!"},{"$f":"VLOOKUP(K4582,references!$A$1:$B$7,2,FALSE)","v":{"$error":"#N/A"}}]
[null,null,null,null,null,null,null,null,null,null,null,null,"no email",{"$error":"#VALUE!"},{"$error":"#VALUE!"},{"$f":"VLOOKUP(K4583,references!$A$1:$B$7,2,FALSE)","v":{"$error":"#N/A"}}]
[null,null,null,null,null,null,null,null,null,null,null,null,"no email",{"$error":"#VALUE!"},{"$error":"#VALUE!"},{"$f":"VLOOKUP(K4584,references!$A$1:$B$7,2,FALSE)","v":{"$error":"#N/A"}}]
[null,null,null,null,null,null,null,null,null,null,null,null,"no email",{"$error":"#VALUE!"},{"$error":"#VALUE!"},{"$f":"VLOOKUP(K4585,references!$A$1:$B$7,2,FALSE)","v":{"$error":"#N/A"}}]
[null,null,null,null,null,null,null,null,null,null,null,null,"no email",{"$error":"#VALUE!"},{"$error":"#VALUE!"},{"$f":"VLOOKUP(K4586,references!$A$1:$B$7,2,FALSE)","v":{"$error":"#N/A"}}]
[null,null,null,null,null,null,null,null,null,null,null,null,"no email",{"$error":"#VALUE!"},{"$error":"#VALUE!"},{"$f":"VLOOKUP(K4587,references!$A$1:$B$7,2,FALSE)","v":{"$error":"#N/A"}}]
[null,null,null,null,null,null,null,null,null,null,null,null,"no email",{"$error":"#VALUE!"},{"$error":"#VALUE!"},{"$f":"VLOOKUP(K4588,references!$A$1:$B$7,2,FALSE)","v":{"$error":"#N/A"}}]
[null,null,null,null,null,null,null,null,null,null,null,null,"no email",{"$error":"#VALUE!"},{"$error":"#VALUE!"},{"$f":"VLOOKUP(K4589,references!$A$1:$B$7,2,FALSE)","v":{"$error":"#N/A"}}]
[null,null,null,null,null,null,null,null,null,null,null,null,"no email",{"$error":"#VALUE!"},{"$error":"#VALUE!"},{"$f":"VLOOKUP(K4590,references!$A$1:$B$7,2,FALSE)","v":{"$error":"#N/A"}}]
[null,null,null,null,null,null,null,null,null,null,null,null,"no email",{"$error":"#VALUE!"},{"$error":"#VALUE!"},{"$f":"VLOOKUP(K4591,references!$A$1:$B$7,2,FALSE)","v":{"$error":"#N/A"}}]
[null,null,null,null,null,null,null,null,null,null,null,null,"no email",{"$error":"#VALUE!"},{"$error":"#VALUE!"},{"$f":"VLOOKUP(K4592,references!$A$1:$B$7,2,FALSE)","v":{"$error":"#N/A"}}]
[null,null,null,null,null,null,null,null,null,null,null,null,"no email",{"$error":"#VALUE!"},{"$error":"#VALUE!"},{"$f":"VLOOKUP(K4593,references!$A$1:$B$7,2,FALSE)","v":{"$error":"#N/A"}}]
[null,null,null,null,null,null,null,null,null,null,null,null,"no email",{"$error":"#VALUE!"},{"$error":"#VALUE!"},{"$f":"VLOOKUP(K4594,references!$A$1:$B$7,2,FALSE)","v":{"$error":"#N/A"}}]
[null,null,null,null,null,null,null,null,null,null,null,null,"no email",{"$error":"#VALUE!"},{"$error":"#VALUE!"},{"$f":"VLOOKUP(K4595,references!$A$1:$B$7,2,FALSE)","v":{"$error":"#N/A"}}]
[null,null,null,null,null,null,null,null,null,null,null,null,"no email",{"$error":"#VALUE!"},{"$error":"#VALUE!"},{"$f":"VLOOKUP(K4596,references!$A$1:$B$7,2,FALSE)","v":{"$error":"#N/A"}}]
[null,null,null,null,null,null,null,null,null,null,null,null,"no email",{"$error":"#VALUE!"},{"$error":"#VALUE!"},{"$f":"VLOOKUP(K4597,references!$A$1:$B$7,2,FALSE)","v":{"$error":"#N/A"}}]
[null,null,null,null,null,null,null,null,null,null,null,null,"no email",{"$error":"#VALUE!"},{"$error":"#VALUE!"},{"$f":"VLOOKUP(K4598,references!$A$1:$B$7,2,FALSE)","v":{"$error":"#N/A"}}]
[null,null,null,null,null,null,null,null,null,null,null,null,"no email",{"$error":"#VALUE!"},{"$error":"#VALUE!"},{"$f":"VLOOKUP(K4599,references!$A$1:$B$7,2,FALSE)","v":{"$error":"#N/A"}}]
[null,null,null,null,null,null,null,null,null,null,null,null,"no email",{"$error":"#VALUE!"},{"$error":"#VALUE!"},{"$f":"VLOOKUP(K4600,references!$A$1:$B$7,2,FALSE)","v":{"$error":"#N/A"}}]
[null,null,null,null,null,null,null,null,null,null,null,null,"no email",{"$error":"#VALUE!"},{"$error":"#VALUE!"},{"$f":"VLOOKUP(K4601,references!$A$1:$B$7,2,FALSE)","v":{"$error":"#N/A"}}]
[null,null,null,null,null,null,null,null,null,null,null,null,"no email",{"$error":"#VALUE!"},{"$error":"#VALUE!"},{"$f":"VLOOKUP(K4602,references!$A$1:$B$7,2,FALSE)","v":{"$error":"#N/A"}}]
[null,null,null,null,null,null,null,null,null,null,null,null,"no email",{"$error":"#VALUE!"},{"$error":"#VALUE!"},{"$f":"VLOOKUP(K4603,references!$A$1:$B$7,2,FALSE)","v":{"$error":"#N/A"}}]
[null,null,null,null,null,null,null,null,null,null,null,null,"no email",{"$error":"#VALUE!"},{"$error":"#VALUE!"},{"$f":"VLOOKUP(K4604,references!$A$1:$B$7,2,FALSE)","v":{"$error":"#N/A"}}]
[null,null,null,null,null,null,null,null,null,null,null,null,"no email",{"$error":"#VALUE!"},{"$error":"#VALUE!"},{"$f":"VLOOKUP(K4605,references!$A$1:$B$7,2,FALSE)","v":{"$error":"#N/A"}}]
[null,null,null,null,null,null,null,null,null,null,null,null,"no email",{"$error":"#VALUE!"},{"$error":"#VALUE!"},{"$f":"VLOOKUP(K4606,references!$A$1:$B$7,2,FALSE)","v":{"$error":"#N/A"}}]
[null,null,null,null,null,null,null,null,null,null,null,null,"no email",{"$error":"#VALUE!"},{"$error":"#VALUE!"},{"$f":"VLOOKUP(K4607,references!$A$1:$B$7,2,FALSE)","v":{"$error":"#N/A"}}]
[null,null,null,null,null,null,null,null,null,null,null,null,"no email",{"$error":"#VALUE!"},{"$error":"#VALUE!"},{"$f":"VLOOKUP(K4608,references!$A$1:$B$7,2,FALSE)","v":{"$error":"#N/A"}}]
[null,null,null,null,null,null,null,null,null,null,null,null,"no email",{"$error":"#VALUE!"},{"$error":"#VALUE!"},{"$f":"VLOOKUP(K4609,references!$A$1:$B$7,2,FALSE)","v":{"$error":"#N/A"}}]
[null,null,null,null,null,null,null,null,null,null,null,null,{"$f":"IF(L4610=\"\", \"no email\",LOWER(L4610))","v":"no email"},{"$f":"LEFT(A4610, SEARCH(\",\",A4610,1)-1)","v":{"$error":"#VALUE!"}},{"$f":"RIGHT(A4610, LEN(A4610) -SEARCH(\",\",A4610,1)-1)","v":{"$error":"#VALUE!"}},{"$f":"VLOOKUP(K4610,references!$A$1:$B$7,2,FALSE)","v":{"$error":"#N/A"}}]
[null,null,null,null,null,null,null,null,null,null,null,null,"no email",{"$error":"#VALUE!"},{"$error":"#VALUE!"},{"$f":"VLOOKUP(K4611,references!$A$1:$B$7,2,FALSE)","v":{"$error":"#N/A"}}]
[null,null,null,null,null,null,null,null,null,null,null,null,"no email",{"$error":"#VALUE!"},{"$error":"#VALUE!"},{"$f":"VLOOKUP(K4612,references!$A$1:$B$7,2,FALSE)","v":{"$error":"#N/A"}}]
[null,null,null,null,null,null,null,null,null,null,null,null,"no email",{"$error":"#VALUE!"},{"$error":"#VALUE!"},{"$f":"VLOOKUP(K4613,references!$A$1:$B$7,2,FALSE)","v":{"$error":"#N/A"}}]
[null,null,null,null,null,null,null,null,null,null,null,null,"no email",{"$error":"#VALUE!"},{"$error":"#VALUE!"},{"$f":"VLOOKUP(K4614,references!$A$1:$B$7,2,FALSE)","v":{"$error":"#N/A"}}]
[null,null,null,null,null,null,null,null,null,null,null,null,"no email",{"$error":"#VALUE!"},{"$error":"#VALUE!"},{"$f":"VLOOKUP(K4615,references!$A$1:$B$7,2,FALSE)","v":{"$error":"#N/A"}}]
[null,null,null,null,null,null,null,null,null,null,null,null,"no email",{"$error":"#VALUE!"},{"$error":"#VALUE!"},{"$f":"VLOOKUP(K4616,references!$A$1:$B$7,2,FALSE)","v":{"$error":"#N/A"}}]
[null,null,null,null,null,null,null,null,null,null,null,null,"no email",{"$error":"#VALUE!"},{"$error":"#VALUE!"},{"$f":"VLOOKUP(K4617,references!$A$1:$B$7,2,FALSE)","v":{"$error":"#N/A"}}]
[null,null,null,null,null,null,null,null,null,null,null,null,"no email",{"$error":"#VALUE!"},{"$error":"#VALUE!"},{"$f":"VLOOKUP(K4618,references!$A$1:$B$7,2,FALSE)","v":{"$error":"#N/A"}}]
[null,null,null,null,null,null,null,null,null,null,null,null,"no email",{"$error":"#VALUE!"},{"$error":"#VALUE!"},{"$f":"VLOOKUP(K4619,references!$A$1:$B$7,2,FALSE)","v":{"$error":"#N/A"}}]
[null,null,null,null,null,null,null,null,null,null,null,null,"no email",{"$error":"#VALUE!"},{"$error":"#VALUE!"},{"$f":"VLOOKUP(K4620,references!$A$1:$B$7,2,FALSE)","v":{"$error":"#N/A"}}]
[null,null,null,null,null,null,null,null,null,null,null,null,"no email",{"$error":"#VALUE!"},{"$error":"#VALUE!"},{"$f":"VLOOKUP(K4621,references!$A$1:$B$7,2,FALSE)","v":{"$error":"#N/A"}}]
[null,null,null,null,null,null,null,null,null,null,null,null,"no email",{"$error":"#VALUE!"},{"$error":"#VALUE!"},{"$f":"VLOOKUP(K4622,references!$A$1:$B$7,2,FALSE)","v":{"$error":"#N/A"}}]
[null,null,null,null,null,null,null,null,null,null,null,null,"no email",{"$error":"#VALUE!"},{"$error":"#VALUE!"},{"$f":"VLOOKUP(K4623,references!$A$1:$B$7,2,FALSE)","v":{"$error":"#N/A"}}]
[null,null,null,null,null,null,null,null,null,null,null,null,"no email",{"$error":"#VALUE!"},{"$error":"#VALUE!"},{"$f":"VLOOKUP(K4624,references!$A$1:$B$7,2,FALSE)","v":{"$error":"#N/A"}}]
[null,null,null,null,null,null,null,null,null,null,null,null,"no email",{"$error":"#VALUE!"},{"$error":"#VALUE!"},{"$f":"VLOOKUP(K4625,references!$A$1:$B$7,2,FALSE)","v":{"$error":"#N/A"}}]
[null,null,null,null,null,null,null,null,null,null,null,null,"no email",{"$error":"#VALUE!"},{"$error":"#VALUE!"},{"$f":"VLOOKUP(K4626,references!$A$1:$B$7,2,FALSE)","v":{"$error":"#N/A"}}]
[null,null,null,null,null,null,null,null,null,null,null,null,"no email",{"$error":"#VALUE!"},{"$error":"#VALUE!"},{"$f":"VLOOKUP(K4627,references!$A$1:$B$7,2,FALSE)","v":{"$error":"#N/A"}}]
[null,null,null,null,null,null,null,null,null,null,null,null,"no email",{"$error":"#VALUE!"},{"$error":"#VALUE!"},{"$f":"VLOOKUP(K4628,references!$A$1:$B$7,2,FALSE)","v":{"$error":"#N/A"}}]
[null,null,null,null,null,null,null,null,null,null,null,null,"no email",{"$error":"#VALUE!"},{"$error":"#VALUE!"},{"$f":"VLOOKUP(K4629,references!$A$1:$B$7,2,FALSE)","v":{"$error":"#N/A"}}]
[null,null,null,null,null,null,null,null,null,null,null,null,"no email",{"$error":"#VALUE!"},{"$error":"#VALUE!"},{"$f":"VLOOKUP(K4630,references!$A$1:$B$7,2,FALSE)","v":{"$error":"#N/A"}}]
[null,null,null,null,null,null,null,null,null,null,null,null,"no email",{"$error":"#VALUE!"},{"$error":"#VALUE!"},{"$f":"VLOOKUP(K4631,references!$A$1:$B$7,2,FALSE)","v":{"$error":"#N/A"}}]
[null,null,null,null,null,null,null,null,null,null,null,null,"no email",{"$error":"#VALUE!"},{"$error":"#VALUE!"},{"$f":"VLOOKUP(K4632,references!$A$1:$B$7,2,FALSE)","v":{"$error":"#N/A"}}]
[null,null,null,null,null,null,null,null,null,null,null,null,"no email",{"$error":"#VALUE!"},{"$error":"#VALUE!"},{"$f":"VLOOKUP(K4633,references!$A$1:$B$7,2,FALSE)","v":{"$error":"#N/A"}}]
[null,null,null,null,null,null,null,null,null,null,null,null,"no email",{"$error":"#VALUE!"},{"$error":"#VALUE!"},{"$f":"VLOOKUP(K4634,references!$A$1:$B$7,2,FALSE)","v":{"$error":"#N/A"}}]
[null,null,null,null,null,null,null,null,null,null,null,null,"no email",{"$error":"#VALUE!"},{"$error":"#VALUE!"},{"$f":"VLOOKUP(K4635,references!$A$1:$B$7,2,FALSE)","v":{"$error":"#N/A"}}]
[null,null,null,null,null,null,null,null,null,null,null,null,"no email",{"$error":"#VALUE!"},{"$error":"#VALUE!"},{"$f":"VLOOKUP(K4636,references!$A$1:$B$7,2,FALSE)","v":{"$error":"#N/A"}}]
[null,null,null,null,null,null,null,null,null,null,null,null,"no email",{"$error":"#VALUE!"},{"$error":"#VALUE!"},{"$f":"VLOOKUP(K4637,references!$A$1:$B$7,2,FALSE)","v":{"$error":"#N/A"}}]
[null,null,null,null,null,null,null,null,null,null,null,null,"no email",{"$error":"#VALUE!"},{"$error":"#VALUE!"},{"$f":"VLOOKUP(K4638,references!$A$1:$B$7,2,FALSE)","v":{"$error":"#N/A"}}]
[null,null,null,null,null,null,null,null,null,null,null,null,"no email",{"$error":"#VALUE!"},{"$error":"#VALUE!"},{"$f":"VLOOKUP(K4639,references!$A$1:$B$7,2,FALSE)","v":{"$error":"#N/A"}}]
[null,null,null,null,null,null,null,null,null,null,null,null,"no email",{"$error":"#VALUE!"},{"$error":"#VALUE!"},{"$f":"VLOOKUP(K4640,references!$A$1:$B$7,2,FALSE)","v":{"$error":"#N/A"}}]
[null,null,null,null,null,null,null,null,null,null,null,null,"no email",{"$error":"#VALUE!"},{"$error":"#VALUE!"},{"$f":"VLOOKUP(K4641,references!$A$1:$B$7,2,FALSE)","v":{"$error":"#N/A"}}]
[null,null,null,null,null,null,null,null,null,null,null,null,"no email",{"$error":"#VALUE!"},{"$error":"#VALUE!"},{"$f":"VLOOKUP(K4642,references!$A$1:$B$7,2,FALSE)","v":{"$error":"#N/A"}}]
[null,null,null,null,null,null,null,null,null,null,null,null,"no email",{"$error":"#VALUE!"},{"$error":"#VALUE!"},{"$f":"VLOOKUP(K4643,references!$A$1:$B$7,2,FALSE)","v":{"$error":"#N/A"}}]
[null,null,null,null,null,null,null,null,null,null,null,null,"no email",{"$error":"#VALUE!"},{"$error":"#VALUE!"},{"$f":"VLOOKUP(K4644,references!$A$1:$B$7,2,FALSE)","v":{"$error":"#N/A"}}]
[null,null,null,null,null,null,null,null,null,null,null,null,"no email",{"$error":"#VALUE!"},{"$error":"#VALUE!"},{"$f":"VLOOKUP(K4645,references!$A$1:$B$7,2,FALSE)","v":{"$error":"#N/A"}}]
[null,null,null,null,null,null,null,null,null,null,null,null,"no email",{"$error":"#VALUE!"},{"$error":"#VALUE!"},{"$f":"VLOOKUP(K4646,references!$A$1:$B$7,2,FALSE)","v":{"$error":"#N/A"}}]
[null,null,null,null,null,null,null,null,null,null,null,null,"no email",{"$error":"#VALUE!"},{"$error":"#VALUE!"},{"$f":"VLOOKUP(K4647,references!$A$1:$B$7,2,FALSE)","v":{"$error":"#N/A"}}]
[null,null,null,null,null,null,null,null,null,null,null,null,"no email",{"$error":"#VALUE!"},{"$error":"#VALUE!"},{"$f":"VLOOKUP(K4648,references!$A$1:$B$7,2,FALSE)","v":{"$error":"#N/A"}}]
[null,null,null,null,null,null,null,null,null,null,null,null,"no email",{"$error":"#VALUE!"},{"$error":"#VALUE!"},{"$f":"VLOOKUP(K4649,references!$A$1:$B$7,2,FALSE)","v":{"$error":"#N/A"}}]
[null,null,null,null,null,null,null,null,null,null,null,null,"no email",{"$error":"#VALUE!"},{"$error":"#VALUE!"},{"$f":"VLOOKUP(K4650,references!$A$1:$B$7,2,FALSE)","v":{"$error":"#N/A"}}]
[null,null,null,null,null,null,null,null,null,null,null,null,"no email",{"$error":"#VALUE!"},{"$error":"#VALUE!"},{"$f":"VLOOKUP(K4651,references!$A$1:$B$7,2,FALSE)","v":{"$error":"#N/A"}}]
[null,null,null,null,null,null,null,null,null,null,null,null,"no email",{"$error":"#VALUE!"},{"$error":"#VALUE!"},{"$f":"VLOOKUP(K4652,references!$A$1:$B$7,2,FALSE)","v":{"$error":"#N/A"}}]
[null,null,null,null,null,null,null,null,null,null,null,null,"no email",{"$error":"#VALUE!"},{"$error":"#VALUE!"},{"$f":"VLOOKUP(K4653,references!$A$1:$B$7,2,FALSE)","v":{"$error":"#N/A"}}]
[null,null,null,null,null,null,null,null,null,null,null,null,"no email",{"$error":"#VALUE!"},{"$error":"#VALUE!"},{"$f":"VLOOKUP(K4654,references!$A$1:$B$7,2,FALSE)","v":{"$error":"#N/A"}}]
[null,null,null,null,null,null,null,null,null,null,null,null,"no email",{"$error":"#VALUE!"},{"$error":"#VALUE!"},{"$f":"VLOOKUP(K4655,references!$A$1:$B$7,2,FALSE)","v":{"$error":"#N/A"}}]
[null,null,null,null,null,null,null,null,null,null,null,null,"no email",{"$error":"#VALUE!"},{"$error":"#VALUE!"},{"$f":"VLOOKUP(K4656,references!$A$1:$B$7,2,FALSE)","v":{"$error":"#N/A"}}]
[null,null,null,null,null,null,null,null,null,null,null,null,"no email",{"$error":"#VALUE!"},{"$error":"#VALUE!"},{"$f":"VLOOKUP(K4657,references!$A$1:$B$7,2,FALSE)","v":{"$error":"#N/A"}}]
[null,null,null,null,null,null,null,null,null,null,null,null,"no email",{"$error":"#VALUE!"},{"$error":"#VALUE!"},{"$f":"VLOOKUP(K4658,references!$A$1:$B$7,2,FALSE)","v":{"$error":"#N/A"}}]
[null,null,null,null,null,null,null,null,null,null,null,null,"no email",{"$error":"#VALUE!"},{"$error":"#VALUE!"},{"$f":"VLOOKUP(K4659,references!$A$1:$B$7,2,FALSE)","v":{"$error":"#N/A"}}]
[null,null,null,null,null,null,null,null,null,null,null,null,"no email",{"$error":"#VALUE!"},{"$error":"#VALUE!"},{"$f":"VLOOKUP(K4660,references!$A$1:$B$7,2,FALSE)","v":{"$error":"#N/A"}}]
[null,null,null,null,null,null,null,null,null,null,null,null,"no email",{"$error":"#VALUE!"},{"$error":"#VALUE!"},{"$f":"VLOOKUP(K4661,references!$A$1:$B$7,2,FALSE)","v":{"$error":"#N/A"}}]
[null,null,null,null,null,null,null,null,null,null,null,null,"no email",{"$error":"#VALUE!"},{"$error":"#VALUE!"},{"$f":"VLOOKUP(K4662,references!$A$1:$B$7,2,FALSE)","v":{"$error":"#N/A"}}]
[null,null,null,null,null,null,null,null,null,null,null,null,"no email",{"$error":"#VALUE!"},{"$error":"#VALUE!"},{"$f":"VLOOKUP(K4663,references!$A$1:$B$7,2,FALSE)","v":{"$error":"#N/A"}}]
[null,null,null,null,null,null,null,null,null,null,null,null,"no email",{"$error":"#VALUE!"},{"$error":"#VALUE!"},{"$f":"VLOOKUP(K4664,references!$A$1:$B$7,2,FALSE)","v":{"$error":"#N/A"}}]
[null,null,null,null,null,null,null,null,null,null,null,null,"no email",{"$error":"#VALUE!"},{"$error":"#VALUE!"},{"$f":"VLOOKUP(K4665,references!$A$1:$B$7,2,FALSE)","v":{"$error":"#N/A"}}]
[null,null,null,null,null,null,null,null,null,null,null,null,"no email",{"$error":"#VALUE!"},{"$error":"#VALUE!"},{"$f":"VLOOKUP(K4666,references!$A$1:$B$7,2,FALSE)","v":{"$error":"#N/A"}}]
[null,null,null,null,null,null,null,null,null,null,null,null,"no email",{"$error":"#VALUE!"},{"$error":"#VALUE!"},{"$f":"VLOOKUP(K4667,references!$A$1:$B$7,2,FALSE)","v":{"$error":"#N/A"}}]
[null,null,null,null,null,null,null,null,null,null,null,null,"no email",{"$error":"#VALUE!"},{"$error":"#VALUE!"},{"$f":"VLOOKUP(K4668,references!$A$1:$B$7,2,FALSE)","v":{"$error":"#N/A"}}]
[null,null,null,null,null,null,null,null,null,null,null,null,"no email",{"$error":"#VALUE!"},{"$error":"#VALUE!"},{"$f":"VLOOKUP(K4669,references!$A$1:$B$7,2,FALSE)","v":{"$error":"#N/A"}}]
[null,null,null,null,null,null,null,null,null,null,null,null,"no email",{"$error":"#VALUE!"},{"$error":"#VALUE!"},{"$f":"VLOOKUP(K4670,references!$A$1:$B$7,2,FALSE)","v":{"$error":"#N/A"}}]
[null,null,null,null,null,null,null,null,null,null,null,null,"no email",{"$error":"#VALUE!"},{"$error":"#VALUE!"},{"$f":"VLOOKUP(K4671,references!$A$1:$B$7,2,FALSE)","v":{"$error":"#N/A"}}]
[null,null,null,null,null,null,null,null,null,null,null,null,"no email",{"$error":"#VALUE!"},{"$error":"#VALUE!"},{"$f":"VLOOKUP(K4672,references!$A$1:$B$7,2,FALSE)","v":{"$error":"#N/A"}}]
[null,null,null,null,null,null,null,null,null,null,null,null,"no email",{"$error":"#VALUE!"},{"$error":"#VALUE!"},{"$f":"VLOOKUP(K4673,references!$A$1:$B$7,2,FALSE)","v":{"$error":"#N/A"}}]
[null,null,null,null,null,null,null,null,null,null,null,null,{"$f":"IF(L4674=\"\", \"no email\",LOWER(L4674))","v":"no email"},{"$f":"LEFT(A4674, SEARCH(\",\",A4674,1)-1)","v":{"$error":"#VALUE!"}},{"$f":"RIGHT(A4674, LEN(A4674) -SEARCH(\",\",A4674,1)-1)","v":{"$error":"#VALUE!"}},{"$f":"VLOOKUP(K4674,references!$A$1:$B$7,2,FALSE)","v":{"$error":"#N/A"}}]
[null,null,null,null,null,null,null,null,null,null,null,null,"no email",{"$error":"#VALUE!"},{"$error":"#VALUE!"},{"$f":"VLOOKUP(K4675,references!$A$1:$B$7,2,FALSE)","v":{"$error":"#N/A"}}]
[null,null,null,null,null,null,null,null,null,null,null,null,"no email",{"$error":"#VALUE!"},{"$error":"#VALUE!"},{"$f":"VLOOKUP(K4676,references!$A$1:$B$7,2,FALSE)","v":{"$error":"#N/A"}}]
[null,null,null,null,null,null,null,null,null,null,null,null,"no email",{"$error":"#VALUE!"},{"$error":"#VALUE!"},{"$f":"VLOOKUP(K4677,references!$A$1:$B$7,2,FALSE)","v":{"$error":"#N/A"}}]
[null,null,null,null,null,null,null,null,null,null,null,null,"no email",{"$error":"#VALUE!"},{"$error":"#VALUE!"},{"$f":"VLOOKUP(K4678,references!$A$1:$B$7,2,FALSE)","v":{"$error":"#N/A"}}]
[null,null,null,null,null,null,null,null,null,null,null,null,"no email",{"$error":"#VALUE!"},{"$error":"#VALUE!"},{"$f":"VLOOKUP(K4679,references!$A$1:$B$7,2,FALSE)","v":{"$error":"#N/A"}}]
[null,null,null,null,null,null,null,null,null,null,null,null,"no email",{"$error":"#VALUE!"},{"$error":"#VALUE!"},{"$f":"VLOOKUP(K4680,references!$A$1:$B$7,2,FALSE)","v":{"$error":"#N/A"}}]
[null,null,null,null,null,null,null,null,null,null,null,null,"no email",{"$error":"#VALUE!"},{"$error":"#VALUE!"},{"$f":"VLOOKUP(K4681,references!$A$1:$B$7,2,FALSE)","v":{"$error":"#N/A"}}]
[null,null,null,null,null,null,null,null,null,null,null,null,"no email",{"$error":"#VALUE!"},{"$error":"#VALUE!"},{"$f":"VLOOKUP(K4682,references!$A$1:$B$7,2,FALSE)","v":{"$error":"#N/A"}}]
[null,null,null,null,null,null,null,null,null,null,null,null,"no email",{"$error":"#VALUE!"},{"$error":"#VALUE!"},{"$f":"VLOOKUP(K4683,references!$A$1:$B$7,2,FALSE)","v":{"$error":"#N/A"}}]
[null,null,null,null,null,null,null,null,null,null,null,null,"no email",{"$error":"#VALUE!"},{"$error":"#VALUE!"},{"$f":"VLOOKUP(K4684,references!$A$1:$B$7,2,FALSE)","v":{"$error":"#N/A"}}]
[null,null,null,null,null,null,null,null,null,null,null,null,"no email",{"$error":"#VALUE!"},{"$error":"#VALUE!"},{"$f":"VLOOKUP(K4685,references!$A$1:$B$7,2,FALSE)","v":{"$error":"#N/A"}}]
[null,null,null,null,null,null,null,null,null,null,null,null,"no email",{"$error":"#VALUE!"},{"$error":"#VALUE!"},{"$f":"VLOOKUP(K4686,references!$A$1:$B$7,2,FALSE)","v":{"$error":"#N/A"}}]
[null,null,null,null,null,null,null,null,null,null,null,null,"no email",{"$error":"#VALUE!"},{"$error":"#VALUE!"},{"$f":"VLOOKUP(K4687,references!$A$1:$B$7,2,FALSE)","v":{"$error":"#N/A"}}]
[null,null,null,null,null,null,null,null,null,null,null,null,"no email",{"$error":"#VALUE!"},{"$error":"#VALUE!"},{"$f":"VLOOKUP(K4688,references!$A$1:$B$7,2,FALSE)","v":{"$error":"#N/A"}}]
[null,null,null,null,null,null,null,null,null,null,null,null,"no email",{"$error":"#VALUE!"},{"$error":"#VALUE!"},{"$f":"VLOOKUP(K4689,references!$A$1:$B$7,2,FALSE)","v":{"$error":"#N/A"}}]
[null,null,null,null,null,null,null,null,null,null,null,null,"no email",{"$error":"#VALUE!"},{"$error":"#VALUE!"},{"$f":"VLOOKUP(K4690,references!$A$1:$B$7,2,FALSE)","v":{"$error":"#N/A"}}]
[null,null,null,null,null,null,null,null,null,null,null,null,"no email",{"$error":"#VALUE!"},{"$error":"#VALUE!"},{"$f":"VLOOKUP(K4691,references!$A$1:$B$7,2,FALSE)","v":{"$error":"#N/A"}}]
[null,null,null,null,null,null,null,null,null,null,null,null,"no email",{"$error":"#VALUE!"},{"$error":"#VALUE!"},{"$f":"VLOOKUP(K4692,references!$A$1:$B$7,2,FALSE)","v":{"$error":"#N/A"}}]
[null,null,null,null,null,null,null,null,null,null,null,null,"no email",{"$error":"#VALUE!"},{"$error":"#VALUE!"},{"$f":"VLOOKUP(K4693,references!$A$1:$B$7,2,FALSE)","v":{"$error":"#N/A"}}]
[null,null,null,null,null,null,null,null,null,null,null,null,"no email",{"$error":"#VALUE!"},{"$error":"#VALUE!"},{"$f":"VLOOKUP(K4694,references!$A$1:$B$7,2,FALSE)","v":{"$error":"#N/A"}}]
[null,null,null,null,null,null,null,null,null,null,null,null,"no email",{"$error":"#VALUE!"},{"$error":"#VALUE!"},{"$f":"VLOOKUP(K4695,references!$A$1:$B$7,2,FALSE)","v":{"$error":"#N/A"}}]
[null,null,null,null,null,null,null,null,null,null,null,null,"no email",{"$error":"#VALUE!"},{"$error":"#VALUE!"},{"$f":"VLOOKUP(K4696,references!$A$1:$B$7,2,FALSE)","v":{"$error":"#N/A"}}]
[null,null,null,null,null,null,null,null,null,null,null,null,"no email",{"$error":"#VALUE!"},{"$error":"#VALUE!"},{"$f":"VLOOKUP(K4697,references!$A$1:$B$7,2,FALSE)","v":{"$error":"#N/A"}}]
[null,null,null,null,null,null,null,null,null,null,null,null,"no email",{"$error":"#VALUE!"},{"$error":"#VALUE!"},{"$f":"VLOOKUP(K4698,references!$A$1:$B$7,2,FALSE)","v":{"$error":"#N/A"}}]
[null,null,null,null,null,null,null,null,null,null,null,null,"no email",{"$error":"#VALUE!"},{"$error":"#VALUE!"},{"$f":"VLOOKUP(K4699,references!$A$1:$B$7,2,FALSE)","v":{"$error":"#N/A"}}]
[null,null,null,null,null,null,null,null,null,null,null,null,"no email",{"$error":"#VALUE!"},{"$error":"#VALUE!"},{"$f":"VLOOKUP(K4700,references!$A$1:$B$7,2,FALSE)","v":{"$error":"#N/A"}}]
[null,null,null,null,null,null,null,null,null,null,null,null,"no email",{"$error":"#VALUE!"},{"$error":"#VALUE!"},{"$f":"VLOOKUP(K4701,references!$A$1:$B$7,2,FALSE)","v":{"$error":"#N/A"}}]
[null,null,null,null,null,null,null,null,null,null,null,null,"no email",{"$error":"#VALUE!"},{"$error":"#VALUE!"},{"$f":"VLOOKUP(K4702,references!$A$1:$B$7,2,FALSE)","v":{"$error":"#N/A"}}]
[null,null,null,null,null,null,null,null,null,null,null,null,"no email",{"$error":"#VALUE!"},{"$error":"#VALUE!"},{"$f":"VLOOKUP(K4703,references!$A$1:$B$7,2,FALSE)","v":{"$error":"#N/A"}}]
[null,null,null,null,null,null,null,null,null,null,null,null,"no email",{"$error":"#VALUE!"},{"$error":"#VALUE!"},{"$f":"VLOOKUP(K4704,references!$A$1:$B$7,2,FALSE)","v":{"$error":"#N/A"}}]
[null,null,null,null,null,null,null,null,null,null,null,null,"no email",{"$error":"#VALUE!"},{"$error":"#VALUE!"},{"$f":"VLOOKUP(K4705,references!$A$1:$B$7,2,FALSE)","v":{"$error":"#N/A"}}]
[null,null,null,null,null,null,null,null,null,null,null,null,"no email",{"$error":"#VALUE!"},{"$error":"#VALUE!"},{"$f":"VLOOKUP(K4706,references!$A$1:$B$7,2,FALSE)","v":{"$error":"#N/A"}}]
[null,null,null,null,null,null,null,null,null,null,null,null,"no email",{"$error":"#VALUE!"},{"$error":"#VALUE!"},{"$f":"VLOOKUP(K4707,references!$A$1:$B$7,2,FALSE)","v":{"$error":"#N/A"}}]
[null,null,null,null,null,null,null,null,null,null,null,null,"no email",{"$error":"#VALUE!"},{"$error":"#VALUE!"},{"$f":"VLOOKUP(K4708,references!$A$1:$B$7,2,FALSE)","v":{"$error":"#N/A"}}]
[null,null,null,null,null,null,null,null,null,null,null,null,"no email",{"$error":"#VALUE!"},{"$error":"#VALUE!"},{"$f":"VLOOKUP(K4709,references!$A$1:$B$7,2,FALSE)","v":{"$error":"#N/A"}}]
[null,null,null,null,null,null,null,null,null,null,null,null,"no email",{"$error":"#VALUE!"},{"$error":"#VALUE!"},{"$f":"VLOOKUP(K4710,references!$A$1:$B$7,2,FALSE)","v":{"$error":"#N/A"}}]
[null,null,null,null,null,null,null,null,null,null,null,null,"no email",{"$error":"#VALUE!"},{"$error":"#VALUE!"},{"$f":"VLOOKUP(K4711,references!$A$1:$B$7,2,FALSE)","v":{"$error":"#N/A"}}]
[null,null,null,null,null,null,null,null,null,null,null,null,"no email",{"$error":"#VALUE!"},{"$error":"#VALUE!"},{"$f":"VLOOKUP(K4712,references!$A$1:$B$7,2,FALSE)","v":{"$error":"#N/A"}}]
[null,null,null,null,null,null,null,null,null,null,null,null,"no email",{"$error":"#VALUE!"},{"$error":"#VALUE!"},{"$f":"VLOOKUP(K4713,references!$A$1:$B$7,2,FALSE)","v":{"$error":"#N/A"}}]
[null,null,null,null,null,null,null,null,null,null,null,null,"no email",{"$error":"#VALUE!"},{"$error":"#VALUE!"},{"$f":"VLOOKUP(K4714,references!$A$1:$B$7,2,FALSE)","v":{"$error":"#N/A"}}]
[null,null,null,null,null,null,null,null,null,null,null,null,"no email",{"$error":"#VALUE!"},{"$error":"#VALUE!"},{"$f":"VLOOKUP(K4715,references!$A$1:$B$7,2,FALSE)","v":{"$error":"#N/A"}}]
[null,null,null,null,null,null,null,null,null,null,null,null,"no email",{"$error":"#VALUE!"},{"$error":"#VALUE!"},{"$f":"VLOOKUP(K4716,references!$A$1:$B$7,2,FALSE)","v":{"$error":"#N/A"}}]
[null,null,null,null,null,null,null,null,null,null,null,null,"no email",{"$error":"#VALUE!"},{"$error":"#VALUE!"},{"$f":"VLOOKUP(K4717,references!$A$1:$B$7,2,FALSE)","v":{"$error":"#N/A"}}]
[null,null,null,null,null,null,null,null,null,null,null,null,"no email",{"$error":"#VALUE!"},{"$error":"#VALUE!"},{"$f":"VLOOKUP(K4718,references!$A$1:$B$7,2,FALSE)","v":{"$error":"#N/A"}}]
[null,null,null,null,null,null,null,null,null,null,null,null,"no email",{"$error":"#VALUE!"},{"$error":"#VALUE!"},{"$f":"VLOOKUP(K4719,references!$A$1:$B$7,2,FALSE)","v":{"$error":"#N/A"}}]
[null,null,null,null,null,null,null,null,null,null,null,null,"no email",{"$error":"#VALUE!"},{"$error":"#VALUE!"},{"$f":"VLOOKUP(K4720,references!$A$1:$B$7,2,FALSE)","v":{"$error":"#N/A"}}]
[null,null,null,null,null,null,null,null,null,null,null,null,"no email",{"$error":"#VALUE!"},{"$error":"#VALUE!"},{"$f":"VLOOKUP(K4721,references!$A$1:$B$7,2,FALSE)","v":{"$error":"#N/A"}}]
[null,null,null,null,null,null,null,null,null,null,null,null,"no email",{"$error":"#VALUE!"},{"$error":"#VALUE!"},{"$f":"VLOOKUP(K4722,references!$A$1:$B$7,2,FALSE)","v":{"$error":"#N/A"}}]
[null,null,null,null,null,null,null,null,null,null,null,null,"no email",{"$error":"#VALUE!"},{"$error":"#VALUE!"},{"$f":"VLOOKUP(K4723,references!$A$1:$B$7,2,FALSE)","v":{"$error":"#N/A"}}]
[null,null,null,null,null,null,null,null,null,null,null,null,"no email",{"$error":"#VALUE!"},{"$error":"#VALUE!"},{"$f":"VLOOKUP(K4724,references!$A$1:$B$7,2,FALSE)","v":{"$error":"#N/A"}}]
[null,null,null,null,null,null,null,null,null,null,null,null,"no email",{"$error":"#VALUE!"},{"$error":"#VALUE!"},{"$f":"VLOOKUP(K4725,references!$A$1:$B$7,2,FALSE)","v":{"$error":"#N/A"}}]
[null,null,null,null,null,null,null,null,null,null,null,null,"no email",{"$error":"#VALUE!"},{"$error":"#VALUE!"},{"$f":"VLOOKUP(K4726,references!$A$1:$B$7,2,FALSE)","v":{"$error":"#N/A"}}]
[null,null,null,null,null,null,null,null,null,null,null,null,"no email",{"$error":"#VALUE!"},{"$error":"#VALUE!"},{"$f":"VLOOKUP(K4727,references!$A$1:$B$7,2,FALSE)","v":{"$error":"#N/A"}}]
[null,null,null,null,null,null,null,null,null,null,null,null,"no email",{"$error":"#VALUE!"},{"$error":"#VALUE!"},{"$f":"VLOOKUP(K4728,references!$A$1:$B$7,2,FALSE)","v":{"$error":"#N/A"}}]
[null,null,null,null,null,null,null,null,null,null,null,null,"no email",{"$error":"#VALUE!"},{"$error":"#VALUE!"},{"$f":"VLOOKUP(K4729,references!$A$1:$B$7,2,FALSE)","v":{"$error":"#N/A"}}]
[null,null,null,null,null,null,null,null,null,null,null,null,"no email",{"$error":"#VALUE!"},{"$error":"#VALUE!"},{"$f":"VLOOKUP(K4730,references!$A$1:$B$7,2,FALSE)","v":{"$error":"#N/A"}}]
[null,null,null,null,null,null,null,null,null,null,null,null,"no email",{"$error":"#VALUE!"},{"$error":"#VALUE!"},{"$f":"VLOOKUP(K4731,references!$A$1:$B$7,2,FALSE)","v":{"$error":"#N/A"}}]
[null,null,null,null,null,null,null,null,null,null,null,null,"no email",{"$error":"#VALUE!"},{"$error":"#VALUE!"},{"$f":"VLOOKUP(K4732,references!$A$1:$B$7,2,FALSE)","v":{"$error":"#N/A"}}]
[null,null,null,null,null,null,null,null,null,null,null,null,"no email",{"$error":"#VALUE!"},{"$error":"#VALUE!"},{"$f":"VLOOKUP(K4733,references!$A$1:$B$7,2,FALSE)","v":{"$error":"#N/A"}}]
[null,null,null,null,null,null,null,null,null,null,null,null,"no email",{"$error":"#VALUE!"},{"$error":"#VALUE!"},{"$f":"VLOOKUP(K4734,references!$A$1:$B$7,2,FALSE)","v":{"$error":"#N/A"}}]
[null,null,null,null,null,null,null,null,null,null,null,null,"no email",{"$error":"#VALUE!"},{"$error":"#VALUE!"},{"$f":"VLOOKUP(K4735,references!$A$1:$B$7,2,FALSE)","v":{"$error":"#N/A"}}]
[null,null,null,null,null,null,null,null,null,null,null,null,"no email",{"$error":"#VALUE!"},{"$error":"#VALUE!"},{"$f":"VLOOKUP(K4736,references!$A$1:$B$7,2,FALSE)","v":{"$error":"#N/A"}}]
[null,null,null,null,null,null,null,null,null,null,null,null,"no email",{"$error":"#VALUE!"},{"$error":"#VALUE!"},{"$f":"VLOOKUP(K4737,references!$A$1:$B$7,2,FALSE)","v":{"$error":"#N/A"}}]
[null,null,null,null,null,null,null,null,null,null,null,null,{"$f":"IF(L4738=\"\", \"no email\",LOWER(L4738))","v":"no email"},{"$f":"LEFT(A4738, SEARCH(\",\",A4738,1)-1)","v":{"$error":"#VALUE!"}},{"$f":"RIGHT(A4738, LEN(A4738) -SEARCH(\",\",A4738,1)-1)","v":{"$error":"#VALUE!"}},{"$f":"VLOOKUP(K4738,references!$A$1:$B$7,2,FALSE)","v":{"$error":"#N/A"}}]
[null,null,null,null,null,null,null,null,null,null,null,null,"no email",{"$error":"#VALUE!"},{"$error":"#VALUE!"},{"$f":"VLOOKUP(K4739,references!$A$1:$B$7,2,FALSE)","v":{"$error":"#N/A"}}]
[null,null,null,null,null,null,null,null,null,null,null,null,"no email",{"$error":"#VALUE!"},{"$error":"#VALUE!"},{"$f":"VLOOKUP(K4740,references!$A$1:$B$7,2,FALSE)","v":{"$error":"#N/A"}}]
[null,null,null,null,null,null,null,null,null,null,null,null,"no email",{"$error":"#VALUE!"},{"$error":"#VALUE!"},{"$f":"VLOOKUP(K4741,references!$A$1:$B$7,2,FALSE)","v":{"$error":"#N/A"}}]
[null,null,null,null,null,null,null,null,null,null,null,null,"no email",{"$error":"#VALUE!"},{"$error":"#VALUE!"},{"$f":"VLOOKUP(K4742,references!$A$1:$B$7,2,FALSE)","v":{"$error":"#N/A"}}]
[null,null,null,null,null,null,null,null,null,null,null,null,"no email",{"$error":"#VALUE!"},{"$error":"#VALUE!"},{"$f":"VLOOKUP(K4743,references!$A$1:$B$7,2,FALSE)","v":{"$error":"#N/A"}}]
[null,null,null,null,null,null,null,null,null,null,null,null,"no email",{"$error":"#VALUE!"},{"$error":"#VALUE!"},{"$f":"VLOOKUP(K4744,references!$A$1:$B$7,2,FALSE)","v":{"$error":"#N/A"}}]
[null,null,null,null,null,null,null,null,null,null,null,null,"no email",{"$error":"#VALUE!"},{"$error":"#VALUE!"},{"$f":"VLOOKUP(K4745,references!$A$1:$B$7,2,FALSE)","v":{"$error":"#N/A"}}]
[null,null,null,null,null,null,null,null,null,null,null,null,"no email",{"$error":"#VALUE!"},{"$error":"#VALUE!"},{"$f":"VLOOKUP(K4746,references!$A$1:$B$7,2,FALSE)","v":{"$error":"#N/A"}}]
[null,null,null,null,null,null,null,null,null,null,null,null,"no email",{"$error":"#VALUE!"},{"$error":"#VALUE!"},{"$f":"VLOOKUP(K4747,references!$A$1:$B$7,2,FALSE)","v":{"$error":"#N/A"}}]
[null,null,null,null,null,null,null,null,null,null,null,null,"no email",{"$error":"#VALUE!"},{"$error":"#VALUE!"},{"$f":"VLOOKUP(K4748,references!$A$1:$B$7,2,FALSE)","v":{"$error":"#N/A"}}]
[null,null,null,null,null,null,null,null,null,null,null,null,"no email",{"$error":"#VALUE!"},{"$error":"#VALUE!"},{"$f":"VLOOKUP(K4749,references!$A$1:$B$7,2,FALSE)","v":{"$error":"#N/A"}}]
[null,null,null,null,null,null,null,null,null,null,null,null,"no email",{"$error":"#VALUE!"},{"$error":"#VALUE!"},{"$f":"VLOOKUP(K4750,references!$A$1:$B$7,2,FALSE)","v":{"$error":"#N/A"}}]
[null,null,null,null,null,null,null,null,null,null,null,null,"no email",{"$error":"#VALUE!"},{"$error":"#VALUE!"},{"$f":"VLOOKUP(K4751,references!$A$1:$B$7,2,FALSE)","v":{"$error":"#N/A"}}]
[null,null,null,null,null,null,null,null,null,null,null,null,"no email",{"$error":"#VALUE!"},{"$error":"#VALUE!"},{"$f":"VLOOKUP(K4752,references!$A$1:$B$7,2,FALSE)","v":{"$error":"#N/A"}}]
[null,null,null,null,null,null,null,null,null,null,null,null,"no email",{"$error":"#VALUE!"},{"$error":"#VALUE!"},{"$f":"VLOOKUP(K4753,references!$A$1:$B$7,2,FALSE)","v":{"$error":"#N/A"}}]
[null,null,null,null,null,null,null,null,null,null,null,null,"no email",{"$error":"#VALUE!"},{"$error":"#VALUE!"},{"$f":"VLOOKUP(K4754,references!$A$1:$B$7,2,FALSE)","v":{"$error":"#N/A"}}]
[null,null,null,null,null,null,null,null,null,null,null,null,"no email",{"$error":"#VALUE!"},{"$error":"#VALUE!"},{"$f":"VLOOKUP(K4755,references!$A$1:$B$7,2,FALSE)","v":{"$error":"#N/A"}}]
[null,null,null,null,null,null,null,null,null,null,null,null,"no email",{"$error":"#VALUE!"},{"$error":"#VALUE!"},{"$f":"VLOOKUP(K4756,references!$A$1:$B$7,2,FALSE)","v":{"$error":"#N/A"}}]
[null,null,null,null,null,null,null,null,null,null,null,null,"no email",{"$error":"#VALUE!"},{"$error":"#VALUE!"},{"$f":"VLOOKUP(K4757,references!$A$1:$B$7,2,FALSE)","v":{"$error":"#N/A"}}]
[null,null,null,null,null,null,null,null,null,null,null,null,"no email",{"$error":"#VALUE!"},{"$error":"#VALUE!"},{"$f":"VLOOKUP(K4758,references!$A$1:$B$7,2,FALSE)","v":{"$error":"#N/A"}}]
[null,null,null,null,null,null,null,null,null,null,null,null,"no email",{"$error":"#VALUE!"},{"$error":"#VALUE!"},{"$f":"VLOOKUP(K4759,references!$A$1:$B$7,2,FALSE)","v":{"$error":"#N/A"}}]
[null,null,null,null,null,null,null,null,null,null,null,null,"no email",{"$error":"#VALUE!"},{"$error":"#VALUE!"},{"$f":"VLOOKUP(K4760,references!$A$1:$B$7,2,FALSE)","v":{"$error":"#N/A"}}]
[null,null,null,null,null,null,null,null,null,null,null,null,"no email",{"$error":"#VALUE!"},{"$error":"#VALUE!"},{"$f":"VLOOKUP(K4761,references!$A$1:$B$7,2,FALSE)","v":{"$error":"#N/A"}}]
[null,null,null,null,null,null,null,null,null,null,null,null,"no email",{"$error":"#VALUE!"},{"$error":"#VALUE!"},{"$f":"VLOOKUP(K4762,references!$A$1:$B$7,2,FALSE)","v":{"$error":"#N/A"}}]
[null,null,null,null,null,null,null,null,null,null,null,null,"no email",{"$error":"#VALUE!"},{"$error":"#VALUE!"},{"$f":"VLOOKUP(K4763,references!$A$1:$B$7,2,FALSE)","v":{"$error":"#N/A"}}]
[null,null,null,null,null,null,null,null,null,null,null,null,"no email",{"$error":"#VALUE!"},{"$error":"#VALUE!"},{"$f":"VLOOKUP(K4764,references!$A$1:$B$7,2,FALSE)","v":{"$error":"#N/A"}}]
[null,null,null,null,null,null,null,null,null,null,null,null,"no email",{"$error":"#VALUE!"},{"$error":"#VALUE!"},{"$f":"VLOOKUP(K4765,references!$A$1:$B$7,2,FALSE)","v":{"$error":"#N/A"}}]
[null,null,null,null,null,null,null,null,null,null,null,null,"no email",{"$error":"#VALUE!"},{"$error":"#VALUE!"},{"$f":"VLOOKUP(K4766,references!$A$1:$B$7,2,FALSE)","v":{"$error":"#N/A"}}]
[null,null,null,null,null,null,null,null,null,null,null,null,"no email",{"$error":"#VALUE!"},{"$error":"#VALUE!"},{"$f":"VLOOKUP(K4767,references!$A$1:$B$7,2,FALSE)","v":{"$error":"#N/A"}}]
[null,null,null,null,null,null,null,null,null,null,null,null,"no email",{"$error":"#VALUE!"},{"$error":"#VALUE!"},{"$f":"VLOOKUP(K4768,references!$A$1:$B$7,2,FALSE)","v":{"$error":"#N/A"}}]
[null,null,null,null,null,null,null,null,null,null,null,null,"no email",{"$error":"#VALUE!"},{"$error":"#VALUE!"},{"$f":"VLOOKUP(K4769,references!$A$1:$B$7,2,FALSE)","v":{"$error":"#N/A"}}]
[null,null,null,null,null,null,null,null,null,null,null,null,"no email",{"$error":"#VALUE!"},{"$error":"#VALUE!"},{"$f":"VLOOKUP(K4770,references!$A$1:$B$7,2,FALSE)","v":{"$error":"#N/A"}}]
[null,null,null,null,null,null,null,null,null,null,null,null,"no email",{"$error":"#VALUE!"},{"$error":"#VALUE!"},{"$f":"VLOOKUP(K4771,references!$A$1:$B$7,2,FALSE)","v":{"$error":"#N/A"}}]
[null,null,null,null,null,null,null,null,null,null,null,null,"no email",{"$error":"#VALUE!"},{"$error":"#VALUE!"},{"$f":"VLOOKUP(K4772,references!$A$1:$B$7,2,FALSE)","v":{"$error":"#N/A"}}]
[null,null,null,null,null,null,null,null,null,null,null,null,"no email",{"$error":"#VALUE!"},{"$error":"#VALUE!"},{"$f":"VLOOKUP(K4773,references!$A$1:$B$7,2,FALSE)","v":{"$error":"#N/A"}}]
[null,null,null,null,null,null,null,null,null,null,null,null,"no email",{"$error":"#VALUE!"},{"$error":"#VALUE!"},{"$f":"VLOOKUP(K4774,references!$A$1:$B$7,2,FALSE)","v":{"$error":"#N/A"}}]
[null,null,null,null,null,null,null,null,null,null,null,null,"no email",{"$error":"#VALUE!"},{"$error":"#VALUE!"},{"$f":"VLOOKUP(K4775,references!$A$1:$B$7,2,FALSE)","v":{"$error":"#N/A"}}]
[null,null,null,null,null,null,null,null,null,null,null,null,"no email",{"$error":"#VALUE!"},{"$error":"#VALUE!"},{"$f":"VLOOKUP(K4776,references!$A$1:$B$7,2,FALSE)","v":{"$error":"#N/A"}}]
[null,null,null,null,null,null,null,null,null,null,null,null,"no email",{"$error":"#VALUE!"},{"$error":"#VALUE!"},{"$f":"VLOOKUP(K4777,references!$A$1:$B$7,2,FALSE)","v":{"$error":"#N/A"}}]
[null,null,null,null,null,null,null,null,null,null,null,null,"no email",{"$error":"#VALUE!"},{"$error":"#VALUE!"},{"$f":"VLOOKUP(K4778,references!$A$1:$B$7,2,FALSE)","v":{"$error":"#N/A"}}]
[null,null,null,null,null,null,null,null,null,null,null,null,"no email",{"$error":"#VALUE!"},{"$error":"#VALUE!"},{"$f":"VLOOKUP(K4779,references!$A$1:$B$7,2,FALSE)","v":{"$error":"#N/A"}}]
[null,null,null,null,null,null,null,null,null,null,null,null,"no email",{"$error":"#VALUE!"},{"$error":"#VALUE!"},{"$f":"VLOOKUP(K4780,references!$A$1:$B$7,2,FALSE)","v":{"$error":"#N/A"}}]
[null,null,null,null,null,null,null,null,null,null,null,null,"no email",{"$error":"#VALUE!"},{"$error":"#VALUE!"},{"$f":"VLOOKUP(K4781,references!$A$1:$B$7,2,FALSE)","v":{"$error":"#N/A"}}]
[null,null,null,null,null,null,null,null,null,null,null,null,"no email",{"$error":"#VALUE!"},{"$error":"#VALUE!"},{"$f":"VLOOKUP(K4782,references!$A$1:$B$7,2,FALSE)","v":{"$error":"#N/A"}}]
[null,null,null,null,null,null,null,null,null,null,null,null,"no email",{"$error":"#VALUE!"},{"$error":"#VALUE!"},{"$f":"VLOOKUP(K4783,references!$A$1:$B$7,2,FALSE)","v":{"$error":"#N/A"}}]
[null,null,null,null,null,null,null,null,null,null,null,null,"no email",{"$error":"#VALUE!"},{"$error":"#VALUE!"},{"$f":"VLOOKUP(K4784,references!$A$1:$B$7,2,FALSE)","v":{"$error":"#N/A"}}]
[null,null,null,null,null,null,null,null,null,null,null,null,"no email",{"$error":"#VALUE!"},{"$error":"#VALUE!"},{"$f":"VLOOKUP(K4785,references!$A$1:$B$7,2,FALSE)","v":{"$error":"#N/A"}}]
[null,null,null,null,null,null,null,null,null,null,null,null,"no email",{"$error":"#VALUE!"},{"$error":"#VALUE!"},{"$f":"VLOOKUP(K4786,references!$A$1:$B$7,2,FALSE)","v":{"$error":"#N/A"}}]
[null,null,null,null,null,null,null,null,null,null,null,null,"no email",{"$error":"#VALUE!"},{"$error":"#VALUE!"},{"$f":"VLOOKUP(K4787,references!$A$1:$B$7,2,FALSE)","v":{"$error":"#N/A"}}]
[null,null,null,null,null,null,null,null,null,null,null,null,"no email",{"$error":"#VALUE!"},{"$error":"#VALUE!"},{"$f":"VLOOKUP(K4788,references!$A$1:$B$7,2,FALSE)","v":{"$error":"#N/A"}}]
[null,null,null,null,null,null,null,null,null,null,null,null,"no email",{"$error":"#VALUE!"},{"$error":"#VALUE!"},{"$f":"VLOOKUP(K4789,references!$A$1:$B$7,2,FALSE)","v":{"$error":"#N/A"}}]
[null,null,null,null,null,null,null,null,null,null,null,null,"no email",{"$error":"#VALUE!"},{"$error":"#VALUE!"},{"$f":"VLOOKUP(K4790,references!$A$1:$B$7,2,FALSE)","v":{"$error":"#N/A"}}]
[null,null,null,null,null,null,null,null,null,null,null,null,"no email",{"$error":"#VALUE!"},{"$error":"#VALUE!"},{"$f":"VLOOKUP(K4791,references!$A$1:$B$7,2,FALSE)","v":{"$error":"#N/A"}}]
[null,null,null,null,null,null,null,null,null,null,null,null,"no email",{"$error":"#VALUE!"},{"$error":"#VALUE!"},{"$f":"VLOOKUP(K4792,references!$A$1:$B$7,2,FALSE)","v":{"$error":"#N/A"}}]
[null,null,null,null,null,null,null,null,null,null,null,null,"no email",{"$error":"#VALUE!"},{"$error":"#VALUE!"},{"$f":"VLOOKUP(K4793,references!$A$1:$B$7,2,FALSE)","v":{"$error":"#N/A"}}]
[null,null,null,null,null,null,null,null,null,null,null,null,"no email",{"$error":"#VALUE!"},{"$error":"#VALUE!"},{"$f":"VLOOKUP(K4794,references!$A$1:$B$7,2,FALSE)","v":{"$error":"#N/A"}}]
[null,null,null,null,null,null,null,null,null,null,null,null,"no email",{"$error":"#VALUE!"},{"$error":"#VALUE!"},{"$f":"VLOOKUP(K4795,references!$A$1:$B$7,2,FALSE)","v":{"$error":"#N/A"}}]
[null,null,null,null,null,null,null,null,null,null,null,null,"no email",{"$error":"#VALUE!"},{"$error":"#VALUE!"},{"$f":"VLOOKUP(K4796,references!$A$1:$B$7,2,FALSE)","v":{"$error":"#N/A"}}]
[null,null,null,null,null,null,null,null,null,null,null,null,"no email",{"$error":"#VALUE!"},{"$error":"#VALUE!"},{"$f":"VLOOKUP(K4797,references!$A$1:$B$7,2,FALSE)","v":{"$error":"#N/A"}}]
[null,null,null,null,null,null,null,null,null,null,null,null,"no email",{"$error":"#VALUE!"},{"$error":"#VALUE!"},{"$f":"VLOOKUP(K4798,references!$A$1:$B$7,2,FALSE)","v":{"$error":"#N/A"}}]
[null,null,null,null,null,null,null,null,null,null,null,null,"no email",{"$error":"#VALUE!"},{"$error":"#VALUE!"},{"$f":"VLOOKUP(K4799,references!$A$1:$B$7,2,FALSE)","v":{"$error":"#N/A"}}]
[null,null,null,null,null,null,null,null,null,null,null,null,"no email",{"$error":"#VALUE!"},{"$error":"#VALUE!"},{"$f":"VLOOKUP(K4800,references!$A$1:$B$7,2,FALSE)","v":{"$error":"#N/A"}}]
[null,null,null,null,null,null,null,null,null,null,null,null,"no email",{"$error":"#VALUE!"},{"$error":"#VALUE!"},{"$f":"VLOOKUP(K4801,references!$A$1:$B$7,2,FALSE)","v":{"$error":"#N/A"}}]
[null,null,null,null,null,null,null,null,null,null,null,null,{"$f":"IF(L4802=\"\", \"no email\",LOWER(L4802))","v":"no email"},{"$f":"LEFT(A4802, SEARCH(\",\",A4802,1)-1)","v":{"$error":"#VALUE!"}},{"$f":"RIGHT(A4802, LEN(A4802) -SEARCH(\",\",A4802,1)-1)","v":{"$error":"#VALUE!"}},{"$f":"VLOOKUP(K4802,references!$A$1:$B$7,2,FALSE)","v":{"$error":"#N/A"}}]
[null,null,null,null,null,null,null,null,null,null,null,null,"no email",{"$error":"#VALUE!"},{"$error":"#VALUE!"},{"$f":"VLOOKUP(K4803,references!$A$1:$B$7,2,FALSE)","v":{"$error":"#N/A"}}]
[null,null,null,null,null,null,null,null,null,null,null,null,"no email",{"$error":"#VALUE!"},{"$error":"#VALUE!"},{"$f":"VLOOKUP(K4804,references!$A$1:$B$7,2,FALSE)","v":{"$error":"#N/A"}}]
[null,null,null,null,null,null,null,null,null,null,null,null,"no email",{"$error":"#VALUE!"},{"$error":"#VALUE!"},{"$f":"VLOOKUP(K4805,references!$A$1:$B$7,2,FALSE)","v":{"$error":"#N/A"}}]
[null,null,null,null,null,null,null,null,null,null,null,null,"no email",{"$error":"#VALUE!"},{"$error":"#VALUE!"},{"$f":"VLOOKUP(K4806,references!$A$1:$B$7,2,FALSE)","v":{"$error":"#N/A"}}]
[null,null,null,null,null,null,null,null,null,null,null,null,"no email",{"$error":"#VALUE!"},{"$error":"#VALUE!"},{"$f":"VLOOKUP(K4807,references!$A$1:$B$7,2,FALSE)","v":{"$error":"#N/A"}}]
[null,null,null,null,null,null,null,null,null,null,null,null,"no email",{"$error":"#VALUE!"},{"$error":"#VALUE!"},{"$f":"VLOOKUP(K4808,references!$A$1:$B$7,2,FALSE)","v":{"$error":"#N/A"}}]
[null,null,null,null,null,null,null,null,null,null,null,null,"no email",{"$error":"#VALUE!"},{"$error":"#VALUE!"},{"$f":"VLOOKUP(K4809,references!$A$1:$B$7,2,FALSE)","v":{"$error":"#N/A"}}]
[null,null,null,null,null,null,null,null,null,null,null,null,"no email",{"$error":"#VALUE!"},{"$error":"#VALUE!"},{"$f":"VLOOKUP(K4810,references!$A$1:$B$7,2,FALSE)","v":{"$error":"#N/A"}}]
[null,null,null,null,null,null,null,null,null,null,null,null,"no email",{"$error":"#VALUE!"},{"$error":"#VALUE!"},{"$f":"VLOOKUP(K4811,references!$A$1:$B$7,2,FALSE)","v":{"$error":"#N/A"}}]
[null,null,null,null,null,null,null,null,null,null,null,null,"no email",{"$error":"#VALUE!"},{"$error":"#VALUE!"},{"$f":"VLOOKUP(K4812,references!$A$1:$B$7,2,FALSE)","v":{"$error":"#N/A"}}]
[null,null,null,null,null,null,null,null,null,null,null,null,"no email",{"$error":"#VALUE!"},{"$error":"#VALUE!"},{"$f":"VLOOKUP(K4813,references!$A$1:$B$7,2,FALSE)","v":{"$error":"#N/A"}}]
[null,null,null,null,null,null,null,null,null,null,null,null,"no email",{"$error":"#VALUE!"},{"$error":"#VALUE!"},{"$f":"VLOOKUP(K4814,references!$A$1:$B$7,2,FALSE)","v":{"$error":"#N/A"}}]
[null,null,null,null,null,null,null,null,null,null,null,null,"no email",{"$error":"#VALUE!"},{"$error":"#VALUE!"},{"$f":"VLOOKUP(K4815,references!$A$1:$B$7,2,FALSE)","v":{"$error":"#N/A"}}]
[null,null,null,null,null,null,null,null,null,null,null,null,"no email",{"$error":"#VALUE!"},{"$error":"#VALUE!"},{"$f":"VLOOKUP(K4816,references!$A$1:$B$7,2,FALSE)","v":{"$error":"#N/A"}}]
[null,null,null,null,null,null,null,null,null,null,null,null,"no email",{"$error":"#VALUE!"},{"$error":"#VALUE!"},{"$f":"VLOOKUP(K4817,references!$A$1:$B$7,2,FALSE)","v":{"$error":"#N/A"}}]
[null,null,null,null,null,null,null,null,null,null,null,null,"no email",{"$error":"#VALUE!"},{"$error":"#VALUE!"},{"$f":"VLOOKUP(K4818,references!$A$1:$B$7,2,FALSE)","v":{"$error":"#N/A"}}]
[null,null,null,null,null,null,null,null,null,null,null,null,"no email",{"$error":"#VALUE!"},{"$error":"#VALUE!"},{"$f":"VLOOKUP(K4819,references!$A$1:$B$7,2,FALSE)","v":{"$error":"#N/A"}}]
[null,null,null,null,null,null,null,null,null,null,null,null,"no email",{"$error":"#VALUE!"},{"$error":"#VALUE!"},{"$f":"VLOOKUP(K4820,references!$A$1:$B$7,2,FALSE)","v":{"$error":"#N/A"}}]
[null,null,null,null,null,null,null,null,null,null,null,null,"no email",{"$error":"#VALUE!"},{"$error":"#VALUE!"},{"$f":"VLOOKUP(K4821,references!$A$1:$B$7,2,FALSE)","v":{"$error":"#N/A"}}]
[null,null,null,null,null,null,null,null,null,null,null,null,"no email",{"$error":"#VALUE!"},{"$error":"#VALUE!"},{"$f":"VLOOKUP(K4822,references!$A$1:$B$7,2,FALSE)","v":{"$error":"#N/A"}}]
[null,null,null,null,null,null,null,null,null,null,null,null,"no email",{"$error":"#VALUE!"},{"$error":"#VALUE!"},{"$f":"VLOOKUP(K4823,references!$A$1:$B$7,2,FALSE)","v":{"$error":"#N/A"}}]
[null,null,null,null,null,null,null,null,null,null,null,null,"no email",{"$error":"#VALUE!"},{"$error":"#VALUE!"},{"$f":"VLOOKUP(K4824,references!$A$1:$B$7,2,FALSE)","v":{"$error":"#N/A"}}]
[null,null,null,null,null,null,null,null,null,null,null,null,"no email",{"$error":"#VALUE!"},{"$error":"#VALUE!"},{"$f":"VLOOKUP(K4825,references!$A$1:$B$7,2,FALSE)","v":{"$error":"#N/A"}}]
[null,null,null,null,null,null,null,null,null,null,null,null,"no email",{"$error":"#VALUE!"},{"$error":"#VALUE!"},{"$f":"VLOOKUP(K4826,references!$A$1:$B$7,2,FALSE)","v":{"$error":"#N/A"}}]
[null,null,null,null,null,null,null,null,null,null,null,null,"no email",{"$error":"#VALUE!"},{"$error":"#VALUE!"},{"$f":"VLOOKUP(K4827,references!$A$1:$B$7,2,FALSE)","v":{"$error":"#N/A"}}]
[null,null,null,null,null,null,null,null,null,null,null,null,"no email",{"$error":"#VALUE!"},{"$error":"#VALUE!"},{"$f":"VLOOKUP(K4828,references!$A$1:$B$7,2,FALSE)","v":{"$error":"#N/A"}}]
[null,null,null,null,null,null,null,null,null,null,null,null,"no email",{"$error":"#VALUE!"},{"$error":"#VALUE!"},{"$f":"VLOOKUP(K4829,references!$A$1:$B$7,2,FALSE)","v":{"$error":"#N/A"}}]
[null,null,null,null,null,null,null,null,null,null,null,null,"no email",{"$error":"#VALUE!"},{"$error":"#VALUE!"},{"$f":"VLOOKUP(K4830,references!$A$1:$B$7,2,FALSE)","v":{"$error":"#N/A"}}]
[null,null,null,null,null,null,null,null,null,null,null,null,"no email",{"$error":"#VALUE!"},{"$error":"#VALUE!"},{"$f":"VLOOKUP(K4831,references!$A$1:$B$7,2,FALSE)","v":{"$error":"#N/A"}}]
[null,null,null,null,null,null,null,null,null,null,null,null,"no email",{"$error":"#VALUE!"},{"$error":"#VALUE!"},{"$f":"VLOOKUP(K4832,references!$A$1:$B$7,2,FALSE)","v":{"$error":"#N/A"}}]
[null,null,null,null,null,null,null,null,null,null,null,null,"no email",{"$error":"#VALUE!"},{"$error":"#VALUE!"},{"$f":"VLOOKUP(K4833,references!$A$1:$B$7,2,FALSE)","v":{"$error":"#N/A"}}]
[null,null,null,null,null,null,null,null,null,null,null,null,"no email",{"$error":"#VALUE!"},{"$error":"#VALUE!"},{"$f":"VLOOKUP(K4834,references!$A$1:$B$7,2,FALSE)","v":{"$error":"#N/A"}}]
[null,null,null,null,null,null,null,null,null,null,null,null,"no email",{"$error":"#VALUE!"},{"$error":"#VALUE!"},{"$f":"VLOOKUP(K4835,references!$A$1:$B$7,2,FALSE)","v":{"$error":"#N/A"}}]
[null,null,null,null,null,null,null,null,null,null,null,null,"no email",{"$error":"#VALUE!"},{"$error":"#VALUE!"},{"$f":"VLOOKUP(K4836,references!$A$1:$B$7,2,FALSE)","v":{"$error":"#N/A"}}]
[null,null,null,null,null,null,null,null,null,null,null,null,"no email",{"$error":"#VALUE!"},{"$error":"#VALUE!"},{"$f":"VLOOKUP(K4837,references!$A$1:$B$7,2,FALSE)","v":{"$error":"#N/A"}}]
[null,null,null,null,null,null,null,null,null,null,null,null,"no email",{"$error":"#VALUE!"},{"$error":"#VALUE!"},{"$f":"VLOOKUP(K4838,references!$A$1:$B$7,2,FALSE)","v":{"$error":"#N/A"}}]
[null,null,null,null,null,null,null,null,null,null,null,null,"no email",{"$error":"#VALUE!"},{"$error":"#VALUE!"},{"$f":"VLOOKUP(K4839,references!$A$1:$B$7,2,FALSE)","v":{"$error":"#N/A"}}]
[null,null,null,null,null,null,null,null,null,null,null,null,"no email",{"$error":"#VALUE!"},{"$error":"#VALUE!"},{"$f":"VLOOKUP(K4840,references!$A$1:$B$7,2,FALSE)","v":{"$error":"#N/A"}}]
[null,null,null,null,null,null,null,null,null,null,null,null,"no email",{"$error":"#VALUE!"},{"$error":"#VALUE!"},{"$f":"VLOOKUP(K4841,references!$A$1:$B$7,2,FALSE)","v":{"$error":"#N/A"}}]
[null,null,null,null,null,null,null,null,null,null,null,null,"no email",{"$error":"#VALUE!"},{"$error":"#VALUE!"},{"$f":"VLOOKUP(K4842,references!$A$1:$B$7,2,FALSE)","v":{"$error":"#N/A"}}]
[null,null,null,null,null,null,null,null,null,null,null,null,"no email",{"$error":"#VALUE!"},{"$error":"#VALUE!"},{"$f":"VLOOKUP(K4843,references!$A$1:$B$7,2,FALSE)","v":{"$error":"#N/A"}}]
[null,null,null,null,null,null,null,null,null,null,null,null,"no email",{"$error":"#VALUE!"},{"$error":"#VALUE!"},{"$f":"VLOOKUP(K4844,references!$A$1:$B$7,2,FALSE)","v":{"$error":"#N/A"}}]
[null,null,null,null,null,null,null,null,null,null,null,null,"no email",{"$error":"#VALUE!"},{"$error":"#VALUE!"},{"$f":"VLOOKUP(K4845,references!$A$1:$B$7,2,FALSE)","v":{"$error":"#N/A"}}]
[null,null,null,null,null,null,null,null,null,null,null,null,"no email",{"$error":"#VALUE!"},{"$error":"#VALUE!"},{"$f":"VLOOKUP(K4846,references!$A$1:$B$7,2,FALSE)","v":{"$error":"#N/A"}}]
[null,null,null,null,null,null,null,null,null,null,null,null,"no email",{"$error":"#VALUE!"},{"$error":"#VALUE!"},{"$f":"VLOOKUP(K4847,references!$A$1:$B$7,2,FALSE)","v":{"$error":"#N/A"}}]
[null,null,null,null,null,null,null,null,null,null,null,null,"no email",{"$error":"#VALUE!"},{"$error":"#VALUE!"},{"$f":"VLOOKUP(K4848,references!$A$1:$B$7,2,FALSE)","v":{"$error":"#N/A"}}]
[null,null,null,null,null,null,null,null,null,null,null,null,"no email",{"$error":"#VALUE!"},{"$error":"#VALUE!"},{"$f":"VLOOKUP(K4849,references!$A$1:$B$7,2,FALSE)","v":{"$error":"#N/A"}}]
[null,null,null,null,null,null,null,null,null,null,null,null,"no email",{"$error":"#VALUE!"},{"$error":"#VALUE!"},{"$f":"VLOOKUP(K4850,references!$A$1:$B$7,2,FALSE)","v":{"$error":"#N/A"}}]
[null,null,null,null,null,null,null,null,null,null,null,null,"no email",{"$error":"#VALUE!"},{"$error":"#VALUE!"},{"$f":"VLOOKUP(K4851,references!$A$1:$B$7,2,FALSE)","v":{"$error":"#N/A"}}]
[null,null,null,null,null,null,null,null,null,null,null,null,"no email",{"$error":"#VALUE!"},{"$error":"#VALUE!"},{"$f":"VLOOKUP(K4852,references!$A$1:$B$7,2,FALSE)","v":{"$error":"#N/A"}}]
[null,null,null,null,null,null,null,null,null,null,null,null,"no email",{"$error":"#VALUE!"},{"$error":"#VALUE!"},{"$f":"VLOOKUP(K4853,references!$A$1:$B$7,2,FALSE)","v":{"$error":"#N/A"}}]
[null,null,null,null,null,null,null,null,null,null,null,null,"no email",{"$error":"#VALUE!"},{"$error":"#VALUE!"},{"$f":"VLOOKUP(K4854,references!$A$1:$B$7,2,FALSE)","v":{"$error":"#N/A"}}]
[null,null,null,null,null,null,null,null,null,null,null,null,"no email",{"$error":"#VALUE!"},{"$error":"#VALUE!"},{"$f":"VLOOKUP(K4855,references!$A$1:$B$7,2,FALSE)","v":{"$error":"#N/A"}}]
[null,null,null,null,null,null,null,null,null,null,null,null,"no email",{"$error":"#VALUE!"},{"$error":"#VALUE!"},{"$f":"VLOOKUP(K4856,references!$A$1:$B$7,2,FALSE)","v":{"$error":"#N/A"}}]
[null,null,null,null,null,null,null,null,null,null,null,null,"no email",{"$error":"#VALUE!"},{"$error":"#VALUE!"},{"$f":"VLOOKUP(K4857,references!$A$1:$B$7,2,FALSE)","v":{"$error":"#N/A"}}]
[null,null,null,null,null,null,null,null,null,null,null,null,"no email",{"$error":"#VALUE!"},{"$error":"#VALUE!"},{"$f":"VLOOKUP(K4858,references!$A$1:$B$7,2,FALSE)","v":{"$error":"#N/A"}}]
[null,null,null,null,null,null,null,null,null,null,null,null,"no email",{"$error":"#VALUE!"},{"$error":"#VALUE!"},{"$f":"VLOOKUP(K4859,references!$A$1:$B$7,2,FALSE)","v":{"$error":"#N/A"}}]
[null,null,null,null,null,null,null,null,null,null,null,null,"no email",{"$error":"#VALUE!"},{"$error":"#VALUE!"},{"$f":"VLOOKUP(K4860,references!$A$1:$B$7,2,FALSE)","v":{"$error":"#N/A"}}]
[null,null,null,null,null,null,null,null,null,null,null,null,"no email",{"$error":"#VALUE!"},{"$error":"#VALUE!"},{"$f":"VLOOKUP(K4861,references!$A$1:$B$7,2,FALSE)","v":{"$error":"#N/A"}}]
[null,null,null,null,null,null,null,null,null,null,null,null,"no email",{"$error":"#VALUE!"},{"$error":"#VALUE!"},{"$f":"VLOOKUP(K4862,references!$A$1:$B$7,2,FALSE)","v":{"$error":"#N/A"}}]
[null,null,null,null,null,null,null,null,null,null,null,null,"no email",{"$error":"#VALUE!"},{"$error":"#VALUE!"},{"$f":"VLOOKUP(K4863,references!$A$1:$B$7,2,FALSE)","v":{"$error":"#N/A"}}]
[null,null,null,null,null,null,null,null,null,null,null,null,"no email",{"$error":"#VALUE!"},{"$error":"#VALUE!"},{"$f":"VLOOKUP(K4864,references!$A$1:$B$7,2,FALSE)","v":{"$error":"#N/A"}}]
[null,null,null,null,null,null,null,null,null,null,null,null,"no email",{"$error":"#VALUE!"},{"$error":"#VALUE!"},{"$f":"VLOOKUP(K4865,references!$A$1:$B$7,2,FALSE)","v":{"$error":"#N/A"}}]
[null,null,null,null,null,null,null,null,null,null,null,null,{"$f":"IF(L4866=\"\", \"no email\",LOWER(L4866))","v":"no email"},{"$f":"LEFT(A4866, SEARCH(\",\",A4866,1)-1)","v":{"$error":"#VALUE!"}},{"$f":"RIGHT(A4866, LEN(A4866) -SEARCH(\",\",A4866,1)-1)","v":{"$error":"#VALUE!"}},{"$f":"VLOOKUP(K4866,references!$A$1:$B$7,2,FALSE)","v":{"$error":"#N/A"}}]
[null,null,null,null,null,null,null,null,null,null,null,null,"no email",{"$error":"#VALUE!"},{"$error":"#VALUE!"},{"$f":"VLOOKUP(K4867,references!$A$1:$B$7,2,FALSE)","v":{"$error":"#N/A"}}]
[null,null,null,null,null,null,null,null,null,null,null,null,"no email",{"$error":"#VALUE!"},{"$error":"#VALUE!"},{"$f":"VLOOKUP(K4868,references!$A$1:$B$7,2,FALSE)","v":{"$error":"#N/A"}}]
[null,null,null,null,null,null,null,null,null,null,null,null,"no email",{"$error":"#VALUE!"},{"$error":"#VALUE!"},{"$f":"VLOOKUP(K4869,references!$A$1:$B$7,2,FALSE)","v":{"$error":"#N/A"}}]
[null,null,null,null,null,null,null,null,null,null,null,null,"no email",{"$error":"#VALUE!"},{"$error":"#VALUE!"},{"$f":"VLOOKUP(K4870,references!$A$1:$B$7,2,FALSE)","v":{"$error":"#N/A"}}]
[null,null,null,null,null,null,null,null,null,null,null,null,"no email",{"$error":"#VALUE!"},{"$error":"#VALUE!"},{"$f":"VLOOKUP(K4871,references!$A$1:$B$7,2,FALSE)","v":{"$error":"#N/A"}}]
[null,null,null,null,null,null,null,null,null,null,null,null,"no email",{"$error":"#VALUE!"},{"$error":"#VALUE!"},{"$f":"VLOOKUP(K4872,references!$A$1:$B$7,2,FALSE)","v":{"$error":"#N/A"}}]
[null,null,null,null,null,null,null,null,null,null,null,null,"no email",{"$error":"#VALUE!"},{"$error":"#VALUE!"},{"$f":"VLOOKUP(K4873,references!$A$1:$B$7,2,FALSE)","v":{"$error":"#N/A"}}]
[null,null,null,null,null,null,null,null,null,null,null,null,"no email",{"$error":"#VALUE!"},{"$error":"#VALUE!"},{"$f":"VLOOKUP(K4874,references!$A$1:$B$7,2,FALSE)","v":{"$error":"#N/A"}}]
[null,null,null,null,null,null,null,null,null,null,null,null,"no email",{"$error":"#VALUE!"},{"$error":"#VALUE!"},{"$f":"VLOOKUP(K4875,references!$A$1:$B$7,2,FALSE)","v":{"$error":"#N/A"}}]
[null,null,null,null,null,null,null,null,null,null,null,null,"no email",{"$error":"#VALUE!"},{"$error":"#VALUE!"},{"$f":"VLOOKUP(K4876,references!$A$1:$B$7,2,FALSE)","v":{"$error":"#N/A"}}]
[null,null,null,null,null,null,null,null,null,null,null,null,"no email",{"$error":"#VALUE!"},{"$error":"#VALUE!"},{"$f":"VLOOKUP(K4877,references!$A$1:$B$7,2,FALSE)","v":{"$error":"#N/A"}}]
[null,null,null,null,null,null,null,null,null,null,null,null,"no email",{"$error":"#VALUE!"},{"$error":"#VALUE!"},{"$f":"VLOOKUP(K4878,references!$A$1:$B$7,2,FALSE)","v":{"$error":"#N/A"}}]
[null,null,null,null,null,null,null,null,null,null,null,null,"no email",{"$error":"#VALUE!"},{"$error":"#VALUE!"},{"$f":"VLOOKUP(K4879,references!$A$1:$B$7,2,FALSE)","v":{"$error":"#N/A"}}]
[null,null,null,null,null,null,null,null,null,null,null,null,"no email",{"$error":"#VALUE!"},{"$error":"#VALUE!"},{"$f":"VLOOKUP(K4880,references!$A$1:$B$7,2,FALSE)","v":{"$error":"#N/A"}}]
[null,null,null,null,null,null,null,null,null,null,null,null,"no email",{"$error":"#VALUE!"},{"$error":"#VALUE!"},{"$f":"VLOOKUP(K4881,references!$A$1:$B$7,2,FALSE)","v":{"$error":"#N/A"}}]
[null,null,null,null,null,null,null,null,null,null,null,null,"no email",{"$error":"#VALUE!"},{"$error":"#VALUE!"},{"$f":"VLOOKUP(K4882,references!$A$1:$B$7,2,FALSE)","v":{"$error":"#N/A"}}]
[null,null,null,null,null,null,null,null,null,null,null,null,"no email",{"$error":"#VALUE!"},{"$error":"#VALUE!"},{"$f":"VLOOKUP(K4883,references!$A$1:$B$7,2,FALSE)","v":{"$error":"#N/A"}}]
[null,null,null,null,null,null,null,null,null,null,null,null,"no email",{"$error":"#VALUE!"},{"$error":"#VALUE!"},{"$f":"VLOOKUP(K4884,references!$A$1:$B$7,2,FALSE)","v":{"$error":"#N/A"}}]
[null,null,null,null,null,null,null,null,null,null,null,null,"no email",{"$error":"#VALUE!"},{"$error":"#VALUE!"},{"$f":"VLOOKUP(K4885,references!$A$1:$B$7,2,FALSE)","v":{"$error":"#N/A"}}]
[null,null,null,null,null,null,null,null,null,null,null,null,"no email",{"$error":"#VALUE!"},{"$error":"#VALUE!"},{"$f":"VLOOKUP(K4886,references!$A$1:$B$7,2,FALSE)","v":{"$error":"#N/A"}}]
[null,null,null,null,null,null,null,null,null,null,null,null,"no email",{"$error":"#VALUE!"},{"$error":"#VALUE!"},{"$f":"VLOOKUP(K4887,references!$A$1:$B$7,2,FALSE)","v":{"$error":"#N/A"}}]
[null,null,null,null,null,null,null,null,null,null,null,null,"no email",{"$error":"#VALUE!"},{"$error":"#VALUE!"},{"$f":"VLOOKUP(K4888,references!$A$1:$B$7,2,FALSE)","v":{"$error":"#N/A"}}]
[null,null,null,null,null,null,null,null,null,null,null,null,"no email",{"$error":"#VALUE!"},{"$error":"#VALUE!"},{"$f":"VLOOKUP(K4889,references!$A$1:$B$7,2,FALSE)","v":{"$error":"#N/A"}}]
[null,null,null,null,null,null,null,null,null,null,null,null,"no email",{"$error":"#VALUE!"},{"$error":"#VALUE!"},{"$f":"VLOOKUP(K4890,references!$A$1:$B$7,2,FALSE)","v":{"$error":"#N/A"}}]
[null,null,null,null,null,null,null,null,null,null,null,null,"no email",{"$error":"#VALUE!"},{"$error":"#VALUE!"},{"$f":"VLOOKUP(K4891,references!$A$1:$B$7,2,FALSE)","v":{"$error":"#N/A"}}]
[null,null,null,null,null,null,null,null,null,null,null,null,"no email",{"$error":"#VALUE!"},{"$error":"#VALUE!"},{"$f":"VLOOKUP(K4892,references!$A$1:$B$7,2,FALSE)","v":{"$error":"#N/A"}}]
[null,null,null,null,null,null,null,null,null,null,null,null,"no email",{"$error":"#VALUE!"},{"$error":"#VALUE!"},{"$f":"VLOOKUP(K4893,references!$A$1:$B$7,2,FALSE)","v":{"$error":"#N/A"}}]
[null,null,null,null,null,null,null,null,null,null,null,null,"no email",{"$error":"#VALUE!"},{"$error":"#VALUE!"},{"$f":"VLOOKUP(K4894,references!$A$1:$B$7,2,FALSE)","v":{"$error":"#N/A"}}]
[null,null,null,null,null,null,null,null,null,null,null,null,"no email",{"$error":"#VALUE!"},{"$error":"#VALUE!"},{"$f":"VLOOKUP(K4895,references!$A$1:$B$7,2,FALSE)","v":{"$error":"#N/A"}}]
[null,null,null,null,null,null,null,null,null,null,null,null,"no email",{"$error":"#VALUE!"},{"$error":"#VALUE!"},{"$f":"VLOOKUP(K4896,references!$A$1:$B$7,2,FALSE)","v":{"$error":"#N/A"}}]
[null,null,null,null,null,null,null,null,null,null,null,null,"no email",{"$error":"#VALUE!"},{"$error":"#VALUE!"},{"$f":"VLOOKUP(K4897,references!$A$1:$B$7,2,FALSE)","v":{"$error":"#N/A"}}]
[null,null,null,null,null,null,null,null,null,null,null,null,"no email",{"$error":"#VALUE!"},{"$error":"#VALUE!"},{"$f":"VLOOKUP(K4898,references!$A$1:$B$7,2,FALSE)","v":{"$error":"#N/A"}}]
[null,null,null,null,null,null,null,null,null,null,null,null,"no email",{"$error":"#VALUE!"},{"$error":"#VALUE!"},{"$f":"VLOOKUP(K4899,references!$A$1:$B$7,2,FALSE)","v":{"$error":"#N/A"}}]
[null,null,null,null,null,null,null,null,null,null,null,null,"no email",{"$error":"#VALUE!"},{"$error":"#VALUE!"},{"$f":"VLOOKUP(K4900,references!$A$1:$B$7,2,FALSE)","v":{"$error":"#N/A"}}]
[null,null,null,null,null,null,null,null,null,null,null,null,"no email",{"$error":"#VALUE!"},{"$error":"#VALUE!"},{"$f":"VLOOKUP(K4901,references!$A$1:$B$7,2,FALSE)","v":{"$error":"#N/A"}}]
[null,null,null,null,null,null,null,null,null,null,null,null,"no email",{"$error":"#VALUE!"},{"$error":"#VALUE!"},{"$f":"VLOOKUP(K4902,references!$A$1:$B$7,2,FALSE)","v":{"$error":"#N/A"}}]
[null,null,null,null,null,null,null,null,null,null,null,null,"no email",{"$error":"#VALUE!"},{"$error":"#VALUE!"},{"$f":"VLOOKUP(K4903,references!$A$1:$B$7,2,FALSE)","v":{"$error":"#N/A"}}]
[null,null,null,null,null,null,null,null,null,null,null,null,"no email",{"$error":"#VALUE!"},{"$error":"#VALUE!"},{"$f":"VLOOKUP(K4904,references!$A$1:$B$7,2,FALSE)","v":{"$error":"#N/A"}}]
[null,null,null,null,null,null,null,null,null,null,null,null,"no email",{"$error":"#VALUE!"},{"$error":"#VALUE!"},{"$f":"VLOOKUP(K4905,references!$A$1:$B$7,2,FALSE)","v":{"$error":"#N/A"}}]
[null,null,null,null,null,null,null,null,null,null,null,null,"no email",{"$error":"#VALUE!"},{"$error":"#VALUE!"},{"$f":"VLOOKUP(K4906,references!$A$1:$B$7,2,FALSE)","v":{"$error":"#N/A"}}]
[null,null,null,null,null,null,null,null,null,null,null,null,"no email",{"$error":"#VALUE!"},{"$error":"#VALUE!"},{"$f":"VLOOKUP(K4907,references!$A$1:$B$7,2,FALSE)","v":{"$error":"#N/A"}}]
[null,null,null,null,null,null,null,null,null,null,null,null,"no email",{"$error":"#VALUE!"},{"$error":"#VALUE!"},{"$f":"VLOOKUP(K4908,references!$A$1:$B$7,2,FALSE)","v":{"$error":"#N/A"}}]
[null,null,null,null,null,null,null,null,null,null,null,null,"no email",{"$error":"#VALUE!"},{"$error":"#VALUE!"},{"$f":"VLOOKUP(K4909,references!$A$1:$B$7,2,FALSE)","v":{"$error":"#N/A"}}]
[null,null,null,null,null,null,null,null,null,null,null,null,"no email",{"$error":"#VALUE!"},{"$error":"#VALUE!"},{"$f":"VLOOKUP(K4910,references!$A$1:$B$7,2,FALSE)","v":{"$error":"#N/A"}}]
[null,null,null,null,null,null,null,null,null,null,null,null,"no email",{"$error":"#VALUE!"},{"$error":"#VALUE!"},{"$f":"VLOOKUP(K4911,references!$A$1:$B$7,2,FALSE)","v":{"$error":"#N/A"}}]
[null,null,null,null,null,null,null,null,null,null,null,null,"no email",{"$error":"#VALUE!"},{"$error":"#VALUE!"},{"$f":"VLOOKUP(K4912,references!$A$1:$B$7,2,FALSE)","v":{"$error":"#N/A"}}]
[null,null,null,null,null,null,null,null,null,null,null,null,"no email",{"$error":"#VALUE!"},{"$error":"#VALUE!"},{"$f":"VLOOKUP(K4913,references!$A$1:$B$7,2,FALSE)","v":{"$error":"#N/A"}}]
[null,null,null,null,null,null,null,null,null,null,null,null,"no email",{"$error":"#VALUE!"},{"$error":"#VALUE!"},{"$f":"VLOOKUP(K4914,references!$A$1:$B$7,2,FALSE)","v":{"$error":"#N/A"}}]
[null,null,null,null,null,null,null,null,null,null,null,null,"no email",{"$error":"#VALUE!"},{"$error":"#VALUE!"},{"$f":"VLOOKUP(K4915,references!$A$1:$B$7,2,FALSE)","v":{"$error":"#N/A"}}]
[null,null,null,null,null,null,null,null,null,null,null,null,"no email",{"$error":"#VALUE!"},{"$error":"#VALUE!"},{"$f":"VLOOKUP(K4916,references!$A$1:$B$7,2,FALSE)","v":{"$error":"#N/A"}}]
[null,null,null,null,null,null,null,null,null,null,null,null,"no email",{"$error":"#VALUE!"},{"$error":"#VALUE!"},{"$f":"VLOOKUP(K4917,references!$A$1:$B$7,2,FALSE)","v":{"$error":"#N/A"}}]
[null,null,null,null,null,null,null,null,null,null,null,null,"no email",{"$error":"#VALUE!"},{"$error":"#VALUE!"},{"$f":"VLOOKUP(K4918,references!$A$1:$B$7,2,FALSE)","v":{"$error":"#N/A"}}]
[null,null,null,null,null,null,null,null,null,null,null,null,"no email",{"$error":"#VALUE!"},{"$error":"#VALUE!"},{"$f":"VLOOKUP(K4919,references!$A$1:$B$7,2,FALSE)","v":{"$error":"#N/A"}}]
[null,null,null,null,null,null,null,null,null,null,null,null,"no email",{"$error":"#VALUE!"},{"$error":"#VALUE!"},{"$f":"VLOOKUP(K4920,references!$A$1:$B$7,2,FALSE)","v":{"$error":"#N/A"}}]
[null,null,null,null,null,null,null,null,null,null,null,null,"no email",{"$error":"#VALUE!"},{"$error":"#VALUE!"},{"$f":"VLOOKUP(K4921,references!$A$1:$B$7,2,FALSE)","v":{"$error":"#N/A"}}]
[null,null,null,null,null,null,null,null,null,null,null,null,"no email",{"$error":"#VALUE!"},{"$error":"#VALUE!"},{"$f":"VLOOKUP(K4922,references!$A$1:$B$7,2,FALSE)","v":{"$error":"#N/A"}}]
[null,null,null,null,null,null,null,null,null,null,null,null,"no email",{"$error":"#VALUE!"},{"$error":"#VALUE!"},{"$f":"VLOOKUP(K4923,references!$A$1:$B$7,2,FALSE)","v":{"$error":"#N/A"}}]
[null,null,null,null,null,null,null,null,null,null,null,null,"no email",{"$error":"#VALUE!"},{"$error":"#VALUE!"},{"$f":"VLOOKUP(K4924,references!$A$1:$B$7,2,FALSE)","v":{"$error":"#N/A"}}]
[null,null,null,null,null,null,null,null,null,null,null,null,"no email",{"$error":"#VALUE!"},{"$error":"#VALUE!"},{"$f":"VLOOKUP(K4925,references!$A$1:$B$7,2,FALSE)","v":{"$error":"#N/A"}}]
[null,null,null,null,null,null,null,null,null,null,null,null,"no email",{"$error":"#VALUE!"},{"$error":"#VALUE!"},{"$f":"VLOOKUP(K4926,references!$A$1:$B$7,2,FALSE)","v":{"$error":"#N/A"}}]
[null,null,null,null,null,null,null,null,null,null,null,null,"no email",{"$error":"#VALUE!"},{"$error":"#VALUE!"},{"$f":"VLOOKUP(K4927,references!$A$1:$B$7,2,FALSE)","v":{"$error":"#N/A"}}]
[null,null,null,null,null,null,null,null,null,null,null,null,"no email",{"$error":"#VALUE!"},{"$error":"#VALUE!"},{"$f":"VLOOKUP(K4928,references!$A$1:$B$7,2,FALSE)","v":{"$error":"#N/A"}}]
[null,null,null,null,null,null,null,null,null,null,null,null,"no email",{"$error":"#VALUE!"},{"$error":"#VALUE!"},{"$f":"VLOOKUP(K4929,references!$A$1:$B$7,2,FALSE)","v":{"$error":"#N/A"}}]
[null,null,null,null,null,null,null,null,null,null,null,null,{"$f":"IF(L4930=\"\", \"no email\",LOWER(L4930))","v":"no email"},{"$f":"LEFT(A4930, SEARCH(\",\",A4930,1)-1)","v":{"$error":"#VALUE!"}},{"$f":"RIGHT(A4930, LEN(A4930) -SEARCH(\",\",A4930,1)-1)","v":{"$error":"#VALUE!"}},{"$f":"VLOOKUP(K4930,references!$A$1:$B$7,2,FALSE)","v":{"$error":"#N/A"}}]
[null,null,null,null,null,null,null,null,null,null,null,null,"no email",{"$error":"#VALUE!"},{"$error":"#VALUE!"},{"$f":"VLOOKUP(K4931,references!$A$1:$B$7,2,FALSE)","v":{"$error":"#N/A"}}]
[null,null,null,null,null,null,null,null,null,null,null,null,"no email",{"$error":"#VALUE!"},{"$error":"#VALUE!"},{"$f":"VLOOKUP(K4932,references!$A$1:$B$7,2,FALSE)","v":{"$error":"#N/A"}}]
[null,null,null,null,null,null,null,null,null,null,null,null,"no email",{"$error":"#VALUE!"},{"$error":"#VALUE!"},{"$f":"VLOOKUP(K4933,references!$A$1:$B$7,2,FALSE)","v":{"$error":"#N/A"}}]
[null,null,null,null,null,null,null,null,null,null,null,null,"no email",{"$error":"#VALUE!"},{"$error":"#VALUE!"},{"$f":"VLOOKUP(K4934,references!$A$1:$B$7,2,FALSE)","v":{"$error":"#N/A"}}]
[null,null,null,null,null,null,null,null,null,null,null,null,"no email",{"$error":"#VALUE!"},{"$error":"#VALUE!"},{"$f":"VLOOKUP(K4935,references!$A$1:$B$7,2,FALSE)","v":{"$error":"#N/A"}}]
[null,null,null,null,null,null,null,null,null,null,null,null,"no email",{"$error":"#VALUE!"},{"$error":"#VALUE!"},{"$f":"VLOOKUP(K4936,references!$A$1:$B$7,2,FALSE)","v":{"$error":"#N/A"}}]
[null,null,null,null,null,null,null,null,null,null,null,null,"no email",{"$error":"#VALUE!"},{"$error":"#VALUE!"},{"$f":"VLOOKUP(K4937,references!$A$1:$B$7,2,FALSE)","v":{"$error":"#N/A"}}]
[null,null,null,null,null,null,null,null,null,null,null,null,"no email",{"$error":"#VALUE!"},{"$error":"#VALUE!"},{"$f":"VLOOKUP(K4938,references!$A$1:$B$7,2,FALSE)","v":{"$error":"#N/A"}}]
[null,null,null,null,null,null,null,null,null,null,null,null,"no email",{"$error":"#VALUE!"},{"$error":"#VALUE!"},{"$f":"VLOOKUP(K4939,references!$A$1:$B$7,2,FALSE)","v":{"$error":"#N/A"}}]
[null,null,null,null,null,null,null,null,null,null,null,null,"no email",{"$error":"#VALUE!"},{"$error":"#VALUE!"},{"$f":"VLOOKUP(K4940,references!$A$1:$B$7,2,FALSE)","v":{"$error":"#N/A"}}]
[null,null,null,null,null,null,null,null,null,null,null,null,"no email",{"$error":"#VALUE!"},{"$error":"#VALUE!"},{"$f":"VLOOKUP(K4941,references!$A$1:$B$7,2,FALSE)","v":{"$error":"#N/A"}}]
[null,null,null,null,null,null,null,null,null,null,null,null,"no email",{"$error":"#VALUE!"},{"$error":"#VALUE!"},{"$f":"VLOOKUP(K4942,references!$A$1:$B$7,2,FALSE)","v":{"$error":"#N/A"}}]
[null,null,null,null,null,null,null,null,null,null,null,null,"no email",{"$error":"#VALUE!"},{"$error":"#VALUE!"},{"$f":"VLOOKUP(K4943,references!$A$1:$B$7,2,FALSE)","v":{"$error":"#N/A"}}]
[null,null,null,null,null,null,null,null,null,null,null,null,"no email",{"$error":"#VALUE!"},{"$error":"#VALUE!"},{"$f":"VLOOKUP(K4944,references!$A$1:$B$7,2,FALSE)","v":{"$error":"#N/A"}}]
[null,null,null,null,null,null,null,null,null,null,null,null,"no email",{"$error":"#VALUE!"},{"$error":"#VALUE!"},{"$f":"VLOOKUP(K4945,references!$A$1:$B$7,2,FALSE)","v":{"$error":"#N/A"}}]
[null,null,null,null,null,null,null,null,null,null,null,null,"no email",{"$error":"#VALUE!"},{"$error":"#VALUE!"},{"$f":"VLOOKUP(K4946,references!$A$1:$B$7,2,FALSE)","v":{"$error":"#N/A"}}]
[null,null,null,null,null,null,null,null,null,null,null,null,"no email",{"$error":"#VALUE!"},{"$error":"#VALUE!"},{"$f":"VLOOKUP(K4947,references!$A$1:$B$7,2,FALSE)","v":{"$error":"#N/A"}}]
[null,null,null,null,null,null,null,null,null,null,null,null,"no email",{"$error":"#VALUE!"},{"$error":"#VALUE!"},{"$f":"VLOOKUP(K4948,references!$A$1:$B$7,2,FALSE)","v":{"$error":"#N/A"}}]
[null,null,null,null,null,null,null,null,null,null,null,null,"no email",{"$error":"#VALUE!"},{"$error":"#VALUE!"},{"$f":"VLOOKUP(K4949,references!$A$1:$B$7,2,FALSE)","v":{"$error":"#N/A"}}]
[null,null,null,null,null,null,null,null,null,null,null,null,"no email",{"$error":"#VALUE!"},{"$error":"#VALUE!"},{"$f":"VLOOKUP(K4950,references!$A$1:$B$7,2,FALSE)","v":{"$error":"#N/A"}}]
[null,null,null,null,null,null,null,null,null,null,null,null,"no email",{"$error":"#VALUE!"},{"$error":"#VALUE!"},{"$f":"VLOOKUP(K4951,references!$A$1:$B$7,2,FALSE)","v":{"$error":"#N/A"}}]
[null,null,null,null,null,null,null,null,null,null,null,null,"no email",{"$error":"#VALUE!"},{"$error":"#VALUE!"},{"$f":"VLOOKUP(K4952,references!$A$1:$B$7,2,FALSE)","v":{"$error":"#N/A"}}]
[null,null,null,null,null,null,null,null,null,null,null,null,"no email",{"$error":"#VALUE!"},{"$error":"#VALUE!"},{"$f":"VLOOKUP(K4953,references!$A$1:$B$7,2,FALSE)","v":{"$error":"#N/A"}}]
[null,null,null,null,null,null,null,null,null,null,null,null,"no email",{"$error":"#VALUE!"},{"$error":"#VALUE!"},{"$f":"VLOOKUP(K4954,references!$A$1:$B$7,2,FALSE)","v":{"$error":"#N/A"}}]
[null,null,null,null,null,null,null,null,null,null,null,null,"no email",{"$error":"#VALUE!"},{"$error":"#VALUE!"},{"$f":"VLOOKUP(K4955,references!$A$1:$B$7,2,FALSE)","v":{"$error":"#N/A"}}]
[null,null,null,null,null,null,null,null,null,null,null,null,"no email",{"$error":"#VALUE!"},{"$error":"#VALUE!"},{"$f":"VLOOKUP(K4956,references!$A$1:$B$7,2,FALSE)","v":{"$error":"#N/A"}}]
[null,null,null,null,null,null,null,null,null,null,null,null,"no email",{"$error":"#VALUE!"},{"$error":"#VALUE!"},{"$f":"VLOOKUP(K4957,references!$A$1:$B$7,2,FALSE)","v":{"$error":"#N/A"}}]
[null,null,null,null,null,null,null,null,null,null,null,null,"no email",{"$error":"#VALUE!"},{"$error":"#VALUE!"},{"$f":"VLOOKUP(K4958,references!$A$1:$B$7,2,FALSE)","v":{"$error":"#N/A"}}]
[null,null,null,null,null,null,null,null,null,null,null,null,"no email",{"$error":"#VALUE!"},{"$error":"#VALUE!"},{"$f":"VLOOKUP(K4959,references!$A$1:$B$7,2,FALSE)","v":{"$error":"#N/A"}}]
[null,null,null,null,null,null,null,null,null,null,null,null,"no email",{"$error":"#VALUE!"},{"$error":"#VALUE!"},{"$f":"VLOOKUP(K4960,references!$A$1:$B$7,2,FALSE)","v":{"$error":"#N/A"}}]
[null,null,null,null,null,null,null,null,null,null,null,null,"no email",{"$error":"#VALUE!"},{"$error":"#VALUE!"},{"$f":"VLOOKUP(K4961,references!$A$1:$B$7,2,FALSE)","v":{"$error":"#N/A"}}]
[null,null,null,null,null,null,null,null,null,null,null,null,"no email",{"$error":"#VALUE!"},{"$error":"#VALUE!"},{"$f":"VLOOKUP(K4962,references!$A$1:$B$7,2,FALSE)","v":{"$error":"#N/A"}}]
[null,null,null,null,null,null,null,null,null,null,null,null,"no email",{"$error":"#VALUE!"},{"$error":"#VALUE!"},{"$f":"VLOOKUP(K4963,references!$A$1:$B$7,2,FALSE)","v":{"$error":"#N/A"}}]
[null,null,null,null,null,null,null,null,null,null,null,null,"no email",{"$error":"#VALUE!"},{"$error":"#VALUE!"},{"$f":"VLOOKUP(K4964,references!$A$1:$B$7,2,FALSE)","v":{"$error":"#N/A"}}]
[null,null,null,null,null,null,null,null,null,null,null,null,"no email",{"$error":"#VALUE!"},{"$error":"#VALUE!"},{"$f":"VLOOKUP(K4965,references!$A$1:$B$7,2,FALSE)","v":{"$error":"#N/A"}}]
[null,null,null,null,null,null,null,null,null,null,null,null,"no email",{"$error":"#VALUE!"},{"$error":"#VALUE!"},{"$f":"VLOOKUP(K4966,references!$A$1:$B$7,2,FALSE)","v":{"$error":"#N/A"}}]
[null,null,null,null,null,null,null,null,null,null,null,null,"no email",{"$error":"#VALUE!"},{"$error":"#VALUE!"},{"$f":"VLOOKUP(K4967,references!$A$1:$B$7,2,FALSE)","v":{"$error":"#N/A"}}]
[null,null,null,null,null,null,null,null,null,null,null,null,"no email",{"$error":"#VALUE!"},{"$error":"#VALUE!"},{"$f":"VLOOKUP(K4968,references!$A$1:$B$7,2,FALSE)","v":{"$error":"#N/A"}}]
[null,null,null,null,null,null,null,null,null,null,null,null,"no email",{"$error":"#VALUE!"},{"$error":"#VALUE!"},{"$f":"VLOOKUP(K4969,references!$A$1:$B$7,2,FALSE)","v":{"$error":"#N/A"}}]
[null,null,null,null,null,null,null,null,null,null,null,null,"no email",{"$error":"#VALUE!"},{"$error":"#VALUE!"},{"$f":"VLOOKUP(K4970,references!$A$1:$B$7,2,FALSE)","v":{"$error":"#N/A"}}]
[null,null,null,null,null,null,null,null,null,null,null,null,"no email",{"$error":"#VALUE!"},{"$error":"#VALUE!"},{"$f":"VLOOKUP(K4971,references!$A$1:$B$7,2,FALSE)","v":{"$error":"#N/A"}}]
[null,null,null,null,null,null,null,null,null,null,null,null,"no email",{"$error":"#VALUE!"},{"$error":"#VALUE!"},{"$f":"VLOOKUP(K4972,references!$A$1:$B$7,2,FALSE)","v":{"$error":"#N/A"}}]
[null,null,null,null,null,null,null,null,null,null,null,null,"no email",{"$error":"#VALUE!"},{"$error":"#VALUE!"},{"$f":"VLOOKUP(K4973,references!$A$1:$B$7,2,FALSE)","v":{"$error":"#N/A"}}]
[null,null,null,null,null,null,null,null,null,null,null,null,"no email",{"$error":"#VALUE!"},{"$error":"#VALUE!"},{"$f":"VLOOKUP(K4974,references!$A$1:$B$7,2,FALSE)","v":{"$error":"#N/A"}}]
[null,null,null,null,null,null,null,null,null,null,null,null,"no email",{"$error":"#VALUE!"},{"$error":"#VALUE!"},{"$f":"VLOOKUP(K4975,references!$A$1:$B$7,2,FALSE)","v":{"$error":"#N/A"}}]
[null,null,null,null,null,null,null,null,null,null,null,null,"no email",{"$error":"#VALUE!"},{"$error":"#VALUE!"},{"$f":"VLOOKUP(K4976,references!$A$1:$B$7,2,FALSE)","v":{"$error":"#N/A"}}]
[null,null,null,null,null,null,null,null,null,null,null,null,"no email",{"$error":"#VALUE!"},{"$error":"#VALUE!"},{"$f":"VLOOKUP(K4977,references!$A$1:$B$7,2,FALSE)","v":{"$error":"#N/A"}}]
[null,null,null,null,null,null,null,null,null,null,null,null,"no email",{"$error":"#VALUE!"},{"$error":"#VALUE!"},{"$f":"VLOOKUP(K4978,references!$A$1:$B$7,2,FALSE)","v":{"$error":"#N/A"}}]
[null,null,null,null,null,null,null,null,null,null,null,null,"no email",{"$error":"#VALUE!"},{"$error":"#VALUE!"},{"$f":"VLOOKUP(K4979,references!$A$1:$B$7,2,FALSE)","v":{"$error":"#N/A"}}]
[null,null,null,null,null,null,null,null,null,null,null,null,"no email",{"$error":"#VALUE!"},{"$error":"#VALUE!"},{"$f":"VLOOKUP(K4980,references!$A$1:$B$7,2,FALSE)","v":{"$error":"#N/A"}}]
[null,null,null,null,null,null,null,null,null,null,null,null,"no email",{"$error":"#VALUE!"},{"$error":"#VALUE!"},{"$f":"VLOOKUP(K4981,references!$A$1:$B$7,2,FALSE)","v":{"$error":"#N/A"}}]
[null,null,null,null,null,null,null,null,null,null,null,null,"no email",{"$error":"#VALUE!"},{"$error":"#VALUE!"},{"$f":"VLOOKUP(K4982,references!$A$1:$B$7,2,FALSE)","v":{"$error":"#N/A"}}]
[null,null,null,null,null,null,null,null,null,null,null,null,"no email",{"$error":"#VALUE!"},{"$error":"#VALUE!"},{"$f":"VLOOKUP(K4983,references!$A$1:$B$7,2,FALSE)","v":{"$error":"#N/A"}}]
[null,null,null,null,null,null,null,null,null,null,null,null,"no email",{"$error":"#VALUE!"},{"$error":"#VALUE!"},{"$f":"VLOOKUP(K4984,references!$A$1:$B$7,2,FALSE)","v":{"$error":"#N/A"}}]
[null,null,null,null,null,null,null,null,null,null,null,null,"no email",{"$error":"#VALUE!"},{"$error":"#VALUE!"},{"$f":"VLOOKUP(K4985,references!$A$1:$B$7,2,FALSE)","v":{"$error":"#N/A"}}]
[null,null,null,null,null,null,null,null,null,null,null,null,"no email",{"$error":"#VALUE!"},{"$error":"#VALUE!"},{"$f":"VLOOKUP(K4986,references!$A$1:$B$7,2,FALSE)","v":{"$error":"#N/A"}}]
[null,null,null,null,null,null,null,null,null,null,null,null,"no email",{"$error":"#VALUE!"},{"$error":"#VALUE!"},{"$f":"VLOOKUP(K4987,references!$A$1:$B$7,2,FALSE)","v":{"$error":"#N/A"}}]
[null,null,null,null,null,null,null,null,null,null,null,null,"no email",{"$error":"#VALUE!"},{"$error":"#VALUE!"},{"$f":"VLOOKUP(K4988,references!$A$1:$B$7,2,FALSE)","v":{"$error":"#N/A"}}]
[null,null,null,null,null,null,null,null,null,null,null,null,"no email",{"$error":"#VALUE!"},{"$error":"#VALUE!"},{"$f":"VLOOKUP(K4989,references!$A$1:$B$7,2,FALSE)","v":{"$error":"#N/A"}}]
[null,null,null,null,null,null,null,null,null,null,null,null,"no email",{"$error":"#VALUE!"},{"$error":"#VALUE!"},{"$f":"VLOOKUP(K4990,references!$A$1:$B$7,2,FALSE)","v":{"$error":"#N/A"}}]
[null,null,null,null,null,null,null,null,null,null,null,null,"no email",{"$error":"#VALUE!"},{"$error":"#VALUE!"},{"$f":"VLOOKUP(K4991,references!$A$1:$B$7,2,FALSE)","v":{"$error":"#N/A"}}]
[null,null,null,null,null,null,null,null,null,null,null,null,"no email",{"$error":"#VALUE!"},{"$error":"#VALUE!"},{"$f":"VLOOKUP(K4992,references!$A$1:$B$7,2,FALSE)","v":{"$error":"#N/A"}}]
[null,null,null,null,null,null,null,null,null,null,null,null,"no email",{"$error":"#VALUE!"},{"$error":"#VALUE!"},{"$f":"VLOOKUP(K4993,references!$A$1:$B$7,2,FALSE)","v":{"$error":"#N/A"}}]
[null,null,null,null,null,null,null,null,null,null,null,null,{"$f":"IF(L4994=\"\", \"no email\",LOWER(L4994))","v":"no email"},{"$f":"LEFT(A4994, SEARCH(\",\",A4994,1)-1)","v":{"$error":"#VALUE!"}},{"$f":"RIGHT(A4994, LEN(A4994) -SEARCH(\",\",A4994,1)-1)","v":{"$error":"#VALUE!"}},{"$f":"VLOOKUP(K4994,references!$A$1:$B$7,2,FALSE)","v":{"$error":"#N/A"}}]
[null,null,null,null,null,null,null,null,null,null,null,null,"no email",{"$error":"#VALUE!"},{"$error":"#VALUE!"},{"$f":"VLOOKUP(K4995,references!$A$1:$B$7,2,FALSE)","v":{"$error":"#N/A"}}]
[null,null,null,null,null,null,null,null,null,null,null,null,"no email",{"$error":"#VALUE!"},{"$error":"#VALUE!"},{"$f":"VLOOKUP(K4996,references!$A$1:$B$7,2,FALSE)","v":{"$error":"#N/A"}}]
[null,null,null,null,null,null,null,null,null,null,null,null,"no email",{"$error":"#VALUE!"},{"$error":"#VALUE!"},{"$f":"VLOOKUP(K4997,references!$A$1:$B$7,2,FALSE)","v":{"$error":"#N/A"}}]
[null,null,null,null,null,null,null,null,null,null,null,null,"no email",{"$error":"#VALUE!"},{"$error":"#VALUE!"},{"$f":"VLOOKUP(K4998,references!$A$1:$B$7,2,FALSE)","v":{"$error":"#N/A"}}]
[null,null,null,null,null,null,null,null,null,null,null,null,"no email",{"$error":"#VALUE!"},{"$error":"#VALUE!"},{"$f":"VLOOKUP(K4999,references!$A$1:$B$7,2,FALSE)","v":{"$error":"#N/A"}}]
[null,null,null,null,null,null,null,null,null,null,null,null,"no email",{"$error":"#VALUE!"},{"$error":"#VALUE!"},{"$f":"VLOOKUP(K5000,references!$A$1:$B$7,2,FALSE)","v":{"$error":"#N/A"}}]
[null,null,null,null,null,null,null,null,null,null,null,null,"no email",{"$error":"#VALUE!"},{"$error":"#VALUE!"},{"$f":"VLOOKUP(K5001,references!$A$1:$B$7,2,FALSE)","v":{"$error":"#N/A"}}]
[null,null,null,null,null,null,null,null,null,null,null,null,"no email",{"$error":"#VALUE!"},{"$error":"#VALUE!"},{"$f":"VLOOKUP(K5002,references!$A$1:$B$7,2,FALSE)","v":{"$error":"#N/A"}}]
[null,null,null,null,null,null,null,null,null,null,null,null,"no email",{"$error":"#VALUE!"},{"$error":"#VALUE!"},{"$f":"VLOOKUP(K5003,references!$A$1:$B$7,2,FALSE)","v":{"$error":"#N/A"}}]
[null,null,null,null,null,null,null,null,null,null,null,null,"no email",{"$error":"#VALUE!"},{"$error":"#VALUE!"},{"$f":"VLOOKUP(K5004,references!$A$1:$B$7,2,FALSE)","v":{"$error":"#N/A"}}]
[null,null,null,null,null,null,null,null,null,null,null,null,"no email",{"$error":"#VALUE!"},{"$error":"#VALUE!"},{"$f":"VLOOKUP(K5005,references!$A$1:$B$7,2,FALSE)","v":{"$error":"#N/A"}}]
[null,null,null,null,null,null,null,null,null,null,null,null,"no email",{"$error":"#VALUE!"},{"$error":"#VALUE!"},{"$f":"VLOOKUP(K5006,references!$A$1:$B$7,2,FALSE)","v":{"$error":"#N/A"}}]
[null,null,null,null,null,null,null,null,null,null,null,null,"no email",{"$error":"#VALUE!"},{"$error":"#VALUE!"},{"$f":"VLOOKUP(K5007,references!$A$1:$B$7,2,FALSE)","v":{"$error":"#N/A"}}]
[null,null,null,null,null,null,null,null,null,null,null,null,"no email",{"$error":"#VALUE!"},{"$error":"#VALUE!"},{"$f":"VLOOKUP(K5008,references!$A$1:$B$7,2,FALSE)","v":{"$error":"#N/A"}}]
[null,null,null,null,null,null,null,null,null,null,null,null,"no email",{"$error":"#VALUE!"},{"$error":"#VALUE!"},{"$f":"VLOOKUP(K5009,references!$A$1:$B$7,2,FALSE)","v":{"$error":"#N/A"}}]
[null,null,null,null,null,null,null,null,null,null,null,null,"no email",{"$error":"#VALUE!"},{"$error":"#VALUE!"},{"$f":"VLOOKUP(K5010,references!$A$1:$B$7,2,FALSE)","v":{"$error":"#N/A"}}]
[null,null,null,null,null,null,null,null,null,null,null,null,"no email",{"$error":"#VALUE!"},{"$error":"#VALUE!"},{"$f":"VLOOKUP(K5011,references!$A$1:$B$7,2,FALSE)","v":{"$error":"#N/A"}}]
[null,null,null,null,null,null,null,null,null,null,null,null,"no email",{"$error":"#VALUE!"},{"$error":"#VALUE!"},{"$f":"VLOOKUP(K5012,references!$A$1:$B$7,2,FALSE)","v":{"$error":"#N/A"}}]
[null,null,null,null,null,null,null,null,null,null,null,null,"no email",{"$error":"#VALUE!"},{"$error":"#VALUE!"},{"$f":"VLOOKUP(K5013,references!$A$1:$B$7,2,FALSE)","v":{"$error":"#N/A"}}]
[null,null,null,null,null,null,null,null,null,null,null,null,"no email",{"$error":"#VALUE!"},{"$error":"#VALUE!"},{"$f":"VLOOKUP(K5014,references!$A$1:$B$7,2,FALSE)","v":{"$error":"#N/A"}}]
[null,null,null,null,null,null,null,null,null,null,null,null,"no email",{"$error":"#VALUE!"},{"$error":"#VALUE!"},{"$f":"VLOOKUP(K5015,references!$A$1:$B$7,2,FALSE)","v":{"$error":"#N/A"}}]
[null,null,null,null,null,null,null,null,null,null,null,null,"no email",{"$error":"#VALUE!"},{"$error":"#VALUE!"},{"$f":"VLOOKUP(K5016,references!$A$1:$B$7,2,FALSE)","v":{"$error":"#N/A"}}]
[null,null,null,null,null,null,null,null,null,null,null,null,"no email",{"$error":"#VALUE!"},{"$error":"#VALUE!"},{"$f":"VLOOKUP(K5017,references!$A$1:$B$7,2,FALSE)","v":{"$error":"#N/A"}}]
[null,null,null,null,null,null,null,null,null,null,null,null,"no email",{"$error":"#VALUE!"},{"$error":"#VALUE!"},{"$f":"VLOOKUP(K5018,references!$A$1:$B$7,2,FALSE)","v":{"$error":"#N/A"}}]
[null,null,null,null,null,null,null,null,null,null,null,null,"no email",{"$error":"#VALUE!"},{"$error":"#VALUE!"},{"$f":"VLOOKUP(K5019,references!$A$1:$B$7,2,FALSE)","v":{"$error":"#N/A"}}]
[null,null,null,null,null,null,null,null,null,null,null,null,"no email",{"$error":"#VALUE!"},{"$error":"#VALUE!"},{"$f":"VLOOKUP(K5020,references!$A$1:$B$7,2,FALSE)","v":{"$error":"#N/A"}}]
[null,null,null,null,null,null,null,null,null,null,null,null,"no email",{"$error":"#VALUE!"},{"$error":"#VALUE!"},{"$f":"VLOOKUP(K5021,references!$A$1:$B$7,2,FALSE)","v":{"$error":"#N/A"}}]
[null,null,null,null,null,null,null,null,null,null,null,null,"no email",{"$error":"#VALUE!"},{"$error":"#VALUE!"},{"$f":"VLOOKUP(K5022,references!$A$1:$B$7,2,FALSE)","v":{"$error":"#N/A"}}]
[null,null,null,null,null,null,null,null,null,null,null,null,"no email",{"$error":"#VALUE!"},{"$error":"#VALUE!"},{"$f":"VLOOKUP(K5023,references!$A$1:$B$7,2,FALSE)","v":{"$error":"#N/A"}}]
[null,null,null,null,null,null,null,null,null,null,null,null,"no email",{"$error":"#VALUE!"},{"$error":"#VALUE!"},{"$f":"VLOOKUP(K5024,references!$A$1:$B$7,2,FALSE)","v":{"$error":"#N/A"}}]
[null,null,null,null,null,null,null,null,null,null,null,null,"no email",{"$error":"#VALUE!"},{"$error":"#VALUE!"},{"$f":"VLOOKUP(K5025,references!$A$1:$B$7,2,FALSE)","v":{"$error":"#N/A"}}]
[null,null,null,null,null,null,null,null,null,null,null,null,"no email",{"$error":"#VALUE!"},{"$error":"#VALUE!"},{"$f":"VLOOKUP(K5026,references!$A$1:$B$7,2,FALSE)","v":{"$error":"#N/A"}}]
[null,null,null,null,null,null,null,null,null,null,null,null,"no email",{"$error":"#VALUE!"},{"$error":"#VALUE!"},{"$f":"VLOOKUP(K5027,references!$A$1:$B$7,2,FALSE)","v":{"$error":"#N/A"}}]
[null,null,null,null,null,null,null,null,null,null,null,null,"no email",{"$error":"#VALUE!"},{"$error":"#VALUE!"},{"$f":"VLOOKUP(K5028,references!$A$1:$B$7,2,FALSE)","v":{"$error":"#N/A"}}]
[null,null,null,null,null,null,null,null,null,null,null,null,"no email",{"$error":"#VALUE!"},{"$error":"#VALUE!"},{"$f":"VLOOKUP(K5029,references!$A$1:$B$7,2,FALSE)","v":{"$error":"#N/A"}}]
[null,null,null,null,null,null,null,null,null,null,null,null,"no email",{"$error":"#VALUE!"},{"$error":"#VALUE!"},{"$f":"VLOOKUP(K5030,references!$A$1:$B$7,2,FALSE)","v":{"$error":"#N/A"}}]
[null,null,null,null,null,null,null,null,null,null,null,null,"no email",{"$error":"#VALUE!"},{"$error":"#VALUE!"},{"$f":"VLOOKUP(K5031,references!$A$1:$B$7,2,FALSE)","v":{"$error":"#N/A"}}]
[null,null,null,null,null,null,null,null,null,null,null,null,"no email",{"$error":"#VALUE!"},{"$error":"#VALUE!"},{"$f":"VLOOKUP(K5032,references!$A$1:$B$7,2,FALSE)","v":{"$error":"#N/A"}}]
[null,null,null,null,null,null,null,null,null,null,null,null,"no email",{"$error":"#VALUE!"},{"$error":"#VALUE!"},{"$f":"VLOOKUP(K5033,references!$A$1:$B$7,2,FALSE)","v":{"$error":"#N/A"}}]
[null,null,null,null,null,null,null,null,null,null,null,null,"no email",{"$error":"#VALUE!"},{"$error":"#VALUE!"},{"$f":"VLOOKUP(K5034,references!$A$1:$B$7,2,FALSE)","v":{"$error":"#N/A"}}]
[null,null,null,null,null,null,null,null,null,null,null,null,"no email",{"$error":"#VALUE!"},{"$error":"#VALUE!"},{"$f":"VLOOKUP(K5035,references!$A$1:$B$7,2,FALSE)","v":{"$error":"#N/A"}}]
[null,null,null,null,null,null,null,null,null,null,null,null,"no email",{"$error":"#VALUE!"},{"$error":"#VALUE!"},{"$f":"VLOOKUP(K5036,references!$A$1:$B$7,2,FALSE)","v":{"$error":"#N/A"}}]
[null,null,null,null,null,null,null,null,null,null,null,null,"no email",{"$error":"#VALUE!"},{"$error":"#VALUE!"},{"$f":"VLOOKUP(K5037,references!$A$1:$B$7,2,FALSE)","v":{"$error":"#N/A"}}]
[null,null,null,null,null,null,null,null,null,null,null,null,"no email",{"$error":"#VALUE!"},{"$error":"#VALUE!"},{"$f":"VLOOKUP(K5038,references!$A$1:$B$7,2,FALSE)","v":{"$error":"#N/A"}}]
[null,null,null,null,null,null,null,null,null,null,null,null,"no email",{"$error":"#VALUE!"},{"$error":"#VALUE!"},{"$f":"VLOOKUP(K5039,references!$A$1:$B$7,2,FALSE)","v":{"$error":"#N/A"}}]
[null,null,null,null,null,null,null,null,null,null,null,null,"no email",{"$error":"#VALUE!"},{"$error":"#VALUE!"},{"$f":"VLOOKUP(K5040,references!$A$1:$B$7,2,FALSE)","v":{"$error":"#N/A"}}]
[null,null,null,null,null,null,null,null,null,null,null,null,"no email",{"$error":"#VALUE!"},{"$error":"#VALUE!"},{"$f":"VLOOKUP(K5041,references!$A$1:$B$7,2,FALSE)","v":{"$error":"#N/A"}}]
[null,null,null,null,null,null,null,null,null,null,null,null,"no email",{"$error":"#VALUE!"},{"$error":"#VALUE!"},{"$f":"VLOOKUP(K5042,references!$A$1:$B$7,2,FALSE)","v":{"$error":"#N/A"}}]
[null,null,null,null,null,null,null,null,null,null,null,null,"no email",{"$error":"#VALUE!"},{"$error":"#VALUE!"},{"$f":"VLOOKUP(K5043,references!$A$1:$B$7,2,FALSE)","v":{"$error":"#N/A"}}]
[null,null,null,null,null,null,null,null,null,null,null,null,"no email",{"$error":"#VALUE!"},{"$error":"#VALUE!"},{"$f":"VLOOKUP(K5044,references!$A$1:$B$7,2,FALSE)","v":{"$error":"#N/A"}}]
[null,null,null,null,null,null,null,null,null,null,null,null,"no email",{"$error":"#VALUE!"},{"$error":"#VALUE!"},{"$f":"VLOOKUP(K5045,references!$A$1:$B$7,2,FALSE)","v":{"$error":"#N/A"}}]
[null,null,null,null,null,null,null,null,null,null,null,null,"no email",{"$error":"#VALUE!"},{"$error":"#VALUE!"},{"$f":"VLOOKUP(K5046,references!$A$1:$B$7,2,FALSE)","v":{"$error":"#N/A"}}]
[null,null,null,null,null,null,null,null,null,null,null,null,"no email",{"$error":"#VALUE!"},{"$error":"#VALUE!"},{"$f":"VLOOKUP(K5047,references!$A$1:$B$7,2,FALSE)","v":{"$error":"#N/A"}}]
[null,null,null,null,null,null,null,null,null,null,null,null,"no email",{"$error":"#VALUE!"},{"$error":"#VALUE!"},{"$f":"VLOOKUP(K5048,references!$A$1:$B$7,2,FALSE)","v":{"$error":"#N/A"}}]
[null,null,null,null,null,null,null,null,null,null,null,null,"no email",{"$error":"#VALUE!"},{"$error":"#VALUE!"},{"$f":"VLOOKUP(K5049,references!$A$1:$B$7,2,FALSE)","v":{"$error":"#N/A"}}]
[null,null,null,null,null,null,null,null,null,null,null,null,"no email",{"$error":"#VALUE!"},{"$error":"#VALUE!"},{"$f":"VLOOKUP(K5050,references!$A$1:$B$7,2,FALSE)","v":{"$error":"#N/A"}}]
[null,null,null,null,null,null,null,null,null,null,null,null,"no email",{"$error":"#VALUE!"},{"$error":"#VALUE!"},{"$f":"VLOOKUP(K5051,references!$A$1:$B$7,2,FALSE)","v":{"$error":"#N/A"}}]
[null,null,null,null,null,null,null,null,null,null,null,null,"no email",{"$error":"#VALUE!"},{"$error":"#VALUE!"},{"$f":"VLOOKUP(K5052,references!$A$1:$B$7,2,FALSE)","v":{"$error":"#N/A"}}]
[null,null,null,null,null,null,null,null,null,null,null,null,"no email",{"$error":"#VALUE!"},{"$error":"#VALUE!"},{"$f":"VLOOKUP(K5053,references!$A$1:$B$7,2,FALSE)","v":{"$error":"#N/A"}}]
[null,null,null,null,null,null,null,null,null,null,null,null,"no email",{"$error":"#VALUE!"},{"$error":"#VALUE!"},{"$f":"VLOOKUP(K5054,references!$A$1:$B$7,2,FALSE)","v":{"$error":"#N/A"}}]
[null,null,null,null,null,null,null,null,null,null,null,null,"no email",{"$error":"#VALUE!"},{"$error":"#VALUE!"},{"$f":"VLOOKUP(K5055,references!$A$1:$B$7,2,FALSE)","v":{"$error":"#N/A"}}]
[null,null,null,null,null,null,null,null,null,null,null,null,"no email",{"$error":"#VALUE!"},{"$error":"#VALUE!"},{"$f":"VLOOKUP(K5056,references!$A$1:$B$7,2,FALSE)","v":{"$error":"#N/A"}}]
[null,null,null,null,null,null,null,null,null,null,null,null,"no email",{"$error":"#VALUE!"},{"$error":"#VALUE!"},{"$f":"VLOOKUP(K5057,references!$A$1:$B$7,2,FALSE)","v":{"$error":"#N/A"}}]
[null,null,null,null,null,null,null,null,null,null,null,null,{"$f":"IF(L5058=\"\", \"no email\",LOWER(L5058))","v":"no email"},{"$f":"LEFT(A5058, SEARCH(\",\",A5058,1)-1)","v":{"$error":"#VALUE!"}},{"$f":"RIGHT(A5058, LEN(A5058) -SEARCH(\",\",A5058,1)-1)","v":{"$error":"#VALUE!"}},{"$f":"VLOOKUP(K5058,references!$A$1:$B$7,2,FALSE)","v":{"$error":"#N/A"}}]
[null,null,null,null,null,null,null,null,null,null,null,null,"no email",{"$error":"#VALUE!"},{"$error":"#VALUE!"},{"$f":"VLOOKUP(K5059,references!$A$1:$B$7,2,FALSE)","v":{"$error":"#N/A"}}]
[null,null,null,null,null,null,null,null,null,null,null,null,"no email",{"$error":"#VALUE!"},{"$error":"#VALUE!"},{"$f":"VLOOKUP(K5060,references!$A$1:$B$7,2,FALSE)","v":{"$error":"#N/A"}}]
[null,null,null,null,null,null,null,null,null,null,null,null,"no email",{"$error":"#VALUE!"},{"$error":"#VALUE!"},{"$f":"VLOOKUP(K5061,references!$A$1:$B$7,2,FALSE)","v":{"$error":"#N/A"}}]
[null,null,null,null,null,null,null,null,null,null,null,null,"no email",{"$error":"#VALUE!"},{"$error":"#VALUE!"},{"$f":"VLOOKUP(K5062,references!$A$1:$B$7,2,FALSE)","v":{"$error":"#N/A"}}]
[null,null,null,null,null,null,null,null,null,null,null,null,"no email",{"$error":"#VALUE!"},{"$error":"#VALUE!"},{"$f":"VLOOKUP(K5063,references!$A$1:$B$7,2,FALSE)","v":{"$error":"#N/A"}}]
[null,null,null,null,null,null,null,null,null,null,null,null,"no email",{"$error":"#VALUE!"},{"$error":"#VALUE!"},{"$f":"VLOOKUP(K5064,references!$A$1:$B$7,2,FALSE)","v":{"$error":"#N/A"}}]
[null,null,null,null,null,null,null,null,null,null,null,null,"no email",{"$error":"#VALUE!"},{"$error":"#VALUE!"},{"$f":"VLOOKUP(K5065,references!$A$1:$B$7,2,FALSE)","v":{"$error":"#N/A"}}]
[null,null,null,null,null,null,null,null,null,null,null,null,"no email",{"$error":"#VALUE!"},{"$error":"#VALUE!"},{"$f":"VLOOKUP(K5066,references!$A$1:$B$7,2,FALSE)","v":{"$error":"#N/A"}}]
[null,null,null,null,null,null,null,null,null,null,null,null,"no email",{"$error":"#VALUE!"},{"$error":"#VALUE!"},{"$f":"VLOOKUP(K5067,references!$A$1:$B$7,2,FALSE)","v":{"$error":"#N/A"}}]
[null,null,null,null,null,null,null,null,null,null,null,null,"no email",{"$error":"#VALUE!"},{"$error":"#VALUE!"},{"$f":"VLOOKUP(K5068,references!$A$1:$B$7,2,FALSE)","v":{"$error":"#N/A"}}]
[null,null,null,null,null,null,null,null,null,null,null,null,"no email",{"$error":"#VALUE!"},{"$error":"#VALUE!"},{"$f":"VLOOKUP(K5069,references!$A$1:$B$7,2,FALSE)","v":{"$error":"#N/A"}}]
[null,null,null,null,null,null,null,null,null,null,null,null,"no email",{"$error":"#VALUE!"},{"$error":"#VALUE!"},{"$f":"VLOOKUP(K5070,references!$A$1:$B$7,2,FALSE)","v":{"$error":"#N/A"}}]
[null,null,null,null,null,null,null,null,null,null,null,null,"no email",{"$error":"#VALUE!"},{"$error":"#VALUE!"},{"$f":"VLOOKUP(K5071,references!$A$1:$B$7,2,FALSE)","v":{"$error":"#N/A"}}]
[null,null,null,null,null,null,null,null,null,null,null,null,"no email",{"$error":"#VALUE!"},{"$error":"#VALUE!"},{"$f":"VLOOKUP(K5072,references!$A$1:$B$7,2,FALSE)","v":{"$error":"#N/A"}}]
[null,null,null,null,null,null,null,null,null,null,null,null,"no email",{"$error":"#VALUE!"},{"$error":"#VALUE!"},{"$f":"VLOOKUP(K5073,references!$A$1:$B$7,2,FALSE)","v":{"$error":"#N/A"}}]
[null,null,null,null,null,null,null,null,null,null,null,null,"no email",{"$error":"#VALUE!"},{"$error":"#VALUE!"},{"$f":"VLOOKUP(K5074,references!$A$1:$B$7,2,FALSE)","v":{"$error":"#N/A"}}]
[null,null,null,null,null,null,null,null,null,null,null,null,"no email",{"$error":"#VALUE!"},{"$error":"#VALUE!"},{"$f":"VLOOKUP(K5075,references!$A$1:$B$7,2,FALSE)","v":{"$error":"#N/A"}}]
[null,null,null,null,null,null,null,null,null,null,null,null,"no email",{"$error":"#VALUE!"},{"$error":"#VALUE!"},{"$f":"VLOOKUP(K5076,references!$A$1:$B$7,2,FALSE)","v":{"$error":"#N/A"}}]
[null,null,null,null,null,null,null,null,null,null,null,null,"no email",{"$error":"#VALUE!"},{"$error":"#VALUE!"},{"$f":"VLOOKUP(K5077,references!$A$1:$B$7,2,FALSE)","v":{"$error":"#N/A"}}]
[null,null,null,null,null,null,null,null,null,null,null,null,"no email",{"$error":"#VALUE!"},{"$error":"#VALUE!"},{"$f":"VLOOKUP(K5078,references!$A$1:$B$7,2,FALSE)","v":{"$error":"#N/A"}}]
[null,null,null,null,null,null,null,null,null,null,null,null,"no email",{"$error":"#VALUE!"},{"$error":"#VALUE!"},{"$f":"VLOOKUP(K5079,references!$A$1:$B$7,2,FALSE)","v":{"$error":"#N/A"}}]
[null,null,null,null,null,null,null,null,null,null,null,null,"no email",{"$error":"#VALUE!"},{"$error":"#VALUE!"},{"$f":"VLOOKUP(K5080,references!$A$1:$B$7,2,FALSE)","v":{"$error":"#N/A"}}]
[null,null,null,null,null,null,null,null,null,null,null,null,"no email",{"$error":"#VALUE!"},{"$error":"#VALUE!"},{"$f":"VLOOKUP(K5081,references!$A$1:$B$7,2,FALSE)","v":{"$error":"#N/A"}}]
[null,null,null,null,null,null,null,null,null,null,null,null,"no email",{"$error":"#VALUE!"},{"$error":"#VALUE!"},{"$f":"VLOOKUP(K5082,references!$A$1:$B$7,2,FALSE)","v":{"$error":"#N/A"}}]
[null,null,null,null,null,null,null,null,null,null,null,null,"no email",{"$error":"#VALUE!"},{"$error":"#VALUE!"},{"$f":"VLOOKUP(K5083,references!$A$1:$B$7,2,FALSE)","v":{"$error":"#N/A"}}]
[null,null,null,null,null,null,null,null,null,null,null,null,"no email",{"$error":"#VALUE!"},{"$error":"#VALUE!"},{"$f":"VLOOKUP(K5084,references!$A$1:$B$7,2,FALSE)","v":{"$error":"#N/A"}}]
[null,null,null,null,null,null,null,null,null,null,null,null,"no email",{"$error":"#VALUE!"},{"$error":"#VALUE!"},{"$f":"VLOOKUP(K5085,references!$A$1:$B$7,2,FALSE)","v":{"$error":"#N/A"}}]
[null,null,null,null,null,null,null,null,null,null,null,null,"no email",{"$error":"#VALUE!"},{"$error":"#VALUE!"},{"$f":"VLOOKUP(K5086,references!$A$1:$B$7,2,FALSE)","v":{"$error":"#N/A"}}]
[null,null,null,null,null,null,null,null,null,null,null,null,"no email",{"$error":"#VALUE!"},{"$error":"#VALUE!"},{"$f":"VLOOKUP(K5087,references!$A$1:$B$7,2,FALSE)","v":{"$error":"#N/A"}}]
[null,null,null,null,null,null,null,null,null,null,null,null,"no email",{"$error":"#VALUE!"},{"$error":"#VALUE!"},{"$f":"VLOOKUP(K5088,references!$A$1:$B$7,2,FALSE)","v":{"$error":"#N/A"}}]
[null,null,null,null,null,null,null,null,null,null,null,null,"no email",{"$error":"#VALUE!"},{"$error":"#VALUE!"},{"$f":"VLOOKUP(K5089,references!$A$1:$B$7,2,FALSE)","v":{"$error":"#N/A"}}]
[null,null,null,null,null,null,null,null,null,null,null,null,"no email",{"$error":"#VALUE!"},{"$error":"#VALUE!"},{"$f":"VLOOKUP(K5090,references!$A$1:$B$7,2,FALSE)","v":{"$error":"#N/A"}}]
[null,null,null,null,null,null,null,null,null,null,null,null,"no email",{"$error":"#VALUE!"},{"$error":"#VALUE!"},{"$f":"VLOOKUP(K5091,references!$A$1:$B$7,2,FALSE)","v":{"$error":"#N/A"}}]
[null,null,null,null,null,null,null,null,null,null,null,null,"no email",{"$error":"#VALUE!"},{"$error":"#VALUE!"},{"$f":"VLOOKUP(K5092,references!$A$1:$B$7,2,FALSE)","v":{"$error":"#N/A"}}]
[null,null,null,null,null,null,null,null,null,null,null,null,"no email",{"$error":"#VALUE!"},{"$error":"#VALUE!"},{"$f":"VLOOKUP(K5093,references!$A$1:$B$7,2,FALSE)","v":{"$error":"#N/A"}}]
[null,null,null,null,null,null,null,null,null,null,null,null,"no email",{"$error":"#VALUE!"},{"$error":"#VALUE!"},{"$f":"VLOOKUP(K5094,references!$A$1:$B$7,2,FALSE)","v":{"$error":"#N/A"}}]
[null,null,null,null,null,null,null,null,null,null,null,null,"no email",{"$error":"#VALUE!"},{"$error":"#VALUE!"},{"$f":"VLOOKUP(K5095,references!$A$1:$B$7,2,FALSE)","v":{"$error":"#N/A"}}]
[null,null,null,null,null,null,null,null,null,null,null,null,"no email",{"$error":"#VALUE!"},{"$error":"#VALUE!"},{"$f":"VLOOKUP(K5096,references!$A$1:$B$7,2,FALSE)","v":{"$error":"#N/A"}}]
[null,null,null,null,null,null,null,null,null,null,null,null,"no email",{"$error":"#VALUE!"},{"$error":"#VALUE!"},{"$f":"VLOOKUP(K5097,references!$A$1:$B$7,2,FALSE)","v":{"$error":"#N/A"}}]
[null,null,null,null,null,null,null,null,null,null,null,null,"no email",{"$error":"#VALUE!"},{"$error":"#VALUE!"},{"$f":"VLOOKUP(K5098,references!$A$1:$B$7,2,FALSE)","v":{"$error":"#N/A"}}]
[null,null,null,null,null,null,null,null,null,null,null,null,"no email",{"$error":"#VALUE!"},{"$error":"#VALUE!"},{"$f":"VLOOKUP(K5099,references!$A$1:$B$7,2,FALSE)","v":{"$error":"#N/A"}}]
[null,null,null,null,null,null,null,null,null,null,null,null,"no email",{"$error":"#VALUE!"},{"$error":"#VALUE!"},{"$f":"VLOOKUP(K5100,references!$A$1:$B$7,2,FALSE)","v":{"$error":"#N/A"}}]
[null,null,null,null,null,null,null,null,null,null,null,null,"no email",{"$error":"#VALUE!"},{"$error":"#VALUE!"},{"$f":"VLOOKUP(K5101,references!$A$1:$B$7,2,FALSE)","v":{"$error":"#N/A"}}]
[null,null,null,null,null,null,null,null,null,null,null,null,"no email",{"$error":"#VALUE!"},{"$error":"#VALUE!"},{"$f":"VLOOKUP(K5102,references!$A$1:$B$7,2,FALSE)","v":{"$error":"#N/A"}}]
[null,null,null,null,null,null,null,null,null,null,null,null,"no email",{"$error":"#VALUE!"},{"$error":"#VALUE!"},{"$f":"VLOOKUP(K5103,references!$A$1:$B$7,2,FALSE)","v":{"$error":"#N/A"}}]
[null,null,null,null,null,null,null,null,null,null,null,null,"no email",{"$error":"#VALUE!"},{"$error":"#VALUE!"},{"$f":"VLOOKUP(K5104,references!$A$1:$B$7,2,FALSE)","v":{"$error":"#N/A"}}]
[null,null,null,null,null,null,null,null,null,null,null,null,"no email",{"$error":"#VALUE!"},{"$error":"#VALUE!"},{"$f":"VLOOKUP(K5105,references!$A$1:$B$7,2,FALSE)","v":{"$error":"#N/A"}}]
[null,null,null,null,null,null,null,null,null,null,null,null,"no email",{"$error":"#VALUE!"},{"$error":"#VALUE!"},{"$f":"VLOOKUP(K5106,references!$A$1:$B$7,2,FALSE)","v":{"$error":"#N/A"}}]
[null,null,null,null,null,null,null,null,null,null,null,null,"no email",{"$error":"#VALUE!"},{"$error":"#VALUE!"},{"$f":"VLOOKUP(K5107,references!$A$1:$B$7,2,FALSE)","v":{"$error":"#N/A"}}]
[null,null,null,null,null,null,null,null,null,null,null,null,"no email",{"$error":"#VALUE!"},{"$error":"#VALUE!"},{"$f":"VLOOKUP(K5108,references!$A$1:$B$7,2,FALSE)","v":{"$error":"#N/A"}}]
[null,null,null,null,null,null,null,null,null,null,null,null,"no email",{"$error":"#VALUE!"},{"$error":"#VALUE!"},{"$f":"VLOOKUP(K5109,references!$A$1:$B$7,2,FALSE)","v":{"$error":"#N/A"}}]
[null,null,null,null,null,null,null,null,null,null,null,null,"no email",{"$error":"#VALUE!"},{"$error":"#VALUE!"},{"$f":"VLOOKUP(K5110,references!$A$1:$B$7,2,FALSE)","v":{"$error":"#N/A"}}]
[null,null,null,null,null,null,null,null,null,null,null,null,"no email",{"$error":"#VALUE!"},{"$error":"#VALUE!"},{"$f":"VLOOKUP(K5111,references!$A$1:$B$7,2,FALSE)","v":{"$error":"#N/A"}}]
[null,null,null,null,null,null,null,null,null,null,null,null,"no email",{"$error":"#VALUE!"},{"$error":"#VALUE!"},{"$f":"VLOOKUP(K5112,references!$A$1:$B$7,2,FALSE)","v":{"$error":"#N/A"}}]
[null,null,null,null,null,null,null,null,null,null,null,null,"no email",{"$error":"#VALUE!"},{"$error":"#VALUE!"},{"$f":"VLOOKUP(K5113,references!$A$1:$B$7,2,FALSE)","v":{"$error":"#N/A"}}]
[null,null,null,null,null,null,null,null,null,null,null,null,"no email",{"$error":"#VALUE!"},{"$error":"#VALUE!"},{"$f":"VLOOKUP(K5114,references!$A$1:$B$7,2,FALSE)","v":{"$error":"#N/A"}}]
[null,null,null,null,null,null,null,null,null,null,null,null,"no email",{"$error":"#VALUE!"},{"$error":"#VALUE!"},{"$f":"VLOOKUP(K5115,references!$A$1:$B$7,2,FALSE)","v":{"$error":"#N/A"}}]
[null,null,null,null,null,null,null,null,null,null,null,null,"no email",{"$error":"#VALUE!"},{"$error":"#VALUE!"},{"$f":"VLOOKUP(K5116,references!$A$1:$B$7,2,FALSE)","v":{"$error":"#N/A"}}]
[null,null,null,null,null,null,null,null,null,null,null,null,"no email",{"$error":"#VALUE!"},{"$error":"#VALUE!"},{"$f":"VLOOKUP(K5117,references!$A$1:$B$7,2,FALSE)","v":{"$error":"#N/A"}}]
[null,null,null,null,null,null,null,null,null,null,null,null,"no email",{"$error":"#VALUE!"},{"$error":"#VALUE!"},{"$f":"VLOOKUP(K5118,references!$A$1:$B$7,2,FALSE)","v":{"$error":"#N/A"}}]
[null,null,null,null,null,null,null,null,null,null,null,null,"no email",{"$error":"#VALUE!"},{"$error":"#VALUE!"},{"$f":"VLOOKUP(K5119,references!$A$1:$B$7,2,FALSE)","v":{"$error":"#N/A"}}]
[null,null,null,null,null,null,null,null,null,null,null,null,"no email",{"$error":"#VALUE!"},{"$error":"#VALUE!"},{"$f":"VLOOKUP(K5120,references!$A$1:$B$7,2,FALSE)","v":{"$error":"#N/A"}}]
[null,null,null,null,null,null,null,null,null,null,null,null,"no email",{"$error":"#VALUE!"},{"$error":"#VALUE!"},{"$f":"VLOOKUP(K5121,references!$A$1:$B$7,2,FALSE)","v":{"$error":"#N/A"}}]
[null,null,null,null,null,null,null,null,null,null,null,null,{"$f":"IF(L5122=\"\", \"no email\",LOWER(L5122))","v":"no email"},{"$f":"LEFT(A5122, SEARCH(\",\",A5122,1)-1)","v":{"$error":"#VALUE!"}},{"$f":"RIGHT(A5122, LEN(A5122) -SEARCH(\",\",A5122,1)-1)","v":{"$error":"#VALUE!"}},{"$f":"VLOOKUP(K5122,references!$A$1:$B$7,2,FALSE)","v":{"$error":"#N/A"}}]
[null,null,null,null,null,null,null,null,null,null,null,null,"no email",{"$error":"#VALUE!"},{"$error":"#VALUE!"},{"$f":"VLOOKUP(K5123,references!$A$1:$B$7,2,FALSE)","v":{"$error":"#N/A"}}]
[null,null,null,null,null,null,null,null,null,null,null,null,"no email",{"$error":"#VALUE!"},{"$error":"#VALUE!"},{"$f":"VLOOKUP(K5124,references!$A$1:$B$7,2,FALSE)","v":{"$error":"#N/A"}}]
[null,null,null,null,null,null,null,null,null,null,null,null,"no email",{"$error":"#VALUE!"},{"$error":"#VALUE!"},{"$f":"VLOOKUP(K5125,references!$A$1:$B$7,2,FALSE)","v":{"$error":"#N/A"}}]
[null,null,null,null,null,null,null,null,null,null,null,null,"no email",{"$error":"#VALUE!"},{"$error":"#VALUE!"},{"$f":"VLOOKUP(K5126,references!$A$1:$B$7,2,FALSE)","v":{"$error":"#N/A"}}]
[null,null,null,null,null,null,null,null,null,null,null,null,"no email",{"$error":"#VALUE!"},{"$error":"#VALUE!"},{"$f":"VLOOKUP(K5127,references!$A$1:$B$7,2,FALSE)","v":{"$error":"#N/A"}}]
[null,null,null,null,null,null,null,null,null,null,null,null,"no email",{"$error":"#VALUE!"},{"$error":"#VALUE!"},{"$f":"VLOOKUP(K5128,references!$A$1:$B$7,2,FALSE)","v":{"$error":"#N/A"}}]
[null,null,null,null,null,null,null,null,null,null,null,null,"no email",{"$error":"#VALUE!"},{"$error":"#VALUE!"},{"$f":"VLOOKUP(K5129,references!$A$1:$B$7,2,FALSE)","v":{"$error":"#N/A"}}]
[null,null,null,null,null,null,null,null,null,null,null,null,"no email",{"$error":"#VALUE!"},{"$error":"#VALUE!"},{"$f":"VLOOKUP(K5130,references!$A$1:$B$7,2,FALSE)","v":{"$error":"#N/A"}}]
[null,null,null,null,null,null,null,null,null,null,null,null,"no email",{"$error":"#VALUE!"},{"$error":"#VALUE!"},{"$f":"VLOOKUP(K5131,references!$A$1:$B$7,2,FALSE)","v":{"$error":"#N/A"}}]
[null,null,null,null,null,null,null,null,null,null,null,null,"no email",{"$error":"#VALUE!"},{"$error":"#VALUE!"},{"$f":"VLOOKUP(K5132,references!$A$1:$B$7,2,FALSE)","v":{"$error":"#N/A"}}]
[null,null,null,null,null,null,null,null,null,null,null,null,"no email",{"$error":"#VALUE!"},{"$error":"#VALUE!"},{"$f":"VLOOKUP(K5133,references!$A$1:$B$7,2,FALSE)","v":{"$error":"#N/A"}}]
[null,null,null,null,null,null,null,null,null,null,null,null,"no email",{"$error":"#VALUE!"},{"$error":"#VALUE!"},{"$f":"VLOOKUP(K5134,references!$A$1:$B$7,2,FALSE)","v":{"$error":"#N/A"}}]
[null,null,null,null,null,null,null,null,null,null,null,null,"no email",{"$error":"#VALUE!"},{"$error":"#VALUE!"},{"$f":"VLOOKUP(K5135,references!$A$1:$B$7,2,FALSE)","v":{"$error":"#N/A"}}]
[null,null,null,null,null,null,null,null,null,null,null,null,"no email",{"$error":"#VALUE!"},{"$error":"#VALUE!"},{"$f":"VLOOKUP(K5136,references!$A$1:$B$7,2,FALSE)","v":{"$error":"#N/A"}}]
[null,null,null,null,null,null,null,null,null,null,null,null,"no email",{"$error":"#VALUE!"},{"$error":"#VALUE!"},{"$f":"VLOOKUP(K5137,references!$A$1:$B$7,2,FALSE)","v":{"$error":"#N/A"}}]
[null,null,null,null,null,null,null,null,null,null,null,null,"no email",{"$error":"#VALUE!"},{"$error":"#VALUE!"},{"$f":"VLOOKUP(K5138,references!$A$1:$B$7,2,FALSE)","v":{"$error":"#N/A"}}]
[null,null,null,null,null,null,null,null,null,null,null,null,"no email",{"$error":"#VALUE!"},{"$error":"#VALUE!"},{"$f":"VLOOKUP(K5139,references!$A$1:$B$7,2,FALSE)","v":{"$error":"#N/A"}}]
[null,null,null,null,null,null,null,null,null,null,null,null,"no email",{"$error":"#VALUE!"},{"$error":"#VALUE!"},{"$f":"VLOOKUP(K5140,references!$A$1:$B$7,2,FALSE)","v":{"$error":"#N/A"}}]
[null,null,null,null,null,null,null,null,null,null,null,null,"no email",{"$error":"#VALUE!"},{"$error":"#VALUE!"},{"$f":"VLOOKUP(K5141,references!$A$1:$B$7,2,FALSE)","v":{"$error":"#N/A"}}]
[null,null,null,null,null,null,null,null,null,null,null,null,"no email",{"$error":"#VALUE!"},{"$error":"#VALUE!"},{"$f":"VLOOKUP(K5142,references!$A$1:$B$7,2,FALSE)","v":{"$error":"#N/A"}}]
[null,null,null,null,null,null,null,null,null,null,null,null,"no email",{"$error":"#VALUE!"},{"$error":"#VALUE!"},{"$f":"VLOOKUP(K5143,references!$A$1:$B$7,2,FALSE)","v":{"$error":"#N/A"}}]
[null,null,null,null,null,null,null,null,null,null,null,null,"no email",{"$error":"#VALUE!"},{"$error":"#VALUE!"},{"$f":"VLOOKUP(K5144,references!$A$1:$B$7,2,FALSE)","v":{"$error":"#N/A"}}]
[null,null,null,null,null,null,null,null,null,null,null,null,"no email",{"$error":"#VALUE!"},{"$error":"#VALUE!"},{"$f":"VLOOKUP(K5145,references!$A$1:$B$7,2,FALSE)","v":{"$error":"#N/A"}}]
[null,null,null,null,null,null,null,null,null,null,null,null,"no email",{"$error":"#VALUE!"},{"$error":"#VALUE!"},{"$f":"VLOOKUP(K5146,references!$A$1:$B$7,2,FALSE)","v":{"$error":"#N/A"}}]
[null,null,null,null,null,null,null,null,null,null,null,null,"no email",{"$error":"#VALUE!"},{"$error":"#VALUE!"},{"$f":"VLOOKUP(K5147,references!$A$1:$B$7,2,FALSE)","v":{"$error":"#N/A"}}]
[null,null,null,null,null,null,null,null,null,null,null,null,"no email",{"$error":"#VALUE!"},{"$error":"#VALUE!"},{"$f":"VLOOKUP(K5148,references!$A$1:$B$7,2,FALSE)","v":{"$error":"#N/A"}}]
[null,null,null,null,null,null,null,null,null,null,null,null,"no email",{"$error":"#VALUE!"},{"$error":"#VALUE!"},{"$f":"VLOOKUP(K5149,references!$A$1:$B$7,2,FALSE)","v":{"$error":"#N/A"}}]
[null,null,null,null,null,null,null,null,null,null,null,null,"no email",{"$error":"#VALUE!"},{"$error":"#VALUE!"},{"$f":"VLOOKUP(K5150,references!$A$1:$B$7,2,FALSE)","v":{"$error":"#N/A"}}]
[null,null,null,null,null,null,null,null,null,null,null,null,"no email",{"$error":"#VALUE!"},{"$error":"#VALUE!"},{"$f":"VLOOKUP(K5151,references!$A$1:$B$7,2,FALSE)","v":{"$error":"#N/A"}}]
[null,null,null,null,null,null,null,null,null,null,null,null,"no email",{"$error":"#VALUE!"},{"$error":"#VALUE!"},{"$f":"VLOOKUP(K5152,references!$A$1:$B$7,2,FALSE)","v":{"$error":"#N/A"}}]
[null,null,null,null,null,null,null,null,null,null,null,null,"no email",{"$error":"#VALUE!"},{"$error":"#VALUE!"},{"$f":"VLOOKUP(K5153,references!$A$1:$B$7,2,FALSE)","v":{"$error":"#N/A"}}]
[null,null,null,null,null,null,null,null,null,null,null,null,"no email",{"$error":"#VALUE!"},{"$error":"#VALUE!"},{"$f":"VLOOKUP(K5154,references!$A$1:$B$7,2,FALSE)","v":{"$error":"#N/A"}}]
[null,null,null,null,null,null,null,null,null,null,null,null,"no email",{"$error":"#VALUE!"},{"$error":"#VALUE!"},{"$f":"VLOOKUP(K5155,references!$A$1:$B$7,2,FALSE)","v":{"$error":"#N/A"}}]
[null,null,null,null,null,null,null,null,null,null,null,null,"no email",{"$error":"#VALUE!"},{"$error":"#VALUE!"},{"$f":"VLOOKUP(K5156,references!$A$1:$B$7,2,FALSE)","v":{"$error":"#N/A"}}]
[null,null,null,null,null,null,null,null,null,null,null,null,"no email",{"$error":"#VALUE!"},{"$error":"#VALUE!"},{"$f":"VLOOKUP(K5157,references!$A$1:$B$7,2,FALSE)","v":{"$error":"#N/A"}}]
[null,null,null,null,null,null,null,null,null,null,null,null,"no email",{"$error":"#VALUE!"},{"$error":"#VALUE!"},{"$f":"VLOOKUP(K5158,references!$A$1:$B$7,2,FALSE)","v":{"$error":"#N/A"}}]
[null,null,null,null,null,null,null,null,null,null,null,null,"no email",{"$error":"#VALUE!"},{"$error":"#VALUE!"},{"$f":"VLOOKUP(K5159,references!$A$1:$B$7,2,FALSE)","v":{"$error":"#N/A"}}]
[null,null,null,null,null,null,null,null,null,null,null,null,"no email",{"$error":"#VALUE!"},{"$error":"#VALUE!"},{"$f":"VLOOKUP(K5160,references!$A$1:$B$7,2,FALSE)","v":{"$error":"#N/A"}}]
[null,null,null,null,null,null,null,null,null,null,null,null,"no email",{"$error":"#VALUE!"},{"$error":"#VALUE!"},{"$f":"VLOOKUP(K5161,references!$A$1:$B$7,2,FALSE)","v":{"$error":"#N/A"}}]
[null,null,null,null,null,null,null,null,null,null,null,null,"no email",{"$error":"#VALUE!"},{"$error":"#VALUE!"},{"$f":"VLOOKUP(K5162,references!$A$1:$B$7,2,FALSE)","v":{"$error":"#N/A"}}]
[null,null,null,null,null,null,null,null,null,null,null,null,"no email",{"$error":"#VALUE!"},{"$error":"#VALUE!"},{"$f":"VLOOKUP(K5163,references!$A$1:$B$7,2,FALSE)","v":{"$error":"#N/A"}}]
[null,null,null,null,null,null,null,null,null,null,null,null,"no email",{"$error":"#VALUE!"},{"$error":"#VALUE!"},{"$f":"VLOOKUP(K5164,references!$A$1:$B$7,2,FALSE)","v":{"$error":"#N/A"}}]
[null,null,null,null,null,null,null,null,null,null,null,null,"no email",{"$error":"#VALUE!"},{"$error":"#VALUE!"},{"$f":"VLOOKUP(K5165,references!$A$1:$B$7,2,FALSE)","v":{"$error":"#N/A"}}]
[null,null,null,null,null,null,null,null,null,null,null,null,"no email",{"$error":"#VALUE!"},{"$error":"#VALUE!"},{"$f":"VLOOKUP(K5166,references!$A$1:$B$7,2,FALSE)","v":{"$error":"#N/A"}}]
[null,null,null,null,null,null,null,null,null,null,null,null,"no email",{"$error":"#VALUE!"},{"$error":"#VALUE!"},{"$f":"VLOOKUP(K5167,references!$A$1:$B$7,2,FALSE)","v":{"$error":"#N/A"}}]
[null,null,null,null,null,null,null,null,null,null,null,null,"no email",{"$error":"#VALUE!"},{"$error":"#VALUE!"},{"$f":"VLOOKUP(K5168,references!$A$1:$B$7,2,FALSE)","v":{"$error":"#N/A"}}]
[null,null,null,null,null,null,null,null,null,null,null,null,"no email",{"$error":"#VALUE!"},{"$error":"#VALUE!"},{"$f":"VLOOKUP(K5169,references!$A$1:$B$7,2,FALSE)","v":{"$error":"#N/A"}}]
[null,null,null,null,null,null,null,null,null,null,null,null,"no email",{"$error":"#VALUE!"},{"$error":"#VALUE!"},{"$f":"VLOOKUP(K5170,references!$A$1:$B$7,2,FALSE)","v":{"$error":"#N/A"}}]
[null,null,null,null,null,null,null,null,null,null,null,null,"no email",{"$error":"#VALUE!"},{"$error":"#VALUE!"},{"$f":"VLOOKUP(K5171,references!$A$1:$B$7,2,FALSE)","v":{"$error":"#N/A"}}]
[null,null,null,null,null,null,null,null,null,null,null,null,"no email",{"$error":"#VALUE!"},{"$error":"#VALUE!"},{"$f":"VLOOKUP(K5172,references!$A$1:$B$7,2,FALSE)","v":{"$error":"#N/A"}}]
[null,null,null,null,null,null,null,null,null,null,null,null,"no email",{"$error":"#VALUE!"},{"$error":"#VALUE!"},{"$f":"VLOOKUP(K5173,references!$A$1:$B$7,2,FALSE)","v":{"$error":"#N/A"}}]
[null,null,null,null,null,null,null,null,null,null,null,null,"no email",{"$error":"#VALUE!"},{"$error":"#VALUE!"},{"$f":"VLOOKUP(K5174,references!$A$1:$B$7,2,FALSE)","v":{"$error":"#N/A"}}]
[null,null,null,null,null,null,null,null,null,null,null,null,"no email",{"$error":"#VALUE!"},{"$error":"#VALUE!"},{"$f":"VLOOKUP(K5175,references!$A$1:$B$7,2,FALSE)","v":{"$error":"#N/A"}}]
[null,null,null,null,null,null,null,null,null,null,null,null,"no email",{"$error":"#VALUE!"},{"$error":"#VALUE!"},{"$f":"VLOOKUP(K5176,references!$A$1:$B$7,2,FALSE)","v":{"$error":"#N/A"}}]
[null,null,null,null,null,null,null,null,null,null,null,null,"no email",{"$error":"#VALUE!"},{"$error":"#VALUE!"},{"$f":"VLOOKUP(K5177,references!$A$1:$B$7,2,FALSE)","v":{"$error":"#N/A"}}]
[null,null,null,null,null,null,null,null,null,null,null,null,"no email",{"$error":"#VALUE!"},{"$error":"#VALUE!"},{"$f":"VLOOKUP(K5178,references!$A$1:$B$7,2,FALSE)","v":{"$error":"#N/A"}}]
[null,null,null,null,null,null,null,null,null,null,null,null,"no email",{"$error":"#VALUE!"},{"$error":"#VALUE!"},{"$f":"VLOOKUP(K5179,references!$A$1:$B$7,2,FALSE)","v":{"$error":"#N/A"}}]
[null,null,null,null,null,null,null,null,null,null,null,null,"no email",{"$error":"#VALUE!"},{"$error":"#VALUE!"},{"$f":"VLOOKUP(K5180,references!$A$1:$B$7,2,FALSE)","v":{"$error":"#N/A"}}]
[null,null,null,null,null,null,null,null,null,null,null,null,"no email",{"$error":"#VALUE!"},{"$error":"#VALUE!"},{"$f":"VLOOKUP(K5181,references!$A$1:$B$7,2,FALSE)","v":{"$error":"#N/A"}}]
[null,null,null,null,null,null,null,null,null,null,null,null,"no email",{"$error":"#VALUE!"},{"$error":"#VALUE!"},{"$f":"VLOOKUP(K5182,references!$A$1:$B$7,2,FALSE)","v":{"$error":"#N/A"}}]
[null,null,null,null,null,null,null,null,null,null,null,null,"no email",{"$error":"#VALUE!"},{"$error":"#VALUE!"},{"$f":"VLOOKUP(K5183,references!$A$1:$B$7,2,FALSE)","v":{"$error":"#N/A"}}]
[null,null,null,null,null,null,null,null,null,null,null,null,"no email",{"$error":"#VALUE!"},{"$error":"#VALUE!"},{"$f":"VLOOKUP(K5184,references!$A$1:$B$7,2,FALSE)","v":{"$error":"#N/A"}}]
[null,null,null,null,null,null,null,null,null,null,null,null,"no email",{"$error":"#VALUE!"},{"$error":"#VALUE!"},{"$f":"VLOOKUP(K5185,references!$A$1:$B$7,2,FALSE)","v":{"$error":"#N/A"}}]
[null,null,null,null,null,null,null,null,null,null,null,null,{"$f":"IF(L5186=\"\", \"no email\",LOWER(L5186))","v":"no email"},{"$f":"LEFT(A5186, SEARCH(\",\",A5186,1)-1)","v":{"$error":"#VALUE!"}},{"$f":"RIGHT(A5186, LEN(A5186) -SEARCH(\",\",A5186,1)-1)","v":{"$error":"#VALUE!"}},{"$f":"VLOOKUP(K5186,references!$A$1:$B$7,2,FALSE)","v":{"$error":"#N/A"}}]
[null,null,null,null,null,null,null,null,null,null,null,null,"no email",{"$error":"#VALUE!"},{"$error":"#VALUE!"},{"$f":"VLOOKUP(K5187,references!$A$1:$B$7,2,FALSE)","v":{"$error":"#N/A"}}]
[null,null,null,null,null,null,null,null,null,null,null,null,"no email",{"$error":"#VALUE!"},{"$error":"#VALUE!"},{"$f":"VLOOKUP(K5188,references!$A$1:$B$7,2,FALSE)","v":{"$error":"#N/A"}}]
[null,null,null,null,null,null,null,null,null,null,null,null,"no email",{"$error":"#VALUE!"},{"$error":"#VALUE!"},{"$f":"VLOOKUP(K5189,references!$A$1:$B$7,2,FALSE)","v":{"$error":"#N/A"}}]
[null,null,null,null,null,null,null,null,null,null,null,null,"no email",{"$error":"#VALUE!"},{"$error":"#VALUE!"},{"$f":"VLOOKUP(K5190,references!$A$1:$B$7,2,FALSE)","v":{"$error":"#N/A"}}]
[null,null,null,null,null,null,null,null,null,null,null,null,"no email",{"$error":"#VALUE!"},{"$error":"#VALUE!"},{"$f":"VLOOKUP(K5191,references!$A$1:$B$7,2,FALSE)","v":{"$error":"#N/A"}}]
[null,null,null,null,null,null,null,null,null,null,null,null,"no email",{"$error":"#VALUE!"},{"$error":"#VALUE!"},{"$f":"VLOOKUP(K5192,references!$A$1:$B$7,2,FALSE)","v":{"$error":"#N/A"}}]
[null,null,null,null,null,null,null,null,null,null,null,null,"no email",{"$error":"#VALUE!"},{"$error":"#VALUE!"},{"$f":"VLOOKUP(K5193,references!$A$1:$B$7,2,FALSE)","v":{"$error":"#N/A"}}]
[null,null,null,null,null,null,null,null,null,null,null,null,"no email",{"$error":"#VALUE!"},{"$error":"#VALUE!"},{"$f":"VLOOKUP(K5194,references!$A$1:$B$7,2,FALSE)","v":{"$error":"#N/A"}}]
[null,null,null,null,null,null,null,null,null,null,null,null,"no email",{"$error":"#VALUE!"},{"$error":"#VALUE!"},{"$f":"VLOOKUP(K5195,references!$A$1:$B$7,2,FALSE)","v":{"$error":"#N/A"}}]
[null,null,null,null,null,null,null,null,null,null,null,null,"no email",{"$error":"#VALUE!"},{"$error":"#VALUE!"},{"$f":"VLOOKUP(K5196,references!$A$1:$B$7,2,FALSE)","v":{"$error":"#N/A"}}]
[null,null,null,null,null,null,null,null,null,null,null,null,"no email",{"$error":"#VALUE!"},{"$error":"#VALUE!"},{"$f":"VLOOKUP(K5197,references!$A$1:$B$7,2,FALSE)","v":{"$error":"#N/A"}}]
[null,null,null,null,null,null,null,null,null,null,null,null,"no email",{"$error":"#VALUE!"},{"$error":"#VALUE!"},{"$f":"VLOOKUP(K5198,references!$A$1:$B$7,2,FALSE)","v":{"$error":"#N/A"}}]
[null,null,null,null,null,null,null,null,null,null,null,null,"no email",{"$error":"#VALUE!"},{"$error":"#VALUE!"},{"$f":"VLOOKUP(K5199,references!$A$1:$B$7,2,FALSE)","v":{"$error":"#N/A"}}]
[null,null,null,null,null,null,null,null,null,null,null,null,"no email",{"$error":"#VALUE!"},{"$error":"#VALUE!"},{"$f":"VLOOKUP(K5200,references!$A$1:$B$7,2,FALSE)","v":{"$error":"#N/A"}}]
[null,null,null,null,null,null,null,null,null,null,null,null,"no email",{"$error":"#VALUE!"},{"$error":"#VALUE!"},{"$f":"VLOOKUP(K5201,references!$A$1:$B$7,2,FALSE)","v":{"$error":"#N/A"}}]
[null,null,null,null,null,null,null,null,null,null,null,null,"no email",{"$error":"#VALUE!"},{"$error":"#VALUE!"},{"$f":"VLOOKUP(K5202,references!$A$1:$B$7,2,FALSE)","v":{"$error":"#N/A"}}]
[null,null,null,null,null,null,null,null,null,null,null,null,"no email",{"$error":"#VALUE!"},{"$error":"#VALUE!"},{"$f":"VLOOKUP(K5203,references!$A$1:$B$7,2,FALSE)","v":{"$error":"#N/A"}}]
[null,null,null,null,null,null,null,null,null,null,null,null,"no email",{"$error":"#VALUE!"},{"$error":"#VALUE!"},{"$f":"VLOOKUP(K5204,references!$A$1:$B$7,2,FALSE)","v":{"$error":"#N/A"}}]
[null,null,null,null,null,null,null,null,null,null,null,null,"no email",{"$error":"#VALUE!"},{"$error":"#VALUE!"},{"$f":"VLOOKUP(K5205,references!$A$1:$B$7,2,FALSE)","v":{"$error":"#N/A"}}]
[null,null,null,null,null,null,null,null,null,null,null,null,"no email",{"$error":"#VALUE!"},{"$error":"#VALUE!"},{"$f":"VLOOKUP(K5206,references!$A$1:$B$7,2,FALSE)","v":{"$error":"#N/A"}}]
[null,null,null,null,null,null,null,null,null,null,null,null,"no email",{"$error":"#VALUE!"},{"$error":"#VALUE!"},{"$f":"VLOOKUP(K5207,references!$A$1:$B$7,2,FALSE)","v":{"$error":"#N/A"}}]
[null,null,null,null,null,null,null,null,null,null,null,null,"no email",{"$error":"#VALUE!"},{"$error":"#VALUE!"},{"$f":"VLOOKUP(K5208,references!$A$1:$B$7,2,FALSE)","v":{"$error":"#N/A"}}]
[null,null,null,null,null,null,null,null,null,null,null,null,"no email",{"$error":"#VALUE!"},{"$error":"#VALUE!"},{"$f":"VLOOKUP(K5209,references!$A$1:$B$7,2,FALSE)","v":{"$error":"#N/A"}}]
[null,null,null,null,null,null,null,null,null,null,null,null,"no email",{"$error":"#VALUE!"},{"$error":"#VALUE!"},{"$f":"VLOOKUP(K5210,references!$A$1:$B$7,2,FALSE)","v":{"$error":"#N/A"}}]
[null,null,null,null,null,null,null,null,null,null,null,null,"no email",{"$error":"#VALUE!"},{"$error":"#VALUE!"},{"$f":"VLOOKUP(K5211,references!$A$1:$B$7,2,FALSE)","v":{"$error":"#N/A"}}]
[null,null,null,null,null,null,null,null,null,null,null,null,"no email",{"$error":"#VALUE!"},{"$error":"#VALUE!"},{"$f":"VLOOKUP(K5212,references!$A$1:$B$7,2,FALSE)","v":{"$error":"#N/A"}}]
[null,null,null,null,null,null,null,null,null,null,null,null,"no email",{"$error":"#VALUE!"},{"$error":"#VALUE!"},{"$f":"VLOOKUP(K5213,references!$A$1:$B$7,2,FALSE)","v":{"$error":"#N/A"}}]
[null,null,null,null,null,null,null,null,null,null,null,null,"no email",{"$error":"#VALUE!"},{"$error":"#VALUE!"},{"$f":"VLOOKUP(K5214,references!$A$1:$B$7,2,FALSE)","v":{"$error":"#N/A"}}]
[null,null,null,null,null,null,null,null,null,null,null,null,"no email",{"$error":"#VALUE!"},{"$error":"#VALUE!"},{"$f":"VLOOKUP(K5215,references!$A$1:$B$7,2,FALSE)","v":{"$error":"#N/A"}}]
[null,null,null,null,null,null,null,null,null,null,null,null,"no email",{"$error":"#VALUE!"},{"$error":"#VALUE!"},{"$f":"VLOOKUP(K5216,references!$A$1:$B$7,2,FALSE)","v":{"$error":"#N/A"}}]
[null,null,null,null,null,null,null,null,null,null,null,null,"no email",{"$error":"#VALUE!"},{"$error":"#VALUE!"},{"$f":"VLOOKUP(K5217,references!$A$1:$B$7,2,FALSE)","v":{"$error":"#N/A"}}]
[null,null,null,null,null,null,null,null,null,null,null,null,"no email",{"$error":"#VALUE!"},{"$error":"#VALUE!"},{"$f":"VLOOKUP(K5218,references!$A$1:$B$7,2,FALSE)","v":{"$error":"#N/A"}}]
[null,null,null,null,null,null,null,null,null,null,null,null,"no email",{"$error":"#VALUE!"},{"$error":"#VALUE!"},{"$f":"VLOOKUP(K5219,references!$A$1:$B$7,2,FALSE)","v":{"$error":"#N/A"}}]
[null,null,null,null,null,null,null,null,null,null,null,null,"no email",{"$error":"#VALUE!"},{"$error":"#VALUE!"},{"$f":"VLOOKUP(K5220,references!$A$1:$B$7,2,FALSE)","v":{"$error":"#N/A"}}]
[null,null,null,null,null,null,null,null,null,null,null,null,"no email",{"$error":"#VALUE!"},{"$error":"#VALUE!"},{"$f":"VLOOKUP(K5221,references!$A$1:$B$7,2,FALSE)","v":{"$error":"#N/A"}}]
[null,null,null,null,null,null,null,null,null,null,null,null,"no email",{"$error":"#VALUE!"},{"$error":"#VALUE!"},{"$f":"VLOOKUP(K5222,references!$A$1:$B$7,2,FALSE)","v":{"$error":"#N/A"}}]
[null,null,null,null,null,null,null,null,null,null,null,null,"no email",{"$error":"#VALUE!"},{"$error":"#VALUE!"},{"$f":"VLOOKUP(K5223,references!$A$1:$B$7,2,FALSE)","v":{"$error":"#N/A"}}]
[null,null,null,null,null,null,null,null,null,null,null,null,"no email",{"$error":"#VALUE!"},{"$error":"#VALUE!"},{"$f":"VLOOKUP(K5224,references!$A$1:$B$7,2,FALSE)","v":{"$error":"#N/A"}}]
[null,null,null,null,null,null,null,null,null,null,null,null,"no email",{"$error":"#VALUE!"},{"$error":"#VALUE!"},{"$f":"VLOOKUP(K5225,references!$A$1:$B$7,2,FALSE)","v":{"$error":"#N/A"}}]
[null,null,null,null,null,null,null,null,null,null,null,null,"no email",{"$error":"#VALUE!"},{"$error":"#VALUE!"},{"$f":"VLOOKUP(K5226,references!$A$1:$B$7,2,FALSE)","v":{"$error":"#N/A"}}]
[null,null,null,null,null,null,null,null,null,null,null,null,"no email",{"$error":"#VALUE!"},{"$error":"#VALUE!"},{"$f":"VLOOKUP(K5227,references!$A$1:$B$7,2,FALSE)","v":{"$error":"#N/A"}}]
[null,null,null,null,null,null,null,null,null,null,null,null,"no email",{"$error":"#VALUE!"},{"$error":"#VALUE!"},{"$f":"VLOOKUP(K5228,references!$A$1:$B$7,2,FALSE)","v":{"$error":"#N/A"}}]
[null,null,null,null,null,null,null,null,null,null,null,null,"no email",{"$error":"#VALUE!"},{"$error":"#VALUE!"},{"$f":"VLOOKUP(K5229,references!$A$1:$B$7,2,FALSE)","v":{"$error":"#N/A"}}]
[null,null,null,null,null,null,null,null,null,null,null,null,"no email",{"$error":"#VALUE!"},{"$error":"#VALUE!"},{"$f":"VLOOKUP(K5230,references!$A$1:$B$7,2,FALSE)","v":{"$error":"#N/A"}}]
[null,null,null,null,null,null,null,null,null,null,null,null,"no email",{"$error":"#VALUE!"},{"$error":"#VALUE!"},{"$f":"VLOOKUP(K5231,references!$A$1:$B$7,2,FALSE)","v":{"$error":"#N/A"}}]
[null,null,null,null,null,null,null,null,null,null,null,null,"no email",{"$error":"#VALUE!"},{"$error":"#VALUE!"},{"$f":"VLOOKUP(K5232,references!$A$1:$B$7,2,FALSE)","v":{"$error":"#N/A"}}]
[null,null,null,null,null,null,null,null,null,null,null,null,"no email",{"$error":"#VALUE!"},{"$error":"#VALUE!"},{"$f":"VLOOKUP(K5233,references!$A$1:$B$7,2,FALSE)","v":{"$error":"#N/A"}}]
[null,null,null,null,null,null,null,null,null,null,null,null,"no email",{"$error":"#VALUE!"},{"$error":"#VALUE!"},{"$f":"VLOOKUP(K5234,references!$A$1:$B$7,2,FALSE)","v":{"$error":"#N/A"}}]
[null,null,null,null,null,null,null,null,null,null,null,null,"no email",{"$error":"#VALUE!"},{"$error":"#VALUE!"},{"$f":"VLOOKUP(K5235,references!$A$1:$B$7,2,FALSE)","v":{"$error":"#N/A"}}]
[null,null,null,null,null,null,null,null,null,null,null,null,"no email",{"$error":"#VALUE!"},{"$error":"#VALUE!"},{"$f":"VLOOKUP(K5236,references!$A$1:$B$7,2,FALSE)","v":{"$error":"#N/A"}}]
[null,null,null,null,null,null,null,null,null,null,null,null,"no email",{"$error":"#VALUE!"},{"$error":"#VALUE!"},{"$f":"VLOOKUP(K5237,references!$A$1:$B$7,2,FALSE)","v":{"$error":"#N/A"}}]
[null,null,null,null,null,null,null,null,null,null,null,null,"no email",{"$error":"#VALUE!"},{"$error":"#VALUE!"},{"$f":"VLOOKUP(K5238,references!$A$1:$B$7,2,FALSE)","v":{"$error":"#N/A"}}]
[null,null,null,null,null,null,null,null,null,null,null,null,"no email",{"$error":"#VALUE!"},{"$error":"#VALUE!"},{"$f":"VLOOKUP(K5239,references!$A$1:$B$7,2,FALSE)","v":{"$error":"#N/A"}}]
[null,null,null,null,null,null,null,null,null,null,null,null,"no email",{"$error":"#VALUE!"},{"$error":"#VALUE!"},{"$f":"VLOOKUP(K5240,references!$A$1:$B$7,2,FALSE)","v":{"$error":"#N/A"}}]
[null,null,null,null,null,null,null,null,null,null,null,null,"no email",{"$error":"#VALUE!"},{"$error":"#VALUE!"},{"$f":"VLOOKUP(K5241,references!$A$1:$B$7,2,FALSE)","v":{"$error":"#N/A"}}]
[null,null,null,null,null,null,null,null,null,null,null,null,"no email",{"$error":"#VALUE!"},{"$error":"#VALUE!"},{"$f":"VLOOKUP(K5242,references!$A$1:$B$7,2,FALSE)","v":{"$error":"#N/A"}}]
[null,null,null,null,null,null,null,null,null,null,null,null,"no email",{"$error":"#VALUE!"},{"$error":"#VALUE!"},{"$f":"VLOOKUP(K5243,references!$A$1:$B$7,2,FALSE)","v":{"$error":"#N/A"}}]
[null,null,null,null,null,null,null,null,null,null,null,null,"no email",{"$error":"#VALUE!"},{"$error":"#VALUE!"},{"$f":"VLOOKUP(K5244,references!$A$1:$B$7,2,FALSE)","v":{"$error":"#N/A"}}]
[null,null,null,null,null,null,null,null,null,null,null,null,"no email",{"$error":"#VALUE!"},{"$error":"#VALUE!"},{"$f":"VLOOKUP(K5245,references!$A$1:$B$7,2,FALSE)","v":{"$error":"#N/A"}}]
[null,null,null,null,null,null,null,null,null,null,null,null,"no email",{"$error":"#VALUE!"},{"$error":"#VALUE!"},{"$f":"VLOOKUP(K5246,references!$A$1:$B$7,2,FALSE)","v":{"$error":"#N/A"}}]
[null,null,null,null,null,null,null,null,null,null,null,null,"no email",{"$error":"#VALUE!"},{"$error":"#VALUE!"},{"$f":"VLOOKUP(K5247,references!$A$1:$B$7,2,FALSE)","v":{"$error":"#N/A"}}]
[null,null,null,null,null,null,null,null,null,null,null,null,"no email",{"$error":"#VALUE!"},{"$error":"#VALUE!"},{"$f":"VLOOKUP(K5248,references!$A$1:$B$7,2,FALSE)","v":{"$error":"#N/A"}}]
[null,null,null,null,null,null,null,null,null,null,null,null,"no email",{"$error":"#VALUE!"},{"$error":"#VALUE!"},{"$f":"VLOOKUP(K5249,references!$A$1:$B$7,2,FALSE)","v":{"$error":"#N/A"}}]
[null,null,null,null,null,null,null,null,null,null,null,null,{"$f":"IF(L5250=\"\", \"no email\",LOWER(L5250))","v":"no email"},{"$f":"LEFT(A5250, SEARCH(\",\",A5250,1)-1)","v":{"$error":"#VALUE!"}},{"$f":"RIGHT(A5250, LEN(A5250) -SEARCH(\",\",A5250,1)-1)","v":{"$error":"#VALUE!"}},{"$f":"VLOOKUP(K5250,references!$A$1:$B$7,2,FALSE)","v":{"$error":"#N/A"}}]
[null,null,null,null,null,null,null,null,null,null,null,null,"no email",{"$error":"#VALUE!"},{"$error":"#VALUE!"},{"$f":"VLOOKUP(K5251,references!$A$1:$B$7,2,FALSE)","v":{"$error":"#N/A"}}]
[null,null,null,null,null,null,null,null,null,null,null,null,"no email",{"$error":"#VALUE!"},{"$error":"#VALUE!"},{"$f":"VLOOKUP(K5252,references!$A$1:$B$7,2,FALSE)","v":{"$error":"#N/A"}}]
[null,null,null,null,null,null,null,null,null,null,null,null,"no email",{"$error":"#VALUE!"},{"$error":"#VALUE!"},{"$f":"VLOOKUP(K5253,references!$A$1:$B$7,2,FALSE)","v":{"$error":"#N/A"}}]
[null,null,null,null,null,null,null,null,null,null,null,null,"no email",{"$error":"#VALUE!"},{"$error":"#VALUE!"},{"$f":"VLOOKUP(K5254,references!$A$1:$B$7,2,FALSE)","v":{"$error":"#N/A"}}]
[null,null,null,null,null,null,null,null,null,null,null,null,"no email",{"$error":"#VALUE!"},{"$error":"#VALUE!"},{"$f":"VLOOKUP(K5255,references!$A$1:$B$7,2,FALSE)","v":{"$error":"#N/A"}}]
[null,null,null,null,null,null,null,null,null,null,null,null,"no email",{"$error":"#VALUE!"},{"$error":"#VALUE!"},{"$f":"VLOOKUP(K5256,references!$A$1:$B$7,2,FALSE)","v":{"$error":"#N/A"}}]
[null,null,null,null,null,null,null,null,null,null,null,null,"no email",{"$error":"#VALUE!"},{"$error":"#VALUE!"},{"$f":"VLOOKUP(K5257,references!$A$1:$B$7,2,FALSE)","v":{"$error":"#N/A"}}]
[null,null,null,null,null,null,null,null,null,null,null,null,"no email",{"$error":"#VALUE!"},{"$error":"#VALUE!"},{"$f":"VLOOKUP(K5258,references!$A$1:$B$7,2,FALSE)","v":{"$error":"#N/A"}}]
[null,null,null,null,null,null,null,null,null,null,null,null,"no email",{"$error":"#VALUE!"},{"$error":"#VALUE!"},{"$f":"VLOOKUP(K5259,references!$A$1:$B$7,2,FALSE)","v":{"$error":"#N/A"}}]
[null,null,null,null,null,null,null,null,null,null,null,null,"no email",{"$error":"#VALUE!"},{"$error":"#VALUE!"},{"$f":"VLOOKUP(K5260,references!$A$1:$B$7,2,FALSE)","v":{"$error":"#N/A"}}]
[null,null,null,null,null,null,null,null,null,null,null,null,"no email",{"$error":"#VALUE!"},{"$error":"#VALUE!"},{"$f":"VLOOKUP(K5261,references!$A$1:$B$7,2,FALSE)","v":{"$error":"#N/A"}}]
[null,null,null,null,null,null,null,null,null,null,null,null,"no email",{"$error":"#VALUE!"},{"$error":"#VALUE!"},{"$f":"VLOOKUP(K5262,references!$A$1:$B$7,2,FALSE)","v":{"$error":"#N/A"}}]
[null,null,null,null,null,null,null,null,null,null,null,null,"no email",{"$error":"#VALUE!"},{"$error":"#VALUE!"},{"$f":"VLOOKUP(K5263,references!$A$1:$B$7,2,FALSE)","v":{"$error":"#N/A"}}]
[null,null,null,null,null,null,null,null,null,null,null,null,"no email",{"$error":"#VALUE!"},{"$error":"#VALUE!"},{"$f":"VLOOKUP(K5264,references!$A$1:$B$7,2,FALSE)","v":{"$error":"#N/A"}}]
[null,null,null,null,null,null,null,null,null,null,null,null,"no email",{"$error":"#VALUE!"},{"$error":"#VALUE!"},{"$f":"VLOOKUP(K5265,references!$A$1:$B$7,2,FALSE)","v":{"$error":"#N/A"}}]
[null,null,null,null,null,null,null,null,null,null,null,null,"no email",{"$error":"#VALUE!"},{"$error":"#VALUE!"},{"$f":"VLOOKUP(K5266,references!$A$1:$B$7,2,FALSE)","v":{"$error":"#N/A"}}]
[null,null,null,null,null,null,null,null,null,null,null,null,"no email",{"$error":"#VALUE!"},{"$error":"#VALUE!"},{"$f":"VLOOKUP(K5267,references!$A$1:$B$7,2,FALSE)","v":{"$error":"#N/A"}}]
[null,null,null,null,null,null,null,null,null,null,null,null,"no email",{"$error":"#VALUE!"},{"$error":"#VALUE!"},{"$f":"VLOOKUP(K5268,references!$A$1:$B$7,2,FALSE)","v":{"$error":"#N/A"}}]
[null,null,null,null,null,null,null,null,null,null,null,null,"no email",{"$error":"#VALUE!"},{"$error":"#VALUE!"},{"$f":"VLOOKUP(K5269,references!$A$1:$B$7,2,FALSE)","v":{"$error":"#N/A"}}]
[null,null,null,null,null,null,null,null,null,null,null,null,"no email",{"$error":"#VALUE!"},{"$error":"#VALUE!"},{"$f":"VLOOKUP(K5270,references!$A$1:$B$7,2,FALSE)","v":{"$error":"#N/A"}}]
[null,null,null,null,null,null,null,null,null,null,null,null,"no email",{"$error":"#VALUE!"},{"$error":"#VALUE!"},{"$f":"VLOOKUP(K5271,references!$A$1:$B$7,2,FALSE)","v":{"$error":"#N/A"}}]
[null,null,null,null,null,null,null,null,null,null,null,null,"no email",{"$error":"#VALUE!"},{"$error":"#VALUE!"},{"$f":"VLOOKUP(K5272,references!$A$1:$B$7,2,FALSE)","v":{"$error":"#N/A"}}]
[null,null,null,null,null,null,null,null,null,null,null,null,"no email",{"$error":"#VALUE!"},{"$error":"#VALUE!"},{"$f":"VLOOKUP(K5273,references!$A$1:$B$7,2,FALSE)","v":{"$error":"#N/A"}}]
[null,null,null,null,null,null,null,null,null,null,null,null,"no email",{"$error":"#VALUE!"},{"$error":"#VALUE!"},{"$f":"VLOOKUP(K5274,references!$A$1:$B$7,2,FALSE)","v":{"$error":"#N/A"}}]
[null,null,null,null,null,null,null,null,null,null,null,null,"no email",{"$error":"#VALUE!"},{"$error":"#VALUE!"},{"$f":"VLOOKUP(K5275,references!$A$1:$B$7,2,FALSE)","v":{"$error":"#N/A"}}]
[null,null,null,null,null,null,null,null,null,null,null,null,"no email",{"$error":"#VALUE!"},{"$error":"#VALUE!"},{"$f":"VLOOKUP(K5276,references!$A$1:$B$7,2,FALSE)","v":{"$error":"#N/A"}}]
[null,null,null,null,null,null,null,null,null,null,null,null,"no email",{"$error":"#VALUE!"},{"$error":"#VALUE!"},{"$f":"VLOOKUP(K5277,references!$A$1:$B$7,2,FALSE)","v":{"$error":"#N/A"}}]
[null,null,null,null,null,null,null,null,null,null,null,null,"no email",{"$error":"#VALUE!"},{"$error":"#VALUE!"},{"$f":"VLOOKUP(K5278,references!$A$1:$B$7,2,FALSE)","v":{"$error":"#N/A"}}]
[null,null,null,null,null,null,null,null,null,null,null,null,"no email",{"$error":"#VALUE!"},{"$error":"#VALUE!"},{"$f":"VLOOKUP(K5279,references!$A$1:$B$7,2,FALSE)","v":{"$error":"#N/A"}}]
[null,null,null,null,null,null,null,null,null,null,null,null,"no email",{"$error":"#VALUE!"},{"$error":"#VALUE!"},{"$f":"VLOOKUP(K5280,references!$A$1:$B$7,2,FALSE)","v":{"$error":"#N/A"}}]
[null,null,null,null,null,null,null,null,null,null,null,null,"no email",{"$error":"#VALUE!"},{"$error":"#VALUE!"},{"$f":"VLOOKUP(K5281,references!$A$1:$B$7,2,FALSE)","v":{"$error":"#N/A"}}]
[null,null,null,null,null,null,null,null,null,null,null,null,"no email",{"$error":"#VALUE!"},{"$error":"#VALUE!"},{"$f":"VLOOKUP(K5282,references!$A$1:$B$7,2,FALSE)","v":{"$error":"#N/A"}}]
[null,null,null,null,null,null,null,null,null,null,null,null,"no email",{"$error":"#VALUE!"},{"$error":"#VALUE!"},{"$f":"VLOOKUP(K5283,references!$A$1:$B$7,2,FALSE)","v":{"$error":"#N/A"}}]
[null,null,null,null,null,null,null,null,null,null,null,null,"no email",{"$error":"#VALUE!"},{"$error":"#VALUE!"},{"$f":"VLOOKUP(K5284,references!$A$1:$B$7,2,FALSE)","v":{"$error":"#N/A"}}]
[null,null,null,null,null,null,null,null,null,null,null,null,"no email",{"$error":"#VALUE!"},{"$error":"#VALUE!"},{"$f":"VLOOKUP(K5285,references!$A$1:$B$7,2,FALSE)","v":{"$error":"#N/A"}}]
[null,null,null,null,null,null,null,null,null,null,null,null,"no email",{"$error":"#VALUE!"},{"$error":"#VALUE!"},{"$f":"VLOOKUP(K5286,references!$A$1:$B$7,2,FALSE)","v":{"$error":"#N/A"}}]
[null,null,null,null,null,null,null,null,null,null,null,null,"no email",{"$error":"#VALUE!"},{"$error":"#VALUE!"},{"$f":"VLOOKUP(K5287,references!$A$1:$B$7,2,FALSE)","v":{"$error":"#N/A"}}]
[null,null,null,null,null,null,null,null,null,null,null,null,"no email",{"$error":"#VALUE!"},{"$error":"#VALUE!"},{"$f":"VLOOKUP(K5288,references!$A$1:$B$7,2,FALSE)","v":{"$error":"#N/A"}}]
[null,null,null,null,null,null,null,null,null,null,null,null,"no email",{"$error":"#VALUE!"},{"$error":"#VALUE!"},{"$f":"VLOOKUP(K5289,references!$A$1:$B$7,2,FALSE)","v":{"$error":"#N/A"}}]
[null,null,null,null,null,null,null,null,null,null,null,null,"no email",{"$error":"#VALUE!"},{"$error":"#VALUE!"},{"$f":"VLOOKUP(K5290,references!$A$1:$B$7,2,FALSE)","v":{"$error":"#N/A"}}]
[null,null,null,null,null,null,null,null,null,null,null,null,"no email",{"$error":"#VALUE!"},{"$error":"#VALUE!"},{"$f":"VLOOKUP(K5291,references!$A$1:$B$7,2,FALSE)","v":{"$error":"#N/A"}}]
[null,null,null,null,null,null,null,null,null,null,null,null,"no email",{"$error":"#VALUE!"},{"$error":"#VALUE!"},{"$f":"VLOOKUP(K5292,references!$A$1:$B$7,2,FALSE)","v":{"$error":"#N/A"}}]
[null,null,null,null,null,null,null,null,null,null,null,null,"no email",{"$error":"#VALUE!"},{"$error":"#VALUE!"},{"$f":"VLOOKUP(K5293,references!$A$1:$B$7,2,FALSE)","v":{"$error":"#N/A"}}]
[null,null,null,null,null,null,null,null,null,null,null,null,"no email",{"$error":"#VALUE!"},{"$error":"#VALUE!"},{"$f":"VLOOKUP(K5294,references!$A$1:$B$7,2,FALSE)","v":{"$error":"#N/A"}}]
[null,null,null,null,null,null,null,null,null,null,null,null,"no email",{"$error":"#VALUE!"},{"$error":"#VALUE!"},{"$f":"VLOOKUP(K5295,references!$A$1:$B$7,2,FALSE)","v":{"$error":"#N/A"}}]
[null,null,null,null,null,null,null,null,null,null,null,null,"no email",{"$error":"#VALUE!"},{"$error":"#VALUE!"},{"$f":"VLOOKUP(K5296,references!$A$1:$B$7,2,FALSE)","v":{"$error":"#N/A"}}]
[null,null,null,null,null,null,null,null,null,null,null,null,"no email",{"$error":"#VALUE!"},{"$error":"#VALUE!"},{"$f":"VLOOKUP(K5297,references!$A$1:$B$7,2,FALSE)","v":{"$error":"#N/A"}}]
[null,null,null,null,null,null,null,null,null,null,null,null,"no email",{"$error":"#VALUE!"},{"$error":"#VALUE!"},{"$f":"VLOOKUP(K5298,references!$A$1:$B$7,2,FALSE)","v":{"$error":"#N/A"}}]
[null,null,null,null,null,null,null,null,null,null,null,null,"no email",{"$error":"#VALUE!"},{"$error":"#VALUE!"},{"$f":"VLOOKUP(K5299,references!$A$1:$B$7,2,FALSE)","v":{"$error":"#N/A"}}]
[null,null,null,null,null,null,null,null,null,null,null,null,"no email",{"$error":"#VALUE!"},{"$error":"#VALUE!"},{"$f":"VLOOKUP(K5300,references!$A$1:$B$7,2,FALSE)","v":{"$error":"#N/A"}}]
[null,null,null,null,null,null,null,null,null,null,null,null,"no email",{"$error":"#VALUE!"},{"$error":"#VALUE!"},{"$f":"VLOOKUP(K5301,references!$A$1:$B$7,2,FALSE)","v":{"$error":"#N/A"}}]
[null,null,null,null,null,null,null,null,null,null,null,null,"no email",{"$error":"#VALUE!"},{"$error":"#VALUE!"},{"$f":"VLOOKUP(K5302,references!$A$1:$B$7,2,FALSE)","v":{"$error":"#N/A"}}]
[null,null,null,null,null,null,null,null,null,null,null,null,"no email",{"$error":"#VALUE!"},{"$error":"#VALUE!"},{"$f":"VLOOKUP(K5303,references!$A$1:$B$7,2,FALSE)","v":{"$error":"#N/A"}}]
[null,null,null,null,null,null,null,null,null,null,null,null,"no email",{"$error":"#VALUE!"},{"$error":"#VALUE!"},{"$f":"VLOOKUP(K5304,references!$A$1:$B$7,2,FALSE)","v":{"$error":"#N/A"}}]
[null,null,null,null,null,null,null,null,null,null,null,null,"no email",{"$error":"#VALUE!"},{"$error":"#VALUE!"},{"$f":"VLOOKUP(K5305,references!$A$1:$B$7,2,FALSE)","v":{"$error":"#N/A"}}]
[null,null,null,null,null,null,null,null,null,null,null,null,"no email",{"$error":"#VALUE!"},{"$error":"#VALUE!"},{"$f":"VLOOKUP(K5306,references!$A$1:$B$7,2,FALSE)","v":{"$error":"#N/A"}}]
[null,null,null,null,null,null,null,null,null,null,null,null,"no email",{"$error":"#VALUE!"},{"$error":"#VALUE!"},{"$f":"VLOOKUP(K5307,references!$A$1:$B$7,2,FALSE)","v":{"$error":"#N/A"}}]
[null,null,null,null,null,null,null,null,null,null,null,null,"no email",{"$error":"#VALUE!"},{"$error":"#VALUE!"},{"$f":"VLOOKUP(K5308,references!$A$1:$B$7,2,FALSE)","v":{"$error":"#N/A"}}]
[null,null,null,null,null,null,null,null,null,null,null,null,"no email",{"$error":"#VALUE!"},{"$error":"#VALUE!"},{"$f":"VLOOKUP(K5309,references!$A$1:$B$7,2,FALSE)","v":{"$error":"#N/A"}}]
[null,null,null,null,null,null,null,null,null,null,null,null,"no email",{"$error":"#VALUE!"},{"$error":"#VALUE!"},{"$f":"VLOOKUP(K5310,references!$A$1:$B$7,2,FALSE)","v":{"$error":"#N/A"}}]
[null,null,null,null,null,null,null,null,null,null,null,null,"no email",{"$error":"#VALUE!"},{"$error":"#VALUE!"},{"$f":"VLOOKUP(K5311,references!$A$1:$B$7,2,FALSE)","v":{"$error":"#N/A"}}]
[null,null,null,null,null,null,null,null,null,null,null,null,"no email",{"$error":"#VALUE!"},{"$error":"#VALUE!"},{"$f":"VLOOKUP(K5312,references!$A$1:$B$7,2,FALSE)","v":{"$error":"#N/A"}}]
[null,null,null,null,null,null,null,null,null,null,null,null,"no email",{"$error":"#VALUE!"},{"$error":"#VALUE!"},{"$f":"VLOOKUP(K5313,references!$A$1:$B$7,2,FALSE)","v":{"$error":"#N/A"}}]
[null,null,null,null,null,null,null,null,null,null,null,null,{"$f":"IF(L5314=\"\", \"no email\",LOWER(L5314))","v":"no email"},{"$f":"LEFT(A5314, SEARCH(\",\",A5314,1)-1)","v":{"$error":"#VALUE!"}},{"$f":"RIGHT(A5314, LEN(A5314) -SEARCH(\",\",A5314,1)-1)","v":{"$error":"#VALUE!"}},{"$f":"VLOOKUP(K5314,references!$A$1:$B$7,2,FALSE)","v":{"$error":"#N/A"}}]
[null,null,null,null,null,null,null,null,null,null,null,null,"no email",{"$error":"#VALUE!"},{"$error":"#VALUE!"},{"$f":"VLOOKUP(K5315,references!$A$1:$B$7,2,FALSE)","v":{"$error":"#N/A"}}]
[null,null,null,null,null,null,null,null,null,null,null,null,"no email",{"$error":"#VALUE!"},{"$error":"#VALUE!"},{"$f":"VLOOKUP(K5316,references!$A$1:$B$7,2,FALSE)","v":{"$error":"#N/A"}}]
[null,null,null,null,null,null,null,null,null,null,null,null,"no email",{"$error":"#VALUE!"},{"$error":"#VALUE!"},{"$f":"VLOOKUP(K5317,references!$A$1:$B$7,2,FALSE)","v":{"$error":"#N/A"}}]
[null,null,null,null,null,null,null,null,null,null,null,null,"no email",{"$error":"#VALUE!"},{"$error":"#VALUE!"},{"$f":"VLOOKUP(K5318,references!$A$1:$B$7,2,FALSE)","v":{"$error":"#N/A"}}]
[null,null,null,null,null,null,null,null,null,null,null,null,"no email",{"$error":"#VALUE!"},{"$error":"#VALUE!"},{"$f":"VLOOKUP(K5319,references!$A$1:$B$7,2,FALSE)","v":{"$error":"#N/A"}}]
[null,null,null,null,null,null,null,null,null,null,null,null,"no email",{"$error":"#VALUE!"},{"$error":"#VALUE!"},{"$f":"VLOOKUP(K5320,references!$A$1:$B$7,2,FALSE)","v":{"$error":"#N/A"}}]
[null,null,null,null,null,null,null,null,null,null,null,null,"no email",{"$error":"#VALUE!"},{"$error":"#VALUE!"},{"$f":"VLOOKUP(K5321,references!$A$1:$B$7,2,FALSE)","v":{"$error":"#N/A"}}]
[null,null,null,null,null,null,null,null,null,null,null,null,"no email",{"$error":"#VALUE!"},{"$error":"#VALUE!"},{"$f":"VLOOKUP(K5322,references!$A$1:$B$7,2,FALSE)","v":{"$error":"#N/A"}}]
[null,null,null,null,null,null,null,null,null,null,null,null,"no email",{"$error":"#VALUE!"},{"$error":"#VALUE!"},{"$f":"VLOOKUP(K5323,references!$A$1:$B$7,2,FALSE)","v":{"$error":"#N/A"}}]
[null,null,null,null,null,null,null,null,null,null,null,null,"no email",{"$error":"#VALUE!"},{"$error":"#VALUE!"},{"$f":"VLOOKUP(K5324,references!$A$1:$B$7,2,FALSE)","v":{"$error":"#N/A"}}]
[null,null,null,null,null,null,null,null,null,null,null,null,"no email",{"$error":"#VALUE!"},{"$error":"#VALUE!"},{"$f":"VLOOKUP(K5325,references!$A$1:$B$7,2,FALSE)","v":{"$error":"#N/A"}}]
[null,null,null,null,null,null,null,null,null,null,null,null,"no email",{"$error":"#VALUE!"},{"$error":"#VALUE!"},{"$f":"VLOOKUP(K5326,references!$A$1:$B$7,2,FALSE)","v":{"$error":"#N/A"}}]
[null,null,null,null,null,null,null,null,null,null,null,null,"no email",{"$error":"#VALUE!"},{"$error":"#VALUE!"},{"$f":"VLOOKUP(K5327,references!$A$1:$B$7,2,FALSE)","v":{"$error":"#N/A"}}]
[null,null,null,null,null,null,null,null,null,null,null,null,"no email",{"$error":"#VALUE!"},{"$error":"#VALUE!"},{"$f":"VLOOKUP(K5328,references!$A$1:$B$7,2,FALSE)","v":{"$error":"#N/A"}}]
[null,null,null,null,null,null,null,null,null,null,null,null,"no email",{"$error":"#VALUE!"},{"$error":"#VALUE!"},{"$f":"VLOOKUP(K5329,references!$A$1:$B$7,2,FALSE)","v":{"$error":"#N/A"}}]
[null,null,null,null,null,null,null,null,null,null,null,null,"no email",{"$error":"#VALUE!"},{"$error":"#VALUE!"},{"$f":"VLOOKUP(K5330,references!$A$1:$B$7,2,FALSE)","v":{"$error":"#N/A"}}]
[null,null,null,null,null,null,null,null,null,null,null,null,"no email",{"$error":"#VALUE!"},{"$error":"#VALUE!"},{"$f":"VLOOKUP(K5331,references!$A$1:$B$7,2,FALSE)","v":{"$error":"#N/A"}}]
[null,null,null,null,null,null,null,null,null,null,null,null,"no email",{"$error":"#VALUE!"},{"$error":"#VALUE!"},{"$f":"VLOOKUP(K5332,references!$A$1:$B$7,2,FALSE)","v":{"$error":"#N/A"}}]
[null,null,null,null,null,null,null,null,null,null,null,null,"no email",{"$error":"#VALUE!"},{"$error":"#VALUE!"},{"$f":"VLOOKUP(K5333,references!$A$1:$B$7,2,FALSE)","v":{"$error":"#N/A"}}]
[null,null,null,null,null,null,null,null,null,null,null,null,"no email",{"$error":"#VALUE!"},{"$error":"#VALUE!"},{"$f":"VLOOKUP(K5334,references!$A$1:$B$7,2,FALSE)","v":{"$error":"#N/A"}}]
[null,null,null,null,null,null,null,null,null,null,null,null,"no email",{"$error":"#VALUE!"},{"$error":"#VALUE!"},{"$f":"VLOOKUP(K5335,references!$A$1:$B$7,2,FALSE)","v":{"$error":"#N/A"}}]
[null,null,null,null,null,null,null,null,null,null,null,null,"no email",{"$error":"#VALUE!"},{"$error":"#VALUE!"},{"$f":"VLOOKUP(K5336,references!$A$1:$B$7,2,FALSE)","v":{"$error":"#N/A"}}]
[null,null,null,null,null,null,null,null,null,null,null,null,"no email",{"$error":"#VALUE!"},{"$error":"#VALUE!"},{"$f":"VLOOKUP(K5337,references!$A$1:$B$7,2,FALSE)","v":{"$error":"#N/A"}}]
[null,null,null,null,null,null,null,null,null,null,null,null,"no email",{"$error":"#VALUE!"},{"$error":"#VALUE!"},{"$f":"VLOOKUP(K5338,references!$A$1:$B$7,2,FALSE)","v":{"$error":"#N/A"}}]
[null,null,null,null,null,null,null,null,null,null,null,null,"no email",{"$error":"#VALUE!"},{"$error":"#VALUE!"},{"$f":"VLOOKUP(K5339,references!$A$1:$B$7,2,FALSE)","v":{"$error":"#N/A"}}]
[null,null,null,null,null,null,null,null,null,null,null,null,"no email",{"$error":"#VALUE!"},{"$error":"#VALUE!"},{"$f":"VLOOKUP(K5340,references!$A$1:$B$7,2,FALSE)","v":{"$error":"#N/A"}}]
[null,null,null,null,null,null,null,null,null,null,null,null,"no email",{"$error":"#VALUE!"},{"$error":"#VALUE!"},{"$f":"VLOOKUP(K5341,references!$A$1:$B$7,2,FALSE)","v":{"$error":"#N/A"}}]
[null,null,null,null,null,null,null,null,null,null,null,null,"no email",{"$error":"#VALUE!"},{"$error":"#VALUE!"},{"$f":"VLOOKUP(K5342,references!$A$1:$B$7,2,FALSE)","v":{"$error":"#N/A"}}]
[null,null,null,null,null,null,null,null,null,null,null,null,"no email",{"$error":"#VALUE!"},{"$error":"#VALUE!"},{"$f":"VLOOKUP(K5343,references!$A$1:$B$7,2,FALSE)","v":{"$error":"#N/A"}}]
[null,null,null,null,null,null,null,null,null,null,null,null,"no email",{"$error":"#VALUE!"},{"$error":"#VALUE!"},{"$f":"VLOOKUP(K5344,references!$A$1:$B$7,2,FALSE)","v":{"$error":"#N/A"}}]
[null,null,null,null,null,null,null,null,null,null,null,null,"no email",{"$error":"#VALUE!"},{"$error":"#VALUE!"},{"$f":"VLOOKUP(K5345,references!$A$1:$B$7,2,FALSE)","v":{"$error":"#N/A"}}]
[null,null,null,null,null,null,null,null,null,null,null,null,"no email",{"$error":"#VALUE!"},{"$error":"#VALUE!"},{"$f":"VLOOKUP(K5346,references!$A$1:$B$7,2,FALSE)","v":{"$error":"#N/A"}}]
[null,null,null,null,null,null,null,null,null,null,null,null,"no email",{"$error":"#VALUE!"},{"$error":"#VALUE!"},{"$f":"VLOOKUP(K5347,references!$A$1:$B$7,2,FALSE)","v":{"$error":"#N/A"}}]
[null,null,null,null,null,null,null,null,null,null,null,null,"no email",{"$error":"#VALUE!"},{"$error":"#VALUE!"},{"$f":"VLOOKUP(K5348,references!$A$1:$B$7,2,FALSE)","v":{"$error":"#N/A"}}]
[null,null,null,null,null,null,null,null,null,null,null,null,"no email",{"$error":"#VALUE!"},{"$error":"#VALUE!"},{"$f":"VLOOKUP(K5349,references!$A$1:$B$7,2,FALSE)","v":{"$error":"#N/A"}}]
[null,null,null,null,null,null,null,null,null,null,null,null,"no email",{"$error":"#VALUE!"},{"$error":"#VALUE!"},{"$f":"VLOOKUP(K5350,references!$A$1:$B$7,2,FALSE)","v":{"$error":"#N/A"}}]
[null,null,null,null,null,null,null,null,null,null,null,null,"no email",{"$error":"#VALUE!"},{"$error":"#VALUE!"},{"$f":"VLOOKUP(K5351,references!$A$1:$B$7,2,FALSE)","v":{"$error":"#N/A"}}]
[null,null,null,null,null,null,null,null,null,null,null,null,"no email",{"$error":"#VALUE!"},{"$error":"#VALUE!"},{"$f":"VLOOKUP(K5352,references!$A$1:$B$7,2,FALSE)","v":{"$error":"#N/A"}}]
[null,null,null,null,null,null,null,null,null,null,null,null,"no email",{"$error":"#VALUE!"},{"$error":"#VALUE!"},{"$f":"VLOOKUP(K5353,references!$A$1:$B$7,2,FALSE)","v":{"$error":"#N/A"}}]
[null,null,null,null,null,null,null,null,null,null,null,null,"no email",{"$error":"#VALUE!"},{"$error":"#VALUE!"},{"$f":"VLOOKUP(K5354,references!$A$1:$B$7,2,FALSE)","v":{"$error":"#N/A"}}]
[null,null,null,null,null,null,null,null,null,null,null,null,"no email",{"$error":"#VALUE!"},{"$error":"#VALUE!"},{"$f":"VLOOKUP(K5355,references!$A$1:$B$7,2,FALSE)","v":{"$error":"#N/A"}}]
[null,null,null,null,null,null,null,null,null,null,null,null,"no email",{"$error":"#VALUE!"},{"$error":"#VALUE!"},{"$f":"VLOOKUP(K5356,references!$A$1:$B$7,2,FALSE)","v":{"$error":"#N/A"}}]
[null,null,null,null,null,null,null,null,null,null,null,null,"no email",{"$error":"#VALUE!"},{"$error":"#VALUE!"},{"$f":"VLOOKUP(K5357,references!$A$1:$B$7,2,FALSE)","v":{"$error":"#N/A"}}]
[null,null,null,null,null,null,null,null,null,null,null,null,"no email",{"$error":"#VALUE!"},{"$error":"#VALUE!"},{"$f":"VLOOKUP(K5358,references!$A$1:$B$7,2,FALSE)","v":{"$error":"#N/A"}}]
[null,null,null,null,null,null,null,null,null,null,null,null,"no email",{"$error":"#VALUE!"},{"$error":"#VALUE!"},{"$f":"VLOOKUP(K5359,references!$A$1:$B$7,2,FALSE)","v":{"$error":"#N/A"}}]
[null,null,null,null,null,null,null,null,null,null,null,null,"no email",{"$error":"#VALUE!"},{"$error":"#VALUE!"},{"$f":"VLOOKUP(K5360,references!$A$1:$B$7,2,FALSE)","v":{"$error":"#N/A"}}]
[null,null,null,null,null,null,null,null,null,null,null,null,"no email",{"$error":"#VALUE!"},{"$error":"#VALUE!"},{"$f":"VLOOKUP(K5361,references!$A$1:$B$7,2,FALSE)","v":{"$error":"#N/A"}}]
[null,null,null,null,null,null,null,null,null,null,null,null,"no email",{"$error":"#VALUE!"},{"$error":"#VALUE!"},{"$f":"VLOOKUP(K5362,references!$A$1:$B$7,2,FALSE)","v":{"$error":"#N/A"}}]
[null,null,null,null,null,null,null,null,null,null,null,null,"no email",{"$error":"#VALUE!"},{"$error":"#VALUE!"},{"$f":"VLOOKUP(K5363,references!$A$1:$B$7,2,FALSE)","v":{"$error":"#N/A"}}]
[null,null,null,null,null,null,null,null,null,null,null,null,"no email",{"$error":"#VALUE!"},{"$error":"#VALUE!"},{"$f":"VLOOKUP(K5364,references!$A$1:$B$7,2,FALSE)","v":{"$error":"#N/A"}}]
[null,null,null,null,null,null,null,null,null,null,null,null,"no email",{"$error":"#VALUE!"},{"$error":"#VALUE!"},{"$f":"VLOOKUP(K5365,references!$A$1:$B$7,2,FALSE)","v":{"$error":"#N/A"}}]
[null,null,null,null,null,null,null,null,null,null,null,null,"no email",{"$error":"#VALUE!"},{"$error":"#VALUE!"},{"$f":"VLOOKUP(K5366,references!$A$1:$B$7,2,FALSE)","v":{"$error":"#N/A"}}]
[null,null,null,null,null,null,null,null,null,null,null,null,"no email",{"$error":"#VALUE!"},{"$error":"#VALUE!"},{"$f":"VLOOKUP(K5367,references!$A$1:$B$7,2,FALSE)","v":{"$error":"#N/A"}}]
[null,null,null,null,null,null,null,null,null,null,null,null,"no email",{"$error":"#VALUE!"},{"$error":"#VALUE!"},{"$f":"VLOOKUP(K5368,references!$A$1:$B$7,2,FALSE)","v":{"$error":"#N/A"}}]
[null,null,null,null,null,null,null,null,null,null,null,null,"no email",{"$error":"#VALUE!"},{"$error":"#VALUE!"},{"$f":"VLOOKUP(K5369,references!$A$1:$B$7,2,FALSE)","v":{"$error":"#N/A"}}]
[null,null,null,null,null,null,null,null,null,null,null,null,"no email",{"$error":"#VALUE!"},{"$error":"#VALUE!"},{"$f":"VLOOKUP(K5370,references!$A$1:$B$7,2,FALSE)","v":{"$error":"#N/A"}}]
[null,null,null,null,null,null,null,null,null,null,null,null,"no email",{"$error":"#VALUE!"},{"$error":"#VALUE!"},{"$f":"VLOOKUP(K5371,references!$A$1:$B$7,2,FALSE)","v":{"$error":"#N/A"}}]
[null,null,null,null,null,null,null,null,null,null,null,null,"no email",{"$error":"#VALUE!"},{"$error":"#VALUE!"},{"$f":"VLOOKUP(K5372,references!$A$1:$B$7,2,FALSE)","v":{"$error":"#N/A"}}]
[null,null,null,null,null,null,null,null,null,null,null,null,"no email",{"$error":"#VALUE!"},{"$error":"#VALUE!"},{"$f":"VLOOKUP(K5373,references!$A$1:$B$7,2,FALSE)","v":{"$error":"#N/A"}}]
[null,null,null,null,null,null,null,null,null,null,null,null,"no email",{"$error":"#VALUE!"},{"$error":"#VALUE!"},{"$f":"VLOOKUP(K5374,references!$A$1:$B$7,2,FALSE)","v":{"$error":"#N/A"}}]
[null,null,null,null,null,null,null,null,null,null,null,null,"no email",{"$error":"#VALUE!"},{"$error":"#VALUE!"},{"$f":"VLOOKUP(K5375,references!$A$1:$B$7,2,FALSE)","v":{"$error":"#N/A"}}]
[null,null,null,null,null,null,null,null,null,null,null,null,"no email",{"$error":"#VALUE!"},{"$error":"#VALUE!"},{"$f":"VLOOKUP(K5376,references!$A$1:$B$7,2,FALSE)","v":{"$error":"#N/A"}}]
[null,null,null,null,null,null,null,null,null,null,null,null,"no email",{"$error":"#VALUE!"},{"$error":"#VALUE!"},{"$f":"VLOOKUP(K5377,references!$A$1:$B$7,2,FALSE)","v":{"$error":"#N/A"}}]
[null,null,null,null,null,null,null,null,null,null,null,null,{"$f":"IF(L5378=\"\", \"no email\",LOWER(L5378))","v":"no email"},{"$f":"LEFT(A5378, SEARCH(\",\",A5378,1)-1)","v":{"$error":"#VALUE!"}},{"$f":"RIGHT(A5378, LEN(A5378) -SEARCH(\",\",A5378,1)-1)","v":{"$error":"#VALUE!"}},{"$f":"VLOOKUP(K5378,references!$A$1:$B$7,2,FALSE)","v":{"$error":"#N/A"}}]
[null,null,null,null,null,null,null,null,null,null,null,null,"no email",{"$error":"#VALUE!"},{"$error":"#VALUE!"},{"$f":"VLOOKUP(K5379,references!$A$1:$B$7,2,FALSE)","v":{"$error":"#N/A"}}]
[null,null,null,null,null,null,null,null,null,null,null,null,"no email",{"$error":"#VALUE!"},{"$error":"#VALUE!"},{"$f":"VLOOKUP(K5380,references!$A$1:$B$7,2,FALSE)","v":{"$error":"#N/A"}}]
[null,null,null,null,null,null,null,null,null,null,null,null,"no email",{"$error":"#VALUE!"},{"$error":"#VALUE!"},{"$f":"VLOOKUP(K5381,references!$A$1:$B$7,2,FALSE)","v":{"$error":"#N/A"}}]
[null,null,null,null,null,null,null,null,null,null,null,null,"no email",{"$error":"#VALUE!"},{"$error":"#VALUE!"},{"$f":"VLOOKUP(K5382,references!$A$1:$B$7,2,FALSE)","v":{"$error":"#N/A"}}]
[null,null,null,null,null,null,null,null,null,null,null,null,"no email",{"$error":"#VALUE!"},{"$error":"#VALUE!"},{"$f":"VLOOKUP(K5383,references!$A$1:$B$7,2,FALSE)","v":{"$error":"#N/A"}}]
[null,null,null,null,null,null,null,null,null,null,null,null,"no email",{"$error":"#VALUE!"},{"$error":"#VALUE!"},{"$f":"VLOOKUP(K5384,references!$A$1:$B$7,2,FALSE)","v":{"$error":"#N/A"}}]
[null,null,null,null,null,null,null,null,null,null,null,null,"no email",{"$error":"#VALUE!"},{"$error":"#VALUE!"},{"$f":"VLOOKUP(K5385,references!$A$1:$B$7,2,FALSE)","v":{"$error":"#N/A"}}]
[null,null,null,null,null,null,null,null,null,null,null,null,"no email",{"$error":"#VALUE!"},{"$error":"#VALUE!"},{"$f":"VLOOKUP(K5386,references!$A$1:$B$7,2,FALSE)","v":{"$error":"#N/A"}}]
[null,null,null,null,null,null,null,null,null,null,null,null,"no email",{"$error":"#VALUE!"},{"$error":"#VALUE!"},{"$f":"VLOOKUP(K5387,references!$A$1:$B$7,2,FALSE)","v":{"$error":"#N/A"}}]
[null,null,null,null,null,null,null,null,null,null,null,null,"no email",{"$error":"#VALUE!"},{"$error":"#VALUE!"},{"$f":"VLOOKUP(K5388,references!$A$1:$B$7,2,FALSE)","v":{"$error":"#N/A"}}]
[null,null,null,null,null,null,null,null,null,null,null,null,"no email",{"$error":"#VALUE!"},{"$error":"#VALUE!"},{"$f":"VLOOKUP(K5389,references!$A$1:$B$7,2,FALSE)","v":{"$error":"#N/A"}}]
[null,null,null,null,null,null,null,null,null,null,null,null,"no email",{"$error":"#VALUE!"},{"$error":"#VALUE!"},{"$f":"VLOOKUP(K5390,references!$A$1:$B$7,2,FALSE)","v":{"$error":"#N/A"}}]
[null,null,null,null,null,null,null,null,null,null,null,null,"no email",{"$error":"#VALUE!"},{"$error":"#VALUE!"},{"$f":"VLOOKUP(K5391,references!$A$1:$B$7,2,FALSE)","v":{"$error":"#N/A"}}]
[null,null,null,null,null,null,null,null,null,null,null,null,"no email",{"$error":"#VALUE!"},{"$error":"#VALUE!"},{"$f":"VLOOKUP(K5392,references!$A$1:$B$7,2,FALSE)","v":{"$error":"#N/A"}}]
[null,null,null,null,null,null,null,null,null,null,null,null,"no email",{"$error":"#VALUE!"},{"$error":"#VALUE!"},{"$f":"VLOOKUP(K5393,references!$A$1:$B$7,2,FALSE)","v":{"$error":"#N/A"}}]
[null,null,null,null,null,null,null,null,null,null,null,null,"no email",{"$error":"#VALUE!"},{"$error":"#VALUE!"},{"$f":"VLOOKUP(K5394,references!$A$1:$B$7,2,FALSE)","v":{"$error":"#N/A"}}]
[null,null,null,null,null,null,null,null,null,null,null,null,"no email",{"$error":"#VALUE!"},{"$error":"#VALUE!"},{"$f":"VLOOKUP(K5395,references!$A$1:$B$7,2,FALSE)","v":{"$error":"#N/A"}}]
[null,null,null,null,null,null,null,null,null,null,null,null,"no email",{"$error":"#VALUE!"},{"$error":"#VALUE!"},{"$f":"VLOOKUP(K5396,references!$A$1:$B$7,2,FALSE)","v":{"$error":"#N/A"}}]
[null,null,null,null,null,null,null,null,null,null,null,null,"no email",{"$error":"#VALUE!"},{"$error":"#VALUE!"},{"$f":"VLOOKUP(K5397,references!$A$1:$B$7,2,FALSE)","v":{"$error":"#N/A"}}]
[null,null,null,null,null,null,null,null,null,null,null,null,"no email",{"$error":"#VALUE!"},{"$error":"#VALUE!"},{"$f":"VLOOKUP(K5398,references!$A$1:$B$7,2,FALSE)","v":{"$error":"#N/A"}}]
[null,null,null,null,null,null,null,null,null,null,null,null,"no email",{"$error":"#VALUE!"},{"$error":"#VALUE!"},{"$f":"VLOOKUP(K5399,references!$A$1:$B$7,2,FALSE)","v":{"$error":"#N/A"}}]
[null,null,null,null,null,null,null,null,null,null,null,null,"no email",{"$error":"#VALUE!"},{"$error":"#VALUE!"},{"$f":"VLOOKUP(K5400,references!$A$1:$B$7,2,FALSE)","v":{"$error":"#N/A"}}]
[null,null,null,null,null,null,null,null,null,null,null,null,"no email",{"$error":"#VALUE!"},{"$error":"#VALUE!"},{"$f":"VLOOKUP(K5401,references!$A$1:$B$7,2,FALSE)","v":{"$error":"#N/A"}}]
[null,null,null,null,null,null,null,null,null,null,null,null,"no email",{"$error":"#VALUE!"},{"$error":"#VALUE!"},{"$f":"VLOOKUP(K5402,references!$A$1:$B$7,2,FALSE)","v":{"$error":"#N/A"}}]
[null,null,null,null,null,null,null,null,null,null,null,null,"no email",{"$error":"#VALUE!"},{"$error":"#VALUE!"},{"$f":"VLOOKUP(K5403,references!$A$1:$B$7,2,FALSE)","v":{"$error":"#N/A"}}]
[null,null,null,null,null,null,null,null,null,null,null,null,"no email",{"$error":"#VALUE!"},{"$error":"#VALUE!"},{"$f":"VLOOKUP(K5404,references!$A$1:$B$7,2,FALSE)","v":{"$error":"#N/A"}}]
[null,null,null,null,null,null,null,null,null,null,null,null,"no email",{"$error":"#VALUE!"},{"$error":"#VALUE!"},{"$f":"VLOOKUP(K5405,references!$A$1:$B$7,2,FALSE)","v":{"$error":"#N/A"}}]
[null,null,null,null,null,null,null,null,null,null,null,null,"no email",{"$error":"#VALUE!"},{"$error":"#VALUE!"},{"$f":"VLOOKUP(K5406,references!$A$1:$B$7,2,FALSE)","v":{"$error":"#N/A"}}]
[null,null,null,null,null,null,null,null,null,null,null,null,"no email",{"$error":"#VALUE!"},{"$error":"#VALUE!"},{"$f":"VLOOKUP(K5407,references!$A$1:$B$7,2,FALSE)","v":{"$error":"#N/A"}}]
[null,null,null,null,null,null,null,null,null,null,null,null,"no email",{"$error":"#VALUE!"},{"$error":"#VALUE!"},{"$f":"VLOOKUP(K5408,references!$A$1:$B$7,2,FALSE)","v":{"$error":"#N/A"}}]
[null,null,null,null,null,null,null,null,null,null,null,null,"no email",{"$error":"#VALUE!"},{"$error":"#VALUE!"},{"$f":"VLOOKUP(K5409,references!$A$1:$B$7,2,FALSE)","v":{"$error":"#N/A"}}]
[null,null,null,null,null,null,null,null,null,null,null,null,"no email",{"$error":"#VALUE!"},{"$error":"#VALUE!"},{"$f":"VLOOKUP(K5410,references!$A$1:$B$7,2,FALSE)","v":{"$error":"#N/A"}}]
[null,null,null,null,null,null,null,null,null,null,null,null,"no email",{"$error":"#VALUE!"},{"$error":"#VALUE!"},{"$f":"VLOOKUP(K5411,references!$A$1:$B$7,2,FALSE)","v":{"$error":"#N/A"}}]
[null,null,null,null,null,null,null,null,null,null,null,null,"no email",{"$error":"#VALUE!"},{"$error":"#VALUE!"},{"$f":"VLOOKUP(K5412,references!$A$1:$B$7,2,FALSE)","v":{"$error":"#N/A"}}]
[null,null,null,null,null,null,null,null,null,null,null,null,"no email",{"$error":"#VALUE!"},{"$error":"#VALUE!"},{"$f":"VLOOKUP(K5413,references!$A$1:$B$7,2,FALSE)","v":{"$error":"#N/A"}}]
[null,null,null,null,null,null,null,null,null,null,null,null,"no email",{"$error":"#VALUE!"},{"$error":"#VALUE!"},{"$f":"VLOOKUP(K5414,references!$A$1:$B$7,2,FALSE)","v":{"$error":"#N/A"}}]
[null,null,null,null,null,null,null,null,null,null,null,null,"no email",{"$error":"#VALUE!"},{"$error":"#VALUE!"},{"$f":"VLOOKUP(K5415,references!$A$1:$B$7,2,FALSE)","v":{"$error":"#N/A"}}]
[null,null,null,null,null,null,null,null,null,null,null,null,"no email",{"$error":"#VALUE!"},{"$error":"#VALUE!"},{"$f":"VLOOKUP(K5416,references!$A$1:$B$7,2,FALSE)","v":{"$error":"#N/A"}}]
[null,null,null,null,null,null,null,null,null,null,null,null,"no email",{"$error":"#VALUE!"},{"$error":"#VALUE!"},{"$f":"VLOOKUP(K5417,references!$A$1:$B$7,2,FALSE)","v":{"$error":"#N/A"}}]
[null,null,null,null,null,null,null,null,null,null,null,null,"no email",{"$error":"#VALUE!"},{"$error":"#VALUE!"},{"$f":"VLOOKUP(K5418,references!$A$1:$B$7,2,FALSE)","v":{"$error":"#N/A"}}]
[null,null,null,null,null,null,null,null,null,null,null,null,"no email",{"$error":"#VALUE!"},{"$error":"#VALUE!"},{"$f":"VLOOKUP(K5419,references!$A$1:$B$7,2,FALSE)","v":{"$error":"#N/A"}}]
[null,null,null,null,null,null,null,null,null,null,null,null,"no email",{"$error":"#VALUE!"},{"$error":"#VALUE!"},{"$f":"VLOOKUP(K5420,references!$A$1:$B$7,2,FALSE)","v":{"$error":"#N/A"}}]
[null,null,null,null,null,null,null,null,null,null,null,null,"no email",{"$error":"#VALUE!"},{"$error":"#VALUE!"},{"$f":"VLOOKUP(K5421,references!$A$1:$B$7,2,FALSE)","v":{"$error":"#N/A"}}]
[null,null,null,null,null,null,null,null,null,null,null,null,"no email",{"$error":"#VALUE!"},{"$error":"#VALUE!"},{"$f":"VLOOKUP(K5422,references!$A$1:$B$7,2,FALSE)","v":{"$error":"#N/A"}}]
[null,null,null,null,null,null,null,null,null,null,null,null,"no email",{"$error":"#VALUE!"},{"$error":"#VALUE!"},{"$f":"VLOOKUP(K5423,references!$A$1:$B$7,2,FALSE)","v":{"$error":"#N/A"}}]
[null,null,null,null,null,null,null,null,null,null,null,null,"no email",{"$error":"#VALUE!"},{"$error":"#VALUE!"},{"$f":"VLOOKUP(K5424,references!$A$1:$B$7,2,FALSE)","v":{"$error":"#N/A"}}]
[null,null,null,null,null,null,null,null,null,null,null,null,"no email",{"$error":"#VALUE!"},{"$error":"#VALUE!"},{"$f":"VLOOKUP(K5425,references!$A$1:$B$7,2,FALSE)","v":{"$error":"#N/A"}}]
[null,null,null,null,null,null,null,null,null,null,null,null,"no email",{"$error":"#VALUE!"},{"$error":"#VALUE!"},{"$f":"VLOOKUP(K5426,references!$A$1:$B$7,2,FALSE)","v":{"$error":"#N/A"}}]
[null,null,null,null,null,null,null,null,null,null,null,null,"no email",{"$error":"#VALUE!"},{"$error":"#VALUE!"},{"$f":"VLOOKUP(K5427,references!$A$1:$B$7,2,FALSE)","v":{"$error":"#N/A"}}]
[null,null,null,null,null,null,null,null,null,null,null,null,"no email",{"$error":"#VALUE!"},{"$error":"#VALUE!"},{"$f":"VLOOKUP(K5428,references!$A$1:$B$7,2,FALSE)","v":{"$error":"#N/A"}}]
[null,null,null,null,null,null,null,null,null,null,null,null,"no email",{"$error":"#VALUE!"},{"$error":"#VALUE!"},{"$f":"VLOOKUP(K5429,references!$A$1:$B$7,2,FALSE)","v":{"$error":"#N/A"}}]
[null,null,null,null,null,null,null,null,null,null,null,null,"no email",{"$error":"#VALUE!"},{"$error":"#VALUE!"},{"$f":"VLOOKUP(K5430,references!$A$1:$B$7,2,FALSE)","v":{"$error":"#N/A"}}]
[null,null,null,null,null,null,null,null,null,null,null,null,"no email",{"$error":"#VALUE!"},{"$error":"#VALUE!"},{"$f":"VLOOKUP(K5431,references!$A$1:$B$7,2,FALSE)","v":{"$error":"#N/A"}}]
[null,null,null,null,null,null,null,null,null,null,null,null,"no email",{"$error":"#VALUE!"},{"$error":"#VALUE!"},{"$f":"VLOOKUP(K5432,references!$A$1:$B$7,2,FALSE)","v":{"$error":"#N/A"}}]
[null,null,null,null,null,null,null,null,null,null,null,null,"no email",{"$error":"#VALUE!"},{"$error":"#VALUE!"},{"$f":"VLOOKUP(K5433,references!$A$1:$B$7,2,FALSE)","v":{"$error":"#N/A"}}]
[null,null,null,null,null,null,null,null,null,null,null,null,"no email",{"$error":"#VALUE!"},{"$error":"#VALUE!"},{"$f":"VLOOKUP(K5434,references!$A$1:$B$7,2,FALSE)","v":{"$error":"#N/A"}}]
[null,null,null,null,null,null,null,null,null,null,null,null,"no email",{"$error":"#VALUE!"},{"$error":"#VALUE!"},{"$f":"VLOOKUP(K5435,references!$A$1:$B$7,2,FALSE)","v":{"$error":"#N/A"}}]
[null,null,null,null,null,null,null,null,null,null,null,null,"no email",{"$error":"#VALUE!"},{"$error":"#VALUE!"},{"$f":"VLOOKUP(K5436,references!$A$1:$B$7,2,FALSE)","v":{"$error":"#N/A"}}]
[null,null,null,null,null,null,null,null,null,null,null,null,"no email",{"$error":"#VALUE!"},{"$error":"#VALUE!"},{"$f":"VLOOKUP(K5437,references!$A$1:$B$7,2,FALSE)","v":{"$error":"#N/A"}}]
[null,null,null,null,null,null,null,null,null,null,null,null,"no email",{"$error":"#VALUE!"},{"$error":"#VALUE!"},{"$f":"VLOOKUP(K5438,references!$A$1:$B$7,2,FALSE)","v":{"$error":"#N/A"}}]
[null,null,null,null,null,null,null,null,null,null,null,null,"no email",{"$error":"#VALUE!"},{"$error":"#VALUE!"},{"$f":"VLOOKUP(K5439,references!$A$1:$B$7,2,FALSE)","v":{"$error":"#N/A"}}]
[null,null,null,null,null,null,null,null,null,null,null,null,"no email",{"$error":"#VALUE!"},{"$error":"#VALUE!"},{"$f":"VLOOKUP(K5440,references!$A$1:$B$7,2,FALSE)","v":{"$error":"#N/A"}}]
[null,null,null,null,null,null,null,null,null,null,null,null,"no email",{"$error":"#VALUE!"},{"$error":"#VALUE!"},{"$f":"VLOOKUP(K5441,references!$A$1:$B$7,2,FALSE)","v":{"$error":"#N/A"}}]
[null,null,null,null,null,null,null,null,null,null,null,null,{"$f":"IF(L5442=\"\", \"no email\",LOWER(L5442))","v":"no email"},{"$f":"LEFT(A5442, SEARCH(\",\",A5442,1)-1)","v":{"$error":"#VALUE!"}},{"$f":"RIGHT(A5442, LEN(A5442) -SEARCH(\",\",A5442,1)-1)","v":{"$error":"#VALUE!"}},{"$f":"VLOOKUP(K5442,references!$A$1:$B$7,2,FALSE)","v":{"$error":"#N/A"}}]
[null,null,null,null,null,null,null,null,null,null,null,null,"no email",{"$error":"#VALUE!"},{"$error":"#VALUE!"},{"$f":"VLOOKUP(K5443,references!$A$1:$B$7,2,FALSE)","v":{"$error":"#N/A"}}]
[null,null,null,null,null,null,null,null,null,null,null,null,"no email",{"$error":"#VALUE!"},{"$error":"#VALUE!"},{"$f":"VLOOKUP(K5444,references!$A$1:$B$7,2,FALSE)","v":{"$error":"#N/A"}}]
[null,null,null,null,null,null,null,null,null,null,null,null,"no email",{"$error":"#VALUE!"},{"$error":"#VALUE!"},{"$f":"VLOOKUP(K5445,references!$A$1:$B$7,2,FALSE)","v":{"$error":"#N/A"}}]
[null,null,null,null,null,null,null,null,null,null,null,null,"no email",{"$error":"#VALUE!"},{"$error":"#VALUE!"},{"$f":"VLOOKUP(K5446,references!$A$1:$B$7,2,FALSE)","v":{"$error":"#N/A"}}]
[null,null,null,null,null,null,null,null,null,null,null,null,"no email",{"$error":"#VALUE!"},{"$error":"#VALUE!"},{"$f":"VLOOKUP(K5447,references!$A$1:$B$7,2,FALSE)","v":{"$error":"#N/A"}}]
[null,null,null,null,null,null,null,null,null,null,null,null,"no email",{"$error":"#VALUE!"},{"$error":"#VALUE!"},{"$f":"VLOOKUP(K5448,references!$A$1:$B$7,2,FALSE)","v":{"$error":"#N/A"}}]
[null,null,null,null,null,null,null,null,null,null,null,null,"no email",{"$error":"#VALUE!"},{"$error":"#VALUE!"},{"$f":"VLOOKUP(K5449,references!$A$1:$B$7,2,FALSE)","v":{"$error":"#N/A"}}]
[null,null,null,null,null,null,null,null,null,null,null,null,"no email",{"$error":"#VALUE!"},{"$error":"#VALUE!"},{"$f":"VLOOKUP(K5450,references!$A$1:$B$7,2,FALSE)","v":{"$error":"#N/A"}}]
[null,null,null,null,null,null,null,null,null,null,null,null,"no email",{"$error":"#VALUE!"},{"$error":"#VALUE!"},{"$f":"VLOOKUP(K5451,references!$A$1:$B$7,2,FALSE)","v":{"$error":"#N/A"}}]
[null,null,null,null,null,null,null,null,null,null,null,null,"no email",{"$error":"#VALUE!"},{"$error":"#VALUE!"},{"$f":"VLOOKUP(K5452,references!$A$1:$B$7,2,FALSE)","v":{"$error":"#N/A"}}]
[null,null,null,null,null,null,null,null,null,null,null,null,"no email",{"$error":"#VALUE!"},{"$error":"#VALUE!"},{"$f":"VLOOKUP(K5453,references!$A$1:$B$7,2,FALSE)","v":{"$error":"#N/A"}}]
[null,null,null,null,null,null,null,null,null,null,null,null,"no email",{"$error":"#VALUE!"},{"$error":"#VALUE!"},{"$f":"VLOOKUP(K5454,references!$A$1:$B$7,2,FALSE)","v":{"$error":"#N/A"}}]
[null,null,null,null,null,null,null,null,null,null,null,null,"no email",{"$error":"#VALUE!"},{"$error":"#VALUE!"},{"$f":"VLOOKUP(K5455,references!$A$1:$B$7,2,FALSE)","v":{"$error":"#N/A"}}]
[null,null,null,null,null,null,null,null,null,null,null,null,"no email",{"$error":"#VALUE!"},{"$error":"#VALUE!"},{"$f":"VLOOKUP(K5456,references!$A$1:$B$7,2,FALSE)","v":{"$error":"#N/A"}}]
[null,null,null,null,null,null,null,null,null,null,null,null,"no email",{"$error":"#VALUE!"},{"$error":"#VALUE!"},{"$f":"VLOOKUP(K5457,references!$A$1:$B$7,2,FALSE)","v":{"$error":"#N/A"}}]
[null,null,null,null,null,null,null,null,null,null,null,null,"no email",{"$error":"#VALUE!"},{"$error":"#VALUE!"},{"$f":"VLOOKUP(K5458,references!$A$1:$B$7,2,FALSE)","v":{"$error":"#N/A"}}]
[null,null,null,null,null,null,null,null,null,null,null,null,"no email",{"$error":"#VALUE!"},{"$error":"#VALUE!"},{"$f":"VLOOKUP(K5459,references!$A$1:$B$7,2,FALSE)","v":{"$error":"#N/A"}}]
[null,null,null,null,null,null,null,null,null,null,null,null,"no email",{"$error":"#VALUE!"},{"$error":"#VALUE!"},{"$f":"VLOOKUP(K5460,references!$A$1:$B$7,2,FALSE)","v":{"$error":"#N/A"}}]
[null,null,null,null,null,null,null,null,null,null,null,null,"no email",{"$error":"#VALUE!"},{"$error":"#VALUE!"},{"$f":"VLOOKUP(K5461,references!$A$1:$B$7,2,FALSE)","v":{"$error":"#N/A"}}]
[null,null,null,null,null,null,null,null,null,null,null,null,"no email",{"$error":"#VALUE!"},{"$error":"#VALUE!"},{"$f":"VLOOKUP(K5462,references!$A$1:$B$7,2,FALSE)","v":{"$error":"#N/A"}}]
[null,null,null,null,null,null,null,null,null,null,null,null,"no email",{"$error":"#VALUE!"},{"$error":"#VALUE!"},{"$f":"VLOOKUP(K5463,references!$A$1:$B$7,2,FALSE)","v":{"$error":"#N/A"}}]
[null,null,null,null,null,null,null,null,null,null,null,null,"no email",{"$error":"#VALUE!"},{"$error":"#VALUE!"},{"$f":"VLOOKUP(K5464,references!$A$1:$B$7,2,FALSE)","v":{"$error":"#N/A"}}]
[null,null,null,null,null,null,null,null,null,null,null,null,"no email",{"$error":"#VALUE!"},{"$error":"#VALUE!"},{"$f":"VLOOKUP(K5465,references!$A$1:$B$7,2,FALSE)","v":{"$error":"#N/A"}}]
[null,null,null,null,null,null,null,null,null,null,null,null,"no email",{"$error":"#VALUE!"},{"$error":"#VALUE!"},{"$f":"VLOOKUP(K5466,references!$A$1:$B$7,2,FALSE)","v":{"$error":"#N/A"}}]
[null,null,null,null,null,null,null,null,null,null,null,null,"no email",{"$error":"#VALUE!"},{"$error":"#VALUE!"},{"$f":"VLOOKUP(K5467,references!$A$1:$B$7,2,FALSE)","v":{"$error":"#N/A"}}]
[null,null,null,null,null,null,null,null,null,null,null,null,"no email",{"$error":"#VALUE!"},{"$error":"#VALUE!"},{"$f":"VLOOKUP(K5468,references!$A$1:$B$7,2,FALSE)","v":{"$error":"#N/A"}}]
[null,null,null,null,null,null,null,null,null,null,null,null,"no email",{"$error":"#VALUE!"},{"$error":"#VALUE!"},{"$f":"VLOOKUP(K5469,references!$A$1:$B$7,2,FALSE)","v":{"$error":"#N/A"}}]
[null,null,null,null,null,null,null,null,null,null,null,null,"no email",{"$error":"#VALUE!"},{"$error":"#VALUE!"},{"$f":"VLOOKUP(K5470,references!$A$1:$B$7,2,FALSE)","v":{"$error":"#N/A"}}]
[null,null,null,null,null,null,null,null,null,null,null,null,"no email",{"$error":"#VALUE!"},{"$error":"#VALUE!"},{"$f":"VLOOKUP(K5471,references!$A$1:$B$7,2,FALSE)","v":{"$error":"#N/A"}}]
[null,null,null,null,null,null,null,null,null,null,null,null,"no email",{"$error":"#VALUE!"},{"$error":"#VALUE!"},{"$f":"VLOOKUP(K5472,references!$A$1:$B$7,2,FALSE)","v":{"$error":"#N/A"}}]
[null,null,null,null,null,null,null,null,null,null,null,null,"no email",{"$error":"#VALUE!"},{"$error":"#VALUE!"},{"$f":"VLOOKUP(K5473,references!$A$1:$B$7,2,FALSE)","v":{"$error":"#N/A"}}]
[null,null,null,null,null,null,null,null,null,null,null,null,"no email",{"$error":"#VALUE!"},{"$error":"#VALUE!"},{"$f":"VLOOKUP(K5474,references!$A$1:$B$7,2,FALSE)","v":{"$error":"#N/A"}}]
[null,null,null,null,null,null,null,null,null,null,null,null,"no email",{"$error":"#VALUE!"},{"$error":"#VALUE!"},{"$f":"VLOOKUP(K5475,references!$A$1:$B$7,2,FALSE)","v":{"$error":"#N/A"}}]
[null,null,null,null,null,null,null,null,null,null,null,null,"no email",{"$error":"#VALUE!"},{"$error":"#VALUE!"},{"$f":"VLOOKUP(K5476,references!$A$1:$B$7,2,FALSE)","v":{"$error":"#N/A"}}]
[null,null,null,null,null,null,null,null,null,null,null,null,"no email",{"$error":"#VALUE!"},{"$error":"#VALUE!"},{"$f":"VLOOKUP(K5477,references!$A$1:$B$7,2,FALSE)","v":{"$error":"#N/A"}}]
[null,null,null,null,null,null,null,null,null,null,null,null,"no email",{"$error":"#VALUE!"},{"$error":"#VALUE!"},{"$f":"VLOOKUP(K5478,references!$A$1:$B$7,2,FALSE)","v":{"$error":"#N/A"}}]
[null,null,null,null,null,null,null,null,null,null,null,null,"no email",{"$error":"#VALUE!"},{"$error":"#VALUE!"},{"$f":"VLOOKUP(K5479,references!$A$1:$B$7,2,FALSE)","v":{"$error":"#N/A"}}]
[null,null,null,null,null,null,null,null,null,null,null,null,"no email",{"$error":"#VALUE!"},{"$error":"#VALUE!"},{"$f":"VLOOKUP(K5480,references!$A$1:$B$7,2,FALSE)","v":{"$error":"#N/A"}}]
[null,null,null,null,null,null,null,null,null,null,null,null,"no email",{"$error":"#VALUE!"},{"$error":"#VALUE!"},{"$f":"VLOOKUP(K5481,references!$A$1:$B$7,2,FALSE)","v":{"$error":"#N/A"}}]
[null,null,null,null,null,null,null,null,null,null,null,null,"no email",{"$error":"#VALUE!"},{"$error":"#VALUE!"},{"$f":"VLOOKUP(K5482,references!$A$1:$B$7,2,FALSE)","v":{"$error":"#N/A"}}]
[null,null,null,null,null,null,null,null,null,null,null,null,"no email",{"$error":"#VALUE!"},{"$error":"#VALUE!"},{"$f":"VLOOKUP(K5483,references!$A$1:$B$7,2,FALSE)","v":{"$error":"#N/A"}}]
[null,null,null,null,null,null,null,null,null,null,null,null,"no email",{"$error":"#VALUE!"},{"$error":"#VALUE!"},{"$f":"VLOOKUP(K5484,references!$A$1:$B$7,2,FALSE)","v":{"$error":"#N/A"}}]
[null,null,null,null,null,null,null,null,null,null,null,null,"no email",{"$error":"#VALUE!"},{"$error":"#VALUE!"},{"$f":"VLOOKUP(K5485,references!$A$1:$B$7,2,FALSE)","v":{"$error":"#N/A"}}]
[null,null,null,null,null,null,null,null,null,null,null,null,"no email",{"$error":"#VALUE!"},{"$error":"#VALUE!"},{"$f":"VLOOKUP(K5486,references!$A$1:$B$7,2,FALSE)","v":{"$error":"#N/A"}}]
[null,null,null,null,null,null,null,null,null,null,null,null,"no email",{"$error":"#VALUE!"},{"$error":"#VALUE!"},{"$f":"VLOOKUP(K5487,references!$A$1:$B$7,2,FALSE)","v":{"$error":"#N/A"}}]
[null,null,null,null,null,null,null,null,null,null,null,null,"no email",{"$error":"#VALUE!"},{"$error":"#VALUE!"},{"$f":"VLOOKUP(K5488,references!$A$1:$B$7,2,FALSE)","v":{"$error":"#N/A"}}]
[null,null,null,null,null,null,null,null,null,null,null,null,"no email",{"$error":"#VALUE!"},{"$error":"#VALUE!"},{"$f":"VLOOKUP(K5489,references!$A$1:$B$7,2,FALSE)","v":{"$error":"#N/A"}}]
[null,null,null,null,null,null,null,null,null,null,null,null,"no email",{"$error":"#VALUE!"},{"$error":"#VALUE!"},{"$f":"VLOOKUP(K5490,references!$A$1:$B$7,2,FALSE)","v":{"$error":"#N/A"}}]
[null,null,null,null,null,null,null,null,null,null,null,null,"no email",{"$error":"#VALUE!"},{"$error":"#VALUE!"},{"$f":"VLOOKUP(K5491,references!$A$1:$B$7,2,FALSE)","v":{"$error":"#N/A"}}]
[null,null,null,null,null,null,null,null,null,null,null,null,"no email",{"$error":"#VALUE!"},{"$error":"#VALUE!"},{"$f":"VLOOKUP(K5492,references!$A$1:$B$7,2,FALSE)","v":{"$error":"#N/A"}}]
[null,null,null,null,null,null,null,null,null,null,null,null,"no email",{"$error":"#VALUE!"},{"$error":"#VALUE!"},{"$f":"VLOOKUP(K5493,references!$A$1:$B$7,2,FALSE)","v":{"$error":"#N/A"}}]
[null,null,null,null,null,null,null,null,null,null,null,null,"no email",{"$error":"#VALUE!"},{"$error":"#VALUE!"},{"$f":"VLOOKUP(K5494,references!$A$1:$B$7,2,FALSE)","v":{"$error":"#N/A"}}]
[null,null,null,null,null,null,null,null,null,null,null,null,"no email",{"$error":"#VALUE!"},{"$error":"#VALUE!"},{"$f":"VLOOKUP(K5495,references!$A$1:$B$7,2,FALSE)","v":{"$error":"#N/A"}}]
[null,null,null,null,null,null,null,null,null,null,null,null,"no email",{"$error":"#VALUE!"},{"$error":"#VALUE!"},{"$f":"VLOOKUP(K5496,references!$A$1:$B$7,2,FALSE)","v":{"$error":"#N/A"}}]
[null,null,null,null,null,null,null,null,null,null,null,null,"no email",{"$error":"#VALUE!"},{"$error":"#VALUE!"},{"$f":"VLOOKUP(K5497,references!$A$1:$B$7,2,FALSE)","v":{"$error":"#N/A"}}]
[null,null,null,null,null,null,null,null,null,null,null,null,"no email",{"$error":"#VALUE!"},{"$error":"#VALUE!"},{"$f":"VLOOKUP(K5498,references!$A$1:$B$7,2,FALSE)","v":{"$error":"#N/A"}}]
[null,null,null,null,null,null,null,null,null,null,null,null,"no email",{"$error":"#VALUE!"},{"$error":"#VALUE!"},{"$f":"VLOOKUP(K5499,references!$A$1:$B$7,2,FALSE)","v":{"$error":"#N/A"}}]
[null,null,null,null,null,null,null,null,null,null,null,null,"no email",{"$error":"#VALUE!"},{"$error":"#VALUE!"},{"$f":"VLOOKUP(K5500,references!$A$1:$B$7,2,FALSE)","v":{"$error":"#N/A"}}]
[null,null,null,null,null,null,null,null,null,null,null,null,"no email",{"$error":"#VALUE!"},{"$error":"#VALUE!"},{"$f":"VLOOKUP(K5501,references!$A$1:$B$7,2,FALSE)","v":{"$error":"#N/A"}}]
[null,null,null,null,null,null,null,null,null,null,null,null,"no email",{"$error":"#VALUE!"},{"$error":"#VALUE!"},{"$f":"VLOOKUP(K5502,references!$A$1:$B$7,2,FALSE)","v":{"$error":"#N/A"}}]
[null,null,null,null,null,null,null,null,null,null,null,null,"no email",{"$error":"#VALUE!"},{"$error":"#VALUE!"},{"$f":"VLOOKUP(K5503,references!$A$1:$B$7,2,FALSE)","v":{"$error":"#N/A"}}]
[null,null,null,null,null,null,null,null,null,null,null,null,"no email",{"$error":"#VALUE!"},{"$error":"#VALUE!"},{"$f":"VLOOKUP(K5504,references!$A$1:$B$7,2,FALSE)","v":{"$error":"#N/A"}}]
[null,null,null,null,null,null,null,null,null,null,null,null,"no email",{"$error":"#VALUE!"},{"$error":"#VALUE!"},{"$f":"VLOOKUP(K5505,references!$A$1:$B$7,2,FALSE)","v":{"$error":"#N/A"}}]
[null,null,null,null,null,null,null,null,null,null,null,null,{"$f":"IF(L5506=\"\", \"no email\",LOWER(L5506))","v":"no email"},{"$f":"LEFT(A5506, SEARCH(\",\",A5506,1)-1)","v":{"$error":"#VALUE!"}},{"$f":"RIGHT(A5506, LEN(A5506) -SEARCH(\",\",A5506,1)-1)","v":{"$error":"#VALUE!"}},{"$f":"VLOOKUP(K5506,references!$A$1:$B$7,2,FALSE)","v":{"$error":"#N/A"}}]
[null,null,null,null,null,null,null,null,null,null,null,null,"no email",{"$error":"#VALUE!"},{"$error":"#VALUE!"},{"$f":"VLOOKUP(K5507,references!$A$1:$B$7,2,FALSE)","v":{"$error":"#N/A"}}]
[null,null,null,null,null,null,null,null,null,null,null,null,"no email",{"$error":"#VALUE!"},{"$error":"#VALUE!"},{"$f":"VLOOKUP(K5508,references!$A$1:$B$7,2,FALSE)","v":{"$error":"#N/A"}}]
[null,null,null,null,null,null,null,null,null,null,null,null,"no email",{"$error":"#VALUE!"},{"$error":"#VALUE!"},{"$f":"VLOOKUP(K5509,references!$A$1:$B$7,2,FALSE)","v":{"$error":"#N/A"}}]
[null,null,null,null,null,null,null,null,null,null,null,null,"no email",{"$error":"#VALUE!"},{"$error":"#VALUE!"},{"$f":"VLOOKUP(K5510,references!$A$1:$B$7,2,FALSE)","v":{"$error":"#N/A"}}]
[null,null,null,null,null,null,null,null,null,null,null,null,"no email",{"$error":"#VALUE!"},{"$error":"#VALUE!"},{"$f":"VLOOKUP(K5511,references!$A$1:$B$7,2,FALSE)","v":{"$error":"#N/A"}}]
[null,null,null,null,null,null,null,null,null,null,null,null,"no email",{"$error":"#VALUE!"},{"$error":"#VALUE!"},{"$f":"VLOOKUP(K5512,references!$A$1:$B$7,2,FALSE)","v":{"$error":"#N/A"}}]
[null,null,null,null,null,null,null,null,null,null,null,null,"no email",{"$error":"#VALUE!"},{"$error":"#VALUE!"},{"$f":"VLOOKUP(K5513,references!$A$1:$B$7,2,FALSE)","v":{"$error":"#N/A"}}]
[null,null,null,null,null,null,null,null,null,null,null,null,"no email",{"$error":"#VALUE!"},{"$error":"#VALUE!"},{"$f":"VLOOKUP(K5514,references!$A$1:$B$7,2,FALSE)","v":{"$error":"#N/A"}}]
[null,null,null,null,null,null,null,null,null,null,null,null,"no email",{"$error":"#VALUE!"},{"$error":"#VALUE!"},{"$f":"VLOOKUP(K5515,references!$A$1:$B$7,2,FALSE)","v":{"$error":"#N/A"}}]
[null,null,null,null,null,null,null,null,null,null,null,null,"no email",{"$error":"#VALUE!"},{"$error":"#VALUE!"},{"$f":"VLOOKUP(K5516,references!$A$1:$B$7,2,FALSE)","v":{"$error":"#N/A"}}]
[null,null,null,null,null,null,null,null,null,null,null,null,"no email",{"$error":"#VALUE!"},{"$error":"#VALUE!"},{"$f":"VLOOKUP(K5517,references!$A$1:$B$7,2,FALSE)","v":{"$error":"#N/A"}}]
[null,null,null,null,null,null,null,null,null,null,null,null,"no email",{"$error":"#VALUE!"},{"$error":"#VALUE!"},{"$f":"VLOOKUP(K5518,references!$A$1:$B$7,2,FALSE)","v":{"$error":"#N/A"}}]
[null,null,null,null,null,null,null,null,null,null,null,null,"no email",{"$error":"#VALUE!"},{"$error":"#VALUE!"},{"$f":"VLOOKUP(K5519,references!$A$1:$B$7,2,FALSE)","v":{"$error":"#N/A"}}]
[null,null,null,null,null,null,null,null,null,null,null,null,"no email",{"$error":"#VALUE!"},{"$error":"#VALUE!"},{"$f":"VLOOKUP(K5520,references!$A$1:$B$7,2,FALSE)","v":{"$error":"#N/A"}}]
[null,null,null,null,null,null,null,null,null,null,null,null,"no email",{"$error":"#VALUE!"},{"$error":"#VALUE!"},{"$f":"VLOOKUP(K5521,references!$A$1:$B$7,2,FALSE)","v":{"$error":"#N/A"}}]
[null,null,null,null,null,null,null,null,null,null,null,null,"no email",{"$error":"#VALUE!"},{"$error":"#VALUE!"},{"$f":"VLOOKUP(K5522,references!$A$1:$B$7,2,FALSE)","v":{"$error":"#N/A"}}]
[null,null,null,null,null,null,null,null,null,null,null,null,"no email",{"$error":"#VALUE!"},{"$error":"#VALUE!"},{"$f":"VLOOKUP(K5523,references!$A$1:$B$7,2,FALSE)","v":{"$error":"#N/A"}}]
[null,null,null,null,null,null,null,null,null,null,null,null,"no email",{"$error":"#VALUE!"},{"$error":"#VALUE!"},{"$f":"VLOOKUP(K5524,references!$A$1:$B$7,2,FALSE)","v":{"$error":"#N/A"}}]
[null,null,null,null,null,null,null,null,null,null,null,null,"no email",{"$error":"#VALUE!"},{"$error":"#VALUE!"},{"$f":"VLOOKUP(K5525,references!$A$1:$B$7,2,FALSE)","v":{"$error":"#N/A"}}]
[null,null,null,null,null,null,null,null,null,null,null,null,"no email",{"$error":"#VALUE!"},{"$error":"#VALUE!"},{"$f":"VLOOKUP(K5526,references!$A$1:$B$7,2,FALSE)","v":{"$error":"#N/A"}}]
[null,null,null,null,null,null,null,null,null,null,null,null,"no email",{"$error":"#VALUE!"},{"$error":"#VALUE!"},{"$f":"VLOOKUP(K5527,references!$A$1:$B$7,2,FALSE)","v":{"$error":"#N/A"}}]
[null,null,null,null,null,null,null,null,null,null,null,null,"no email",{"$error":"#VALUE!"},{"$error":"#VALUE!"},{"$f":"VLOOKUP(K5528,references!$A$1:$B$7,2,FALSE)","v":{"$error":"#N/A"}}]
[null,null,null,null,null,null,null,null,null,null,null,null,"no email",{"$error":"#VALUE!"},{"$error":"#VALUE!"},{"$f":"VLOOKUP(K5529,references!$A$1:$B$7,2,FALSE)","v":{"$error":"#N/A"}}]
[null,null,null,null,null,null,null,null,null,null,null,null,"no email",{"$error":"#VALUE!"},{"$error":"#VALUE!"},{"$f":"VLOOKUP(K5530,references!$A$1:$B$7,2,FALSE)","v":{"$error":"#N/A"}}]
[null,null,null,null,null,null,null,null,null,null,null,null,"no email",{"$error":"#VALUE!"},{"$error":"#VALUE!"},{"$f":"VLOOKUP(K5531,references!$A$1:$B$7,2,FALSE)","v":{"$error":"#N/A"}}]
[null,null,null,null,null,null,null,null,null,null,null,null,"no email",{"$error":"#VALUE!"},{"$error":"#VALUE!"},{"$f":"VLOOKUP(K5532,references!$A$1:$B$7,2,FALSE)","v":{"$error":"#N/A"}}]
[null,null,null,null,null,null,null,null,null,null,null,null,"no email",{"$error":"#VALUE!"},{"$error":"#VALUE!"},{"$f":"VLOOKUP(K5533,references!$A$1:$B$7,2,FALSE)","v":{"$error":"#N/A"}}]
[null,null,null,null,null,null,null,null,null,null,null,null,"no email",{"$error":"#VALUE!"},{"$error":"#VALUE!"},{"$f":"VLOOKUP(K5534,references!$A$1:$B$7,2,FALSE)","v":{"$error":"#N/A"}}]
[null,null,null,null,null,null,null,null,null,null,null,null,"no email",{"$error":"#VALUE!"},{"$error":"#VALUE!"},{"$f":"VLOOKUP(K5535,references!$A$1:$B$7,2,FALSE)","v":{"$error":"#N/A"}}]
[null,null,null,null,null,null,null,null,null,null,null,null,"no email",{"$error":"#VALUE!"},{"$error":"#VALUE!"},{"$f":"VLOOKUP(K5536,references!$A$1:$B$7,2,FALSE)","v":{"$error":"#N/A"}}]
[null,null,null,null,null,null,null,null,null,null,null,null,"no email",{"$error":"#VALUE!"},{"$error":"#VALUE!"},{"$f":"VLOOKUP(K5537,references!$A$1:$B$7,2,FALSE)","v":{"$error":"#N/A"}}]
[null,null,null,null,null,null,null,null,null,null,null,null,"no email",{"$error":"#VALUE!"},{"$error":"#VALUE!"},{"$f":"VLOOKUP(K5538,references!$A$1:$B$7,2,FALSE)","v":{"$error":"#N/A"}}]
[null,null,null,null,null,null,null,null,null,null,null,null,"no email",{"$error":"#VALUE!"},{"$error":"#VALUE!"},{"$f":"VLOOKUP(K5539,references!$A$1:$B$7,2,FALSE)","v":{"$error":"#N/A"}}]
[null,null,null,null,null,null,null,null,null,null,null,null,"no email",{"$error":"#VALUE!"},{"$error":"#VALUE!"},{"$f":"VLOOKUP(K5540,references!$A$1:$B$7,2,FALSE)","v":{"$error":"#N/A"}}]
[null,null,null,null,null,null,null,null,null,null,null,null,"no email",{"$error":"#VALUE!"},{"$error":"#VALUE!"},{"$f":"VLOOKUP(K5541,references!$A$1:$B$7,2,FALSE)","v":{"$error":"#N/A"}}]
[null,null,null,null,null,null,null,null,null,null,null,null,"no email",{"$error":"#VALUE!"},{"$error":"#VALUE!"},{"$f":"VLOOKUP(K5542,references!$A$1:$B$7,2,FALSE)","v":{"$error":"#N/A"}}]
[null,null,null,null,null,null,null,null,null,null,null,null,"no email",{"$error":"#VALUE!"},{"$error":"#VALUE!"},{"$f":"VLOOKUP(K5543,references!$A$1:$B$7,2,FALSE)","v":{"$error":"#N/A"}}]
[null,null,null,null,null,null,null,null,null,null,null,null,"no email",{"$error":"#VALUE!"},{"$error":"#VALUE!"},{"$f":"VLOOKUP(K5544,references!$A$1:$B$7,2,FALSE)","v":{"$error":"#N/A"}}]
[null,null,null,null,null,null,null,null,null,null,null,null,"no email",{"$error":"#VALUE!"},{"$error":"#VALUE!"},{"$f":"VLOOKUP(K5545,references!$A$1:$B$7,2,FALSE)","v":{"$error":"#N/A"}}]
[null,null,null,null,null,null,null,null,null,null,null,null,"no email",{"$error":"#VALUE!"},{"$error":"#VALUE!"},{"$f":"VLOOKUP(K5546,references!$A$1:$B$7,2,FALSE)","v":{"$error":"#N/A"}}]
[null,null,null,null,null,null,null,null,null,null,null,null,"no email",{"$error":"#VALUE!"},{"$error":"#VALUE!"},{"$f":"VLOOKUP(K5547,references!$A$1:$B$7,2,FALSE)","v":{"$error":"#N/A"}}]
[null,null,null,null,null,null,null,null,null,null,null,null,"no email",{"$error":"#VALUE!"},{"$error":"#VALUE!"},{"$f":"VLOOKUP(K5548,references!$A$1:$B$7,2,FALSE)","v":{"$error":"#N/A"}}]
[null,null,null,null,null,null,null,null,null,null,null,null,"no email",{"$error":"#VALUE!"},{"$error":"#VALUE!"},{"$f":"VLOOKUP(K5549,references!$A$1:$B$7,2,FALSE)","v":{"$error":"#N/A"}}]
[null,null,null,null,null,null,null,null,null,null,null,null,"no email",{"$error":"#VALUE!"},{"$error":"#VALUE!"},{"$f":"VLOOKUP(K5550,references!$A$1:$B$7,2,FALSE)","v":{"$error":"#N/A"}}]
[null,null,null,null,null,null,null,null,null,null,null,null,"no email",{"$error":"#VALUE!"},{"$error":"#VALUE!"},{"$f":"VLOOKUP(K5551,references!$A$1:$B$7,2,FALSE)","v":{"$error":"#N/A"}}]
[null,null,null,null,null,null,null,null,null,null,null,null,"no email",{"$error":"#VALUE!"},{"$error":"#VALUE!"},{"$f":"VLOOKUP(K5552,references!$A$1:$B$7,2,FALSE)","v":{"$error":"#N/A"}}]
[null,null,null,null,null,null,null,null,null,null,null,null,"no email",{"$error":"#VALUE!"},{"$error":"#VALUE!"},{"$f":"VLOOKUP(K5553,references!$A$1:$B$7,2,FALSE)","v":{"$error":"#N/A"}}]
[null,null,null,null,null,null,null,null,null,null,null,null,"no email",{"$error":"#VALUE!"},{"$error":"#VALUE!"},{"$f":"VLOOKUP(K5554,references!$A$1:$B$7,2,FALSE)","v":{"$error":"#N/A"}}]
[null,null,null,null,null,null,null,null,null,null,null,null,"no email",{"$error":"#VALUE!"},{"$error":"#VALUE!"},{"$f":"VLOOKUP(K5555,references!$A$1:$B$7,2,FALSE)","v":{"$error":"#N/A"}}]
[null,null,null,null,null,null,null,null,null,null,null,null,"no email",{"$error":"#VALUE!"},{"$error":"#VALUE!"},{"$f":"VLOOKUP(K5556,references!$A$1:$B$7,2,FALSE)","v":{"$error":"#N/A"}}]
[null,null,null,null,null,null,null,null,null,null,null,null,"no email",{"$error":"#VALUE!"},{"$error":"#VALUE!"},{"$f":"VLOOKUP(K5557,references!$A$1:$B$7,2,FALSE)","v":{"$error":"#N/A"}}]
[null,null,null,null,null,null,null,null,null,null,null,null,"no email",{"$error":"#VALUE!"},{"$error":"#VALUE!"},{"$f":"VLOOKUP(K5558,references!$A$1:$B$7,2,FALSE)","v":{"$error":"#N/A"}}]
[null,null,null,null,null,null,null,null,null,null,null,null,"no email",{"$error":"#VALUE!"},{"$error":"#VALUE!"},{"$f":"VLOOKUP(K5559,references!$A$1:$B$7,2,FALSE)","v":{"$error":"#N/A"}}]
[null,null,null,null,null,null,null,null,null,null,null,null,"no email",{"$error":"#VALUE!"},{"$error":"#VALUE!"},{"$f":"VLOOKUP(K5560,references!$A$1:$B$7,2,FALSE)","v":{"$error":"#N/A"}}]
[null,null,null,null,null,null,null,null,null,null,null,null,"no email",{"$error":"#VALUE!"},{"$error":"#VALUE!"},{"$f":"VLOOKUP(K5561,references!$A$1:$B$7,2,FALSE)","v":{"$error":"#N/A"}}]
[null,null,null,null,null,null,null,null,null,null,null,null,"no email",{"$error":"#VALUE!"},{"$error":"#VALUE!"},{"$f":"VLOOKUP(K5562,references!$A$1:$B$7,2,FALSE)","v":{"$error":"#N/A"}}]
[null,null,null,null,null,null,null,null,null,null,null,null,"no email",{"$error":"#VALUE!"},{"$error":"#VALUE!"},{"$f":"VLOOKUP(K5563,references!$A$1:$B$7,2,FALSE)","v":{"$error":"#N/A"}}]
[null,null,null,null,null,null,null,null,null,null,null,null,"no email",{"$error":"#VALUE!"},{"$error":"#VALUE!"},{"$f":"VLOOKUP(K5564,references!$A$1:$B$7,2,FALSE)","v":{"$error":"#N/A"}}]
[null,null,null,null,null,null,null,null,null,null,null,null,"no email",{"$error":"#VALUE!"},{"$error":"#VALUE!"},{"$f":"VLOOKUP(K5565,references!$A$1:$B$7,2,FALSE)","v":{"$error":"#N/A"}}]
[null,null,null,null,null,null,null,null,null,null,null,null,"no email",{"$error":"#VALUE!"},{"$error":"#VALUE!"},{"$f":"VLOOKUP(K5566,references!$A$1:$B$7,2,FALSE)","v":{"$error":"#N/A"}}]
[null,null,null,null,null,null,null,null,null,null,null,null,"no email",{"$error":"#VALUE!"},{"$error":"#VALUE!"},{"$f":"VLOOKUP(K5567,references!$A$1:$B$7,2,FALSE)","v":{"$error":"#N/A"}}]
[null,null,null,null,null,null,null,null,null,null,null,null,"no email",{"$error":"#VALUE!"},{"$error":"#VALUE!"},{"$f":"VLOOKUP(K5568,references!$A$1:$B$7,2,FALSE)","v":{"$error":"#N/A"}}]
[null,null,null,null,null,null,null,null,null,null,null,null,"no email",{"$error":"#VALUE!"},{"$error":"#VALUE!"},{"$f":"VLOOKUP(K5569,references!$A$1:$B$7,2,FALSE)","v":{"$error":"#N/A"}}]
[null,null,null,null,null,null,null,null,null,null,null,null,{"$f":"IF(L5570=\"\", \"no email\",LOWER(L5570))","v":"no email"},{"$f":"LEFT(A5570, SEARCH(\",\",A5570,1)-1)","v":{"$error":"#VALUE!"}},{"$f":"RIGHT(A5570, LEN(A5570) -SEARCH(\",\",A5570,1)-1)","v":{"$error":"#VALUE!"}},{"$f":"VLOOKUP(K5570,references!$A$1:$B$7,2,FALSE)","v":{"$error":"#N/A"}}]
[null,null,null,null,null,null,null,null,null,null,null,null,"no email",{"$error":"#VALUE!"},{"$error":"#VALUE!"},{"$f":"VLOOKUP(K5571,references!$A$1:$B$7,2,FALSE)","v":{"$error":"#N/A"}}]
[null,null,null,null,null,null,null,null,null,null,null,null,"no email",{"$error":"#VALUE!"},{"$error":"#VALUE!"},{"$f":"VLOOKUP(K5572,references!$A$1:$B$7,2,FALSE)","v":{"$error":"#N/A"}}]
[null,null,null,null,null,null,null,null,null,null,null,null,"no email",{"$error":"#VALUE!"},{"$error":"#VALUE!"},{"$f":"VLOOKUP(K5573,references!$A$1:$B$7,2,FALSE)","v":{"$error":"#N/A"}}]
[null,null,null,null,null,null,null,null,null,null,null,null,"no email",{"$error":"#VALUE!"},{"$error":"#VALUE!"},{"$f":"VLOOKUP(K5574,references!$A$1:$B$7,2,FALSE)","v":{"$error":"#N/A"}}]
[null,null,null,null,null,null,null,null,null,null,null,null,"no email",{"$error":"#VALUE!"},{"$error":"#VALUE!"},{"$f":"VLOOKUP(K5575,references!$A$1:$B$7,2,FALSE)","v":{"$error":"#N/A"}}]
[null,null,null,null,null,null,null,null,null,null,null,null,"no email",{"$error":"#VALUE!"},{"$error":"#VALUE!"},{"$f":"VLOOKUP(K5576,references!$A$1:$B$7,2,FALSE)","v":{"$error":"#N/A"}}]
[null,null,null,null,null,null,null,null,null,null,null,null,"no email",{"$error":"#VALUE!"},{"$error":"#VALUE!"},{"$f":"VLOOKUP(K5577,references!$A$1:$B$7,2,FALSE)","v":{"$error":"#N/A"}}]
[null,null,null,null,null,null,null,null,null,null,null,null,"no email",{"$error":"#VALUE!"},{"$error":"#VALUE!"},{"$f":"VLOOKUP(K5578,references!$A$1:$B$7,2,FALSE)","v":{"$error":"#N/A"}}]
[null,null,null,null,null,null,null,null,null,null,null,null,"no email",{"$error":"#VALUE!"},{"$error":"#VALUE!"},{"$f":"VLOOKUP(K5579,references!$A$1:$B$7,2,FALSE)","v":{"$error":"#N/A"}}]
[null,null,null,null,null,null,null,null,null,null,null,null,"no email",{"$error":"#VALUE!"},{"$error":"#VALUE!"},{"$f":"VLOOKUP(K5580,references!$A$1:$B$7,2,FALSE)","v":{"$error":"#N/A"}}]
[null,null,null,null,null,null,null,null,null,null,null,null,"no email",{"$error":"#VALUE!"},{"$error":"#VALUE!"},{"$f":"VLOOKUP(K5581,references!$A$1:$B$7,2,FALSE)","v":{"$error":"#N/A"}}]
[null,null,null,null,null,null,null,null,null,null,null,null,"no email",{"$error":"#VALUE!"},{"$error":"#VALUE!"},{"$f":"VLOOKUP(K5582,references!$A$1:$B$7,2,FALSE)","v":{"$error":"#N/A"}}]
[null,null,null,null,null,null,null,null,null,null,null,null,"no email",{"$error":"#VALUE!"},{"$error":"#VALUE!"},{"$f":"VLOOKUP(K5583,references!$A$1:$B$7,2,FALSE)","v":{"$error":"#N/A"}}]
[null,null,null,null,null,null,null,null,null,null,null,null,"no email",{"$error":"#VALUE!"},{"$error":"#VALUE!"},{"$f":"VLOOKUP(K5584,references!$A$1:$B$7,2,FALSE)","v":{"$error":"#N/A"}}]
[null,null,null,null,null,null,null,null,null,null,null,null,"no email",{"$error":"#VALUE!"},{"$error":"#VALUE!"},{"$f":"VLOOKUP(K5585,references!$A$1:$B$7,2,FALSE)","v":{"$error":"#N/A"}}]
[null,null,null,null,null,null,null,null,null,null,null,null,"no email",{"$error":"#VALUE!"},{"$error":"#VALUE!"},{"$f":"VLOOKUP(K5586,references!$A$1:$B$7,2,FALSE)","v":{"$error":"#N/A"}}]
[null,null,null,null,null,null,null,null,null,null,null,null,"no email",{"$error":"#VALUE!"},{"$error":"#VALUE!"},{"$f":"VLOOKUP(K5587,references!$A$1:$B$7,2,FALSE)","v":{"$error":"#N/A"}}]
[null,null,null,null,null,null,null,null,null,null,null,null,"no email",{"$error":"#VALUE!"},{"$error":"#VALUE!"},{"$f":"VLOOKUP(K5588,references!$A$1:$B$7,2,FALSE)","v":{"$error":"#N/A"}}]
[null,null,null,null,null,null,null,null,null,null,null,null,"no email",{"$error":"#VALUE!"},{"$error":"#VALUE!"},{"$f":"VLOOKUP(K5589,references!$A$1:$B$7,2,FALSE)","v":{"$error":"#N/A"}}]
[null,null,null,null,null,null,null,null,null,null,null,null,"no email",{"$error":"#VALUE!"},{"$error":"#VALUE!"},{"$f":"VLOOKUP(K5590,references!$A$1:$B$7,2,FALSE)","v":{"$error":"#N/A"}}]
[null,null,null,null,null,null,null,null,null,null,null,null,"no email",{"$error":"#VALUE!"},{"$error":"#VALUE!"},{"$f":"VLOOKUP(K5591,references!$A$1:$B$7,2,FALSE)","v":{"$error":"#N/A"}}]
[null,null,null,null,null,null,null,null,null,null,null,null,"no email",{"$error":"#VALUE!"},{"$error":"#VALUE!"},{"$f":"VLOOKUP(K5592,references!$A$1:$B$7,2,FALSE)","v":{"$error":"#N/A"}}]
[null,null,null,null,null,null,null,null,null,null,null,null,"no email",{"$error":"#VALUE!"},{"$error":"#VALUE!"},{"$f":"VLOOKUP(K5593,references!$A$1:$B$7,2,FALSE)","v":{"$error":"#N/A"}}]
[null,null,null,null,null,null,null,null,null,null,null,null,"no email",{"$error":"#VALUE!"},{"$error":"#VALUE!"},{"$f":"VLOOKUP(K5594,references!$A$1:$B$7,2,FALSE)","v":{"$error":"#N/A"}}]
[null,null,null,null,null,null,null,null,null,null,null,null,"no email",{"$error":"#VALUE!"},{"$error":"#VALUE!"},{"$f":"VLOOKUP(K5595,references!$A$1:$B$7,2,FALSE)","v":{"$error":"#N/A"}}]
[null,null,null,null,null,null,null,null,null,null,null,null,"no email",{"$error":"#VALUE!"},{"$error":"#VALUE!"},{"$f":"VLOOKUP(K5596,references!$A$1:$B$7,2,FALSE)","v":{"$error":"#N/A"}}]
[null,null,null,null,null,null,null,null,null,null,null,null,"no email",{"$error":"#VALUE!"},{"$error":"#VALUE!"},{"$f":"VLOOKUP(K5597,references!$A$1:$B$7,2,FALSE)","v":{"$error":"#N/A"}}]
[null,null,null,null,null,null,null,null,null,null,null,null,"no email",{"$error":"#VALUE!"},{"$error":"#VALUE!"},{"$f":"VLOOKUP(K5598,references!$A$1:$B$7,2,FALSE)","v":{"$error":"#N/A"}}]
[null,null,null,null,null,null,null,null,null,null,null,null,"no email",{"$error":"#VALUE!"},{"$error":"#VALUE!"},{"$f":"VLOOKUP(K5599,references!$A$1:$B$7,2,FALSE)","v":{"$error":"#N/A"}}]
[null,null,null,null,null,null,null,null,null,null,null,null,"no email",{"$error":"#VALUE!"},{"$error":"#VALUE!"},{"$f":"VLOOKUP(K5600,references!$A$1:$B$7,2,FALSE)","v":{"$error":"#N/A"}}]
[null,null,null,null,null,null,null,null,null,null,null,null,"no email",{"$error":"#VALUE!"},{"$error":"#VALUE!"},{"$f":"VLOOKUP(K5601,references!$A$1:$B$7,2,FALSE)","v":{"$error":"#N/A"}}]
[null,null,null,null,null,null,null,null,null,null,null,null,"no email",{"$error":"#VALUE!"},{"$error":"#VALUE!"},{"$f":"VLOOKUP(K5602,references!$A$1:$B$7,2,FALSE)","v":{"$error":"#N/A"}}]
[null,null,null,null,null,null,null,null,null,null,null,null,"no email",{"$error":"#VALUE!"},{"$error":"#VALUE!"},{"$f":"VLOOKUP(K5603,references!$A$1:$B$7,2,FALSE)","v":{"$error":"#N/A"}}]
[null,null,null,null,null,null,null,null,null,null,null,null,"no email",{"$error":"#VALUE!"},{"$error":"#VALUE!"},{"$f":"VLOOKUP(K5604,references!$A$1:$B$7,2,FALSE)","v":{"$error":"#N/A"}}]
[null,null,null,null,null,null,null,null,null,null,null,null,"no email",{"$error":"#VALUE!"},{"$error":"#VALUE!"},{"$f":"VLOOKUP(K5605,references!$A$1:$B$7,2,FALSE)","v":{"$error":"#N/A"}}]
[null,null,null,null,null,null,null,null,null,null,null,null,"no email",{"$error":"#VALUE!"},{"$error":"#VALUE!"},{"$f":"VLOOKUP(K5606,references!$A$1:$B$7,2,FALSE)","v":{"$error":"#N/A"}}]
[null,null,null,null,null,null,null,null,null,null,null,null,"no email",{"$error":"#VALUE!"},{"$error":"#VALUE!"},{"$f":"VLOOKUP(K5607,references!$A$1:$B$7,2,FALSE)","v":{"$error":"#N/A"}}]
[null,null,null,null,null,null,null,null,null,null,null,null,"no email",{"$error":"#VALUE!"},{"$error":"#VALUE!"},{"$f":"VLOOKUP(K5608,references!$A$1:$B$7,2,FALSE)","v":{"$error":"#N/A"}}]
[null,null,null,null,null,null,null,null,null,null,null,null,"no email",{"$error":"#VALUE!"},{"$error":"#VALUE!"},{"$f":"VLOOKUP(K5609,references!$A$1:$B$7,2,FALSE)","v":{"$error":"#N/A"}}]
[null,null,null,null,null,null,null,null,null,null,null,null,"no email",{"$error":"#VALUE!"},{"$error":"#VALUE!"},{"$f":"VLOOKUP(K5610,references!$A$1:$B$7,2,FALSE)","v":{"$error":"#N/A"}}]
[null,null,null,null,null,null,null,null,null,null,null,null,"no email",{"$error":"#VALUE!"},{"$error":"#VALUE!"},{"$f":"VLOOKUP(K5611,references!$A$1:$B$7,2,FALSE)","v":{"$error":"#N/A"}}]
[null,null,null,null,null,null,null,null,null,null,null,null,"no email",{"$error":"#VALUE!"},{"$error":"#VALUE!"},{"$f":"VLOOKUP(K5612,references!$A$1:$B$7,2,FALSE)","v":{"$error":"#N/A"}}]
[null,null,null,null,null,null,null,null,null,null,null,null,"no email",{"$error":"#VALUE!"},{"$error":"#VALUE!"},{"$f":"VLOOKUP(K5613,references!$A$1:$B$7,2,FALSE)","v":{"$error":"#N/A"}}]
[null,null,null,null,null,null,null,null,null,null,null,null,"no email",{"$error":"#VALUE!"},{"$error":"#VALUE!"},{"$f":"VLOOKUP(K5614,references!$A$1:$B$7,2,FALSE)","v":{"$error":"#N/A"}}]
[null,null,null,null,null,null,null,null,null,null,null,null,"no email",{"$error":"#VALUE!"},{"$error":"#VALUE!"},{"$f":"VLOOKUP(K5615,references!$A$1:$B$7,2,FALSE)","v":{"$error":"#N/A"}}]
[null,null,null,null,null,null,null,null,null,null,null,null,"no email",{"$error":"#VALUE!"},{"$error":"#VALUE!"},{"$f":"VLOOKUP(K5616,references!$A$1:$B$7,2,FALSE)","v":{"$error":"#N/A"}}]
[null,null,null,null,null,null,null,null,null,null,null,null,"no email",{"$error":"#VALUE!"},{"$error":"#VALUE!"},{"$f":"VLOOKUP(K5617,references!$A$1:$B$7,2,FALSE)","v":{"$error":"#N/A"}}]
[null,null,null,null,null,null,null,null,null,null,null,null,"no email",{"$error":"#VALUE!"},{"$error":"#VALUE!"},{"$f":"VLOOKUP(K5618,references!$A$1:$B$7,2,FALSE)","v":{"$error":"#N/A"}}]
[null,null,null,null,null,null,null,null,null,null,null,null,"no email",{"$error":"#VALUE!"},{"$error":"#VALUE!"},{"$f":"VLOOKUP(K5619,references!$A$1:$B$7,2,FALSE)","v":{"$error":"#N/A"}}]
[null,null,null,null,null,null,null,null,null,null,null,null,"no email",{"$error":"#VALUE!"},{"$error":"#VALUE!"},{"$f":"VLOOKUP(K5620,references!$A$1:$B$7,2,FALSE)","v":{"$error":"#N/A"}}]
[null,null,null,null,null,null,null,null,null,null,null,null,"no email",{"$error":"#VALUE!"},{"$error":"#VALUE!"},{"$f":"VLOOKUP(K5621,references!$A$1:$B$7,2,FALSE)","v":{"$error":"#N/A"}}]
[null,null,null,null,null,null,null,null,null,null,null,null,"no email",{"$error":"#VALUE!"},{"$error":"#VALUE!"},{"$f":"VLOOKUP(K5622,references!$A$1:$B$7,2,FALSE)","v":{"$error":"#N/A"}}]
[null,null,null,null,null,null,null,null,null,null,null,null,"no email",{"$error":"#VALUE!"},{"$error":"#VALUE!"},{"$f":"VLOOKUP(K5623,references!$A$1:$B$7,2,FALSE)","v":{"$error":"#N/A"}}]
[null,null,null,null,null,null,null,null,null,null,null,null,"no email",{"$error":"#VALUE!"},{"$error":"#VALUE!"},{"$f":"VLOOKUP(K5624,references!$A$1:$B$7,2,FALSE)","v":{"$error":"#N/A"}}]
[null,null,null,null,null,null,null,null,null,null,null,null,"no email",{"$error":"#VALUE!"},{"$error":"#VALUE!"},{"$f":"VLOOKUP(K5625,references!$A$1:$B$7,2,FALSE)","v":{"$error":"#N/A"}}]
[null,null,null,null,null,null,null,null,null,null,null,null,"no email",{"$error":"#VALUE!"},{"$error":"#VALUE!"},{"$f":"VLOOKUP(K5626,references!$A$1:$B$7,2,FALSE)","v":{"$error":"#N/A"}}]
[null,null,null,null,null,null,null,null,null,null,null,null,"no email",{"$error":"#VALUE!"},{"$error":"#VALUE!"},{"$f":"VLOOKUP(K5627,references!$A$1:$B$7,2,FALSE)","v":{"$error":"#N/A"}}]
[null,null,null,null,null,null,null,null,null,null,null,null,"no email",{"$error":"#VALUE!"},{"$error":"#VALUE!"},{"$f":"VLOOKUP(K5628,references!$A$1:$B$7,2,FALSE)","v":{"$error":"#N/A"}}]
[null,null,null,null,null,null,null,null,null,null,null,null,"no email",{"$error":"#VALUE!"},{"$error":"#VALUE!"},{"$f":"VLOOKUP(K5629,references!$A$1:$B$7,2,FALSE)","v":{"$error":"#N/A"}}]
[null,null,null,null,null,null,null,null,null,null,null,null,"no email",{"$error":"#VALUE!"},{"$error":"#VALUE!"},{"$f":"VLOOKUP(K5630,references!$A$1:$B$7,2,FALSE)","v":{"$error":"#N/A"}}]
[null,null,null,null,null,null,null,null,null,null,null,null,"no email",{"$error":"#VALUE!"},{"$error":"#VALUE!"},{"$f":"VLOOKUP(K5631,references!$A$1:$B$7,2,FALSE)","v":{"$error":"#N/A"}}]
[null,null,null,null,null,null,null,null,null,null,null,null,"no email",{"$error":"#VALUE!"},{"$error":"#VALUE!"},{"$f":"VLOOKUP(K5632,references!$A$1:$B$7,2,FALSE)","v":{"$error":"#N/A"}}]
[null,null,null,null,null,null,null,null,null,null,null,null,"no email",{"$error":"#VALUE!"},{"$error":"#VALUE!"},{"$f":"VLOOKUP(K5633,references!$A$1:$B$7,2,FALSE)","v":{"$error":"#N/A"}}]
[null,null,null,null,null,null,null,null,null,null,null,null,{"$f":"IF(L5634=\"\", \"no email\",LOWER(L5634))","v":"no email"},{"$f":"LEFT(A5634, SEARCH(\",\",A5634,1)-1)","v":{"$error":"#VALUE!"}},{"$f":"RIGHT(A5634, LEN(A5634) -SEARCH(\",\",A5634,1)-1)","v":{"$error":"#VALUE!"}},{"$f":"VLOOKUP(K5634,references!$A$1:$B$7,2,FALSE)","v":{"$error":"#N/A"}}]
[null,null,null,null,null,null,null,null,null,null,null,null,"no email",{"$error":"#VALUE!"},{"$error":"#VALUE!"},{"$f":"VLOOKUP(K5635,references!$A$1:$B$7,2,FALSE)","v":{"$error":"#N/A"}}]
[null,null,null,null,null,null,null,null,null,null,null,null,"no email",{"$error":"#VALUE!"},{"$error":"#VALUE!"},{"$f":"VLOOKUP(K5636,references!$A$1:$B$7,2,FALSE)","v":{"$error":"#N/A"}}]
[null,null,null,null,null,null,null,null,null,null,null,null,"no email",{"$error":"#VALUE!"},{"$error":"#VALUE!"},{"$f":"VLOOKUP(K5637,references!$A$1:$B$7,2,FALSE)","v":{"$error":"#N/A"}}]
[null,null,null,null,null,null,null,null,null,null,null,null,"no email",{"$error":"#VALUE!"},{"$error":"#VALUE!"},{"$f":"VLOOKUP(K5638,references!$A$1:$B$7,2,FALSE)","v":{"$error":"#N/A"}}]
[null,null,null,null,null,null,null,null,null,null,null,null,"no email",{"$error":"#VALUE!"},{"$error":"#VALUE!"},{"$f":"VLOOKUP(K5639,references!$A$1:$B$7,2,FALSE)","v":{"$error":"#N/A"}}]
[null,null,null,null,null,null,null,null,null,null,null,null,"no email",{"$error":"#VALUE!"},{"$error":"#VALUE!"},{"$f":"VLOOKUP(K5640,references!$A$1:$B$7,2,FALSE)","v":{"$error":"#N/A"}}]
[null,null,null,null,null,null,null,null,null,null,null,null,"no email",{"$error":"#VALUE!"},{"$error":"#VALUE!"},{"$f":"VLOOKUP(K5641,references!$A$1:$B$7,2,FALSE)","v":{"$error":"#N/A"}}]
[null,null,null,null,null,null,null,null,null,null,null,null,"no email",{"$error":"#VALUE!"},{"$error":"#VALUE!"},{"$f":"VLOOKUP(K5642,references!$A$1:$B$7,2,FALSE)","v":{"$error":"#N/A"}}]
[null,null,null,null,null,null,null,null,null,null,null,null,"no email",{"$error":"#VALUE!"},{"$error":"#VALUE!"},{"$f":"VLOOKUP(K5643,references!$A$1:$B$7,2,FALSE)","v":{"$error":"#N/A"}}]
[null,null,null,null,null,null,null,null,null,null,null,null,"no email",{"$error":"#VALUE!"},{"$error":"#VALUE!"},{"$f":"VLOOKUP(K5644,references!$A$1:$B$7,2,FALSE)","v":{"$error":"#N/A"}}]
[null,null,null,null,null,null,null,null,null,null,null,null,"no email",{"$error":"#VALUE!"},{"$error":"#VALUE!"},{"$f":"VLOOKUP(K5645,references!$A$1:$B$7,2,FALSE)","v":{"$error":"#N/A"}}]
[null,null,null,null,null,null,null,null,null,null,null,null,"no email",{"$error":"#VALUE!"},{"$error":"#VALUE!"},{"$f":"VLOOKUP(K5646,references!$A$1:$B$7,2,FALSE)","v":{"$error":"#N/A"}}]
[null,null,null,null,null,null,null,null,null,null,null,null,"no email",{"$error":"#VALUE!"},{"$error":"#VALUE!"},{"$f":"VLOOKUP(K5647,references!$A$1:$B$7,2,FALSE)","v":{"$error":"#N/A"}}]
[null,null,null,null,null,null,null,null,null,null,null,null,"no email",{"$error":"#VALUE!"},{"$error":"#VALUE!"},{"$f":"VLOOKUP(K5648,references!$A$1:$B$7,2,FALSE)","v":{"$error":"#N/A"}}]
[null,null,null,null,null,null,null,null,null,null,null,null,"no email",{"$error":"#VALUE!"},{"$error":"#VALUE!"},{"$f":"VLOOKUP(K5649,references!$A$1:$B$7,2,FALSE)","v":{"$error":"#N/A"}}]
[null,null,null,null,null,null,null,null,null,null,null,null,"no email",{"$error":"#VALUE!"},{"$error":"#VALUE!"},{"$f":"VLOOKUP(K5650,references!$A$1:$B$7,2,FALSE)","v":{"$error":"#N/A"}}]
[null,null,null,null,null,null,null,null,null,null,null,null,"no email",{"$error":"#VALUE!"},{"$error":"#VALUE!"},{"$f":"VLOOKUP(K5651,references!$A$1:$B$7,2,FALSE)","v":{"$error":"#N/A"}}]
[null,null,null,null,null,null,null,null,null,null,null,null,"no email",{"$error":"#VALUE!"},{"$error":"#VALUE!"},{"$f":"VLOOKUP(K5652,references!$A$1:$B$7,2,FALSE)","v":{"$error":"#N/A"}}]
[null,null,null,null,null,null,null,null,null,null,null,null,"no email",{"$error":"#VALUE!"},{"$error":"#VALUE!"},{"$f":"VLOOKUP(K5653,references!$A$1:$B$7,2,FALSE)","v":{"$error":"#N/A"}}]
[null,null,null,null,null,null,null,null,null,null,null,null,"no email",{"$error":"#VALUE!"},{"$error":"#VALUE!"},{"$f":"VLOOKUP(K5654,references!$A$1:$B$7,2,FALSE)","v":{"$error":"#N/A"}}]
[null,null,null,null,null,null,null,null,null,null,null,null,"no email",{"$error":"#VALUE!"},{"$error":"#VALUE!"},{"$f":"VLOOKUP(K5655,references!$A$1:$B$7,2,FALSE)","v":{"$error":"#N/A"}}]
[null,null,null,null,null,null,null,null,null,null,null,null,"no email",{"$error":"#VALUE!"},{"$error":"#VALUE!"},{"$f":"VLOOKUP(K5656,references!$A$1:$B$7,2,FALSE)","v":{"$error":"#N/A"}}]
[null,null,null,null,null,null,null,null,null,null,null,null,"no email",{"$error":"#VALUE!"},{"$error":"#VALUE!"},{"$f":"VLOOKUP(K5657,references!$A$1:$B$7,2,FALSE)","v":{"$error":"#N/A"}}]
[null,null,null,null,null,null,null,null,null,null,null,null,"no email",{"$error":"#VALUE!"},{"$error":"#VALUE!"},{"$f":"VLOOKUP(K5658,references!$A$1:$B$7,2,FALSE)","v":{"$error":"#N/A"}}]
[null,null,null,null,null,null,null,null,null,null,null,null,"no email",{"$error":"#VALUE!"},{"$error":"#VALUE!"},{"$f":"VLOOKUP(K5659,references!$A$1:$B$7,2,FALSE)","v":{"$error":"#N/A"}}]
[null,null,null,null,null,null,null,null,null,null,null,null,"no email",{"$error":"#VALUE!"},{"$error":"#VALUE!"},{"$f":"VLOOKUP(K5660,references!$A$1:$B$7,2,FALSE)","v":{"$error":"#N/A"}}]
[null,null,null,null,null,null,null,null,null,null,null,null,"no email",{"$error":"#VALUE!"},{"$error":"#VALUE!"},{"$f":"VLOOKUP(K5661,references!$A$1:$B$7,2,FALSE)","v":{"$error":"#N/A"}}]
[null,null,null,null,null,null,null,null,null,null,null,null,"no email",{"$error":"#VALUE!"},{"$error":"#VALUE!"},{"$f":"VLOOKUP(K5662,references!$A$1:$B$7,2,FALSE)","v":{"$error":"#N/A"}}]
[null,null,null,null,null,null,null,null,null,null,null,null,"no email",{"$error":"#VALUE!"},{"$error":"#VALUE!"},{"$f":"VLOOKUP(K5663,references!$A$1:$B$7,2,FALSE)","v":{"$error":"#N/A"}}]
[null,null,null,null,null,null,null,null,null,null,null,null,"no email",{"$error":"#VALUE!"},{"$error":"#VALUE!"},{"$f":"VLOOKUP(K5664,references!$A$1:$B$7,2,FALSE)","v":{"$error":"#N/A"}}]
[null,null,null,null,null,null,null,null,null,null,null,null,"no email",{"$error":"#VALUE!"},{"$error":"#VALUE!"},{"$f":"VLOOKUP(K5665,references!$A$1:$B$7,2,FALSE)","v":{"$error":"#N/A"}}]
[null,null,null,null,null,null,null,null,null,null,null,null,"no email",{"$error":"#VALUE!"},{"$error":"#VALUE!"},{"$f":"VLOOKUP(K5666,references!$A$1:$B$7,2,FALSE)","v":{"$error":"#N/A"}}]
[null,null,null,null,null,null,null,null,null,null,null,null,"no email",{"$error":"#VALUE!"},{"$error":"#VALUE!"},{"$f":"VLOOKUP(K5667,references!$A$1:$B$7,2,FALSE)","v":{"$error":"#N/A"}}]
[null,null,null,null,null,null,null,null,null,null,null,null,"no email",{"$error":"#VALUE!"},{"$error":"#VALUE!"},{"$f":"VLOOKUP(K5668,references!$A$1:$B$7,2,FALSE)","v":{"$error":"#N/A"}}]
[null,null,null,null,null,null,null,null,null,null,null,null,"no email",{"$error":"#VALUE!"},{"$error":"#VALUE!"},{"$f":"VLOOKUP(K5669,references!$A$1:$B$7,2,FALSE)","v":{"$error":"#N/A"}}]
[null,null,null,null,null,null,null,null,null,null,null,null,"no email",{"$error":"#VALUE!"},{"$error":"#VALUE!"},{"$f":"VLOOKUP(K5670,references!$A$1:$B$7,2,FALSE)","v":{"$error":"#N/A"}}]
[null,null,null,null,null,null,null,null,null,null,null,null,"no email",{"$error":"#VALUE!"},{"$error":"#VALUE!"},{"$f":"VLOOKUP(K5671,references!$A$1:$B$7,2,FALSE)","v":{"$error":"#N/A"}}]
[null,null,null,null,null,null,null,null,null,null,null,null,"no email",{"$error":"#VALUE!"},{"$error":"#VALUE!"},{"$f":"VLOOKUP(K5672,references!$A$1:$B$7,2,FALSE)","v":{"$error":"#N/A"}}]
[null,null,null,null,null,null,null,null,null,null,null,null,"no email",{"$error":"#VALUE!"},{"$error":"#VALUE!"},{"$f":"VLOOKUP(K5673,references!$A$1:$B$7,2,FALSE)","v":{"$error":"#N/A"}}]
[null,null,null,null,null,null,null,null,null,null,null,null,"no email",{"$error":"#VALUE!"},{"$error":"#VALUE!"},{"$f":"VLOOKUP(K5674,references!$A$1:$B$7,2,FALSE)","v":{"$error":"#N/A"}}]
[null,null,null,null,null,null,null,null,null,null,null,null,"no email",{"$error":"#VALUE!"},{"$error":"#VALUE!"},{"$f":"VLOOKUP(K5675,references!$A$1:$B$7,2,FALSE)","v":{"$error":"#N/A"}}]
[null,null,null,null,null,null,null,null,null,null,null,null,"no email",{"$error":"#VALUE!"},{"$error":"#VALUE!"},{"$f":"VLOOKUP(K5676,references!$A$1:$B$7,2,FALSE)","v":{"$error":"#N/A"}}]
[null,null,null,null,null,null,null,null,null,null,null,null,"no email",{"$error":"#VALUE!"},{"$error":"#VALUE!"},{"$f":"VLOOKUP(K5677,references!$A$1:$B$7,2,FALSE)","v":{"$error":"#N/A"}}]
[null,null,null,null,null,null,null,null,null,null,null,null,"no email",{"$error":"#VALUE!"},{"$error":"#VALUE!"},{"$f":"VLOOKUP(K5678,references!$A$1:$B$7,2,FALSE)","v":{"$error":"#N/A"}}]
[null,null,null,null,null,null,null,null,null,null,null,null,"no email",{"$error":"#VALUE!"},{"$error":"#VALUE!"},{"$f":"VLOOKUP(K5679,references!$A$1:$B$7,2,FALSE)","v":{"$error":"#N/A"}}]
[null,null,null,null,null,null,null,null,null,null,null,null,"no email",{"$error":"#VALUE!"},{"$error":"#VALUE!"},{"$f":"VLOOKUP(K5680,references!$A$1:$B$7,2,FALSE)","v":{"$error":"#N/A"}}]
[null,null,null,null,null,null,null,null,null,null,null,null,"no email",{"$error":"#VALUE!"},{"$error":"#VALUE!"},{"$f":"VLOOKUP(K5681,references!$A$1:$B$7,2,FALSE)","v":{"$error":"#N/A"}}]
[null,null,null,null,null,null,null,null,null,null,null,null,"no email",{"$error":"#VALUE!"},{"$error":"#VALUE!"},{"$f":"VLOOKUP(K5682,references!$A$1:$B$7,2,FALSE)","v":{"$error":"#N/A"}}]
[null,null,null,null,null,null,null,null,null,null,null,null,"no email",{"$error":"#VALUE!"},{"$error":"#VALUE!"},{"$f":"VLOOKUP(K5683,references!$A$1:$B$7,2,FALSE)","v":{"$error":"#N/A"}}]
[null,null,null,null,null,null,null,null,null,null,null,null,"no email",{"$error":"#VALUE!"},{"$error":"#VALUE!"},{"$f":"VLOOKUP(K5684,references!$A$1:$B$7,2,FALSE)","v":{"$error":"#N/A"}}]
[null,null,null,null,null,null,null,null,null,null,null,null,"no email",{"$error":"#VALUE!"},{"$error":"#VALUE!"},{"$f":"VLOOKUP(K5685,references!$A$1:$B$7,2,FALSE)","v":{"$error":"#N/A"}}]
[null,null,null,null,null,null,null,null,null,null,null,null,"no email",{"$error":"#VALUE!"},{"$error":"#VALUE!"},{"$f":"VLOOKUP(K5686,references!$A$1:$B$7,2,FALSE)","v":{"$error":"#N/A"}}]
[null,null,null,null,null,null,null,null,null,null,null,null,"no email",{"$error":"#VALUE!"},{"$error":"#VALUE!"},{"$f":"VLOOKUP(K5687,references!$A$1:$B$7,2,FALSE)","v":{"$error":"#N/A"}}]
[null,null,null,null,null,null,null,null,null,null,null,null,"no email",{"$error":"#VALUE!"},{"$error":"#VALUE!"},{"$f":"VLOOKUP(K5688,references!$A$1:$B$7,2,FALSE)","v":{"$error":"#N/A"}}]
[null,null,null,null,null,null,null,null,null,null,null,null,"no email",{"$error":"#VALUE!"},{"$error":"#VALUE!"},{"$f":"VLOOKUP(K5689,references!$A$1:$B$7,2,FALSE)","v":{"$error":"#N/A"}}]
[null,null,null,null,null,null,null,null,null,null,null,null,"no email",{"$error":"#VALUE!"},{"$error":"#VALUE!"},{"$f":"VLOOKUP(K5690,references!$A$1:$B$7,2,FALSE)","v":{"$error":"#N/A"}}]
[null,null,null,null,null,null,null,null,null,null,null,null,"no email",{"$error":"#VALUE!"},{"$error":"#VALUE!"},{"$f":"VLOOKUP(K5691,references!$A$1:$B$7,2,FALSE)","v":{"$error":"#N/A"}}]
[null,null,null,null,null,null,null,null,null,null,null,null,"no email",{"$error":"#VALUE!"},{"$error":"#VALUE!"},{"$f":"VLOOKUP(K5692,references!$A$1:$B$7,2,FALSE)","v":{"$error":"#N/A"}}]
[null,null,null,null,null,null,null,null,null,null,null,null,"no email",{"$error":"#VALUE!"},{"$error":"#VALUE!"},{"$f":"VLOOKUP(K5693,references!$A$1:$B$7,2,FALSE)","v":{"$error":"#N/A"}}]
[null,null,null,null,null,null,null,null,null,null,null,null,"no email",{"$error":"#VALUE!"},{"$error":"#VALUE!"},{"$f":"VLOOKUP(K5694,references!$A$1:$B$7,2,FALSE)","v":{"$error":"#N/A"}}]
[null,null,null,null,null,null,null,null,null,null,null,null,"no email",{"$error":"#VALUE!"},{"$error":"#VALUE!"},{"$f":"VLOOKUP(K5695,references!$A$1:$B$7,2,FALSE)","v":{"$error":"#N/A"}}]
[null,null,null,null,null,null,null,null,null,null,null,null,"no email",{"$error":"#VALUE!"},{"$error":"#VALUE!"},{"$f":"VLOOKUP(K5696,references!$A$1:$B$7,2,FALSE)","v":{"$error":"#N/A"}}]
[null,null,null,null,null,null,null,null,null,null,null,null,"no email",{"$error":"#VALUE!"},{"$error":"#VALUE!"},{"$f":"VLOOKUP(K5697,references!$A$1:$B$7,2,FALSE)","v":{"$error":"#N/A"}}]
[null,null,null,null,null,null,null,null,null,null,null,null,{"$f":"IF(L5698=\"\", \"no email\",LOWER(L5698))","v":"no email"},{"$f":"LEFT(A5698, SEARCH(\",\",A5698,1)-1)","v":{"$error":"#VALUE!"}},{"$f":"RIGHT(A5698, LEN(A5698) -SEARCH(\",\",A5698,1)-1)","v":{"$error":"#VALUE!"}},{"$f":"VLOOKUP(K5698,references!$A$1:$B$7,2,FALSE)","v":{"$error":"#N/A"}}]
[null,null,null,null,null,null,null,null,null,null,null,null,"no email",{"$error":"#VALUE!"},{"$error":"#VALUE!"},{"$f":"VLOOKUP(K5699,references!$A$1:$B$7,2,FALSE)","v":{"$error":"#N/A"}}]
[null,null,null,null,null,null,null,null,null,null,null,null,"no email",{"$error":"#VALUE!"},{"$error":"#VALUE!"},{"$f":"VLOOKUP(K5700,references!$A$1:$B$7,2,FALSE)","v":{"$error":"#N/A"}}]
[null,null,null,null,null,null,null,null,null,null,null,null,"no email",{"$error":"#VALUE!"},{"$error":"#VALUE!"},{"$f":"VLOOKUP(K5701,references!$A$1:$B$7,2,FALSE)","v":{"$error":"#N/A"}}]
[null,null,null,null,null,null,null,null,null,null,null,null,"no email",{"$error":"#VALUE!"},{"$error":"#VALUE!"},{"$f":"VLOOKUP(K5702,references!$A$1:$B$7,2,FALSE)","v":{"$error":"#N/A"}}]
[null,null,null,null,null,null,null,null,null,null,null,null,"no email",{"$error":"#VALUE!"},{"$error":"#VALUE!"},{"$f":"VLOOKUP(K5703,references!$A$1:$B$7,2,FALSE)","v":{"$error":"#N/A"}}]
[null,null,null,null,null,null,null,null,null,null,null,null,"no email",{"$error":"#VALUE!"},{"$error":"#VALUE!"},{"$f":"VLOOKUP(K5704,references!$A$1:$B$7,2,FALSE)","v":{"$error":"#N/A"}}]
[null,null,null,null,null,null,null,null,null,null,null,null,"no email",{"$error":"#VALUE!"},{"$error":"#VALUE!"},{"$f":"VLOOKUP(K5705,references!$A$1:$B$7,2,FALSE)","v":{"$error":"#N/A"}}]
[null,null,null,null,null,null,null,null,null,null,null,null,"no email",{"$error":"#VALUE!"},{"$error":"#VALUE!"},{"$f":"VLOOKUP(K5706,references!$A$1:$B$7,2,FALSE)","v":{"$error":"#N/A"}}]
[null,null,null,null,null,null,null,null,null,null,null,null,"no email",{"$error":"#VALUE!"},{"$error":"#VALUE!"},{"$f":"VLOOKUP(K5707,references!$A$1:$B$7,2,FALSE)","v":{"$error":"#N/A"}}]
[null,null,null,null,null,null,null,null,null,null,null,null,"no email",{"$error":"#VALUE!"},{"$error":"#VALUE!"},{"$f":"VLOOKUP(K5708,references!$A$1:$B$7,2,FALSE)","v":{"$error":"#N/A"}}]
[null,null,null,null,null,null,null,null,null,null,null,null,"no email",{"$error":"#VALUE!"},{"$error":"#VALUE!"},{"$f":"VLOOKUP(K5709,references!$A$1:$B$7,2,FALSE)","v":{"$error":"#N/A"}}]
[null,null,null,null,null,null,null,null,null,null,null,null,"no email",{"$error":"#VALUE!"},{"$error":"#VALUE!"},{"$f":"VLOOKUP(K5710,references!$A$1:$B$7,2,FALSE)","v":{"$error":"#N/A"}}]
[null,null,null,null,null,null,null,null,null,null,null,null,"no email",{"$error":"#VALUE!"},{"$error":"#VALUE!"},{"$f":"VLOOKUP(K5711,references!$A$1:$B$7,2,FALSE)","v":{"$error":"#N/A"}}]
[null,null,null,null,null,null,null,null,null,null,null,null,"no email",{"$error":"#VALUE!"},{"$error":"#VALUE!"},{"$f":"VLOOKUP(K5712,references!$A$1:$B$7,2,FALSE)","v":{"$error":"#N/A"}}]
[null,null,null,null,null,null,null,null,null,null,null,null,"no email",{"$error":"#VALUE!"},{"$error":"#VALUE!"},{"$f":"VLOOKUP(K5713,references!$A$1:$B$7,2,FALSE)","v":{"$error":"#N/A"}}]
[null,null,null,null,null,null,null,null,null,null,null,null,"no email",{"$error":"#VALUE!"},{"$error":"#VALUE!"},{"$f":"VLOOKUP(K5714,references!$A$1:$B$7,2,FALSE)","v":{"$error":"#N/A"}}]
[null,null,null,null,null,null,null,null,null,null,null,null,"no email",{"$error":"#VALUE!"},{"$error":"#VALUE!"},{"$f":"VLOOKUP(K5715,references!$A$1:$B$7,2,FALSE)","v":{"$error":"#N/A"}}]
[null,null,null,null,null,null,null,null,null,null,null,null,"no email",{"$error":"#VALUE!"},{"$error":"#VALUE!"},{"$f":"VLOOKUP(K5716,references!$A$1:$B$7,2,FALSE)","v":{"$error":"#N/A"}}]
[null,null,null,null,null,null,null,null,null,null,null,null,"no email",{"$error":"#VALUE!"},{"$error":"#VALUE!"},{"$f":"VLOOKUP(K5717,references!$A$1:$B$7,2,FALSE)","v":{"$error":"#N/A"}}]
[null,null,null,null,null,null,null,null,null,null,null,null,"no email",{"$error":"#VALUE!"},{"$error":"#VALUE!"},{"$f":"VLOOKUP(K5718,references!$A$1:$B$7,2,FALSE)","v":{"$error":"#N/A"}}]
[null,null,null,null,null,null,null,null,null,null,null,null,"no email",{"$error":"#VALUE!"},{"$error":"#VALUE!"},{"$f":"VLOOKUP(K5719,references!$A$1:$B$7,2,FALSE)","v":{"$error":"#N/A"}}]
[null,null,null,null,null,null,null,null,null,null,null,null,"no email",{"$error":"#VALUE!"},{"$error":"#VALUE!"},{"$f":"VLOOKUP(K5720,references!$A$1:$B$7,2,FALSE)","v":{"$error":"#N/A"}}]
[null,null,null,null,null,null,null,null,null,null,null,null,"no email",{"$error":"#VALUE!"},{"$error":"#VALUE!"},{"$f":"VLOOKUP(K5721,references!$A$1:$B$7,2,FALSE)","v":{"$error":"#N/A"}}]
[null,null,null,null,null,null,null,null,null,null,null,null,"no email",{"$error":"#VALUE!"},{"$error":"#VALUE!"},{"$f":"VLOOKUP(K5722,references!$A$1:$B$7,2,FALSE)","v":{"$error":"#N/A"}}]
[null,null,null,null,null,null,null,null,null,null,null,null,"no email",{"$error":"#VALUE!"},{"$error":"#VALUE!"},{"$f":"VLOOKUP(K5723,references!$A$1:$B$7,2,FALSE)","v":{"$error":"#N/A"}}]
[null,null,null,null,null,null,null,null,null,null,null,null,"no email",{"$error":"#VALUE!"},{"$error":"#VALUE!"},{"$f":"VLOOKUP(K5724,references!$A$1:$B$7,2,FALSE)","v":{"$error":"#N/A"}}]
[null,null,null,null,null,null,null,null,null,null,null,null,"no email",{"$error":"#VALUE!"},{"$error":"#VALUE!"},{"$f":"VLOOKUP(K5725,references!$A$1:$B$7,2,FALSE)","v":{"$error":"#N/A"}}]
[null,null,null,null,null,null,null,null,null,null,null,null,"no email",{"$error":"#VALUE!"},{"$error":"#VALUE!"},{"$f":"VLOOKUP(K5726,references!$A$1:$B$7,2,FALSE)","v":{"$error":"#N/A"}}]
[null,null,null,null,null,null,null,null,null,null,null,null,"no email",{"$error":"#VALUE!"},{"$error":"#VALUE!"},{"$f":"VLOOKUP(K5727,references!$A$1:$B$7,2,FALSE)","v":{"$error":"#N/A"}}]
[null,null,null,null,null,null,null,null,null,null,null,null,"no email",{"$error":"#VALUE!"},{"$error":"#VALUE!"},{"$f":"VLOOKUP(K5728,references!$A$1:$B$7,2,FALSE)","v":{"$error":"#N/A"}}]
[null,null,null,null,null,null,null,null,null,null,null,null,"no email",{"$error":"#VALUE!"},{"$error":"#VALUE!"},{"$f":"VLOOKUP(K5729,references!$A$1:$B$7,2,FALSE)","v":{"$error":"#N/A"}}]
[null,null,null,null,null,null,null,null,null,null,null,null,"no email",{"$error":"#VALUE!"},{"$error":"#VALUE!"},{"$f":"VLOOKUP(K5730,references!$A$1:$B$7,2,FALSE)","v":{"$error":"#N/A"}}]
[null,null,null,null,null,null,null,null,null,null,null,null,"no email",{"$error":"#VALUE!"},{"$error":"#VALUE!"},{"$f":"VLOOKUP(K5731,references!$A$1:$B$7,2,FALSE)","v":{"$error":"#N/A"}}]
[null,null,null,null,null,null,null,null,null,null,null,null,"no email",{"$error":"#VALUE!"},{"$error":"#VALUE!"},{"$f":"VLOOKUP(K5732,references!$A$1:$B$7,2,FALSE)","v":{"$error":"#N/A"}}]
[null,null,null,null,null,null,null,null,null,null,null,null,"no email",{"$error":"#VALUE!"},{"$error":"#VALUE!"},{"$f":"VLOOKUP(K5733,references!$A$1:$B$7,2,FALSE)","v":{"$error":"#N/A"}}]
[null,null,null,null,null,null,null,null,null,null,null,null,"no email",{"$error":"#VALUE!"},{"$error":"#VALUE!"},{"$f":"VLOOKUP(K5734,references!$A$1:$B$7,2,FALSE)","v":{"$error":"#N/A"}}]
[null,null,null,null,null,null,null,null,null,null,null,null,"no email",{"$error":"#VALUE!"},{"$error":"#VALUE!"},{"$f":"VLOOKUP(K5735,references!$A$1:$B$7,2,FALSE)","v":{"$error":"#N/A"}}]
[null,null,null,null,null,null,null,null,null,null,null,null,"no email",{"$error":"#VALUE!"},{"$error":"#VALUE!"},{"$f":"VLOOKUP(K5736,references!$A$1:$B$7,2,FALSE)","v":{"$error":"#N/A"}}]
[null,null,null,null,null,null,null,null,null,null,null,null,"no email",{"$error":"#VALUE!"},{"$error":"#VALUE!"},{"$f":"VLOOKUP(K5737,references!$A$1:$B$7,2,FALSE)","v":{"$error":"#N/A"}}]
[null,null,null,null,null,null,null,null,null,null,null,null,"no email",{"$error":"#VALUE!"},{"$error":"#VALUE!"},{"$f":"VLOOKUP(K5738,references!$A$1:$B$7,2,FALSE)","v":{"$error":"#N/A"}}]
[null,null,null,null,null,null,null,null,null,null,null,null,"no email",{"$error":"#VALUE!"},{"$error":"#VALUE!"},{"$f":"VLOOKUP(K5739,references!$A$1:$B$7,2,FALSE)","v":{"$error":"#N/A"}}]
[null,null,null,null,null,null,null,null,null,null,null,null,"no email",{"$error":"#VALUE!"},{"$error":"#VALUE!"},{"$f":"VLOOKUP(K5740,references!$A$1:$B$7,2,FALSE)","v":{"$error":"#N/A"}}]
[null,null,null,null,null,null,null,null,null,null,null,null,"no email",{"$error":"#VALUE!"},{"$error":"#VALUE!"},{"$f":"VLOOKUP(K5741,references!$A$1:$B$7,2,FALSE)","v":{"$error":"#N/A"}}]
[null,null,null,null,null,null,null,null,null,null,null,null,"no email",{"$error":"#VALUE!"},{"$error":"#VALUE!"},{"$f":"VLOOKUP(K5742,references!$A$1:$B$7,2,FALSE)","v":{"$error":"#N/A"}}]
[null,null,null,null,null,null,null,null,null,null,null,null,"no email",{"$error":"#VALUE!"},{"$error":"#VALUE!"},{"$f":"VLOOKUP(K5743,references!$A$1:$B$7,2,FALSE)","v":{"$error":"#N/A"}}]
[null,null,null,null,null,null,null,null,null,null,null,null,"no email",{"$error":"#VALUE!"},{"$error":"#VALUE!"},{"$f":"VLOOKUP(K5744,references!$A$1:$B$7,2,FALSE)","v":{"$error":"#N/A"}}]
[null,null,null,null,null,null,null,null,null,null,null,null,"no email",{"$error":"#VALUE!"},{"$error":"#VALUE!"},{"$f":"VLOOKUP(K5745,references!$A$1:$B$7,2,FALSE)","v":{"$error":"#N/A"}}]
[null,null,null,null,null,null,null,null,null,null,null,null,"no email",{"$error":"#VALUE!"},{"$error":"#VALUE!"},{"$f":"VLOOKUP(K5746,references!$A$1:$B$7,2,FALSE)","v":{"$error":"#N/A"}}]
[null,null,null,null,null,null,null,null,null,null,null,null,"no email",{"$error":"#VALUE!"},{"$error":"#VALUE!"},{"$f":"VLOOKUP(K5747,references!$A$1:$B$7,2,FALSE)","v":{"$error":"#N/A"}}]
[null,null,null,null,null,null,null,null,null,null,null,null,"no email",{"$error":"#VALUE!"},{"$error":"#VALUE!"},{"$f":"VLOOKUP(K5748,references!$A$1:$B$7,2,FALSE)","v":{"$error":"#N/A"}}]
[null,null,null,null,null,null,null,null,null,null,null,null,"no email",{"$error":"#VALUE!"},{"$error":"#VALUE!"},{"$f":"VLOOKUP(K5749,references!$A$1:$B$7,2,FALSE)","v":{"$error":"#N/A"}}]
[null,null,null,null,null,null,null,null,null,null,null,null,"no email",{"$error":"#VALUE!"},{"$error":"#VALUE!"},{"$f":"VLOOKUP(K5750,references!$A$1:$B$7,2,FALSE)","v":{"$error":"#N/A"}}]
[null,null,null,null,null,null,null,null,null,null,null,null,"no email",{"$error":"#VALUE!"},{"$error":"#VALUE!"},{"$f":"VLOOKUP(K5751,references!$A$1:$B$7,2,FALSE)","v":{"$error":"#N/A"}}]
[null,null,null,null,null,null,null,null,null,null,null,null,"no email",{"$error":"#VALUE!"},{"$error":"#VALUE!"},{"$f":"VLOOKUP(K5752,references!$A$1:$B$7,2,FALSE)","v":{"$error":"#N/A"}}]
[null,null,null,null,null,null,null,null,null,null,null,null,"no email",{"$error":"#VALUE!"},{"$error":"#VALUE!"},{"$f":"VLOOKUP(K5753,references!$A$1:$B$7,2,FALSE)","v":{"$error":"#N/A"}}]
[null,null,null,null,null,null,null,null,null,null,null,null,"no email",{"$error":"#VALUE!"},{"$error":"#VALUE!"},{"$f":"VLOOKUP(K5754,references!$A$1:$B$7,2,FALSE)","v":{"$error":"#N/A"}}]
[null,null,null,null,null,null,null,null,null,null,null,null,"no email",{"$error":"#VALUE!"},{"$error":"#VALUE!"},{"$f":"VLOOKUP(K5755,references!$A$1:$B$7,2,FALSE)","v":{"$error":"#N/A"}}]
[null,null,null,null,null,null,null,null,null,null,null,null,"no email",{"$error":"#VALUE!"},{"$error":"#VALUE!"},{"$f":"VLOOKUP(K5756,references!$A$1:$B$7,2,FALSE)","v":{"$error":"#N/A"}}]
[null,null,null,null,null,null,null,null,null,null,null,null,"no email",{"$error":"#VALUE!"},{"$error":"#VALUE!"},{"$f":"VLOOKUP(K5757,references!$A$1:$B$7,2,FALSE)","v":{"$error":"#N/A"}}]
[null,null,null,null,null,null,null,null,null,null,null,null,"no email",{"$error":"#VALUE!"},{"$error":"#VALUE!"},{"$f":"VLOOKUP(K5758,references!$A$1:$B$7,2,FALSE)","v":{"$error":"#N/A"}}]
[null,null,null,null,null,null,null,null,null,null,null,null,"no email",{"$error":"#VALUE!"},{"$error":"#VALUE!"},{"$f":"VLOOKUP(K5759,references!$A$1:$B$7,2,FALSE)","v":{"$error":"#N/A"}}]
[null,null,null,null,null,null,null,null,null,null,null,null,"no email",{"$error":"#VALUE!"},{"$error":"#VALUE!"},{"$f":"VLOOKUP(K5760,references!$A$1:$B$7,2,FALSE)","v":{"$error":"#N/A"}}]
[null,null,null,null,null,null,null,null,null,null,null,null,"no email",{"$error":"#VALUE!"},{"$error":"#VALUE!"},{"$f":"VLOOKUP(K5761,references!$A$1:$B$7,2,FALSE)","v":{"$error":"#N/A"}}]
[null,null,null,null,null,null,null,null,null,null,null,null,{"$f":"IF(L5762=\"\", \"no email\",LOWER(L5762))","v":"no email"},{"$f":"LEFT(A5762, SEARCH(\",\",A5762,1)-1)","v":{"$error":"#VALUE!"}},{"$f":"RIGHT(A5762, LEN(A5762) -SEARCH(\",\",A5762,1)-1)","v":{"$error":"#VALUE!"}},{"$f":"VLOOKUP(K5762,references!$A$1:$B$7,2,FALSE)","v":{"$error":"#N/A"}}]
[null,null,null,null,null,null,null,null,null,null,null,null,"no email",{"$error":"#VALUE!"},{"$error":"#VALUE!"},{"$f":"VLOOKUP(K5763,references!$A$1:$B$7,2,FALSE)","v":{"$error":"#N/A"}}]
[null,null,null,null,null,null,null,null,null,null,null,null,"no email",{"$error":"#VALUE!"},{"$error":"#VALUE!"},{"$f":"VLOOKUP(K5764,references!$A$1:$B$7,2,FALSE)","v":{"$error":"#N/A"}}]
[null,null,null,null,null,null,null,null,null,null,null,null,"no email",{"$error":"#VALUE!"},{"$error":"#VALUE!"},{"$f":"VLOOKUP(K5765,references!$A$1:$B$7,2,FALSE)","v":{"$error":"#N/A"}}]
[null,null,null,null,null,null,null,null,null,null,null,null,"no email",{"$error":"#VALUE!"},{"$error":"#VALUE!"},{"$f":"VLOOKUP(K5766,references!$A$1:$B$7,2,FALSE)","v":{"$error":"#N/A"}}]
[null,null,null,null,null,null,null,null,null,null,null,null,"no email",{"$error":"#VALUE!"},{"$error":"#VALUE!"},{"$f":"VLOOKUP(K5767,references!$A$1:$B$7,2,FALSE)","v":{"$error":"#N/A"}}]
[null,null,null,null,null,null,null,null,null,null,null,null,"no email",{"$error":"#VALUE!"},{"$error":"#VALUE!"},{"$f":"VLOOKUP(K5768,references!$A$1:$B$7,2,FALSE)","v":{"$error":"#N/A"}}]
[null,null,null,null,null,null,null,null,null,null,null,null,"no email",{"$error":"#VALUE!"},{"$error":"#VALUE!"},{"$f":"VLOOKUP(K5769,references!$A$1:$B$7,2,FALSE)","v":{"$error":"#N/A"}}]
[null,null,null,null,null,null,null,null,null,null,null,null,"no email",{"$error":"#VALUE!"},{"$error":"#VALUE!"},{"$f":"VLOOKUP(K5770,references!$A$1:$B$7,2,FALSE)","v":{"$error":"#N/A"}}]
[null,null,null,null,null,null,null,null,null,null,null,null,"no email",{"$error":"#VALUE!"},{"$error":"#VALUE!"},{"$f":"VLOOKUP(K5771,references!$A$1:$B$7,2,FALSE)","v":{"$error":"#N/A"}}]
[null,null,null,null,null,null,null,null,null,null,null,null,"no email",{"$error":"#VALUE!"},{"$error":"#VALUE!"},{"$f":"VLOOKUP(K5772,references!$A$1:$B$7,2,FALSE)","v":{"$error":"#N/A"}}]
[null,null,null,null,null,null,null,null,null,null,null,null,"no email",{"$error":"#VALUE!"},{"$error":"#VALUE!"},{"$f":"VLOOKUP(K5773,references!$A$1:$B$7,2,FALSE)","v":{"$error":"#N/A"}}]
[null,null,null,null,null,null,null,null,null,null,null,null,"no email",{"$error":"#VALUE!"},{"$error":"#VALUE!"},{"$f":"VLOOKUP(K5774,references!$A$1:$B$7,2,FALSE)","v":{"$error":"#N/A"}}]
[null,null,null,null,null,null,null,null,null,null,null,null,"no email",{"$error":"#VALUE!"},{"$error":"#VALUE!"},{"$f":"VLOOKUP(K5775,references!$A$1:$B$7,2,FALSE)","v":{"$error":"#N/A"}}]
[null,null,null,null,null,null,null,null,null,null,null,null,"no email",{"$error":"#VALUE!"},{"$error":"#VALUE!"},{"$f":"VLOOKUP(K5776,references!$A$1:$B$7,2,FALSE)","v":{"$error":"#N/A"}}]
[null,null,null,null,null,null,null,null,null,null,null,null,"no email",{"$error":"#VALUE!"},{"$error":"#VALUE!"},{"$f":"VLOOKUP(K5777,references!$A$1:$B$7,2,FALSE)","v":{"$error":"#N/A"}}]
[null,null,null,null,null,null,null,null,null,null,null,null,"no email",{"$error":"#VALUE!"},{"$error":"#VALUE!"},{"$f":"VLOOKUP(K5778,references!$A$1:$B$7,2,FALSE)","v":{"$error":"#N/A"}}]
[null,null,null,null,null,null,null,null,null,null,null,null,"no email",{"$error":"#VALUE!"},{"$error":"#VALUE!"},{"$f":"VLOOKUP(K5779,references!$A$1:$B$7,2,FALSE)","v":{"$error":"#N/A"}}]
[null,null,null,null,null,null,null,null,null,null,null,null,"no email",{"$error":"#VALUE!"},{"$error":"#VALUE!"},{"$f":"VLOOKUP(K5780,references!$A$1:$B$7,2,FALSE)","v":{"$error":"#N/A"}}]
[null,null,null,null,null,null,null,null,null,null,null,null,"no email",{"$error":"#VALUE!"},{"$error":"#VALUE!"},{"$f":"VLOOKUP(K5781,references!$A$1:$B$7,2,FALSE)","v":{"$error":"#N/A"}}]
[null,null,null,null,null,null,null,null,null,null,null,null,"no email",{"$error":"#VALUE!"},{"$error":"#VALUE!"},{"$f":"VLOOKUP(K5782,references!$A$1:$B$7,2,FALSE)","v":{"$error":"#N/A"}}]
[null,null,null,null,null,null,null,null,null,null,null,null,"no email",{"$error":"#VALUE!"},{"$error":"#VALUE!"},{"$f":"VLOOKUP(K5783,references!$A$1:$B$7,2,FALSE)","v":{"$error":"#N/A"}}]
[null,null,null,null,null,null,null,null,null,null,null,null,"no email",{"$error":"#VALUE!"},{"$error":"#VALUE!"},{"$f":"VLOOKUP(K5784,references!$A$1:$B$7,2,FALSE)","v":{"$error":"#N/A"}}]
[null,null,null,null,null,null,null,null,null,null,null,null,"no email",{"$error":"#VALUE!"},{"$error":"#VALUE!"},{"$f":"VLOOKUP(K5785,references!$A$1:$B$7,2,FALSE)","v":{"$error":"#N/A"}}]
[null,null,null,null,null,null,null,null,null,null,null,null,"no email",{"$error":"#VALUE!"},{"$error":"#VALUE!"},{"$f":"VLOOKUP(K5786,references!$A$1:$B$7,2,FALSE)","v":{"$error":"#N/A"}}]
[null,null,null,null,null,null,null,null,null,null,null,null,"no email",{"$error":"#VALUE!"},{"$error":"#VALUE!"},{"$f":"VLOOKUP(K5787,references!$A$1:$B$7,2,FALSE)","v":{"$error":"#N/A"}}]
[null,null,null,null,null,null,null,null,null,null,null,null,"no email",{"$error":"#VALUE!"},{"$error":"#VALUE!"},{"$f":"VLOOKUP(K5788,references!$A$1:$B$7,2,FALSE)","v":{"$error":"#N/A"}}]
[null,null,null,null,null,null,null,null,null,null,null,null,"no email",{"$error":"#VALUE!"},{"$error":"#VALUE!"},{"$f":"VLOOKUP(K5789,references!$A$1:$B$7,2,FALSE)","v":{"$error":"#N/A"}}]
[null,null,null,null,null,null,null,null,null,null,null,null,"no email",{"$error":"#VALUE!"},{"$error":"#VALUE!"},{"$f":"VLOOKUP(K5790,references!$A$1:$B$7,2,FALSE)","v":{"$error":"#N/A"}}]
[null,null,null,null,null,null,null,null,null,null,null,null,"no email",{"$error":"#VALUE!"},{"$error":"#VALUE!"},{"$f":"VLOOKUP(K5791,references!$A$1:$B$7,2,FALSE)","v":{"$error":"#N/A"}}]
[null,null,null,null,null,null,null,null,null,null,null,null,"no email",{"$error":"#VALUE!"},{"$error":"#VALUE!"},{"$f":"VLOOKUP(K5792,references!$A$1:$B$7,2,FALSE)","v":{"$error":"#N/A"}}]
[null,null,null,null,null,null,null,null,null,null,null,null,"no email",{"$error":"#VALUE!"},{"$error":"#VALUE!"},{"$f":"VLOOKUP(K5793,references!$A$1:$B$7,2,FALSE)","v":{"$error":"#N/A"}}]
[null,null,null,null,null,null,null,null,null,null,null,null,"no email",{"$error":"#VALUE!"},{"$error":"#VALUE!"},{"$f":"VLOOKUP(K5794,references!$A$1:$B$7,2,FALSE)","v":{"$error":"#N/A"}}]
[null,null,null,null,null,null,null,null,null,null,null,null,"no email",{"$error":"#VALUE!"},{"$error":"#VALUE!"},{"$f":"VLOOKUP(K5795,references!$A$1:$B$7,2,FALSE)","v":{"$error":"#N/A"}}]
[null,null,null,null,null,null,null,null,null,null,null,null,"no email",{"$error":"#VALUE!"},{"$error":"#VALUE!"},{"$f":"VLOOKUP(K5796,references!$A$1:$B$7,2,FALSE)","v":{"$error":"#N/A"}}]
[null,null,null,null,null,null,null,null,null,null,null,null,"no email",{"$error":"#VALUE!"},{"$error":"#VALUE!"},{"$f":"VLOOKUP(K5797,references!$A$1:$B$7,2,FALSE)","v":{"$error":"#N/A"}}]
[null,null,null,null,null,null,null,null,null,null,null,null,"no email",{"$error":"#VALUE!"},{"$error":"#VALUE!"},{"$f":"VLOOKUP(K5798,references!$A$1:$B$7,2,FALSE)","v":{"$error":"#N/A"}}]
[null,null,null,null,null,null,null,null,null,null,null,null,"no email",{"$error":"#VALUE!"},{"$error":"#VALUE!"},{"$f":"VLOOKUP(K5799,references!$A$1:$B$7,2,FALSE)","v":{"$error":"#N/A"}}]
[null,null,null,null,null,null,null,null,null,null,null,null,"no email",{"$error":"#VALUE!"},{"$error":"#VALUE!"},{"$f":"VLOOKUP(K5800,references!$A$1:$B$7,2,FALSE)","v":{"$error":"#N/A"}}]
[null,null,null,null,null,null,null,null,null,null,null,null,"no email",{"$error":"#VALUE!"},{"$error":"#VALUE!"},{"$f":"VLOOKUP(K5801,references!$A$1:$B$7,2,FALSE)","v":{"$error":"#N/A"}}]
[null,null,null,null,null,null,null,null,null,null,null,null,"no email",{"$error":"#VALUE!"},{"$error":"#VALUE!"},{"$f":"VLOOKUP(K5802,references!$A$1:$B$7,2,FALSE)","v":{"$error":"#N/A"}}]
[null,null,null,null,null,null,null,null,null,null,null,null,"no email",{"$error":"#VALUE!"},{"$error":"#VALUE!"},{"$f":"VLOOKUP(K5803,references!$A$1:$B$7,2,FALSE)","v":{"$error":"#N/A"}}]
[null,null,null,null,null,null,null,null,null,null,null,null,"no email",{"$error":"#VALUE!"},{"$error":"#VALUE!"},{"$f":"VLOOKUP(K5804,references!$A$1:$B$7,2,FALSE)","v":{"$error":"#N/A"}}]
[null,null,null,null,null,null,null,null,null,null,null,null,"no email",{"$error":"#VALUE!"},{"$error":"#VALUE!"},{"$f":"VLOOKUP(K5805,references!$A$1:$B$7,2,FALSE)","v":{"$error":"#N/A"}}]
[null,null,null,null,null,null,null,null,null,null,null,null,"no email",{"$error":"#VALUE!"},{"$error":"#VALUE!"},{"$f":"VLOOKUP(K5806,references!$A$1:$B$7,2,FALSE)","v":{"$error":"#N/A"}}]
[null,null,null,null,null,null,null,null,null,null,null,null,"no email",{"$error":"#VALUE!"},{"$error":"#VALUE!"},{"$f":"VLOOKUP(K5807,references!$A$1:$B$7,2,FALSE)","v":{"$error":"#N/A"}}]
[null,null,null,null,null,null,null,null,null,null,null,null,"no email",{"$error":"#VALUE!"},{"$error":"#VALUE!"},{"$f":"VLOOKUP(K5808,references!$A$1:$B$7,2,FALSE)","v":{"$error":"#N/A"}}]
[null,null,null,null,null,null,null,null,null,null,null,null,"no email",{"$error":"#VALUE!"},{"$error":"#VALUE!"},{"$f":"VLOOKUP(K5809,references!$A$1:$B$7,2,FALSE)","v":{"$error":"#N/A"}}]
[null,null,null,null,null,null,null,null,null,null,null,null,"no email",{"$error":"#VALUE!"},{"$error":"#VALUE!"},{"$f":"VLOOKUP(K5810,references!$A$1:$B$7,2,FALSE)","v":{"$error":"#N/A"}}]
[null,null,null,null,null,null,null,null,null,null,null,null,"no email",{"$error":"#VALUE!"},{"$error":"#VALUE!"},{"$f":"VLOOKUP(K5811,references!$A$1:$B$7,2,FALSE)","v":{"$error":"#N/A"}}]
[null,null,null,null,null,null,null,null,null,null,null,null,"no email",{"$error":"#VALUE!"},{"$error":"#VALUE!"},{"$f":"VLOOKUP(K5812,references!$A$1:$B$7,2,FALSE)","v":{"$error":"#N/A"}}]
[null,null,null,null,null,null,null,null,null,null,null,null,"no email",{"$error":"#VALUE!"},{"$error":"#VALUE!"},{"$f":"VLOOKUP(K5813,references!$A$1:$B$7,2,FALSE)","v":{"$error":"#N/A"}}]
[null,null,null,null,null,null,null,null,null,null,null,null,"no email",{"$error":"#VALUE!"},{"$error":"#VALUE!"},{"$f":"VLOOKUP(K5814,references!$A$1:$B$7,2,FALSE)","v":{"$error":"#N/A"}}]
[null,null,null,null,null,null,null,null,null,null,null,null,"no email",{"$error":"#VALUE!"},{"$error":"#VALUE!"},{"$f":"VLOOKUP(K5815,references!$A$1:$B$7,2,FALSE)","v":{"$error":"#N/A"}}]
[null,null,null,null,null,null,null,null,null,null,null,null,"no email",{"$error":"#VALUE!"},{"$error":"#VALUE!"},{"$f":"VLOOKUP(K5816,references!$A$1:$B$7,2,FALSE)","v":{"$error":"#N/A"}}]
[null,null,null,null,null,null,null,null,null,null,null,null,"no email",{"$error":"#VALUE!"},{"$error":"#VALUE!"},{"$f":"VLOOKUP(K5817,references!$A$1:$B$7,2,FALSE)","v":{"$error":"#N/A"}}]
[null,null,null,null,null,null,null,null,null,null,null,null,"no email",{"$error":"#VALUE!"},{"$error":"#VALUE!"},{"$f":"VLOOKUP(K5818,references!$A$1:$B$7,2,FALSE)","v":{"$error":"#N/A"}}]
[null,null,null,null,null,null,null,null,null,null,null,null,"no email",{"$error":"#VALUE!"},{"$error":"#VALUE!"},{"$f":"VLOOKUP(K5819,references!$A$1:$B$7,2,FALSE)","v":{"$error":"#N/A"}}]
[null,null,null,null,null,null,null,null,null,null,null,null,"no email",{"$error":"#VALUE!"},{"$error":"#VALUE!"},{"$f":"VLOOKUP(K5820,references!$A$1:$B$7,2,FALSE)","v":{"$error":"#N/A"}}]
[null,null,null,null,null,null,null,null,null,null,null,null,"no email",{"$error":"#VALUE!"},{"$error":"#VALUE!"},{"$f":"VLOOKUP(K5821,references!$A$1:$B$7,2,FALSE)","v":{"$error":"#N/A"}}]
[null,null,null,null,null,null,null,null,null,null,null,null,"no email",{"$error":"#VALUE!"},{"$error":"#VALUE!"},{"$f":"VLOOKUP(K5822,references!$A$1:$B$7,2,FALSE)","v":{"$error":"#N/A"}}]
[null,null,null,null,null,null,null,null,null,null,null,null,"no email",{"$error":"#VALUE!"},{"$error":"#VALUE!"},{"$f":"VLOOKUP(K5823,references!$A$1:$B$7,2,FALSE)","v":{"$error":"#N/A"}}]
[null,null,null,null,null,null,null,null,null,null,null,null,"no email",{"$error":"#VALUE!"},{"$error":"#VALUE!"},{"$f":"VLOOKUP(K5824,references!$A$1:$B$7,2,FALSE)","v":{"$error":"#N/A"}}]
[null,null,null,null,null,null,null,null,null,null,null,null,"no email",{"$error":"#VALUE!"},{"$error":"#VALUE!"},{"$f":"VLOOKUP(K5825,references!$A$1:$B$7,2,FALSE)","v":{"$error":"#N/A"}}]
[null,null,null,null,null,null,null,null,null,null,null,null,{"$f":"IF(L5826=\"\", \"no email\",LOWER(L5826))","v":"no email"},{"$f":"LEFT(A5826, SEARCH(\",\",A5826,1)-1)","v":{"$error":"#VALUE!"}},{"$f":"RIGHT(A5826, LEN(A5826) -SEARCH(\",\",A5826,1)-1)","v":{"$error":"#VALUE!"}},{"$f":"VLOOKUP(K5826,references!$A$1:$B$7,2,FALSE)","v":{"$error":"#N/A"}}]
[null,null,null,null,null,null,null,null,null,null,null,null,"no email",{"$error":"#VALUE!"},{"$error":"#VALUE!"},{"$f":"VLOOKUP(K5827,references!$A$1:$B$7,2,FALSE)","v":{"$error":"#N/A"}}]
[null,null,null,null,null,null,null,null,null,null,null,null,"no email",{"$error":"#VALUE!"},{"$error":"#VALUE!"},{"$f":"VLOOKUP(K5828,references!$A$1:$B$7,2,FALSE)","v":{"$error":"#N/A"}}]
[null,null,null,null,null,null,null,null,null,null,null,null,"no email",{"$error":"#VALUE!"},{"$error":"#VALUE!"},{"$f":"VLOOKUP(K5829,references!$A$1:$B$7,2,FALSE)","v":{"$error":"#N/A"}}]
[null,null,null,null,null,null,null,null,null,null,null,null,"no email",{"$error":"#VALUE!"},{"$error":"#VALUE!"},{"$f":"VLOOKUP(K5830,references!$A$1:$B$7,2,FALSE)","v":{"$error":"#N/A"}}]
[null,null,null,null,null,null,null,null,null,null,null,null,"no email",{"$error":"#VALUE!"},{"$error":"#VALUE!"},{"$f":"VLOOKUP(K5831,references!$A$1:$B$7,2,FALSE)","v":{"$error":"#N/A"}}]
[null,null,null,null,null,null,null,null,null,null,null,null,"no email",{"$error":"#VALUE!"},{"$error":"#VALUE!"},{"$f":"VLOOKUP(K5832,references!$A$1:$B$7,2,FALSE)","v":{"$error":"#N/A"}}]
[null,null,null,null,null,null,null,null,null,null,null,null,"no email",{"$error":"#VALUE!"},{"$error":"#VALUE!"},{"$f":"VLOOKUP(K5833,references!$A$1:$B$7,2,FALSE)","v":{"$error":"#N/A"}}]
[null,null,null,null,null,null,null,null,null,null,null,null,"no email",{"$error":"#VALUE!"},{"$error":"#VALUE!"},{"$f":"VLOOKUP(K5834,references!$A$1:$B$7,2,FALSE)","v":{"$error":"#N/A"}}]
[null,null,null,null,null,null,null,null,null,null,null,null,"no email",{"$error":"#VALUE!"},{"$error":"#VALUE!"},{"$f":"VLOOKUP(K5835,references!$A$1:$B$7,2,FALSE)","v":{"$error":"#N/A"}}]
[null,null,null,null,null,null,null,null,null,null,null,null,"no email",{"$error":"#VALUE!"},{"$error":"#VALUE!"},{"$f":"VLOOKUP(K5836,references!$A$1:$B$7,2,FALSE)","v":{"$error":"#N/A"}}]
[null,null,null,null,null,null,null,null,null,null,null,null,"no email",{"$error":"#VALUE!"},{"$error":"#VALUE!"},{"$f":"VLOOKUP(K5837,references!$A$1:$B$7,2,FALSE)","v":{"$error":"#N/A"}}]
[null,null,null,null,null,null,null,null,null,null,null,null,"no email",{"$error":"#VALUE!"},{"$error":"#VALUE!"},{"$f":"VLOOKUP(K5838,references!$A$1:$B$7,2,FALSE)","v":{"$error":"#N/A"}}]
[null,null,null,null,null,null,null,null,null,null,null,null,"no email",{"$error":"#VALUE!"},{"$error":"#VALUE!"},{"$f":"VLOOKUP(K5839,references!$A$1:$B$7,2,FALSE)","v":{"$error":"#N/A"}}]
[null,null,null,null,null,null,null,null,null,null,null,null,"no email",{"$error":"#VALUE!"},{"$error":"#VALUE!"},{"$f":"VLOOKUP(K5840,references!$A$1:$B$7,2,FALSE)","v":{"$error":"#N/A"}}]
[null,null,null,null,null,null,null,null,null,null,null,null,"no email",{"$error":"#VALUE!"},{"$error":"#VALUE!"},{"$f":"VLOOKUP(K5841,references!$A$1:$B$7,2,FALSE)","v":{"$error":"#N/A"}}]
[null,null,null,null,null,null,null,null,null,null,null,null,"no email",{"$error":"#VALUE!"},{"$error":"#VALUE!"},{"$f":"VLOOKUP(K5842,references!$A$1:$B$7,2,FALSE)","v":{"$error":"#N/A"}}]
[null,null,null,null,null,null,null,null,null,null,null,null,"no email",{"$error":"#VALUE!"},{"$error":"#VALUE!"},{"$f":"VLOOKUP(K5843,references!$A$1:$B$7,2,FALSE)","v":{"$error":"#N/A"}}]
[null,null,null,null,null,null,null,null,null,null,null,null,"no email",{"$error":"#VALUE!"},{"$error":"#VALUE!"},{"$f":"VLOOKUP(K5844,references!$A$1:$B$7,2,FALSE)","v":{"$error":"#N/A"}}]
[null,null,null,null,null,null,null,null,null,null,null,null,"no email",{"$error":"#VALUE!"},{"$error":"#VALUE!"},{"$f":"VLOOKUP(K5845,references!$A$1:$B$7,2,FALSE)","v":{"$error":"#N/A"}}]
[null,null,null,null,null,null,null,null,null,null,null,null,"no email",{"$error":"#VALUE!"},{"$error":"#VALUE!"},{"$f":"VLOOKUP(K5846,references!$A$1:$B$7,2,FALSE)","v":{"$error":"#N/A"}}]
[null,null,null,null,null,null,null,null,null,null,null,null,"no email",{"$error":"#VALUE!"},{"$error":"#VALUE!"},{"$f":"VLOOKUP(K5847,references!$A$1:$B$7,2,FALSE)","v":{"$error":"#N/A"}}]
[null,null,null,null,null,null,null,null,null,null,null,null,"no email",{"$error":"#VALUE!"},{"$error":"#VALUE!"},{"$f":"VLOOKUP(K5848,references!$A$1:$B$7,2,FALSE)","v":{"$error":"#N/A"}}]
[null,null,null,null,null,null,null,null,null,null,null,null,"no email",{"$error":"#VALUE!"},{"$error":"#VALUE!"},{"$f":"VLOOKUP(K5849,references!$A$1:$B$7,2,FALSE)","v":{"$error":"#N/A"}}]
[null,null,null,null,null,null,null,null,null,null,null,null,"no email",{"$error":"#VALUE!"},{"$error":"#VALUE!"},{"$f":"VLOOKUP(K5850,references!$A$1:$B$7,2,FALSE)","v":{"$error":"#N/A"}}]
[null,null,null,null,null,null,null,null,null,null,null,null,"no email",{"$error":"#VALUE!"},{"$error":"#VALUE!"},{"$f":"VLOOKUP(K5851,references!$A$1:$B$7,2,FALSE)","v":{"$error":"#N/A"}}]
[null,null,null,null,null,null,null,null,null,null,null,null,"no email",{"$error":"#VALUE!"},{"$error":"#VALUE!"},{"$f":"VLOOKUP(K5852,references!$A$1:$B$7,2,FALSE)","v":{"$error":"#N/A"}}]
[null,null,null,null,null,null,null,null,null,null,null,null,"no email",{"$error":"#VALUE!"},{"$error":"#VALUE!"},{"$f":"VLOOKUP(K5853,references!$A$1:$B$7,2,FALSE)","v":{"$error":"#N/A"}}]
[null,null,null,null,null,null,null,null,null,null,null,null,"no email",{"$error":"#VALUE!"},{"$error":"#VALUE!"},{"$f":"VLOOKUP(K5854,references!$A$1:$B$7,2,FALSE)","v":{"$error":"#N/A"}}]
[null,null,null,null,null,null,null,null,null,null,null,null,"no email",{"$error":"#VALUE!"},{"$error":"#VALUE!"},{"$f":"VLOOKUP(K5855,references!$A$1:$B$7,2,FALSE)","v":{"$error":"#N/A"}}]
[null,null,null,null,null,null,null,null,null,null,null,null,"no email",{"$error":"#VALUE!"},{"$error":"#VALUE!"},{"$f":"VLOOKUP(K5856,references!$A$1:$B$7,2,FALSE)","v":{"$error":"#N/A"}}]
[null,null,null,null,null,null,null,null,null,null,null,null,"no email",{"$error":"#VALUE!"},{"$error":"#VALUE!"},{"$f":"VLOOKUP(K5857,references!$A$1:$B$7,2,FALSE)","v":{"$error":"#N/A"}}]
[null,null,null,null,null,null,null,null,null,null,null,null,"no email",{"$error":"#VALUE!"},{"$error":"#VALUE!"},{"$f":"VLOOKUP(K5858,references!$A$1:$B$7,2,FALSE)","v":{"$error":"#N/A"}}]
[null,null,null,null,null,null,null,null,null,null,null,null,"no email",{"$error":"#VALUE!"},{"$error":"#VALUE!"},{"$f":"VLOOKUP(K5859,references!$A$1:$B$7,2,FALSE)","v":{"$error":"#N/A"}}]
[null,null,null,null,null,null,null,null,null,null,null,null,"no email",{"$error":"#VALUE!"},{"$error":"#VALUE!"},{"$f":"VLOOKUP(K5860,references!$A$1:$B$7,2,FALSE)","v":{"$error":"#N/A"}}]
[null,null,null,null,null,null,null,null,null,null,null,null,"no email",{"$error":"#VALUE!"},{"$error":"#VALUE!"},{"$f":"VLOOKUP(K5861,references!$A$1:$B$7,2,FALSE)","v":{"$error":"#N/A"}}]
[null,null,null,null,null,null,null,null,null,null,null,null,"no email",{"$error":"#VALUE!"},{"$error":"#VALUE!"},{"$f":"VLOOKUP(K5862,references!$A$1:$B$7,2,FALSE)","v":{"$error":"#N/A"}}]
[null,null,null,null,null,null,null,null,null,null,null,null,"no email",{"$error":"#VALUE!"},{"$error":"#VALUE!"},{"$f":"VLOOKUP(K5863,references!$A$1:$B$7,2,FALSE)","v":{"$error":"#N/A"}}]
[null,null,null,null,null,null,null,null,null,null,null,null,"no email",{"$error":"#VALUE!"},{"$error":"#VALUE!"},{"$f":"VLOOKUP(K5864,references!$A$1:$B$7,2,FALSE)","v":{"$error":"#N/A"}}]
[null,null,null,null,null,null,null,null,null,null,null,null,"no email",{"$error":"#VALUE!"},{"$error":"#VALUE!"},{"$f":"VLOOKUP(K5865,references!$A$1:$B$7,2,FALSE)","v":{"$error":"#N/A"}}]
[null,null,null,null,null,null,null,null,null,null,null,null,"no email",{"$error":"#VALUE!"},{"$error":"#VALUE!"},{"$f":"VLOOKUP(K5866,references!$A$1:$B$7,2,FALSE)","v":{"$error":"#N/A"}}]
[null,null,null,null,null,null,null,null,null,null,null,null,"no email",{"$error":"#VALUE!"},{"$error":"#VALUE!"},{"$f":"VLOOKUP(K5867,references!$A$1:$B$7,2,FALSE)","v":{"$error":"#N/A"}}]
[null,null,null,null,null,null,null,null,null,null,null,null,"no email",{"$error":"#VALUE!"},{"$error":"#VALUE!"},{"$f":"VLOOKUP(K5868,references!$A$1:$B$7,2,FALSE)","v":{"$error":"#N/A"}}]
[null,null,null,null,null,null,null,null,null,null,null,null,"no email",{"$error":"#VALUE!"},{"$error":"#VALUE!"},{"$f":"VLOOKUP(K5869,references!$A$1:$B$7,2,FALSE)","v":{"$error":"#N/A"}}]
[null,null,null,null,null,null,null,null,null,null,null,null,"no email",{"$error":"#VALUE!"},{"$error":"#VALUE!"},{"$f":"VLOOKUP(K5870,references!$A$1:$B$7,2,FALSE)","v":{"$error":"#N/A"}}]
[null,null,null,null,null,null,null,null,null,null,null,null,"no email",{"$error":"#VALUE!"},{"$error":"#VALUE!"},{"$f":"VLOOKUP(K5871,references!$A$1:$B$7,2,FALSE)","v":{"$error":"#N/A"}}]
[null,null,null,null,null,null,null,null,null,null,null,null,"no email",{"$error":"#VALUE!"},{"$error":"#VALUE!"},{"$f":"VLOOKUP(K5872,references!$A$1:$B$7,2,FALSE)","v":{"$error":"#N/A"}}]
[null,null,null,null,null,null,null,null,null,null,null,null,"no email",{"$error":"#VALUE!"},{"$error":"#VALUE!"},{"$f":"VLOOKUP(K5873,references!$A$1:$B$7,2,FALSE)","v":{"$error":"#N/A"}}]
[null,null,null,null,null,null,null,null,null,null,null,null,"no email",{"$error":"#VALUE!"},{"$error":"#VALUE!"},{"$f":"VLOOKUP(K5874,references!$A$1:$B$7,2,FALSE)","v":{"$error":"#N/A"}}]
[null,null,null,null,null,null,null,null,null,null,null,null,"no email",{"$error":"#VALUE!"},{"$error":"#VALUE!"},{"$f":"VLOOKUP(K5875,references!$A$1:$B$7,2,FALSE)","v":{"$error":"#N/A"}}]
[null,null,null,null,null,null,null,null,null,null,null,null,"no email",{"$error":"#VALUE!"},{"$error":"#VALUE!"},{"$f":"VLOOKUP(K5876,references!$A$1:$B$7,2,FALSE)","v":{"$error":"#N/A"}}]
[null,null,null,null,null,null,null,null,null,null,null,null,"no email",{"$error":"#VALUE!"},{"$error":"#VALUE!"},{"$f":"VLOOKUP(K5877,references!$A$1:$B$7,2,FALSE)","v":{"$error":"#N/A"}}]
[null,null,null,null,null,null,null,null,null,null,null,null,"no email",{"$error":"#VALUE!"},{"$error":"#VALUE!"},{"$f":"VLOOKUP(K5878,references!$A$1:$B$7,2,FALSE)","v":{"$error":"#N/A"}}]
[null,null,null,null,null,null,null,null,null,null,null,null,"no email",{"$error":"#VALUE!"},{"$error":"#VALUE!"},{"$f":"VLOOKUP(K5879,references!$A$1:$B$7,2,FALSE)","v":{"$error":"#N/A"}}]
[null,null,null,null,null,null,null,null,null,null,null,null,"no email",{"$error":"#VALUE!"},{"$error":"#VALUE!"},{"$f":"VLOOKUP(K5880,references!$A$1:$B$7,2,FALSE)","v":{"$error":"#N/A"}}]
[null,null,null,null,null,null,null,null,null,null,null,null,"no email",{"$error":"#VALUE!"},{"$error":"#VALUE!"},{"$f":"VLOOKUP(K5881,references!$A$1:$B$7,2,FALSE)","v":{"$error":"#N/A"}}]
[null,null,null,null,null,null,null,null,null,null,null,null,"no email",{"$error":"#VALUE!"},{"$error":"#VALUE!"},{"$f":"VLOOKUP(K5882,references!$A$1:$B$7,2,FALSE)","v":{"$error":"#N/A"}}]
[null,null,null,null,null,null,null,null,null,null,null,null,"no email",{"$error":"#VALUE!"},{"$error":"#VALUE!"},{"$f":"VLOOKUP(K5883,references!$A$1:$B$7,2,FALSE)","v":{"$error":"#N/A"}}]
[null,null,null,null,null,null,null,null,null,null,null,null,"no email",{"$error":"#VALUE!"},{"$error":"#VALUE!"},{"$f":"VLOOKUP(K5884,references!$A$1:$B$7,2,FALSE)","v":{"$error":"#N/A"}}]
[null,null,null,null,null,null,null,null,null,null,null,null,"no email",{"$error":"#VALUE!"},{"$error":"#VALUE!"},{"$f":"VLOOKUP(K5885,references!$A$1:$B$7,2,FALSE)","v":{"$error":"#N/A"}}]
[null,null,null,null,null,null,null,null,null,null,null,null,"no email",{"$error":"#VALUE!"},{"$error":"#VALUE!"},{"$f":"VLOOKUP(K5886,references!$A$1:$B$7,2,FALSE)","v":{"$error":"#N/A"}}]
[null,null,null,null,null,null,null,null,null,null,null,null,"no email",{"$error":"#VALUE!"},{"$error":"#VALUE!"},{"$f":"VLOOKUP(K5887,references!$A$1:$B$7,2,FALSE)","v":{"$error":"#N/A"}}]
[null,null,null,null,null,null,null,null,null,null,null,null,"no email",{"$error":"#VALUE!"},{"$error":"#VALUE!"},{"$f":"VLOOKUP(K5888,references!$A$1:$B$7,2,FALSE)","v":{"$error":"#N/A"}}]
[null,null,null,null,null,null,null,null,null,null,null,null,"no email",{"$error":"#VALUE!"},{"$error":"#VALUE!"},{"$f":"VLOOKUP(K5889,references!$A$1:$B$7,2,FALSE)","v":{"$error":"#N/A"}}]
[null,null,null,null,null,null,null,null,null,null,null,null,{"$f":"IF(L5890=\"\", \"no email\",LOWER(L5890))","v":"no email"},{"$f":"LEFT(A5890, SEARCH(\",\",A5890,1)-1)","v":{"$error":"#VALUE!"}},{"$f":"RIGHT(A5890, LEN(A5890) -SEARCH(\",\",A5890,1)-1)","v":{"$error":"#VALUE!"}},{"$f":"VLOOKUP(K5890,references!$A$1:$B$7,2,FALSE)","v":{"$error":"#N/A"}}]
[null,null,null,null,null,null,null,null,null,null,null,null,"no email",{"$error":"#VALUE!"},{"$error":"#VALUE!"},{"$f":"VLOOKUP(K5891,references!$A$1:$B$7,2,FALSE)","v":{"$error":"#N/A"}}]
[null,null,null,null,null,null,null,null,null,null,null,null,"no email",{"$error":"#VALUE!"},{"$error":"#VALUE!"},{"$f":"VLOOKUP(K5892,references!$A$1:$B$7,2,FALSE)","v":{"$error":"#N/A"}}]
[null,null,null,null,null,null,null,null,null,null,null,null,"no email",{"$error":"#VALUE!"},{"$error":"#VALUE!"},{"$f":"VLOOKUP(K5893,references!$A$1:$B$7,2,FALSE)","v":{"$error":"#N/A"}}]
[null,null,null,null,null,null,null,null,null,null,null,null,"no email",{"$error":"#VALUE!"},{"$error":"#VALUE!"},{"$f":"VLOOKUP(K5894,references!$A$1:$B$7,2,FALSE)","v":{"$error":"#N/A"}}]
[null,null,null,null,null,null,null,null,null,null,null,null,"no email",{"$error":"#VALUE!"},{"$error":"#VALUE!"},{"$f":"VLOOKUP(K5895,references!$A$1:$B$7,2,FALSE)","v":{"$error":"#N/A"}}]
[null,null,null,null,null,null,null,null,null,null,null,null,"no email",{"$error":"#VALUE!"},{"$error":"#VALUE!"},{"$f":"VLOOKUP(K5896,references!$A$1:$B$7,2,FALSE)","v":{"$error":"#N/A"}}]
[null,null,null,null,null,null,null,null,null,null,null,null,"no email",{"$error":"#VALUE!"},{"$error":"#VALUE!"},{"$f":"VLOOKUP(K5897,references!$A$1:$B$7,2,FALSE)","v":{"$error":"#N/A"}}]
[null,null,null,null,null,null,null,null,null,null,null,null,"no email",{"$error":"#VALUE!"},{"$error":"#VALUE!"},{"$f":"VLOOKUP(K5898,references!$A$1:$B$7,2,FALSE)","v":{"$error":"#N/A"}}]
[null,null,null,null,null,null,null,null,null,null,null,null,"no email",{"$error":"#VALUE!"},{"$error":"#VALUE!"},{"$f":"VLOOKUP(K5899,references!$A$1:$B$7,2,FALSE)","v":{"$error":"#N/A"}}]
[null,null,null,null,null,null,null,null,null,null,null,null,"no email",{"$error":"#VALUE!"},{"$error":"#VALUE!"},{"$f":"VLOOKUP(K5900,references!$A$1:$B$7,2,FALSE)","v":{"$error":"#N/A"}}]
[null,null,null,null,null,null,null,null,null,null,null,null,"no email",{"$error":"#VALUE!"},{"$error":"#VALUE!"},{"$f":"VLOOKUP(K5901,references!$A$1:$B$7,2,FALSE)","v":{"$error":"#N/A"}}]
[null,null,null,null,null,null,null,null,null,null,null,null,"no email",{"$error":"#VALUE!"},{"$error":"#VALUE!"},{"$f":"VLOOKUP(K5902,references!$A$1:$B$7,2,FALSE)","v":{"$error":"#N/A"}}]
[null,null,null,null,null,null,null,null,null,null,null,null,"no email",{"$error":"#VALUE!"},{"$error":"#VALUE!"},{"$f":"VLOOKUP(K5903,references!$A$1:$B$7,2,FALSE)","v":{"$error":"#N/A"}}]
[null,null,null,null,null,null,null,null,null,null,null,null,"no email",{"$error":"#VALUE!"},{"$error":"#VALUE!"},{"$f":"VLOOKUP(K5904,references!$A$1:$B$7,2,FALSE)","v":{"$error":"#N/A"}}]
[null,null,null,null,null,null,null,null,null,null,null,null,"no email",{"$error":"#VALUE!"},{"$error":"#VALUE!"},{"$f":"VLOOKUP(K5905,references!$A$1:$B$7,2,FALSE)","v":{"$error":"#N/A"}}]
[null,null,null,null,null,null,null,null,null,null,null,null,"no email",{"$error":"#VALUE!"},{"$error":"#VALUE!"},{"$f":"VLOOKUP(K5906,references!$A$1:$B$7,2,FALSE)","v":{"$error":"#N/A"}}]
[null,null,null,null,null,null,null,null,null,null,null,null,"no email",{"$error":"#VALUE!"},{"$error":"#VALUE!"},{"$f":"VLOOKUP(K5907,references!$A$1:$B$7,2,FALSE)","v":{"$error":"#N/A"}}]
[null,null,null,null,null,null,null,null,null,null,null,null,"no email",{"$error":"#VALUE!"},{"$error":"#VALUE!"},{"$f":"VLOOKUP(K5908,references!$A$1:$B$7,2,FALSE)","v":{"$error":"#N/A"}}]
[null,null,null,null,null,null,null,null,null,null,null,null,"no email",{"$error":"#VALUE!"},{"$error":"#VALUE!"},{"$f":"VLOOKUP(K5909,references!$A$1:$B$7,2,FALSE)","v":{"$error":"#N/A"}}]
[null,null,null,null,null,null,null,null,null,null,null,null,"no email",{"$error":"#VALUE!"},{"$error":"#VALUE!"},{"$f":"VLOOKUP(K5910,references!$A$1:$B$7,2,FALSE)","v":{"$error":"#N/A"}}]
[null,null,null,null,null,null,null,null,null,null,null,null,"no email",{"$error":"#VALUE!"},{"$error":"#VALUE!"},{"$f":"VLOOKUP(K5911,references!$A$1:$B$7,2,FALSE)","v":{"$error":"#N/A"}}]
[null,null,null,null,null,null,null,null,null,null,null,null,"no email",{"$error":"#VALUE!"},{"$error":"#VALUE!"},{"$f":"VLOOKUP(K5912,references!$A$1:$B$7,2,FALSE)","v":{"$error":"#N/A"}}]
[null,null,null,null,null,null,null,null,null,null,null,null,"no email",{"$error":"#VALUE!"},{"$error":"#VALUE!"},{"$f":"VLOOKUP(K5913,references!$A$1:$B$7,2,FALSE)","v":{"$error":"#N/A"}}]
[null,null,null,null,null,null,null,null,null,null,null,null,"no email",{"$error":"#VALUE!"},{"$error":"#VALUE!"},{"$f":"VLOOKUP(K5914,references!$A$1:$B$7,2,FALSE)","v":{"$error":"#N/A"}}]
[null,null,null,null,null,null,null,null,null,null,null,null,"no email",{"$error":"#VALUE!"},{"$error":"#VALUE!"},{"$f":"VLOOKUP(K5915,references!$A$1:$B$7,2,FALSE)","v":{"$error":"#N/A"}}]
[null,null,null,null,null,null,null,null,null,null,null,null,"no email",{"$error":"#VALUE!"},{"$error":"#VALUE!"},{"$f":"VLOOKUP(K5916,references!$A$1:$B$7,2,FALSE)","v":{"$error":"#N/A"}}]
[null,null,null,null,null,null,null,null,null,null,null,null,"no email",{"$error":"#VALUE!"},{"$error":"#VALUE!"},{"$f":"VLOOKUP(K5917,references!$A$1:$B$7,2,FALSE)","v":{"$error":"#N/A"}}]
[null,null,null,null,null,null,null,null,null,null,null,null,"no email",{"$error":"#VALUE!"},{"$error":"#VALUE!"},{"$f":"VLOOKUP(K5918,references!$A$1:$B$7,2,FALSE)","v":{"$error":"#N/A"}}]
[null,null,null,null,null,null,null,null,null,null,null,null,"no email",{"$error":"#VALUE!"},{"$error":"#VALUE!"},{"$f":"VLOOKUP(K5919,references!$A$1:$B$7,2,FALSE)","v":{"$error":"#N/A"}}]
[null,null,null,null,null,null,null,null,null,null,null,null,"no email",{"$error":"#VALUE!"},{"$error":"#VALUE!"},{"$f":"VLOOKUP(K5920,references!$A$1:$B$7,2,FALSE)","v":{"$error":"#N/A"}}]
[null,null,null,null,null,null,null,null,null,null,null,null,"no email",{"$error":"#VALUE!"},{"$error":"#VALUE!"},{"$f":"VLOOKUP(K5921,references!$A$1:$B$7,2,FALSE)","v":{"$error":"#N/A"}}]
[null,null,null,null,null,null,null,null,null,null,null,null,"no email",{"$error":"#VALUE!"},{"$error":"#VALUE!"},{"$f":"VLOOKUP(K5922,references!$A$1:$B$7,2,FALSE)","v":{"$error":"#N/A"}}]
[null,null,null,null,null,null,null,null,null,null,null,null,"no email",{"$error":"#VALUE!"},{"$error":"#VALUE!"},{"$f":"VLOOKUP(K5923,references!$A$1:$B$7,2,FALSE)","v":{"$error":"#N/A"}}]
[null,null,null,null,null,null,null,null,null,null,null,null,"no email",{"$error":"#VALUE!"},{"$error":"#VALUE!"},{"$f":"VLOOKUP(K5924,references!$A$1:$B$7,2,FALSE)","v":{"$error":"#N/A"}}]
[null,null,null,null,null,null,null,null,null,null,null,null,"no email",{"$error":"#VALUE!"},{"$error":"#VALUE!"},{"$f":"VLOOKUP(K5925,references!$A$1:$B$7,2,FALSE)","v":{"$error":"#N/A"}}]
[null,null,null,null,null,null,null,null,null,null,null,null,"no email",{"$error":"#VALUE!"},{"$error":"#VALUE!"},{"$f":"VLOOKUP(K5926,references!$A$1:$B$7,2,FALSE)","v":{"$error":"#N/A"}}]
[null,null,null,null,null,null,null,null,null,null,null,null,"no email",{"$error":"#VALUE!"},{"$error":"#VALUE!"},{"$f":"VLOOKUP(K5927,references!$A$1:$B$7,2,FALSE)","v":{"$error":"#N/A"}}]
[null,null,null,null,null,null,null,null,null,null,null,null,"no email",{"$error":"#VALUE!"},{"$error":"#VALUE!"},{"$f":"VLOOKUP(K5928,references!$A$1:$B$7,2,FALSE)","v":{"$error":"#N/A"}}]
[null,null,null,null,null,null,null,null,null,null,null,null,"no email",{"$error":"#VALUE!"},{"$error":"#VALUE!"},{"$f":"VLOOKUP(K5929,references!$A$1:$B$7,2,FALSE)","v":{"$error":"#N/A"}}]
[null,null,null,null,null,null,null,null,null,null,null,null,"no email",{"$error":"#VALUE!"},{"$error":"#VALUE!"},{"$f":"VLOOKUP(K5930,references!$A$1:$B$7,2,FALSE)","v":{"$error":"#N/A"}}]
[null,null,null,null,null,null,null,null,null,null,null,null,"no email",{"$error":"#VALUE!"},{"$error":"#VALUE!"},{"$f":"VLOOKUP(K5931,references!$A$1:$B$7,2,FALSE)","v":{"$error":"#N/A"}}]
[null,null,null,null,null,null,null,null,null,null,null,null,"no email",{"$error":"#VALUE!"},{"$error":"#VALUE!"},{"$f":"VLOOKUP(K5932,references!$A$1:$B$7,2,FALSE)","v":{"$error":"#N/A"}}]
[null,null,null,null,null,null,null,null,null,null,null,null,"no email",{"$error":"#VALUE!"},{"$error":"#VALUE!"},{"$f":"VLOOKUP(K5933,references!$A$1:$B$7,2,FALSE)","v":{"$error":"#N/A"}}]
[null,null,null,null,null,null,null,null,null,null,null,null,"no email",{"$error":"#VALUE!"},{"$error":"#VALUE!"},{"$f":"VLOOKUP(K5934,references!$A$1:$B$7,2,FALSE)","v":{"$error":"#N/A"}}]
[null,null,null,null,null,null,null,null,null,null,null,null,"no email",{"$error":"#VALUE!"},{"$error":"#VALUE!"},{"$f":"VLOOKUP(K5935,references!$A$1:$B$7,2,FALSE)","v":{"$error":"#N/A"}}]
[null,null,null,null,null,null,null,null,null,null,null,null,"no email",{"$error":"#VALUE!"},{"$error":"#VALUE!"},{"$f":"VLOOKUP(K5936,references!$A$1:$B$7,2,FALSE)","v":{"$error":"#N/A"}}]
[null,null,null,null,null,null,null,null,null,null,null,null,"no email",{"$error":"#VALUE!"},{"$error":"#VALUE!"},{"$f":"VLOOKUP(K5937,references!$A$1:$B$7,2,FALSE)","v":{"$error":"#N/A"}}]
[null,null,null,null,null,null,null,null,null,null,null,null,"no email",{"$error":"#VALUE!"},{"$error":"#VALUE!"},{"$f":"VLOOKUP(K5938,references!$A$1:$B$7,2,FALSE)","v":{"$error":"#N/A"}}]
[null,null,null,null,null,null,null,null,null,null,null,null,"no email",{"$error":"#VALUE!"},{"$error":"#VALUE!"},{"$f":"VLOOKUP(K5939,references!$A$1:$B$7,2,FALSE)","v":{"$error":"#N/A"}}]
[null,null,null,null,null,null,null,null,null,null,null,null,"no email",{"$error":"#VALUE!"},{"$error":"#VALUE!"},{"$f":"VLOOKUP(K5940,references!$A$1:$B$7,2,FALSE)","v":{"$error":"#N/A"}}]
[null,null,null,null,null,null,null,null,null,null,null,null,"no email",{"$error":"#VALUE!"},{"$error":"#VALUE!"},{"$f":"VLOOKUP(K5941,references!$A$1:$B$7,2,FALSE)","v":{"$error":"#N/A"}}]
[null,null,null,null,null,null,null,null,null,null,null,null,"no email",{"$error":"#VALUE!"},{"$error":"#VALUE!"},{"$f":"VLOOKUP(K5942,references!$A$1:$B$7,2,FALSE)","v":{"$error":"#N/A"}}]
[null,null,null,null,null,null,null,null,null,null,null,null,"no email",{"$error":"#VALUE!"},{"$error":"#VALUE!"},{"$f":"VLOOKUP(K5943,references!$A$1:$B$7,2,FALSE)","v":{"$error":"#N/A"}}]
[null,null,null,null,null,null,null,null,null,null,null,null,"no email",{"$error":"#VALUE!"},{"$error":"#VALUE!"},{"$f":"VLOOKUP(K5944,references!$A$1:$B$7,2,FALSE)","v":{"$error":"#N/A"}}]
[null,null,null,null,null,null,null,null,null,null,null,null,"no email",{"$error":"#VALUE!"},{"$error":"#VALUE!"},{"$f":"VLOOKUP(K5945,references!$A$1:$B$7,2,FALSE)","v":{"$error":"#N/A"}}]
[null,null,null,null,null,null,null,null,null,null,null,null,"no email",{"$error":"#VALUE!"},{"$error":"#VALUE!"},{"$f":"VLOOKUP(K5946,references!$A$1:$B$7,2,FALSE)","v":{"$error":"#N/A"}}]
[null,null,null,null,null,null,null,null,null,null,null,null,"no email",{"$error":"#VALUE!"},{"$error":"#VALUE!"},{"$f":"VLOOKUP(K5947,references!$A$1:$B$7,2,FALSE)","v":{"$error":"#N/A"}}]
[null,null,null,null,null,null,null,null,null,null,null,null,"no email",{"$error":"#VALUE!"},{"$error":"#VALUE!"},{"$f":"VLOOKUP(K5948,references!$A$1:$B$7,2,FALSE)","v":{"$error":"#N/A"}}]
[null,null,null,null,null,null,null,null,null,null,null,null,"no email",{"$error":"#VALUE!"},{"$error":"#VALUE!"},{"$f":"VLOOKUP(K5949,references!$A$1:$B$7,2,FALSE)","v":{"$error":"#N/A"}}]
[null,null,null,null,null,null,null,null,null,null,null,null,"no email",{"$error":"#VALUE!"},{"$error":"#VALUE!"},{"$f":"VLOOKUP(K5950,references!$A$1:$B$7,2,FALSE)","v":{"$error":"#N/A"}}]
[null,null,null,null,null,null,null,null,null,null,null,null,"no email",{"$error":"#VALUE!"},{"$error":"#VALUE!"},{"$f":"VLOOKUP(K5951,references!$A$1:$B$7,2,FALSE)","v":{"$error":"#N/A"}}]
[null,null,null,null,null,null,null,null,null,null,null,null,"no email",{"$error":"#VALUE!"},{"$error":"#VALUE!"},{"$f":"VLOOKUP(K5952,references!$A$1:$B$7,2,FALSE)","v":{"$error":"#N/A"}}]
[null,null,null,null,null,null,null,null,null,null,null,null,"no email",{"$error":"#VALUE!"},{"$error":"#VALUE!"},{"$f":"VLOOKUP(K5953,references!$A$1:$B$7,2,FALSE)","v":{"$error":"#N/A"}}]
[null,null,null,null,null,null,null,null,null,null,null,null,{"$f":"IF(L5954=\"\", \"no email\",LOWER(L5954))","v":"no email"},{"$f":"LEFT(A5954, SEARCH(\",\",A5954,1)-1)","v":{"$error":"#VALUE!"}},{"$f":"RIGHT(A5954, LEN(A5954) -SEARCH(\",\",A5954,1)-1)","v":{"$error":"#VALUE!"}},{"$f":"VLOOKUP(K5954,references!$A$1:$B$7,2,FALSE)","v":{"$error":"#N/A"}}]
[null,null,null,null,null,null,null,null,null,null,null,null,"no email",{"$error":"#VALUE!"},{"$error":"#VALUE!"},{"$f":"VLOOKUP(K5955,references!$A$1:$B$7,2,FALSE)","v":{"$error":"#N/A"}}]
[null,null,null,null,null,null,null,null,null,null,null,null,"no email",{"$error":"#VALUE!"},{"$error":"#VALUE!"},{"$f":"VLOOKUP(K5956,references!$A$1:$B$7,2,FALSE)","v":{"$error":"#N/A"}}]
[null,null,null,null,null,null,null,null,null,null,null,null,"no email",{"$error":"#VALUE!"},{"$error":"#VALUE!"},{"$f":"VLOOKUP(K5957,references!$A$1:$B$7,2,FALSE)","v":{"$error":"#N/A"}}]
[null,null,null,null,null,null,null,null,null,null,null,null,"no email",{"$error":"#VALUE!"},{"$error":"#VALUE!"},{"$f":"VLOOKUP(K5958,references!$A$1:$B$7,2,FALSE)","v":{"$error":"#N/A"}}]
[null,null,null,null,null,null,null,null,null,null,null,null,"no email",{"$error":"#VALUE!"},{"$error":"#VALUE!"},{"$f":"VLOOKUP(K5959,references!$A$1:$B$7,2,FALSE)","v":{"$error":"#N/A"}}]
[null,null,null,null,null,null,null,null,null,null,null,null,"no email",{"$error":"#VALUE!"},{"$error":"#VALUE!"},{"$f":"VLOOKUP(K5960,references!$A$1:$B$7,2,FALSE)","v":{"$error":"#N/A"}}]
[null,null,null,null,null,null,null,null,null,null,null,null,"no email",{"$error":"#VALUE!"},{"$error":"#VALUE!"},{"$f":"VLOOKUP(K5961,references!$A$1:$B$7,2,FALSE)","v":{"$error":"#N/A"}}]
[null,null,null,null,null,null,null,null,null,null,null,null,"no email",{"$error":"#VALUE!"},{"$error":"#VALUE!"},{"$f":"VLOOKUP(K5962,references!$A$1:$B$7,2,FALSE)","v":{"$error":"#N/A"}}]
[null,null,null,null,null,null,null,null,null,null,null,null,"no email",{"$error":"#VALUE!"},{"$error":"#VALUE!"},{"$f":"VLOOKUP(K5963,references!$A$1:$B$7,2,FALSE)","v":{"$error":"#N/A"}}]
[null,null,null,null,null,null,null,null,null,null,null,null,"no email",{"$error":"#VALUE!"},{"$error":"#VALUE!"},{"$f":"VLOOKUP(K5964,references!$A$1:$B$7,2,FALSE)","v":{"$error":"#N/A"}}]
[null,null,null,null,null,null,null,null,null,null,null,null,"no email",{"$error":"#VALUE!"},{"$error":"#VALUE!"},{"$f":"VLOOKUP(K5965,references!$A$1:$B$7,2,FALSE)","v":{"$error":"#N/A"}}]
[null,null,null,null,null,null,null,null,null,null,null,null,"no email",{"$error":"#VALUE!"},{"$error":"#VALUE!"},{"$f":"VLOOKUP(K5966,references!$A$1:$B$7,2,FALSE)","v":{"$error":"#N/A"}}]
[null,null,null,null,null,null,null,null,null,null,null,null,"no email",{"$error":"#VALUE!"},{"$error":"#VALUE!"},{"$f":"VLOOKUP(K5967,references!$A$1:$B$7,2,FALSE)","v":{"$error":"#N/A"}}]
[null,null,null,null,null,null,null,null,null,null,null,null,"no email",{"$error":"#VALUE!"},{"$error":"#VALUE!"},{"$f":"VLOOKUP(K5968,references!$A$1:$B$7,2,FALSE)","v":{"$error":"#N/A"}}]
[null,null,null,null,null,null,null,null,null,null,null,null,"no email",{"$error":"#VALUE!"},{"$error":"#VALUE!"},{"$f":"VLOOKUP(K5969,references!$A$1:$B$7,2,FALSE)","v":{"$error":"#N/A"}}]
[null,null,null,null,null,null,null,null,null,null,null,null,"no email",{"$error":"#VALUE!"},{"$error":"#VALUE!"},{"$f":"VLOOKUP(K5970,references!$A$1:$B$7,2,FALSE)","v":{"$error":"#N/A"}}]
[null,null,null,null,null,null,null,null,null,null,null,null,"no email",{"$error":"#VALUE!"},{"$error":"#VALUE!"},{"$f":"VLOOKUP(K5971,references!$A$1:$B$7,2,FALSE)","v":{"$error":"#N/A"}}]
[null,null,null,null,null,null,null,null,null,null,null,null,"no email",{"$error":"#VALUE!"},{"$error":"#VALUE!"},{"$f":"VLOOKUP(K5972,references!$A$1:$B$7,2,FALSE)","v":{"$error":"#N/A"}}]
[null,null,null,null,null,null,null,null,null,null,null,null,"no email",{"$error":"#VALUE!"},{"$error":"#VALUE!"},{"$f":"VLOOKUP(K5973,references!$A$1:$B$7,2,FALSE)","v":{"$error":"#N/A"}}]
[null,null,null,null,null,null,null,null,null,null,null,null,"no email",{"$error":"#VALUE!"},{"$error":"#VALUE!"},{"$f":"VLOOKUP(K5974,references!$A$1:$B$7,2,FALSE)","v":{"$error":"#N/A"}}]
[null,null,null,null,null,null,null,null,null,null,null,null,"no email",{"$error":"#VALUE!"},{"$error":"#VALUE!"},{"$f":"VLOOKUP(K5975,references!$A$1:$B$7,2,FALSE)","v":{"$error":"#N/A"}}]
[null,null,null,null,null,null,null,null,null,null,null,null,"no email",{"$error":"#VALUE!"},{"$error":"#VALUE!"},{"$f":"VLOOKUP(K5976,references!$A$1:$B$7,2,FALSE)","v":{"$error":"#N/A"}}]
[null,null,null,null,null,null,null,null,null,null,null,null,"no email",{"$error":"#VALUE!"},{"$error":"#VALUE!"},{"$f":"VLOOKUP(K5977,references!$A$1:$B$7,2,FALSE)","v":{"$error":"#N/A"}}]
[null,null,null,null,null,null,null,null,null,null,null,null,"no email",{"$error":"#VALUE!"},{"$error":"#VALUE!"},{"$f":"VLOOKUP(K5978,references!$A$1:$B$7,2,FALSE)","v":{"$error":"#N/A"}}]
[null,null,null,null,null,null,null,null,null,null,null,null,"no email",{"$error":"#VALUE!"},{"$error":"#VALUE!"},{"$f":"VLOOKUP(K5979,references!$A$1:$B$7,2,FALSE)","v":{"$error":"#N/A"}}]
[null,null,null,null,null,null,null,null,null,null,null,null,"no email",{"$error":"#VALUE!"},{"$error":"#VALUE!"},{"$f":"VLOOKUP(K5980,references!$A$1:$B$7,2,FALSE)","v":{"$error":"#N/A"}}]
[null,null,null,null,null,null,null,null,null,null,null,null,"no email",{"$error":"#VALUE!"},{"$error":"#VALUE!"},{"$f":"VLOOKUP(K5981,references!$A$1:$B$7,2,FALSE)","v":{"$error":"#N/A"}}]
[null,null,null,null,null,null,null,null,null,null,null,null,"no email",{"$error":"#VALUE!"},{"$error":"#VALUE!"},{"$f":"VLOOKUP(K5982,references!$A$1:$B$7,2,FALSE)","v":{"$error":"#N/A"}}]
[null,null,null,null,null,null,null,null,null,null,null,null,"no email",{"$error":"#VALUE!"},{"$error":"#VALUE!"},{"$f":"VLOOKUP(K5983,references!$A$1:$B$7,2,FALSE)","v":{"$error":"#N/A"}}]
[null,null,null,null,null,null,null,null,null,null,null,null,"no email",{"$error":"#VALUE!"},{"$error":"#VALUE!"},{"$f":"VLOOKUP(K5984,references!$A$1:$B$7,2,FALSE)","v":{"$error":"#N/A"}}]
[null,null,null,null,null,null,null,null,null,null,null,null,"no email",{"$error":"#VALUE!"},{"$error":"#VALUE!"},{"$f":"VLOOKUP(K5985,references!$A$1:$B$7,2,FALSE)","v":{"$error":"#N/A"}}]
[null,null,null,null,null,null,null,null,null,null,null,null,"no email",{"$error":"#VALUE!"},{"$error":"#VALUE!"},{"$f":"VLOOKUP(K5986,references!$A$1:$B$7,2,FALSE)","v":{"$error":"#N/A"}}]
[null,null,null,null,null,null,null,null,null,null,null,null,"no email",{"$error":"#VALUE!"},{"$error":"#VALUE!"},{"$f":"VLOOKUP(K5987,references!$A$1:$B$7,2,FALSE)","v":{"$error":"#N/A"}}]
[null,null,null,null,null,null,null,null,null,null,null,null,"no email",{"$error":"#VALUE!"},{"$error":"#VALUE!"},{"$f":"VLOOKUP(K5988,references!$A$1:$B$7,2,FALSE)","v":{"$error":"#N/A"}}]
[null,null,null,null,null,null,null,null,null,null,null,null,"no email",{"$error":"#VALUE!"},{"$error":"#VALUE!"},{"$f":"VLOOKUP(K5989,references!$A$1:$B$7,2,FALSE)","v":{"$error":"#N/A"}}]
[null,null,null,null,null,null,null,null,null,null,null,null,"no email",{"$error":"#VALUE!"},{"$error":"#VALUE!"},{"$f":"VLOOKUP(K5990,references!$A$1:$B$7,2,FALSE)","v":{"$error":"#N/A"}}]
[null,null,null,null,null,null,null,null,null,null,null,null,"no email",{"$error":"#VALUE!"},{"$error":"#VALUE!"},{"$f":"VLOOKUP(K5991,references!$A$1:$B$7,2,FALSE)","v":{"$error":"#N/A"}}]
[null,null,null,null,null,null,null,null,null,null,null,null,"no email",{"$error":"#VALUE!"},{"$error":"#VALUE!"},{"$f":"VLOOKUP(K5992,references!$A$1:$B$7,2,FALSE)","v":{"$error":"#N/A"}}]
[null,null,null,null,null,null,null,null,null,null,null,null,"no email",{"$error":"#VALUE!"},{"$error":"#VALUE!"},{"$f":"VLOOKUP(K5993,references!$A$1:$B$7,2,FALSE)","v":{"$error":"#N/A"}}]
[null,null,null,null,null,null,null,null,null,null,null,null,"no email",{"$error":"#VALUE!"},{"$error":"#VALUE!"},{"$f":"VLOOKUP(K5994,references!$A$1:$B$7,2,FALSE)","v":{"$error":"#N/A"}}]
[null,null,null,null,null,null,null,null,null,null,null,null,"no email",{"$error":"#VALUE!"},{"$error":"#VALUE!"},{"$f":"VLOOKUP(K5995,references!$A$1:$B$7,2,FALSE)","v":{"$error":"#N/A"}}]
[null,null,null,null,null,null,null,null,null,null,null,null,"no email",{"$error":"#VALUE!"},{"$error":"#VALUE!"},{"$f":"VLOOKUP(K5996,references!$A$1:$B$7,2,FALSE)","v":{"$error":"#N/A"}}]
[null,null,null,null,null,null,null,null,null,null,null,null,"no email",{"$error":"#VALUE!"},{"$error":"#VALUE!"},{"$f":"VLOOKUP(K5997,references!$A$1:$B$7,2,FALSE)","v":{"$error":"#N/A"}}]
[null,null,null,null,null,null,null,null,null,null,null,null,"no email",{"$error":"#VALUE!"},{"$error":"#VALUE!"},{"$f":"VLOOKUP(K5998,references!$A$1:$B$7,2,FALSE)","v":{"$error":"#N/A"}}]
[null,null,null,null,null,null,null,null,null,null,null,null,"no email",{"$error":"#VALUE!"},{"$error":"#VALUE!"},{"$f":"VLOOKUP(K5999,references!$A$1:$B$7,2,FALSE)","v":{"$error":"#N/A"}}]
[null,null,null,null,null,null,null,null,null,null,null,null,"no email",{"$error":"#VALUE!"},{"$error":"#VALUE!"},{"$f":"VLOOKUP(K6000,references!$A$1:$B$7,2,FALSE)","v":{"$error":"#N/A"}}]
[null,null,null,null,null,null,null,null,null,null,null,null,"no email",{"$error":"#VALUE!"},{"$error":"#VALUE!"},{"$f":"VLOOKUP(K6001,references!$A$1:$B$7,2,FALSE)","v":{"$error":"#N/A"}}]
[null,null,null,null,null,null,null,null,null,null,null,null,"no email",{"$error":"#VALUE!"},{"$error":"#VALUE!"},{"$f":"VLOOKUP(K6002,references!$A$1:$B$7,2,FALSE)","v":{"$error":"#N/A"}}]
[null,null,null,null,null,null,null,null,null,null,null,null,"no email",{"$error":"#VALUE!"},{"$error":"#VALUE!"},{"$f":"VLOOKUP(K6003,references!$A$1:$B$7,2,FALSE)","v":{"$error":"#N/A"}}]
[null,null,null,null,null,null,null,null,null,null,null,null,"no email",{"$error":"#VALUE!"},{"$error":"#VALUE!"},{"$f":"VLOOKUP(K6004,references!$A$1:$B$7,2,FALSE)","v":{"$error":"#N/A"}}]
[null,null,null,null,null,null,null,null,null,null,null,null,"no email",{"$error":"#VALUE!"},{"$error":"#VALUE!"},{"$f":"VLOOKUP(K6005,references!$A$1:$B$7,2,FALSE)","v":{"$error":"#N/A"}}]
[null,null,null,null,null,null,null,null,null,null,null,null,"no email",{"$error":"#VALUE!"},{"$error":"#VALUE!"},{"$f":"VLOOKUP(K6006,references!$A$1:$B$7,2,FALSE)","v":{"$error":"#N/A"}}]
[null,null,null,null,null,null,null,null,null,null,null,null,"no email",{"$error":"#VALUE!"},{"$error":"#VALUE!"},{"$f":"VLOOKUP(K6007,references!$A$1:$B$7,2,FALSE)","v":{"$error":"#N/A"}}]
[null,null,null,null,null,null,null,null,null,null,null,null,"no email",{"$error":"#VALUE!"},{"$error":"#VALUE!"},{"$f":"VLOOKUP(K6008,references!$A$1:$B$7,2,FALSE)","v":{"$error":"#N/A"}}]
[null,null,null,null,null,null,null,null,null,null,null,null,"no email",{"$error":"#VALUE!"},{"$error":"#VALUE!"},{"$f":"VLOOKUP(K6009,references!$A$1:$B$7,2,FALSE)","v":{"$error":"#N/A"}}]
[null,null,null,null,null,null,null,null,null,null,null,null,"no email",{"$error":"#VALUE!"},{"$error":"#VALUE!"},{"$f":"VLOOKUP(K6010,references!$A$1:$B$7,2,FALSE)","v":{"$error":"#N/A"}}]
[null,null,null,null,null,null,null,null,null,null,null,null,"no email",{"$error":"#VALUE!"},{"$error":"#VALUE!"},{"$f":"VLOOKUP(K6011,references!$A$1:$B$7,2,FALSE)","v":{"$error":"#N/A"}}]
[null,null,null,null,null,null,null,null,null,null,null,null,"no email",{"$error":"#VALUE!"},{"$error":"#VALUE!"},{"$f":"VLOOKUP(K6012,references!$A$1:$B$7,2,FALSE)","v":{"$error":"#N/A"}}]
[null,null,null,null,null,null,null,null,null,null,null,null,"no email",{"$error":"#VALUE!"},{"$error":"#VALUE!"},{"$f":"VLOOKUP(K6013,references!$A$1:$B$7,2,FALSE)","v":{"$error":"#N/A"}}]
[null,null,null,null,null,null,null,null,null,null,null,null,"no email",{"$error":"#VALUE!"},{"$error":"#VALUE!"},{"$f":"VLOOKUP(K6014,references!$A$1:$B$7,2,FALSE)","v":{"$error":"#N/A"}}]
[null,null,null,null,null,null,null,null,null,null,null,null,"no email",{"$error":"#VALUE!"},{"$error":"#VALUE!"},{"$f":"VLOOKUP(K6015,references!$A$1:$B$7,2,FALSE)","v":{"$error":"#N/A"}}]
[null,null,null,null,null,null,null,null,null,null,null,null,"no email",{"$error":"#VALUE!"},{"$error":"#VALUE!"},{"$f":"VLOOKUP(K6016,references!$A$1:$B$7,2,FALSE)","v":{"$error":"#N/A"}}]
[null,null,null,null,null,null,null,null,null,null,null,null,"no email",{"$error":"#VALUE!"},{"$error":"#VALUE!"},{"$f":"VLOOKUP(K6017,references!$A$1:$B$7,2,FALSE)","v":{"$error":"#N/A"}}]
[null,null,null,null,null,null,null,null,null,null,null,null,{"$f":"IF(L6018=\"\", \"no email\",LOWER(L6018))","v":"no email"},{"$f":"LEFT(A6018, SEARCH(\",\",A6018,1)-1)","v":{"$error":"#VALUE!"}},{"$f":"RIGHT(A6018, LEN(A6018) -SEARCH(\",\",A6018,1)-1)","v":{"$error":"#VALUE!"}},{"$f":"VLOOKUP(K6018,references!$A$1:$B$7,2,FALSE)","v":{"$error":"#N/A"}}]
[null,null,null,null,null,null,null,null,null,null,null,null,"no email",{"$error":"#VALUE!"},{"$error":"#VALUE!"},{"$f":"VLOOKUP(K6019,references!$A$1:$B$7,2,FALSE)","v":{"$error":"#N/A"}}]
[null,null,null,null,null,null,null,null,null,null,null,null,"no email",{"$error":"#VALUE!"},{"$error":"#VALUE!"},{"$f":"VLOOKUP(K6020,references!$A$1:$B$7,2,FALSE)","v":{"$error":"#N/A"}}]
[null,null,null,null,null,null,null,null,null,null,null,null,"no email",{"$error":"#VALUE!"},{"$error":"#VALUE!"},{"$f":"VLOOKUP(K6021,references!$A$1:$B$7,2,FALSE)","v":{"$error":"#N/A"}}]
[null,null,null,null,null,null,null,null,null,null,null,null,"no email",{"$error":"#VALUE!"},{"$error":"#VALUE!"},{"$f":"VLOOKUP(K6022,references!$A$1:$B$7,2,FALSE)","v":{"$error":"#N/A"}}]
[null,null,null,null,null,null,null,null,null,null,null,null,"no email",{"$error":"#VALUE!"},{"$error":"#VALUE!"},{"$f":"VLOOKUP(K6023,references!$A$1:$B$7,2,FALSE)","v":{"$error":"#N/A"}}]
[null,null,null,null,null,null,null,null,null,null,null,null,"no email",{"$error":"#VALUE!"},{"$error":"#VALUE!"},{"$f":"VLOOKUP(K6024,references!$A$1:$B$7,2,FALSE)","v":{"$error":"#N/A"}}]
[null,null,null,null,null,null,null,null,null,null,null,null,"no email",{"$error":"#VALUE!"},{"$error":"#VALUE!"},{"$f":"VLOOKUP(K6025,references!$A$1:$B$7,2,FALSE)","v":{"$error":"#N/A"}}]
[null,null,null,null,null,null,null,null,null,null,null,null,"no email",{"$error":"#VALUE!"},{"$error":"#VALUE!"},{"$f":"VLOOKUP(K6026,references!$A$1:$B$7,2,FALSE)","v":{"$error":"#N/A"}}]
[null,null,null,null,null,null,null,null,null,null,null,null,"no email",{"$error":"#VALUE!"},{"$error":"#VALUE!"},{"$f":"VLOOKUP(K6027,references!$A$1:$B$7,2,FALSE)","v":{"$error":"#N/A"}}]
[null,null,null,null,null,null,null,null,null,null,null,null,"no email",{"$error":"#VALUE!"},{"$error":"#VALUE!"},{"$f":"VLOOKUP(K6028,references!$A$1:$B$7,2,FALSE)","v":{"$error":"#N/A"}}]
[null,null,null,null,null,null,null,null,null,null,null,null,"no email",{"$error":"#VALUE!"},{"$error":"#VALUE!"},{"$f":"VLOOKUP(K6029,references!$A$1:$B$7,2,FALSE)","v":{"$error":"#N/A"}}]
[null,null,null,null,null,null,null,null,null,null,null,null,"no email",{"$error":"#VALUE!"},{"$error":"#VALUE!"},{"$f":"VLOOKUP(K6030,references!$A$1:$B$7,2,FALSE)","v":{"$error":"#N/A"}}]
[null,null,null,null,null,null,null,null,null,null,null,null,"no email",{"$error":"#VALUE!"},{"$error":"#VALUE!"},{"$f":"VLOOKUP(K6031,references!$A$1:$B$7,2,FALSE)","v":{"$error":"#N/A"}}]
[null,null,null,null,null,null,null,null,null,null,null,null,"no email",{"$error":"#VALUE!"},{"$error":"#VALUE!"},{"$f":"VLOOKUP(K6032,references!$A$1:$B$7,2,FALSE)","v":{"$error":"#N/A"}}]
[null,null,null,null,null,null,null,null,null,null,null,null,"no email",{"$error":"#VALUE!"},{"$error":"#VALUE!"},{"$f":"VLOOKUP(K6033,references!$A$1:$B$7,2,FALSE)","v":{"$error":"#N/A"}}]
[null,null,null,null,null,null,null,null,null,null,null,null,"no email",{"$error":"#VALUE!"},{"$error":"#VALUE!"},{"$f":"VLOOKUP(K6034,references!$A$1:$B$7,2,FALSE)","v":{"$error":"#N/A"}}]
[null,null,null,null,null,null,null,null,null,null,null,null,"no email",{"$error":"#VALUE!"},{"$error":"#VALUE!"},{"$f":"VLOOKUP(K6035,references!$A$1:$B$7,2,FALSE)","v":{"$error":"#N/A"}}]
[null,null,null,null,null,null,null,null,null,null,null,null,"no email",{"$error":"#VALUE!"},{"$error":"#VALUE!"},{"$f":"VLOOKUP(K6036,references!$A$1:$B$7,2,FALSE)","v":{"$error":"#N/A"}}]
[null,null,null,null,null,null,null,null,null,null,null,null,"no email",{"$error":"#VALUE!"},{"$error":"#VALUE!"},{"$f":"VLOOKUP(K6037,references!$A$1:$B$7,2,FALSE)","v":{"$error":"#N/A"}}]
[null,null,null,null,null,null,null,null,null,null,null,null,"no email",{"$error":"#VALUE!"},{"$error":"#VALUE!"},{"$f":"VLOOKUP(K6038,references!$A$1:$B$7,2,FALSE)","v":{"$error":"#N/A"}}]
[null,null,null,null,null,null,null,null,null,null,null,null,"no email",{"$error":"#VALUE!"},{"$error":"#VALUE!"},{"$f":"VLOOKUP(K6039,references!$A$1:$B$7,2,FALSE)","v":{"$error":"#N/A"}}]
[null,null,null,null,null,null,null,null,null,null,null,null,"no email",{"$error":"#VALUE!"},{"$error":"#VALUE!"},{"$f":"VLOOKUP(K6040,references!$A$1:$B$7,2,FALSE)","v":{"$error":"#N/A"}}]
[null,null,null,null,null,null,null,null,null,null,null,null,"no email",{"$error":"#VALUE!"},{"$error":"#VALUE!"},{"$f":"VLOOKUP(K6041,references!$A$1:$B$7,2,FALSE)","v":{"$error":"#N/A"}}]
[null,null,null,null,null,null,null,null,null,null,null,null,"no email",{"$error":"#VALUE!"},{"$error":"#VALUE!"},{"$f":"VLOOKUP(K6042,references!$A$1:$B$7,2,FALSE)","v":{"$error":"#N/A"}}]
[null,null,null,null,null,null,null,null,null,null,null,null,"no email",{"$error":"#VALUE!"},{"$error":"#VALUE!"},{"$f":"VLOOKUP(K6043,references!$A$1:$B$7,2,FALSE)","v":{"$error":"#N/A"}}]
[null,null,null,null,null,null,null,null,null,null,null,null,"no email",{"$error":"#VALUE!"},{"$error":"#VALUE!"},{"$f":"VLOOKUP(K6044,references!$A$1:$B$7,2,FALSE)","v":{"$error":"#N/A"}}]
[null,null,null,null,null,null,null,null,null,null,null,null,"no email",{"$error":"#VALUE!"},{"$error":"#VALUE!"},{"$f":"VLOOKUP(K6045,references!$A$1:$B$7,2,FALSE)","v":{"$error":"#N/A"}}]
[null,null,null,null,null,null,null,null,null,null,null,null,"no email",{"$error":"#VALUE!"},{"$error":"#VALUE!"},{"$f":"VLOOKUP(K6046,references!$A$1:$B$7,2,FALSE)","v":{"$error":"#N/A"}}]
[null,null,null,null,null,null,null,null,null,null,null,null,"no email",{"$error":"#VALUE!"},{"$error":"#VALUE!"},{"$f":"VLOOKUP(K6047,references!$A$1:$B$7,2,FALSE)","v":{"$error":"#N/A"}}]
[null,null,null,null,null,null,null,null,null,null,null,null,"no email",{"$error":"#VALUE!"},{"$error":"#VALUE!"},{"$f":"VLOOKUP(K6048,references!$A$1:$B$7,2,FALSE)","v":{"$error":"#N/A"}}]
[null,null,null,null,null,null,null,null,null,null,null,null,"no email",{"$error":"#VALUE!"},{"$error":"#VALUE!"},{"$f":"VLOOKUP(K6049,references!$A$1:$B$7,2,FALSE)","v":{"$error":"#N/A"}}]
[null,null,null,null,null,null,null,null,null,null,null,null,"no email",{"$error":"#VALUE!"},{"$error":"#VALUE!"},{"$f":"VLOOKUP(K6050,references!$A$1:$B$7,2,FALSE)","v":{"$error":"#N/A"}}]
[null,null,null,null,null,null,null,null,null,null,null,null,"no email",{"$error":"#VALUE!"},{"$error":"#VALUE!"},{"$f":"VLOOKUP(K6051,references!$A$1:$B$7,2,FALSE)","v":{"$error":"#N/A"}}]
[null,null,null,null,null,null,null,null,null,null,null,null,"no email",{"$error":"#VALUE!"},{"$error":"#VALUE!"},{"$f":"VLOOKUP(K6052,references!$A$1:$B$7,2,FALSE)","v":{"$error":"#N/A"}}]
[null,null,null,null,null,null,null,null,null,null,null,null,"no email",{"$error":"#VALUE!"},{"$error":"#VALUE!"},{"$f":"VLOOKUP(K6053,references!$A$1:$B$7,2,FALSE)","v":{"$error":"#N/A"}}]
[null,null,null,null,null,null,null,null,null,null,null,null,"no email",{"$error":"#VALUE!"},{"$error":"#VALUE!"},{"$f":"VLOOKUP(K6054,references!$A$1:$B$7,2,FALSE)","v":{"$error":"#N/A"}}]
[null,null,null,null,null,null,null,null,null,null,null,null,"no email",{"$error":"#VALUE!"},{"$error":"#VALUE!"},{"$f":"VLOOKUP(K6055,references!$A$1:$B$7,2,FALSE)","v":{"$error":"#N/A"}}]
[null,null,null,null,null,null,null,null,null,null,null,null,"no email",{"$error":"#VALUE!"},{"$error":"#VALUE!"},{"$f":"VLOOKUP(K6056,references!$A$1:$B$7,2,FALSE)","v":{"$error":"#N/A"}}]
[null,null,null,null,null,null,null,null,null,null,null,null,"no email",{"$error":"#VALUE!"},{"$error":"#VALUE!"},{"$f":"VLOOKUP(K6057,references!$A$1:$B$7,2,FALSE)","v":{"$error":"#N/A"}}]
[null,null,null,null,null,null,null,null,null,null,null,null,"no email",{"$error":"#VALUE!"},{"$error":"#VALUE!"},{"$f":"VLOOKUP(K6058,references!$A$1:$B$7,2,FALSE)","v":{"$error":"#N/A"}}]
[null,null,null,null,null,null,null,null,null,null,null,null,"no email",{"$error":"#VALUE!"},{"$error":"#VALUE!"},{"$f":"VLOOKUP(K6059,references!$A$1:$B$7,2,FALSE)","v":{"$error":"#N/A"}}]
[null,null,null,null,null,null,null,null,null,null,null,null,"no email",{"$error":"#VALUE!"},{"$error":"#VALUE!"},{"$f":"VLOOKUP(K6060,references!$A$1:$B$7,2,FALSE)","v":{"$error":"#N/A"}}]
[null,null,null,null,null,null,null,null,null,null,null,null,"no email",{"$error":"#VALUE!"},{"$error":"#VALUE!"},{"$f":"VLOOKUP(K6061,references!$A$1:$B$7,2,FALSE)","v":{"$error":"#N/A"}}]
[null,null,null,null,null,null,null,null,null,null,null,null,"no email",{"$error":"#VALUE!"},{"$error":"#VALUE!"},{"$f":"VLOOKUP(K6062,references!$A$1:$B$7,2,FALSE)","v":{"$error":"#N/A"}}]
[null,null,null,null,null,null,null,null,null,null,null,null,"no email",{"$error":"#VALUE!"},{"$error":"#VALUE!"},{"$f":"VLOOKUP(K6063,references!$A$1:$B$7,2,FALSE)","v":{"$error":"#N/A"}}]
[null,null,null,null,null,null,null,null,null,null,null,null,"no email",{"$error":"#VALUE!"},{"$error":"#VALUE!"},{"$f":"VLOOKUP(K6064,references!$A$1:$B$7,2,FALSE)","v":{"$error":"#N/A"}}]
[null,null,null,null,null,null,null,null,null,null,null,null,"no email",{"$error":"#VALUE!"},{"$error":"#VALUE!"},{"$f":"VLOOKUP(K6065,references!$A$1:$B$7,2,FALSE)","v":{"$error":"#N/A"}}]
[null,null,null,null,null,null,null,null,null,null,null,null,"no email",{"$error":"#VALUE!"},{"$error":"#VALUE!"},{"$f":"VLOOKUP(K6066,references!$A$1:$B$7,2,FALSE)","v":{"$error":"#N/A"}}]
[null,null,null,null,null,null,null,null,null,null,null,null,"no email",{"$error":"#VALUE!"},{"$error":"#VALUE!"},{"$f":"VLOOKUP(K6067,references!$A$1:$B$7,2,FALSE)","v":{"$error":"#N/A"}}]
[null,null,null,null,null,null,null,null,null,null,null,null,"no email",{"$error":"#VALUE!"},{"$error":"#VALUE!"},{"$f":"VLOOKUP(K6068,references!$A$1:$B$7,2,FALSE)","v":{"$error":"#N/A"}}]
[null,null,null,null,null,null,null,null,null,null,null,null,"no email",{"$error":"#VALUE!"},{"$error":"#VALUE!"},{"$f":"VLOOKUP(K6069,references!$A$1:$B$7,2,FALSE)","v":{"$error":"#N/A"}}]
[null,null,null,null,null,null,null,null,null,null,null,null,"no email",{"$error":"#VALUE!"},{"$error":"#VALUE!"},{"$f":"VLOOKUP(K6070,references!$A$1:$B$7,2,FALSE)","v":{"$error":"#N/A"}}]
[null,null,null,null,null,null,null,null,null,null,null,null,"no email",{"$error":"#VALUE!"},{"$error":"#VALUE!"},{"$f":"VLOOKUP(K6071,references!$A$1:$B$7,2,FALSE)","v":{"$error":"#N/A"}}]
[null,null,null,null,null,null,null,null,null,null,null,null,"no email",{"$error":"#VALUE!"},{"$error":"#VALUE!"},{"$f":"VLOOKUP(K6072,references!$A$1:$B$7,2,FALSE)","v":{"$error":"#N/A"}}]
[null,null,null,null,null,null,null,null,null,null,null,null,"no email",{"$error":"#VALUE!"},{"$error":"#VALUE!"},{"$f":"VLOOKUP(K6073,references!$A$1:$B$7,2,FALSE)","v":{"$error":"#N/A"}}]
[null,null,null,null,null,null,null,null,null,null,null,null,"no email",{"$error":"#VALUE!"},{"$error":"#VALUE!"},{"$f":"VLOOKUP(K6074,references!$A$1:$B$7,2,FALSE)","v":{"$error":"#N/A"}}]
[null,null,null,null,null,null,null,null,null,null,null,null,"no email",{"$error":"#VALUE!"},{"$error":"#VALUE!"},{"$f":"VLOOKUP(K6075,references!$A$1:$B$7,2,FALSE)","v":{"$error":"#N/A"}}]
[null,null,null,null,null,null,null,null,null,null,null,null,"no email",{"$error":"#VALUE!"},{"$error":"#VALUE!"},{"$f":"VLOOKUP(K6076,references!$A$1:$B$7,2,FALSE)","v":{"$error":"#N/A"}}]
[null,null,null,null,null,null,null,null,null,null,null,null,"no email",{"$error":"#VALUE!"},{"$error":"#VALUE!"},{"$f":"VLOOKUP(K6077,references!$A$1:$B$7,2,FALSE)","v":{"$error":"#N/A"}}]
[null,null,null,null,null,null,null,null,null,null,null,null,"no email",{"$error":"#VALUE!"},{"$error":"#VALUE!"},{"$f":"VLOOKUP(K6078,references!$A$1:$B$7,2,FALSE)","v":{"$error":"#N/A"}}]
[null,null,null,null,null,null,null,null,null,null,null,null,"no email",{"$error":"#VALUE!"},{"$error":"#VALUE!"},{"$f":"VLOOKUP(K6079,references!$A$1:$B$7,2,FALSE)","v":{"$error":"#N/A"}}]
[null,null,null,null,null,null,null,null,null,null,null,null,"no email",{"$error":"#VALUE!"},{"$error":"#VALUE!"},{"$f":"VLOOKUP(K6080,references!$A$1:$B$7,2,FALSE)","v":{"$error":"#N/A"}}]
[null,null,null,null,null,null,null,null,null,null,null,null,"no email",{"$error":"#VALUE!"},{"$error":"#VALUE!"},{"$f":"VLOOKUP(K6081,references!$A$1:$B$7,2,FALSE)","v":{"$error":"#N/A"}}]
[null,null,null,null,null,null,null,null,null,null,null,null,{"$f":"IF(L6082=\"\", \"no email\",LOWER(L6082))","v":"no email"},{"$f":"LEFT(A6082, SEARCH(\",\",A6082,1)-1)","v":{"$error":"#VALUE!"}},{"$f":"RIGHT(A6082, LEN(A6082) -SEARCH(\",\",A6082,1)-1)","v":{"$error":"#VALUE!"}},{"$f":"VLOOKUP(K6082,references!$A$1:$B$7,2,FALSE)","v":{"$error":"#N/A"}}]
[null,null,null,null,null,null,null,null,null,null,null,null,"no email",{"$error":"#VALUE!"},{"$error":"#VALUE!"},{"$f":"VLOOKUP(K6083,references!$A$1:$B$7,2,FALSE)","v":{"$error":"#N/A"}}]
[null,null,null,null,null,null,null,null,null,null,null,null,"no email",{"$error":"#VALUE!"},{"$error":"#VALUE!"},{"$f":"VLOOKUP(K6084,references!$A$1:$B$7,2,FALSE)","v":{"$error":"#N/A"}}]
[null,null,null,null,null,null,null,null,null,null,null,null,"no email",{"$error":"#VALUE!"},{"$error":"#VALUE!"},{"$f":"VLOOKUP(K6085,references!$A$1:$B$7,2,FALSE)","v":{"$error":"#N/A"}}]
[null,null,null,null,null,null,null,null,null,null,null,null,"no email",{"$error":"#VALUE!"},{"$error":"#VALUE!"},{"$f":"VLOOKUP(K6086,references!$A$1:$B$7,2,FALSE)","v":{"$error":"#N/A"}}]
[null,null,null,null,null,null,null,null,null,null,null,null,"no email",{"$error":"#VALUE!"},{"$error":"#VALUE!"},{"$f":"VLOOKUP(K6087,references!$A$1:$B$7,2,FALSE)","v":{"$error":"#N/A"}}]
[null,null,null,null,null,null,null,null,null,null,null,null,"no email",{"$error":"#VALUE!"},{"$error":"#VALUE!"},{"$f":"VLOOKUP(K6088,references!$A$1:$B$7,2,FALSE)","v":{"$error":"#N/A"}}]
[null,null,null,null,null,null,null,null,null,null,null,null,"no email",{"$error":"#VALUE!"},{"$error":"#VALUE!"},{"$f":"VLOOKUP(K6089,references!$A$1:$B$7,2,FALSE)","v":{"$error":"#N/A"}}]
[null,null,null,null,null,null,null,null,null,null,null,null,"no email",{"$error":"#VALUE!"},{"$error":"#VALUE!"},{"$f":"VLOOKUP(K6090,references!$A$1:$B$7,2,FALSE)","v":{"$error":"#N/A"}}]
[null,null,null,null,null,null,null,null,null,null,null,null,"no email",{"$error":"#VALUE!"},{"$error":"#VALUE!"},{"$f":"VLOOKUP(K6091,references!$A$1:$B$7,2,FALSE)","v":{"$error":"#N/A"}}]
[null,null,null,null,null,null,null,null,null,null,null,null,"no email",{"$error":"#VALUE!"},{"$error":"#VALUE!"},{"$f":"VLOOKUP(K6092,references!$A$1:$B$7,2,FALSE)","v":{"$error":"#N/A"}}]
[null,null,null,null,null,null,null,null,null,null,null,null,"no email",{"$error":"#VALUE!"},{"$error":"#VALUE!"},{"$f":"VLOOKUP(K6093,references!$A$1:$B$7,2,FALSE)","v":{"$error":"#N/A"}}]
[null,null,null,null,null,null,null,null,null,null,null,null,"no email",{"$error":"#VALUE!"},{"$error":"#VALUE!"},{"$f":"VLOOKUP(K6094,references!$A$1:$B$7,2,FALSE)","v":{"$error":"#N/A"}}]
[null,null,null,null,null,null,null,null,null,null,null,null,"no email",{"$error":"#VALUE!"},{"$error":"#VALUE!"},{"$f":"VLOOKUP(K6095,references!$A$1:$B$7,2,FALSE)","v":{"$error":"#N/A"}}]
[null,null,null,null,null,null,null,null,null,null,null,null,"no email",{"$error":"#VALUE!"},{"$error":"#VALUE!"},{"$f":"VLOOKUP(K6096,references!$A$1:$B$7,2,FALSE)","v":{"$error":"#N/A"}}]
[null,null,null,null,null,null,null,null,null,null,null,null,"no email",{"$error":"#VALUE!"},{"$error":"#VALUE!"},{"$f":"VLOOKUP(K6097,references!$A$1:$B$7,2,FALSE)","v":{"$error":"#N/A"}}]
[null,null,null,null,null,null,null,null,null,null,null,null,"no email",{"$error":"#VALUE!"},{"$error":"#VALUE!"},{"$f":"VLOOKUP(K6098,references!$A$1:$B$7,2,FALSE)","v":{"$error":"#N/A"}}]
[null,null,null,null,null,null,null,null,null,null,null,null,"no email",{"$error":"#VALUE!"},{"$error":"#VALUE!"},{"$f":"VLOOKUP(K6099,references!$A$1:$B$7,2,FALSE)","v":{"$error":"#N/A"}}]
[null,null,null,null,null,null,null,null,null,null,null,null,"no email",{"$error":"#VALUE!"},{"$error":"#VALUE!"},{"$f":"VLOOKUP(K6100,references!$A$1:$B$7,2,FALSE)","v":{"$error":"#N/A"}}]
[null,null,null,null,null,null,null,null,null,null,null,null,"no email",{"$error":"#VALUE!"},{"$error":"#VALUE!"},{"$f":"VLOOKUP(K6101,references!$A$1:$B$7,2,FALSE)","v":{"$error":"#N/A"}}]
[null,null,null,null,null,null,null,null,null,null,null,null,"no email",{"$error":"#VALUE!"},{"$error":"#VALUE!"},{"$f":"VLOOKUP(K6102,references!$A$1:$B$7,2,FALSE)","v":{"$error":"#N/A"}}]
[null,null,null,null,null,null,null,null,null,null,null,null,"no email",{"$error":"#VALUE!"},{"$error":"#VALUE!"},{"$f":"VLOOKUP(K6103,references!$A$1:$B$7,2,FALSE)","v":{"$error":"#N/A"}}]
[null,null,null,null,null,null,null,null,null,null,null,null,"no email",{"$error":"#VALUE!"},{"$error":"#VALUE!"},{"$f":"VLOOKUP(K6104,references!$A$1:$B$7,2,FALSE)","v":{"$error":"#N/A"}}]
[null,null,null,null,null,null,null,null,null,null,null,null,"no email",{"$error":"#VALUE!"},{"$error":"#VALUE!"},{"$f":"VLOOKUP(K6105,references!$A$1:$B$7,2,FALSE)","v":{"$error":"#N/A"}}]
[null,null,null,null,null,null,null,null,null,null,null,null,"no email",{"$error":"#VALUE!"},{"$error":"#VALUE!"},{"$f":"VLOOKUP(K6106,references!$A$1:$B$7,2,FALSE)","v":{"$error":"#N/A"}}]
[null,null,null,null,null,null,null,null,null,null,null,null,"no email",{"$error":"#VALUE!"},{"$error":"#VALUE!"},{"$f":"VLOOKUP(K6107,references!$A$1:$B$7,2,FALSE)","v":{"$error":"#N/A"}}]
[null,null,null,null,null,null,null,null,null,null,null,null,"no email",{"$error":"#VALUE!"},{"$error":"#VALUE!"},{"$f":"VLOOKUP(K6108,references!$A$1:$B$7,2,FALSE)","v":{"$error":"#N/A"}}]
[null,null,null,null,null,null,null,null,null,null,null,null,"no email",{"$error":"#VALUE!"},{"$error":"#VALUE!"},{"$f":"VLOOKUP(K6109,references!$A$1:$B$7,2,FALSE)","v":{"$error":"#N/A"}}]
[null,null,null,null,null,null,null,null,null,null,null,null,"no email",{"$error":"#VALUE!"},{"$error":"#VALUE!"},{"$f":"VLOOKUP(K6110,references!$A$1:$B$7,2,FALSE)","v":{"$error":"#N/A"}}]
[null,null,null,null,null,null,null,null,null,null,null,null,"no email",{"$error":"#VALUE!"},{"$error":"#VALUE!"},{"$f":"VLOOKUP(K6111,references!$A$1:$B$7,2,FALSE)","v":{"$error":"#N/A"}}]
[null,null,null,null,null,null,null,null,null,null,null,null,"no email",{"$error":"#VALUE!"},{"$error":"#VALUE!"},{"$f":"VLOOKUP(K6112,references!$A$1:$B$7,2,FALSE)","v":{"$error":"#N/A"}}]
[null,null,null,null,null,null,null,null,null,null,null,null,"no email",{"$error":"#VALUE!"},{"$error":"#VALUE!"},{"$f":"VLOOKUP(K6113,references!$A$1:$B$7,2,FALSE)","v":{"$error":"#N/A"}}]
[null,null,null,null,null,null,null,null,null,null,null,null,"no email",{"$error":"#VALUE!"},{"$error":"#VALUE!"},{"$f":"VLOOKUP(K6114,references!$A$1:$B$7,2,FALSE)","v":{"$error":"#N/A"}}]
[null,null,null,null,null,null,null,null,null,null,null,null,"no email",{"$error":"#VALUE!"},{"$error":"#VALUE!"},{"$f":"VLOOKUP(K6115,references!$A$1:$B$7,2,FALSE)","v":{"$error":"#N/A"}}]
[null,null,null,null,null,null,null,null,null,null,null,null,"no email",{"$error":"#VALUE!"},{"$error":"#VALUE!"},{"$f":"VLOOKUP(K6116,references!$A$1:$B$7,2,FALSE)","v":{"$error":"#N/A"}}]
[null,null,null,null,null,null,null,null,null,null,null,null,"no email",{"$error":"#VALUE!"},{"$error":"#VALUE!"},{"$f":"VLOOKUP(K6117,references!$A$1:$B$7,2,FALSE)","v":{"$error":"#N/A"}}]
[null,null,null,null,null,null,null,null,null,null,null,null,"no email",{"$error":"#VALUE!"},{"$error":"#VALUE!"},{"$f":"VLOOKUP(K6118,references!$A$1:$B$7,2,FALSE)","v":{"$error":"#N/A"}}]
[null,null,null,null,null,null,null,null,null,null,null,null,"no email",{"$error":"#VALUE!"},{"$error":"#VALUE!"},{"$f":"VLOOKUP(K6119,references!$A$1:$B$7,2,FALSE)","v":{"$error":"#N/A"}}]
[null,null,null,null,null,null,null,null,null,null,null,null,"no email",{"$error":"#VALUE!"},{"$error":"#VALUE!"},{"$f":"VLOOKUP(K6120,references!$A$1:$B$7,2,FALSE)","v":{"$error":"#N/A"}}]
[null,null,null,null,null,null,null,null,null,null,null,null,"no email",{"$error":"#VALUE!"},{"$error":"#VALUE!"},{"$f":"VLOOKUP(K6121,references!$A$1:$B$7,2,FALSE)","v":{"$error":"#N/A"}}]
[null,null,null,null,null,null,null,null,null,null,null,null,"no email",{"$error":"#VALUE!"},{"$error":"#VALUE!"},{"$f":"VLOOKUP(K6122,references!$A$1:$B$7,2,FALSE)","v":{"$error":"#N/A"}}]
[null,null,null,null,null,null,null,null,null,null,null,null,"no email",{"$error":"#VALUE!"},{"$error":"#VALUE!"},{"$f":"VLOOKUP(K6123,references!$A$1:$B$7,2,FALSE)","v":{"$error":"#N/A"}}]
[null,null,null,null,null,null,null,null,null,null,null,null,"no email",{"$error":"#VALUE!"},{"$error":"#VALUE!"},{"$f":"VLOOKUP(K6124,references!$A$1:$B$7,2,FALSE)","v":{"$error":"#N/A"}}]
[null,null,null,null,null,null,null,null,null,null,null,null,"no email",{"$error":"#VALUE!"},{"$error":"#VALUE!"},{"$f":"VLOOKUP(K6125,references!$A$1:$B$7,2,FALSE)","v":{"$error":"#N/A"}}]
[null,null,null,null,null,null,null,null,null,null,null,null,"no email",{"$error":"#VALUE!"},{"$error":"#VALUE!"},{"$f":"VLOOKUP(K6126,references!$A$1:$B$7,2,FALSE)","v":{"$error":"#N/A"}}]
[null,null,null,null,null,null,null,null,null,null,null,null,"no email",{"$error":"#VALUE!"},{"$error":"#VALUE!"},{"$f":"VLOOKUP(K6127,references!$A$1:$B$7,2,FALSE)","v":{"$error":"#N/A"}}]
[null,null,null,null,null,null,null,null,null,null,null,null,"no email",{"$error":"#VALUE!"},{"$error":"#VALUE!"},{"$f":"VLOOKUP(K6128,references!$A$1:$B$7,2,FALSE)","v":{"$error":"#N/A"}}]
[null,null,null,null,null,null,null,null,null,null,null,null,"no email",{"$error":"#VALUE!"},{"$error":"#VALUE!"},{"$f":"VLOOKUP(K6129,references!$A$1:$B$7,2,FALSE)","v":{"$error":"#N/A"}}]
[null,null,null,null,null,null,null,null,null,null,null,null,"no email",{"$error":"#VALUE!"},{"$error":"#VALUE!"},{"$f":"VLOOKUP(K6130,references!$A$1:$B$7,2,FALSE)","v":{"$error":"#N/A"}}]
[null,null,null,null,null,null,null,null,null,null,null,null,"no email",{"$error":"#VALUE!"},{"$error":"#VALUE!"},{"$f":"VLOOKUP(K6131,references!$A$1:$B$7,2,FALSE)","v":{"$error":"#N/A"}}]
[null,null,null,null,null,null,null,null,null,null,null,null,"no email",{"$error":"#VALUE!"},{"$error":"#VALUE!"},{"$f":"VLOOKUP(K6132,references!$A$1:$B$7,2,FALSE)","v":{"$error":"#N/A"}}]
[null,null,null,null,null,null,null,null,null,null,null,null,"no email",{"$error":"#VALUE!"},{"$error":"#VALUE!"},{"$f":"VLOOKUP(K6133,references!$A$1:$B$7,2,FALSE)","v":{"$error":"#N/A"}}]
[null,null,null,null,null,null,null,null,null,null,null,null,"no email",{"$error":"#VALUE!"},{"$error":"#VALUE!"},{"$f":"VLOOKUP(K6134,references!$A$1:$B$7,2,FALSE)","v":{"$error":"#N/A"}}]
[null,null,null,null,null,null,null,null,null,null,null,null,"no email",{"$error":"#VALUE!"},{"$error":"#VALUE!"},{"$f":"VLOOKUP(K6135,references!$A$1:$B$7,2,FALSE)","v":{"$error":"#N/A"}}]
[null,null,null,null,null,null,null,null,null,null,null,null,"no email",{"$error":"#VALUE!"},{"$error":"#VALUE!"},{"$f":"VLOOKUP(K6136,references!$A$1:$B$7,2,FALSE)","v":{"$error":"#N/A"}}]
[null,null,null,null,null,null,null,null,null,null,null,null,"no email",{"$error":"#VALUE!"},{"$error":"#VALUE!"},{"$f":"VLOOKUP(K6137,references!$A$1:$B$7,2,FALSE)","v":{"$error":"#N/A"}}]
[null,null,null,null,null,null,null,null,null,null,null,null,"no email",{"$error":"#VALUE!"},{"$error":"#VALUE!"},{"$f":"VLOOKUP(K6138,references!$A$1:$B$7,2,FALSE)","v":{"$error":"#N/A"}}]
[null,null,null,null,null,null,null,null,null,null,null,null,"no email",{"$error":"#VALUE!"},{"$error":"#VALUE!"},{"$f":"VLOOKUP(K6139,references!$A$1:$B$7,2,FALSE)","v":{"$error":"#N/A"}}]
[null,null,null,null,null,null,null,null,null,null,null,null,"no email",{"$error":"#VALUE!"},{"$error":"#VALUE!"},{"$f":"VLOOKUP(K6140,references!$A$1:$B$7,2,FALSE)","v":{"$error":"#N/A"}}]
[null,null,null,null,null,null,null,null,null,null,null,null,"no email",{"$error":"#VALUE!"},{"$error":"#VALUE!"},{"$f":"VLOOKUP(K6141,references!$A$1:$B$7,2,FALSE)","v":{"$error":"#N/A"}}]
[null,null,null,null,null,null,null,null,null,null,null,null,"no email",{"$error":"#VALUE!"},{"$error":"#VALUE!"},{"$f":"VLOOKUP(K6142,references!$A$1:$B$7,2,FALSE)","v":{"$error":"#N/A"}}]
[null,null,null,null,null,null,null,null,null,null,null,null,"no email",{"$error":"#VALUE!"},{"$error":"#VALUE!"},{"$f":"VLOOKUP(K6143,references!$A$1:$B$7,2,FALSE)","v":{"$error":"#N/A"}}]
[null,null,null,null,null,null,null,null,null,null,null,null,"no email",{"$error":"#VALUE!"},{"$error":"#VALUE!"},{"$f":"VLOOKUP(K6144,references!$A$1:$B$7,2,FALSE)","v":{"$error":"#N/A"}}]
[null,null,null,null,null,null,null,null,null,null,null,null,"no email",{"$error":"#VALUE!"},{"$error":"#VALUE!"},{"$f":"VLOOKUP(K6145,references!$A$1:$B$7,2,FALSE)","v":{"$error":"#N/A"}}]
[null,null,null,null,null,null,null,null,null,null,null,null,{"$f":"IF(L6146=\"\", \"no email\",LOWER(L6146))","v":"no email"},{"$f":"LEFT(A6146, SEARCH(\",\",A6146,1)-1)","v":{"$error":"#VALUE!"}},{"$f":"RIGHT(A6146, LEN(A6146) -SEARCH(\",\",A6146,1)-1)","v":{"$error":"#VALUE!"}},{"$f":"VLOOKUP(K6146,references!$A$1:$B$7,2,FALSE)","v":{"$error":"#N/A"}}]
[null,null,null,null,null,null,null,null,null,null,null,null,"no email",{"$error":"#VALUE!"},{"$error":"#VALUE!"},{"$f":"VLOOKUP(K6147,references!$A$1:$B$7,2,FALSE)","v":{"$error":"#N/A"}}]
[null,null,null,null,null,null,null,null,null,null,null,null,"no email",{"$error":"#VALUE!"},{"$error":"#VALUE!"},{"$f":"VLOOKUP(K6148,references!$A$1:$B$7,2,FALSE)","v":{"$error":"#N/A"}}]
[null,null,null,null,null,null,null,null,null,null,null,null,"no email",{"$error":"#VALUE!"},{"$error":"#VALUE!"},{"$f":"VLOOKUP(K6149,references!$A$1:$B$7,2,FALSE)","v":{"$error":"#N/A"}}]
[null,null,null,null,null,null,null,null,null,null,null,null,"no email",{"$error":"#VALUE!"},{"$error":"#VALUE!"},{"$f":"VLOOKUP(K6150,references!$A$1:$B$7,2,FALSE)","v":{"$error":"#N/A"}}]
[null,null,null,null,null,null,null,null,null,null,null,null,"no email",{"$error":"#VALUE!"},{"$error":"#VALUE!"},{"$f":"VLOOKUP(K6151,references!$A$1:$B$7,2,FALSE)","v":{"$error":"#N/A"}}]
[null,null,null,null,null,null,null,null,null,null,null,null,"no email",{"$error":"#VALUE!"},{"$error":"#VALUE!"},{"$f":"VLOOKUP(K6152,references!$A$1:$B$7,2,FALSE)","v":{"$error":"#N/A"}}]
[null,null,null,null,null,null,null,null,null,null,null,null,"no email",{"$error":"#VALUE!"},{"$error":"#VALUE!"},{"$f":"VLOOKUP(K6153,references!$A$1:$B$7,2,FALSE)","v":{"$error":"#N/A"}}]
[null,null,null,null,null,null,null,null,null,null,null,null,"no email",{"$error":"#VALUE!"},{"$error":"#VALUE!"},{"$f":"VLOOKUP(K6154,references!$A$1:$B$7,2,FALSE)","v":{"$error":"#N/A"}}]
[null,null,null,null,null,null,null,null,null,null,null,null,"no email",{"$error":"#VALUE!"},{"$error":"#VALUE!"},{"$f":"VLOOKUP(K6155,references!$A$1:$B$7,2,FALSE)","v":{"$error":"#N/A"}}]
[null,null,null,null,null,null,null,null,null,null,null,null,"no email",{"$error":"#VALUE!"},{"$error":"#VALUE!"},{"$f":"VLOOKUP(K6156,references!$A$1:$B$7,2,FALSE)","v":{"$error":"#N/A"}}]
[null,null,null,null,null,null,null,null,null,null,null,null,"no email",{"$error":"#VALUE!"},{"$error":"#VALUE!"},{"$f":"VLOOKUP(K6157,references!$A$1:$B$7,2,FALSE)","v":{"$error":"#N/A"}}]
[null,null,null,null,null,null,null,null,null,null,null,null,"no email",{"$error":"#VALUE!"},{"$error":"#VALUE!"},{"$f":"VLOOKUP(K6158,references!$A$1:$B$7,2,FALSE)","v":{"$error":"#N/A"}}]
[null,null,null,null,null,null,null,null,null,null,null,null,"no email",{"$error":"#VALUE!"},{"$error":"#VALUE!"},{"$f":"VLOOKUP(K6159,references!$A$1:$B$7,2,FALSE)","v":{"$error":"#N/A"}}]
[null,null,null,null,null,null,null,null,null,null,null,null,"no email",{"$error":"#VALUE!"},{"$error":"#VALUE!"},{"$f":"VLOOKUP(K6160,references!$A$1:$B$7,2,FALSE)","v":{"$error":"#N/A"}}]
[null,null,null,null,null,null,null,null,null,null,null,null,"no email",{"$error":"#VALUE!"},{"$error":"#VALUE!"},{"$f":"VLOOKUP(K6161,references!$A$1:$B$7,2,FALSE)","v":{"$error":"#N/A"}}]
[null,null,null,null,null,null,null,null,null,null,null,null,"no email",{"$error":"#VALUE!"},{"$error":"#VALUE!"},{"$f":"VLOOKUP(K6162,references!$A$1:$B$7,2,FALSE)","v":{"$error":"#N/A"}}]
[null,null,null,null,null,null,null,null,null,null,null,null,"no email",{"$error":"#VALUE!"},{"$error":"#VALUE!"},{"$f":"VLOOKUP(K6163,references!$A$1:$B$7,2,FALSE)","v":{"$error":"#N/A"}}]
[null,null,null,null,null,null,null,null,null,null,null,null,"no email",{"$error":"#VALUE!"},{"$error":"#VALUE!"},{"$f":"VLOOKUP(K6164,references!$A$1:$B$7,2,FALSE)","v":{"$error":"#N/A"}}]
[null,null,null,null,null,null,null,null,null,null,null,null,"no email",{"$error":"#VALUE!"},{"$error":"#VALUE!"},{"$f":"VLOOKUP(K6165,references!$A$1:$B$7,2,FALSE)","v":{"$error":"#N/A"}}]
[null,null,null,null,null,null,null,null,null,null,null,null,"no email",{"$error":"#VALUE!"},{"$error":"#VALUE!"},{"$f":"VLOOKUP(K6166,references!$A$1:$B$7,2,FALSE)","v":{"$error":"#N/A"}}]
[null,null,null,null,null,null,null,null,null,null,null,null,"no email",{"$error":"#VALUE!"},{"$error":"#VALUE!"},{"$f":"VLOOKUP(K6167,references!$A$1:$B$7,2,FALSE)","v":{"$error":"#N/A"}}]
[null,null,null,null,null,null,null,null,null,null,null,null,"no email",{"$error":"#VALUE!"},{"$error":"#VALUE!"},{"$f":"VLOOKUP(K6168,references!$A$1:$B$7,2,FALSE)","v":{"$error":"#N/A"}}]
[null,null,null,null,null,null,null,null,null,null,null,null,"no email",{"$error":"#VALUE!"},{"$error":"#VALUE!"},{"$f":"VLOOKUP(K6169,references!$A$1:$B$7,2,FALSE)","v":{"$error":"#N/A"}}]
[null,null,null,null,null,null,null,null,null,null,null,null,"no email",{"$error":"#VALUE!"},{"$error":"#VALUE!"},{"$f":"VLOOKUP(K6170,references!$A$1:$B$7,2,FALSE)","v":{"$error":"#N/A"}}]
[null,null,null,null,null,null,null,null,null,null,null,null,"no email",{"$error":"#VALUE!"},{"$error":"#VALUE!"},{"$f":"VLOOKUP(K6171,references!$A$1:$B$7,2,FALSE)","v":{"$error":"#N/A"}}]
[null,null,null,null,null,null,null,null,null,null,null,null,"no email",{"$error":"#VALUE!"},{"$error":"#VALUE!"},{"$f":"VLOOKUP(K6172,references!$A$1:$B$7,2,FALSE)","v":{"$error":"#N/A"}}]
[null,null,null,null,null,null,null,null,null,null,null,null,"no email",{"$error":"#VALUE!"},{"$error":"#VALUE!"},{"$f":"VLOOKUP(K6173,references!$A$1:$B$7,2,FALSE)","v":{"$error":"#N/A"}}]
[null,null,null,null,null,null,null,null,null,null,null,null,"no email",{"$error":"#VALUE!"},{"$error":"#VALUE!"},{"$f":"VLOOKUP(K6174,references!$A$1:$B$7,2,FALSE)","v":{"$error":"#N/A"}}]
[null,null,null,null,null,null,null,null,null,null,null,null,"no email",{"$error":"#VALUE!"},{"$error":"#VALUE!"},{"$f":"VLOOKUP(K6175,references!$A$1:$B$7,2,FALSE)","v":{"$error":"#N/A"}}]
[null,null,null,null,null,null,null,null,null,null,null,null,"no email",{"$error":"#VALUE!"},{"$error":"#VALUE!"},{"$f":"VLOOKUP(K6176,references!$A$1:$B$7,2,FALSE)","v":{"$error":"#N/A"}}]
[null,null,null,null,null,null,null,null,null,null,null,null,"no email",{"$error":"#VALUE!"},{"$error":"#VALUE!"},{"$f":"VLOOKUP(K6177,references!$A$1:$B$7,2,FALSE)","v":{"$error":"#N/A"}}]
[null,null,null,null,null,null,null,null,null,null,null,null,"no email",{"$error":"#VALUE!"},{"$error":"#VALUE!"},{"$f":"VLOOKUP(K6178,references!$A$1:$B$7,2,FALSE)","v":{"$error":"#N/A"}}]
[null,null,null,null,null,null,null,null,null,null,null,null,"no email",{"$error":"#VALUE!"},{"$error":"#VALUE!"},{"$f":"VLOOKUP(K6179,references!$A$1:$B$7,2,FALSE)","v":{"$error":"#N/A"}}]
[null,null,null,null,null,null,null,null,null,null,null,null,"no email",{"$error":"#VALUE!"},{"$error":"#VALUE!"},{"$f":"VLOOKUP(K6180,references!$A$1:$B$7,2,FALSE)","v":{"$error":"#N/A"}}]
[null,null,null,null,null,null,null,null,null,null,null,null,"no email",{"$error":"#VALUE!"},{"$error":"#VALUE!"},{"$f":"VLOOKUP(K6181,references!$A$1:$B$7,2,FALSE)","v":{"$error":"#N/A"}}]
[null,null,null,null,null,null,null,null,null,null,null,null,"no email",{"$error":"#VALUE!"},{"$error":"#VALUE!"},{"$f":"VLOOKUP(K6182,references!$A$1:$B$7,2,FALSE)","v":{"$error":"#N/A"}}]
[null,null,null,null,null,null,null,null,null,null,null,null,"no email",{"$error":"#VALUE!"},{"$error":"#VALUE!"},{"$f":"VLOOKUP(K6183,references!$A$1:$B$7,2,FALSE)","v":{"$error":"#N/A"}}]
[null,null,null,null,null,null,null,null,null,null,null,null,"no email",{"$error":"#VALUE!"},{"$error":"#VALUE!"},{"$f":"VLOOKUP(K6184,references!$A$1:$B$7,2,FALSE)","v":{"$error":"#N/A"}}]
[null,null,null,null,null,null,null,null,null,null,null,null,"no email",{"$error":"#VALUE!"},{"$error":"#VALUE!"},{"$f":"VLOOKUP(K6185,references!$A$1:$B$7,2,FALSE)","v":{"$error":"#N/A"}}]
[null,null,null,null,null,null,null,null,null,null,null,null,"no email",{"$error":"#VALUE!"},{"$error":"#VALUE!"},{"$f":"VLOOKUP(K6186,references!$A$1:$B$7,2,FALSE)","v":{"$error":"#N/A"}}]
[null,null,null,null,null,null,null,null,null,null,null,null,"no email",{"$error":"#VALUE!"},{"$error":"#VALUE!"},{"$f":"VLOOKUP(K6187,references!$A$1:$B$7,2,FALSE)","v":{"$error":"#N/A"}}]
[null,null,null,null,null,null,null,null,null,null,null,null,"no email",{"$error":"#VALUE!"},{"$error":"#VALUE!"},{"$f":"VLOOKUP(K6188,references!$A$1:$B$7,2,FALSE)","v":{"$error":"#N/A"}}]
[null,null,null,null,null,null,null,null,null,null,null,null,"no email",{"$error":"#VALUE!"},{"$error":"#VALUE!"},{"$f":"VLOOKUP(K6189,references!$A$1:$B$7,2,FALSE)","v":{"$error":"#N/A"}}]
[null,null,null,null,null,null,null,null,null,null,null,null,"no email",{"$error":"#VALUE!"},{"$error":"#VALUE!"},{"$f":"VLOOKUP(K6190,references!$A$1:$B$7,2,FALSE)","v":{"$error":"#N/A"}}]
[null,null,null,null,null,null,null,null,null,null,null,null,"no email",{"$error":"#VALUE!"},{"$error":"#VALUE!"},{"$f":"VLOOKUP(K6191,references!$A$1:$B$7,2,FALSE)","v":{"$error":"#N/A"}}]
[null,null,null,null,null,null,null,null,null,null,null,null,"no email",{"$error":"#VALUE!"},{"$error":"#VALUE!"},{"$f":"VLOOKUP(K6192,references!$A$1:$B$7,2,FALSE)","v":{"$error":"#N/A"}}]
[null,null,null,null,null,null,null,null,null,null,null,null,"no email",{"$error":"#VALUE!"},{"$error":"#VALUE!"},{"$f":"VLOOKUP(K6193,references!$A$1:$B$7,2,FALSE)","v":{"$error":"#N/A"}}]
[null,null,null,null,null,null,null,null,null,null,null,null,"no email",{"$error":"#VALUE!"},{"$error":"#VALUE!"},{"$f":"VLOOKUP(K6194,references!$A$1:$B$7,2,FALSE)","v":{"$error":"#N/A"}}]
[null,null,null,null,null,null,null,null,null,null,null,null,"no email",{"$error":"#VALUE!"},{"$error":"#VALUE!"},{"$f":"VLOOKUP(K6195,references!$A$1:$B$7,2,FALSE)","v":{"$error":"#N/A"}}]
[null,null,null,null,null,null,null,null,null,null,null,null,"no email",{"$error":"#VALUE!"},{"$error":"#VALUE!"},{"$f":"VLOOKUP(K6196,references!$A$1:$B$7,2,FALSE)","v":{"$error":"#N/A"}}]
[null,null,null,null,null,null,null,null,null,null,null,null,"no email",{"$error":"#VALUE!"},{"$error":"#VALUE!"},{"$f":"VLOOKUP(K6197,references!$A$1:$B$7,2,FALSE)","v":{"$error":"#N/A"}}]
[null,null,null,null,null,null,null,null,null,null,null,null,"no email",{"$error":"#VALUE!"},{"$error":"#VALUE!"},{"$f":"VLOOKUP(K6198,references!$A$1:$B$7,2,FALSE)","v":{"$error":"#N/A"}}]
[null,null,null,null,null,null,null,null,null,null,null,null,"no email",{"$error":"#VALUE!"},{"$error":"#VALUE!"},{"$f":"VLOOKUP(K6199,references!$A$1:$B$7,2,FALSE)","v":{"$error":"#N/A"}}]
[null,null,null,null,null,null,null,null,null,null,null,null,"no email",{"$error":"#VALUE!"},{"$error":"#VALUE!"},{"$f":"VLOOKUP(K6200,references!$A$1:$B$7,2,FALSE)","v":{"$error":"#N/A"}}]
[null,null,null,null,null,null,null,null,null,null,null,null,"no email",{"$error":"#VALUE!"},{"$error":"#VALUE!"},{"$f":"VLOOKUP(K6201,references!$A$1:$B$7,2,FALSE)","v":{"$error":"#N/A"}}]
[null,null,null,null,null,null,null,null,null,null,null,null,"no email",{"$error":"#VALUE!"},{"$error":"#VALUE!"},{"$f":"VLOOKUP(K6202,references!$A$1:$B$7,2,FALSE)","v":{"$error":"#N/A"}}]
[null,null,null,null,null,null,null,null,null,null,null,null,"no email",{"$error":"#VALUE!"},{"$error":"#VALUE!"},{"$f":"VLOOKUP(K6203,references!$A$1:$B$7,2,FALSE)","v":{"$error":"#N/A"}}]
[null,null,null,null,null,null,null,null,null,null,null,null,"no email",{"$error":"#VALUE!"},{"$error":"#VALUE!"},{"$f":"VLOOKUP(K6204,references!$A$1:$B$7,2,FALSE)","v":{"$error":"#N/A"}}]
[null,null,null,null,null,null,null,null,null,null,null,null,"no email",{"$error":"#VALUE!"},{"$error":"#VALUE!"},{"$f":"VLOOKUP(K6205,references!$A$1:$B$7,2,FALSE)","v":{"$error":"#N/A"}}]
[null,null,null,null,null,null,null,null,null,null,null,null,"no email",{"$error":"#VALUE!"},{"$error":"#VALUE!"},{"$f":"VLOOKUP(K6206,references!$A$1:$B$7,2,FALSE)","v":{"$error":"#N/A"}}]
[null,null,null,null,null,null,null,null,null,null,null,null,"no email",{"$error":"#VALUE!"},{"$error":"#VALUE!"},{"$f":"VLOOKUP(K6207,references!$A$1:$B$7,2,FALSE)","v":{"$error":"#N/A"}}]
[null,null,null,null,null,null,null,null,null,null,null,null,"no email",{"$error":"#VALUE!"},{"$error":"#VALUE!"},{"$f":"VLOOKUP(K6208,references!$A$1:$B$7,2,FALSE)","v":{"$error":"#N/A"}}]

{"sheet":"ESAcst","index":16,"n_rows":5,"n_cols":3,"rows_kept":5,"cut":false,"hidden":true,"merged":[]}
["Phases chapter","chapPhases","Part IV"]
["Software chapter","chapSoft","Part IV Chapter 6.2"]
["Hardware chapter","chapHard","Part IV Chapter 6.1"]
["Flight Item chapter","chapFlight","Part III Chapter 9.4"]
["Key Personnel Chapter","chapPers","Part V Chapter 7"]

{"sheet":"InCubedMembers","index":17,"n_rows":69,"n_cols":13,"rows_kept":69,"cut":false,"hidden":true,"merged":[]}
["Name","Member is SP","Role","Competence areas","Item Type","Path","Contractor?","email lower",2,15,14,16,3]
["Michele Castorina","Michele.Castorina@esa.int","TO",null,"Item","departments/EOP-8/EOP-8L/Lists/Members TO",false,{"$f":"LOWER(InCubedMembers[[#This Row],[Member is SP]])","v":"michele.castorina@esa.int"},{"$f":"INDEX(ESADirectory!$B$1:$B$6216,MATCH(TRUE,INDEX(ESADirectory!$M$1:$M$6216=InCubedMembers[[#This Row],[email lower]],0),0))","v":{"$error":"#N/A"}},{"$f":"INDEX(ESADirectory!$O$1:$O$6216,MATCH(TRUE,INDEX(ESADirectory!$M$1:$M$6216=InCubedMembers[[#This Row],[email lower]],0),0))","v":{"$error":"#N/A"}},{"$f":"INDEX(ESADirectory!$N$1:$N$6216,MATCH(TRUE,INDEX(ESADirectory!$M$1:$M$6216=InCubedMembers[[#This Row],[email lower]],0),0))","v":{"$error":"#N/A"}},{"$f":"INDEX(ESADirectory!$P$1:$P$6216,MATCH(TRUE,INDEX(ESADirectory!$M$1:$M$6216=InCubedMembers[[#This Row],[email lower]],0),0))","v":{"$error":"#N/A"}},{"$f":"INDEX(ESADirectory!$C$1:$C$6216,MATCH(TRUE,INDEX(ESADirectory!$M$1:$M$6216=InCubedMembers[[#This Row],[email lower]],0),0))","v":{"$error":"#N/A"}}]
["Amanda Regan","Amanda.Regan@esa.int","TO",null,"Item","departments/EOP-8/EOP-8L/Lists/Members TO",false,{"$f":"LOWER(InCubedMembers[[#This Row],[Member is SP]])","v":"amanda.regan@esa.int"},{"$f":"INDEX(ESADirectory!$B$1:$B$6216,MATCH(TRUE,INDEX(ESADirectory!$M$1:$M$6216=InCubedMembers[[#This Row],[email lower]],0),0))","v":{"$error":"#N/A"}},{"$f":"INDEX(ESADirectory!$O$1:$O$6216,MATCH(TRUE,INDEX(ESADirectory!$M$1:$M$6216=InCubedMembers[[#This Row],[email lower]],0),0))","v":{"$error":"#N/A"}},{"$f":"INDEX(ESADirectory!$N$1:$N$6216,MATCH(TRUE,INDEX(ESADirectory!$M$1:$M$6216=InCubedMembers[[#This Row],[email lower]],0),0))","v":{"$error":"#N/A"}},{"$f":"INDEX(ESADirectory!$P$1:$P$6216,MATCH(TRUE,INDEX(ESADirectory!$M$1:$M$6216=InCubedMembers[[#This Row],[email lower]],0),0))","v":{"$error":"#N/A"}},{"$f":"INDEX(ESADirectory!$C$1:$C$6216,MATCH(TRUE,INDEX(ESADirectory!$M$1:$M$6216=InCubedMembers[[#This Row],[email lower]],0),0))","v":{"$error":"#N/A"}}]
["Alice Barthe","Alice.Barthe@esa.int","TO",null,"Item","departments/EOP-8/EOP-8L/Lists/Members TO",false,{"$f":"LOWER(InCubedMembers[[#This Row],[Member is SP]])","v":"alice.barthe@esa.int"},{"$f":"INDEX(ESADirectory!$B$1:$B$6216,MATCH(TRUE,INDEX(ESADirectory!$M$1:$M$6216=InCubedMembers[[#This Row],[email lower]],0),0))","v":{"$error":"#N/A"}},{"$f":"INDEX(ESADirectory!$O$1:$O$6216,MATCH(TRUE,INDEX(ESADirectory!$M$1:$M$6216=InCubedMembers[[#This Row],[email lower]],0),0))","v":{"$error":"#N/A"}},{"$f":"INDEX(ESADirectory!$N$1:$N$6216,MATCH(TRUE,INDEX(ESADirectory!$M$1:$M$6216=InCubedMembers[[#This Row],[email lower]],0),0))","v":{"$error":"#N/A"}},{"$f":"INDEX(ESADirectory!$P$1:$P$6216,MATCH(TRUE,INDEX(ESADirectory!$M$1:$M$6216=InCubedMembers[[#This Row],[email lower]],0),0))","v":{"$error":"#N/A"}},{"$f":"INDEX(ESADirectory!$C$1:$C$6216,MATCH(TRUE,INDEX(ESADirectory!$M$1:$M$6216=InCubedMembers[[#This Row],[email lower]],0),0))","v":{"$error":"#N/A"}}]
["TBD",null,"TO",null,"Item","departments/EOP-8/EOP-8L/Lists/Members TO",null,{"$f":"LOWER(InCubedMembers[[#This Row],[Member is SP]])","v":""},{"$f":"INDEX(ESADirectory!$B$1:$B$6216,MATCH(TRUE,INDEX(ESADirectory!$M$1:$M$6216=InCubedMembers[[#This Row],[email lower]],0),0))","v":0},{"$f":"INDEX(ESADirectory!$O$1:$O$6216,MATCH(TRUE,INDEX(ESADirectory!$M$1:$M$6216=InCubedMembers[[#This Row],[email lower]],0),0))","v":0},{"$f":"INDEX(ESADirectory!$N$1:$N$6216,MATCH(TRUE,INDEX(ESADirectory!$M$1:$M$6216=InCubedMembers[[#This Row],[email lower]],0),0))","v":0},{"$f":"INDEX(ESADirectory!$P$1:$P$6216,MATCH(TRUE,INDEX(ESADirectory!$M$1:$M$6216=InCubedMembers[[#This Row],[email lower]],0),0))","v":0},{"$f":"INDEX(ESADirectory!$C$1:$C$6216,MATCH(TRUE,INDEX(ESADirectory!$M$1:$M$6216=InCubedMembers[[#This Row],[email lower]],0),0))","v":0}]
["Nathalie Schwarz","Nathalie.Schwarz@esa.int","CO",null,"Item","departments/EOP-8/EOP-8L/Lists/Members TO",false,{"$f":"LOWER(InCubedMembers[[#This Row],[Member is SP]])","v":"nathalie.schwarz@esa.int"},{"$f":"INDEX(ESADirectory!$B$1:$B$6216,MATCH(TRUE,INDEX(ESADirectory!$M$1:$M$6216=InCubedMembers[[#This Row],[email lower]],0),0))","v":{"$error":"#N/A"}},{"$f":"INDEX(ESADirectory!$O$1:$O$6216,MATCH(TRUE,INDEX(ESADirectory!$M$1:$M$6216=InCubedMembers[[#This Row],[email lower]],0),0))","v":{"$error":"#N/A"}},{"$f":"INDEX(ESADirectory!$N$1:$N$6216,MATCH(TRUE,INDEX(ESADirectory!$M$1:$M$6216=InCubedMembers[[#This Row],[email lower]],0),0))","v":{"$error":"#N/A"}},{"$f":"INDEX(ESADirectory!$P$1:$P$6216,MATCH(TRUE,INDEX(ESADirectory!$M$1:$M$6216=InCubedMembers[[#This Row],[email lower]],0),0))","v":{"$error":"#N/A"}},{"$f":"INDEX(ESADirectory!$C$1:$C$6216,MATCH(TRUE,INDEX(ESADirectory!$M$1:$M$6216=InCubedMembers[[#This Row],[email lower]],0),0))","v":{"$error":"#N/A"}}]
["Dora Tamas","Dora.Tamas@esa.int","CO",null,"Item","departments/EOP-8/EOP-8L/Lists/Members TO",false,{"$f":"LOWER(InCubedMembers[[#This Row],[Member is SP]])","v":"dora.tamas@esa.int"},{"$f":"INDEX(ESADirectory!$B$1:$B$6216,MATCH(TRUE,INDEX(ESADirectory!$M$1:$M$6216=InCubedMembers[[#This Row],[email lower]],0),0))","v":{"$error":"#N/A"}},{"$f":"INDEX(ESADirectory!$O$1:$O$6216,MATCH(TRUE,INDEX(ESADirectory!$M$1:$M$6216=InCubedMembers[[#This Row],[email lower]],0),0))","v":{"$error":"#N/A"}},{"$f":"INDEX(ESADirectory!$N$1:$N$6216,MATCH(TRUE,INDEX(ESADirectory!$M$1:$M$6216=InCubedMembers[[#This Row],[email lower]],0),0))","v":{"$error":"#N/A"}},{"$f":"INDEX(ESADirectory!$P$1:$P$6216,MATCH(TRUE,INDEX(ESADirectory!$M$1:$M$6216=InCubedMembers[[#This Row],[email lower]],0),0))","v":{"$error":"#N/A"}},{"$f":"INDEX(ESADirectory!$C$1:$C$6216,MATCH(TRUE,INDEX(ESADirectory!$M$1:$M$6216=InCubedMembers[[#This Row],[email lower]],0),0))","v":{"$error":"#N/A"}}]
["Massimo Canese","Massimo.Canese@esa.int","PC",null,"Item","departments/EOP-8/EOP-8L/Lists/Members TO",false,{"$f":"LOWER(InCubedMembers[[#This Row],[Member is SP]])","v":"massimo.canese@esa.int"},{"$f":"INDEX(ESADirectory!$B$1:$B$6216,MATCH(TRUE,INDEX(ESADirectory!$M$1:$M$6216=InCubedMembers[[#This Row],[email lower]],0),0))","v":{"$error":"#N/A"}},{"$f":"INDEX(ESADirectory!$O$1:$O$6216,MATCH(TRUE,INDEX(ESADirectory!$M$1:$M$6216=InCubedMembers[[#This Row],[email lower]],0),0))","v":{"$error":"#N/A"}},{"$f":"INDEX(ESADirectory!$N$1:$N$6216,MATCH(TRUE,INDEX(ESADirectory!$M$1:$M$6216=InCubedMembers[[#This Row],[email lower]],0),0))","v":{"$error":"#N/A"}},{"$f":"INDEX(ESADirectory!$P$1:$P$6216,MATCH(TRUE,INDEX(ESADirectory!$M$1:$M$6216=InCubedMembers[[#This Row],[email lower]],0),0))","v":{"$error":"#N/A"}},{"$f":"INDEX(ESADirectory!$C$1:$C$6216,MATCH(TRUE,INDEX(ESADirectory!$M$1:$M$6216=InCubedMembers[[#This Row],[email lower]],0),0))","v":{"$error":"#N/A"}}]
["Massimiliano Pastena","Massimiliano.Pastena@esa.int","TO",null,"Item","departments/EOP-8/EOP-8L/Lists/Members TO",false,{"$f":"LOWER(InCubedMembers[[#This Row],[Member is SP]])","v":"massimiliano.pastena@esa.int"},{"$f":"INDEX(ESADirectory!$B$1:$B$6216,MATCH(TRUE,INDEX(ESADirectory!$M$1:$M$6216=InCubedMembers[[#This Row],[email lower]],0),0))","v":{"$error":"#N/A"}},{"$f":"INDEX(ESADirectory!$O$1:$O$6216,MATCH(TRUE,INDEX(ESADirectory!$M$1:$M$6216=InCubedMembers[[#This Row],[email lower]],0),0))","v":{"$error":"#N/A"}},{"$f":"INDEX(ESADirectory!$N$1:$N$6216,MATCH(TRUE,INDEX(ESADirectory!$M$1:$M$6216=InCubedMembers[[#This Row],[email lower]],0),0))","v":{"$error":"#N/A"}},{"$f":"INDEX(ESADirectory!$P$1:$P$6216,MATCH(TRUE,INDEX(ESADirectory!$M$1:$M$6216=InCubedMembers[[#This Row],[email lower]],0),0))","v":{"$error":"#N/A"}},{"$f":"INDEX(ESADirectory!$C$1:$C$6216,MATCH(TRUE,INDEX(ESADirectory!$M$1:$M$6216=InCubedMembers[[#This Row],[email lower]],0),0))","v":{"$error":"#N/A"}}]
["Kathe Dannenmayer","Kathe.Dannenmayer@esa.int","TO",null,"Item","departments/EOP-8/EOP-8L/Lists/Members TO",false,{"$f":"LOWER(InCubedMembers[[#This Row],[Member is SP]])","v":"kathe.dannenmayer@esa.int"},{"$f":"INDEX(ESADirectory!$B$1:$B$6216,MATCH(TRUE,INDEX(ESADirectory!$M$1:$M$6216=InCubedMembers[[#This Row],[email lower]],0),0))","v":{"$error":"#N/A"}},{"$f":"INDEX(ESADirectory!$O$1:$O$6216,MATCH(TRUE,INDEX(ESADirectory!$M$1:$M$6216=InCubedMembers[[#This Row],[email lower]],0),0))","v":{"$error":"#N/A"}},{"$f":"INDEX(ESADirectory!$N$1:$N$6216,MATCH(TRUE,INDEX(ESADirectory!$M$1:$M$6216=InCubedMembers[[#This Row],[email lower]],0),0))","v":{"$error":"#N/A"}},{"$f":"INDEX(ESADirectory!$P$1:$P$6216,MATCH(TRUE,INDEX(ESADirectory!$M$1:$M$6216=InCubedMembers[[#This Row],[email lower]],0),0))","v":{"$error":"#N/A"}},{"$f":"INDEX(ESADirectory!$C$1:$C$6216,MATCH(TRUE,INDEX(ESADirectory!$M$1:$M$6216=InCubedMembers[[#This Row],[email lower]],0),0))","v":{"$error":"#N/A"}}]
["Igor Zayer","Igor.Zayer@esa.int","TO",null,"Item","departments/EOP-8/EOP-8L/Lists/Members TO",false,{"$f":"LOWER(InCubedMembers[[#This Row],[Member is SP]])","v":"igor.zayer@esa.int"},{"$f":"INDEX(ESADirectory!$B$1:$B$6216,MATCH(TRUE,INDEX(ESADirectory!$M$1:$M$6216=InCubedMembers[[#This Row],[email lower]],0),0))","v":{"$error":"#N/A"}},{"$f":"INDEX(ESADirectory!$O$1:$O$6216,MATCH(TRUE,INDEX(ESADirectory!$M$1:$M$6216=InCubedMembers[[#This Row],[email lower]],0),0))","v":{"$error":"#N/A"}},{"$f":"INDEX(ESADirectory!$N$1:$N$6216,MATCH(TRUE,INDEX(ESADirectory!$M$1:$M$6216=InCubedMembers[[#This Row],[email lower]],0),0))","v":{"$error":"#N/A"}},{"$f":"INDEX(ESADirectory!$P$1:$P$6216,MATCH(TRUE,INDEX(ESADirectory!$M$1:$M$6216=InCubedMembers[[#This Row],[email lower]],0),0))","v":{"$error":"#N/A"}},{"$f":"INDEX(ESADirectory!$C$1:$C$6216,MATCH(TRUE,INDEX(ESADirectory!$M$1:$M$6216=InCubedMembers[[#This Row],[email lower]],0),0))","v":{"$error":"#N/A"}}]
["Sveinung Loekken","Sveinung.Loekken@esa.int","TO",null,"Item","departments/EOP-8/EOP-8L/Lists/Members TO",false,{"$f":"LOWER(InCubedMembers[[#This Row],[Member is SP]])","v":"sveinung.loekken@esa.int"},{"$f":"INDEX(ESADirectory!$B$1:$B$6216,MATCH(TRUE,INDEX(ESADirectory!$M$1:$M$6216=InCubedMembers[[#This Row],[email lower]],0),0))","v":{"$error":"#N/A"}},{"$f":"INDEX(ESADirectory!$O$1:$O$6216,MATCH(TRUE,INDEX(ESADirectory!$M$1:$M$6216=InCubedMembers[[#This Row],[email lower]],0),0))","v":{"$error":"#N/A"}},{"$f":"INDEX(ESADirectory!$N$1:$N$6216,MATCH(TRUE,INDEX(ESADirectory!$M$1:$M$6216=InCubedMembers[[#This Row],[email lower]],0),0))","v":{"$error":"#N/A"}},{"$f":"INDEX(ESADirectory!$P$1:$P$6216,MATCH(TRUE,INDEX(ESADirectory!$M$1:$M$6216=InCubedMembers[[#This Row],[email lower]],0),0))","v":{"$error":"#N/A"}},{"$f":"INDEX(ESADirectory!$C$1:$C$6216,MATCH(TRUE,INDEX(ESADirectory!$M$1:$M$6216=InCubedMembers[[#This Row],[email lower]],0),0))","v":{"$error":"#N/A"}}]
["Pierre Philippe Mathieu","Pierre.Philippe.Mathieu@esa.int","TO",null,"Item","departments/EOP-8/EOP-8L/Lists/Members TO",null,{"$f":"LOWER(InCubedMembers[[#This Row],[Member is SP]])","v":"pierre.philippe.mathieu@esa.int"},{"$f":"INDEX(ESADirectory!$B$1:$B$6216,MATCH(TRUE,INDEX(ESADirectory!$M$1:$M$6216=InCubedMembers[[#This Row],[email lower]],0),0))","v":{"$error":"#N/A"}},{"$f":"INDEX(ESADirectory!$O$1:$O$6216,MATCH(TRUE,INDEX(ESADirectory!$M$1:$M$6216=InCubedMembers[[#This Row],[email lower]],0),0))","v":{"$error":"#N/A"}},{"$f":"INDEX(ESADirectory!$N$1:$N$6216,MATCH(TRUE,INDEX(ESADirectory!$M$1:$M$6216=InCubedMembers[[#This Row],[email lower]],0),0))","v":{"$error":"#N/A"}},{"$f":"INDEX(ESADirectory!$P$1:$P$6216,MATCH(TRUE,INDEX(ESADirectory!$M$1:$M$6216=InCubedMembers[[#This Row],[email lower]],0),0))","v":{"$error":"#N/A"}},{"$f":"INDEX(ESADirectory!$C$1:$C$6216,MATCH(TRUE,INDEX(ESADirectory!$M$1:$M$6216=InCubedMembers[[#This Row],[email lower]],0),0))","v":{"$error":"#N/A"}}]
["Silke Bode","Silke.Bode@esa.int","CO",null,"Item","departments/EOP-8/EOP-8L/Lists/Members TO",null,{"$f":"LOWER(InCubedMembers[[#This Row],[Member is SP]])","v":"silke.bode@esa.int"},{"$f":"INDEX(ESADirectory!$B$1:$B$6216,MATCH(TRUE,INDEX(ESADirectory!$M$1:$M$6216=InCubedMembers[[#This Row],[email lower]],0),0))","v":{"$error":"#N/A"}},{"$f":"INDEX(ESADirectory!$O$1:$O$6216,MATCH(TRUE,INDEX(ESADirectory!$M$1:$M$6216=InCubedMembers[[#This Row],[email lower]],0),0))","v":{"$error":"#N/A"}},{"$f":"INDEX(ESADirectory!$N$1:$N$6216,MATCH(TRUE,INDEX(ESADirectory!$M$1:$M$6216=InCubedMembers[[#This Row],[email lower]],0),0))","v":{"$error":"#N/A"}},{"$f":"INDEX(ESADirectory!$P$1:$P$6216,MATCH(TRUE,INDEX(ESADirectory!$M$1:$M$6216=InCubedMembers[[#This Row],[email lower]],0),0))","v":{"$error":"#N/A"}},{"$f":"INDEX(ESADirectory!$C$1:$C$6216,MATCH(TRUE,INDEX(ESADirectory!$M$1:$M$6216=InCubedMembers[[#This Row],[email lower]],0),0))","v":{"$error":"#N/A"}}]
["Nathalie Boisard","Nathalie.Boisard@esa.int","CO",null,"Item","departments/EOP-8/EOP-8L/Lists/Members TO",null,{"$f":"LOWER(InCubedMembers[[#This Row],[Member is SP]])","v":"nathalie.boisard@esa.int"},{"$f":"INDEX(ESADirectory!$B$1:$B$6216,MATCH(TRUE,INDEX(ESADirectory!$M$1:$M$6216=InCubedMembers[[#This Row],[email lower]],0),0))","v":{"$error":"#N/A"}},{"$f":"INDEX(ESADirectory!$O$1:$O$6216,MATCH(TRUE,INDEX(ESADirectory!$M$1:$M$6216=InCubedMembers[[#This Row],[email lower]],0),0))","v":{"$error":"#N/A"}},{"$f":"INDEX(ESADirectory!$N$1:$N$6216,MATCH(TRUE,INDEX(ESADirectory!$M$1:$M$6216=InCubedMembers[[#This Row],[email lower]],0),0))","v":{"$error":"#N/A"}},{"$f":"INDEX(ESADirectory!$P$1:$P$6216,MATCH(TRUE,INDEX(ESADirectory!$M$1:$M$6216=InCubedMembers[[#This Row],[email lower]],0),0))","v":{"$error":"#N/A"}},{"$f":"INDEX(ESADirectory!$C$1:$C$6216,MATCH(TRUE,INDEX(ESADirectory!$M$1:$M$6216=InCubedMembers[[#This Row],[email lower]],0),0))","v":{"$error":"#N/A"}}]
["Emma Frigot","Emma.Frigot@esa.int","CO",null,"Item","departments/EOP-8/EOP-8L/Lists/Members TO",null,{"$f":"LOWER(InCubedMembers[[#This Row],[Member is SP]])","v":"emma.frigot@esa.int"},{"$f":"INDEX(ESADirectory!$B$1:$B$6216,MATCH(TRUE,INDEX(ESADirectory!$M$1:$M$6216=InCubedMembers[[#This Row],[email lower]],0),0))","v":{"$error":"#N/A"}},{"$f":"INDEX(ESADirectory!$O$1:$O$6216,MATCH(TRUE,INDEX(ESADirectory!$M$1:$M$6216=InCubedMembers[[#This Row],[email lower]],0),0))","v":{"$error":"#N/A"}},{"$f":"INDEX(ESADirectory!$N$1:$N$6216,MATCH(TRUE,INDEX(ESADirectory!$M$1:$M$6216=InCubedMembers[[#This Row],[email lower]],0),0))","v":{"$error":"#N/A"}},{"$f":"INDEX(ESADirectory!$P$1:$P$6216,MATCH(TRUE,INDEX(ESADirectory!$M$1:$M$6216=InCubedMembers[[#This Row],[email lower]],0),0))","v":{"$error":"#N/A"}},{"$f":"INDEX(ESADirectory!$C$1:$C$6216,MATCH(TRUE,INDEX(ESADirectory!$M$1:$M$6216=InCubedMembers[[#This Row],[email lower]],0),0))","v":{"$error":"#N/A"}}]
["Florence Glandieres","Florence.Glandieres@esa.int","CO",null,"Item","departments/EOP-8/EOP-8L/Lists/Members TO",null,{"$f":"LOWER(InCubedMembers[[#This Row],[Member is SP]])","v":"florence.glandieres@esa.int"},{"$f":"INDEX(ESADirectory!$B$1:$B$6216,MATCH(TRUE,INDEX(ESADirectory!$M$1:$M$6216=InCubedMembers[[#This Row],[email lower]],0),0))","v":{"$error":"#N/A"}},{"$f":"INDEX(ESADirectory!$O$1:$O$6216,MATCH(TRUE,INDEX(ESADirectory!$M$1:$M$6216=InCubedMembers[[#This Row],[email lower]],0),0))","v":{"$error":"#N/A"}},{"$f":"INDEX(ESADirectory!$N$1:$N$6216,MATCH(TRUE,INDEX(ESADirectory!$M$1:$M$6216=InCubedMembers[[#This Row],[email lower]],0),0))","v":{"$error":"#N/A"}},{"$f":"INDEX(ESADirectory!$P$1:$P$6216,MATCH(TRUE,INDEX(ESADirectory!$M$1:$M$6216=InCubedMembers[[#This Row],[email lower]],0),0))","v":{"$error":"#N/A"}},{"$f":"INDEX(ESADirectory!$C$1:$C$6216,MATCH(TRUE,INDEX(ESADirectory!$M$1:$M$6216=InCubedMembers[[#This Row],[email lower]],0),0))","v":{"$error":"#N/A"}}]
["Floriane Provost","Floriane.Provost@esa.int","TO",null,"Item","departments/EOP-8/EOP-8L/Lists/Members TO",false,{"$f":"LOWER(InCubedMembers[[#This Row],[Member is SP]])","v":"floriane.provost@esa.int"},{"$f":"INDEX(ESADirectory!$B$1:$B$6216,MATCH(TRUE,INDEX(ESADirectory!$M$1:$M$6216=InCubedMembers[[#This Row],[email lower]],0),0))","v":{"$error":"#N/A"}},{"$f":"INDEX(ESADirectory!$O$1:$O$6216,MATCH(TRUE,INDEX(ESADirectory!$M$1:$M$6216=InCubedMembers[[#This Row],[email lower]],0),0))","v":{"$error":"#N/A"}},{"$f":"INDEX(ESADirectory!$N$1:$N$6216,MATCH(TRUE,INDEX(ESADirectory!$M$1:$M$6216=InCubedMembers[[#This Row],[email lower]],0),0))","v":{"$error":"#N/A"}},{"$f":"INDEX(ESADirectory!$P$1:$P$6216,MATCH(TRUE,INDEX(ESADirectory!$M$1:$M$6216=InCubedMembers[[#This Row],[email lower]],0),0))","v":{"$error":"#N/A"}},{"$f":"INDEX(ESADirectory!$C$1:$C$6216,MATCH(TRUE,INDEX(ESADirectory!$M$1:$M$6216=InCubedMembers[[#This Row],[email lower]],0),0))","v":{"$error":"#N/A"}}]
["Nicolas Girault","Nicolas.Girault@esa.int","TO","​EO Ground Segment\n","Item","departments/EOP-8/EOP-8L/Lists/Members TO",false,{"$f":"LOWER(InCubedMembers[[#This Row],[Member is SP]])","v":"nicolas.girault@esa.int"},{"$f":"INDEX(ESADirectory!$B$1:$B$6216,MATCH(TRUE,INDEX(ESADirectory!$M$1:$M$6216=InCubedMembers[[#This Row],[email lower]],0),0))","v":{"$error":"#N/A"}},{"$f":"INDEX(ESADirectory!$O$1:$O$6216,MATCH(TRUE,INDEX(ESADirectory!$M$1:$M$6216=InCubedMembers[[#This Row],[email lower]],0),0))","v":{"$error":"#N/A"}},{"$f":"INDEX(ESADirectory!$N$1:$N$6216,MATCH(TRUE,INDEX(ESADirectory!$M$1:$M$6216=InCubedMembers[[#This Row],[email lower]],0),0))","v":{"$error":"#N/A"}},{"$f":"INDEX(ESADirectory!$P$1:$P$6216,MATCH(TRUE,INDEX(ESADirectory!$M$1:$M$6216=InCubedMembers[[#This Row],[email lower]],0),0))","v":{"$error":"#N/A"}},{"$f":"INDEX(ESADirectory!$C$1:$C$6216,MATCH(TRUE,INDEX(ESADirectory!$M$1:$M$6216=InCubedMembers[[#This Row],[email lower]],0),0))","v":{"$error":"#N/A"}}]
["Elisa Cipriani","Elisa.Cipriani@esa.int","TO",null,"Item","departments/EOP-8/EOP-8L/Lists/Members TO",true,{"$f":"LOWER(InCubedMembers[[#This Row],[Member is SP]])","v":"elisa.cipriani@esa.int"},{"$f":"INDEX(ESADirectory!$B$1:$B$6216,MATCH(TRUE,INDEX(ESADirectory!$M$1:$M$6216=InCubedMembers[[#This Row],[email lower]],0),0))","v":{"$error":"#N/A"}},{"$f":"INDEX(ESADirectory!$O$1:$O$6216,MATCH(TRUE,INDEX(ESADirectory!$M$1:$M$6216=InCubedMembers[[#This Row],[email lower]],0),0))","v":{"$error":"#N/A"}},{"$f":"INDEX(ESADirectory!$N$1:$N$6216,MATCH(TRUE,INDEX(ESADirectory!$M$1:$M$6216=InCubedMembers[[#This Row],[email lower]],0),0))","v":{"$error":"#N/A"}},{"$f":"INDEX(ESADirectory!$P$1:$P$6216,MATCH(TRUE,INDEX(ESADirectory!$M$1:$M$6216=InCubedMembers[[#This Row],[email lower]],0),0))","v":{"$error":"#N/A"}},{"$f":"INDEX(ESADirectory!$C$1:$C$6216,MATCH(TRUE,INDEX(ESADirectory!$M$1:$M$6216=InCubedMembers[[#This Row],[email lower]],0),0))","v":{"$error":"#N/A"}}]
["Patrick Griffiths","Patrick.Griffiths@esa.int","TO",null,"Item","departments/EOP-8/EOP-8L/Lists/Members TO",false,{"$f":"LOWER(InCubedMembers[[#This Row],[Member is SP]])","v":"patrick.griffiths@esa.int"},{"$f":"INDEX(ESADirectory!$B$1:$B$6216,MATCH(TRUE,INDEX(ESADirectory!$M$1:$M$6216=InCubedMembers[[#This Row],[email lower]],0),0))","v":{"$error":"#N/A"}},{"$f":"INDEX(ESADirectory!$O$1:$O$6216,MATCH(TRUE,INDEX(ESADirectory!$M$1:$M$6216=InCubedMembers[[#This Row],[email lower]],0),0))","v":{"$error":"#N/A"}},{"$f":"INDEX(ESADirectory!$N$1:$N$6216,MATCH(TRUE,INDEX(ESADirectory!$M$1:$M$6216=InCubedMembers[[#This Row],[email lower]],0),0))","v":{"$error":"#N/A"}},{"$f":"INDEX(ESADirectory!$P$1:$P$6216,MATCH(TRUE,INDEX(ESADirectory!$M$1:$M$6216=InCubedMembers[[#This Row],[email lower]],0),0))","v":{"$error":"#N/A"}},{"$f":"INDEX(ESADirectory!$C$1:$C$6216,MATCH(TRUE,INDEX(ESADirectory!$M$1:$M$6216=InCubedMembers[[#This Row],[email lower]],0),0))","v":{"$error":"#N/A"}}]
["Bertrand Le Saux","Bertrand.Le.Saux@esa.int","TO",null,"Item","departments/EOP-8/EOP-8L/Lists/Members TO",false,{"$f":"LOWER(InCubedMembers[[#This Row],[Member is SP]])","v":"bertrand.le.saux@esa.int"},{"$f":"INDEX(ESADirectory!$B$1:$B$6216,MATCH(TRUE,INDEX(ESADirectory!$M$1:$M$6216=InCubedMembers[[#This Row],[email lower]],0),0))","v":{"$error":"#N/A"}},{"$f":"INDEX(ESADirectory!$O$1:$O$6216,MATCH(TRUE,INDEX(ESADirectory!$M$1:$M$6216=InCubedMembers[[#This Row],[email lower]],0),0))","v":{"$error":"#N/A"}},{"$f":"INDEX(ESADirectory!$N$1:$N$6216,MATCH(TRUE,INDEX(ESADirectory!$M$1:$M$6216=InCubedMembers[[#This Row],[email lower]],0),0))","v":{"$error":"#N/A"}},{"$f":"INDEX(ESADirectory!$P$1:$P$6216,MATCH(TRUE,INDEX(ESADirectory!$M$1:$M$6216=InCubedMembers[[#This Row],[email lower]],0),0))","v":{"$error":"#N/A"}},{"$f":"INDEX(ESADirectory!$C$1:$C$6216,MATCH(TRUE,INDEX(ESADirectory!$M$1:$M$6216=InCubedMembers[[#This Row],[email lower]],0),0))","v":{"$error":"#N/A"}}]
["Ola Grabak","Ola.Grabak@esa.int","TO",null,"Item","departments/EOP-8/EOP-8L/Lists/Members TO",false,{"$f":"LOWER(InCubedMembers[[#This Row],[Member is SP]])","v":"ola.grabak@esa.int"},{"$f":"INDEX(ESADirectory!$B$1:$B$6216,MATCH(TRUE,INDEX(ESADirectory!$M$1:$M$6216=InCubedMembers[[#This Row],[email lower]],0),0))","v":{"$error":"#N/A"}},{"$f":"INDEX(ESADirectory!$O$1:$O$6216,MATCH(TRUE,INDEX(ESADirectory!$M$1:$M$6216=InCubedMembers[[#This Row],[email lower]],0),0))","v":{"$error":"#N/A"}},{"$f":"INDEX(ESADirectory!$N$1:$N$6216,MATCH(TRUE,INDEX(ESADirectory!$M$1:$M$6216=InCubedMembers[[#This Row],[email lower]],0),0))","v":{"$error":"#N/A"}},{"$f":"INDEX(ESADirectory!$P$1:$P$6216,MATCH(TRUE,INDEX(ESADirectory!$M$1:$M$6216=InCubedMembers[[#This Row],[email lower]],0),0))","v":{"$error":"#N/A"}},{"$f":"INDEX(ESADirectory!$C$1:$C$6216,MATCH(TRUE,INDEX(ESADirectory!$M$1:$M$6216=InCubedMembers[[#This Row],[email lower]],0),0))","v":{"$error":"#N/A"}}]
["Frank Martin","Frank.Martin.Seifert@esa.int","TO",null,"Item","departments/EOP-8/EOP-8L/Lists/Members TO",false,{"$f":"LOWER(InCubedMembers[[#This Row],[Member is SP]])","v":"frank.martin.seifert@esa.int"},{"$f":"INDEX(ESADirectory!$B$1:$B$6216,MATCH(TRUE,INDEX(ESADirectory!$M$1:$M$6216=InCubedMembers[[#This Row],[email lower]],0),0))","v":{"$error":"#N/A"}},{"$f":"INDEX(ESADirectory!$O$1:$O$6216,MATCH(TRUE,INDEX(ESADirectory!$M$1:$M$6216=InCubedMembers[[#This Row],[email lower]],0),0))","v":{"$error":"#N/A"}},{"$f":"INDEX(ESADirectory!$N$1:$N$6216,MATCH(TRUE,INDEX(ESADirectory!$M$1:$M$6216=InCubedMembers[[#This Row],[email lower]],0),0))","v":{"$error":"#N/A"}},{"$f":"INDEX(ESADirectory!$P$1:$P$6216,MATCH(TRUE,INDEX(ESADirectory!$M$1:$M$6216=InCubedMembers[[#This Row],[email lower]],0),0))","v":{"$error":"#N/A"}},{"$f":"INDEX(ESADirectory!$C$1:$C$6216,MATCH(TRUE,INDEX(ESADirectory!$M$1:$M$6216=InCubedMembers[[#This Row],[email lower]],0),0))","v":{"$error":"#N/A"}}]
["Anna Burzykowska ","Anna.Burzykowska@esa.int","TO","​drought index.\n","Item","departments/EOP-8/EOP-8L/Lists/Members TO",false,{"$f":"LOWER(InCubedMembers[[#This Row],[Member is SP]])","v":"anna.burzykowska@esa.int"},{"$f":"INDEX(ESADirectory!$B$1:$B$6216,MATCH(TRUE,INDEX(ESADirectory!$M$1:$M$6216=InCubedMembers[[#This Row],[email lower]],0),0))","v":{"$error":"#N/A"}},{"$f":"INDEX(ESADirectory!$O$1:$O$6216,MATCH(TRUE,INDEX(ESADirectory!$M$1:$M$6216=InCubedMembers[[#This Row],[email lower]],0),0))","v":{"$error":"#N/A"}},{"$f":"INDEX(ESADirectory!$N$1:$N$6216,MATCH(TRUE,INDEX(ESADirectory!$M$1:$M$6216=InCubedMembers[[#This Row],[email lower]],0),0))","v":{"$error":"#N/A"}},{"$f":"INDEX(ESADirectory!$P$1:$P$6216,MATCH(TRUE,INDEX(ESADirectory!$M$1:$M$6216=InCubedMembers[[#This Row],[email lower]],0),0))","v":{"$error":"#N/A"}},{"$f":"INDEX(ESADirectory!$C$1:$C$6216,MATCH(TRUE,INDEX(ESADirectory!$M$1:$M$6216=InCubedMembers[[#This Row],[email lower]],0),0))","v":{"$error":"#N/A"}}]
["Sarah Wittig","Sarah.Wittig@esa.int","TO",null,"Item","departments/EOP-8/EOP-8L/Lists/Members TO",false,{"$f":"LOWER(InCubedMembers[[#This Row],[Member is SP]])","v":"sarah.wittig@esa.int"},{"$f":"INDEX(ESADirectory!$B$1:$B$6216,MATCH(TRUE,INDEX(ESADirectory!$M$1:$M$6216=InCubedMembers[[#This Row],[email lower]],0),0))","v":{"$error":"#N/A"}},{"$f":"INDEX(ESADirectory!$O$1:$O$6216,MATCH(TRUE,INDEX(ESADirectory!$M$1:$M$6216=InCubedMembers[[#This Row],[email lower]],0),0))","v":{"$error":"#N/A"}},{"$f":"INDEX(ESADirectory!$N$1:$N$6216,MATCH(TRUE,INDEX(ESADirectory!$M$1:$M$6216=InCubedMembers[[#This Row],[email lower]],0),0))","v":{"$error":"#N/A"}},{"$f":"INDEX(ESADirectory!$P$1:$P$6216,MATCH(TRUE,INDEX(ESADirectory!$M$1:$M$6216=InCubedMembers[[#This Row],[email lower]],0),0))","v":{"$error":"#N/A"}},{"$f":"INDEX(ESADirectory!$C$1:$C$6216,MATCH(TRUE,INDEX(ESADirectory!$M$1:$M$6216=InCubedMembers[[#This Row],[email lower]],0),0))","v":{"$error":"#N/A"}}]
["josep rosello","Josep.Rosello@esa.int","TO",null,"Item","departments/EOP-8/EOP-8L/Lists/Members TO",false,{"$f":"LOWER(InCubedMembers[[#This Row],[Member is SP]])","v":"josep.rosello@esa.int"},{"$f":"INDEX(ESADirectory!$B$1:$B$6216,MATCH(TRUE,INDEX(ESADirectory!$M$1:$M$6216=InCubedMembers[[#This Row],[email lower]],0),0))","v":{"$error":"#N/A"}},{"$f":"INDEX(ESADirectory!$O$1:$O$6216,MATCH(TRUE,INDEX(ESADirectory!$M$1:$M$6216=InCubedMembers[[#This Row],[email lower]],0),0))","v":{"$error":"#N/A"}},{"$f":"INDEX(ESADirectory!$N$1:$N$6216,MATCH(TRUE,INDEX(ESADirectory!$M$1:$M$6216=InCubedMembers[[#This Row],[email lower]],0),0))","v":{"$error":"#N/A"}},{"$f":"INDEX(ESADirectory!$P$1:$P$6216,MATCH(TRUE,INDEX(ESADirectory!$M$1:$M$6216=InCubedMembers[[#This Row],[email lower]],0),0))","v":{"$error":"#N/A"}},{"$f":"INDEX(ESADirectory!$C$1:$C$6216,MATCH(TRUE,INDEX(ESADirectory!$M$1:$M$6216=InCubedMembers[[#This Row],[email lower]],0),0))","v":{"$error":"#N/A"}}]
["Stefano Ferretti","Stefano.Ferretti@esa.int","TO",null,"Item","departments/EOP-8/EOP-8L/Lists/Members TO",false,{"$f":"LOWER(InCubedMembers[[#This Row],[Member is SP]])","v":"stefano.ferretti@esa.int"},{"$f":"INDEX(ESADirectory!$B$1:$B$6216,MATCH(TRUE,INDEX(ESADirectory!$M$1:$M$6216=InCubedMembers[[#This Row],[email lower]],0),0))","v":{"$error":"#N/A"}},{"$f":"INDEX(ESADirectory!$O$1:$O$6216,MATCH(TRUE,INDEX(ESADirectory!$M$1:$M$6216=InCubedMembers[[#This Row],[email lower]],0),0))","v":{"$error":"#N/A"}},{"$f":"INDEX(ESADirectory!$N$1:$N$6216,MATCH(TRUE,INDEX(ESADirectory!$M$1:$M$6216=InCubedMembers[[#This Row],[email lower]],0),0))","v":{"$error":"#N/A"}},{"$f":"INDEX(ESADirectory!$P$1:$P$6216,MATCH(TRUE,INDEX(ESADirectory!$M$1:$M$6216=InCubedMembers[[#This Row],[email lower]],0),0))","v":{"$error":"#N/A"}},{"$f":"INDEX(ESADirectory!$C$1:$C$6216,MATCH(TRUE,INDEX(ESADirectory!$M$1:$M$6216=InCubedMembers[[#This Row],[email lower]],0),0))","v":{"$error":"#N/A"}}]
["Florenz von Ostman","Florenz.vonOstman@esa.int","CO",null,"Item","departments/EOP-8/EOP-8L/Lists/Members TO",false,{"$f":"LOWER(InCubedMembers[[#This Row],[Member is SP]])","v":"florenz.vonostman@esa.int"},{"$f":"INDEX(ESADirectory!$B$1:$B$6216,MATCH(TRUE,INDEX(ESADirectory!$M$1:$M$6216=InCubedMembers[[#This Row],[email lower]],0),0))","v":{"$error":"#N/A"}},{"$f":"INDEX(ESADirectory!$O$1:$O$6216,MATCH(TRUE,INDEX(ESADirectory!$M$1:$M$6216=InCubedMembers[[#This Row],[email lower]],0),0))","v":{"$error":"#N/A"}},{"$f":"INDEX(ESADirectory!$N$1:$N$6216,MATCH(TRUE,INDEX(ESADirectory!$M$1:$M$6216=InCubedMembers[[#This Row],[email lower]],0),0))","v":{"$error":"#N/A"}},{"$f":"INDEX(ESADirectory!$P$1:$P$6216,MATCH(TRUE,INDEX(ESADirectory!$M$1:$M$6216=InCubedMembers[[#This Row],[email lower]],0),0))","v":{"$error":"#N/A"}},{"$f":"INDEX(ESADirectory!$C$1:$C$6216,MATCH(TRUE,INDEX(ESADirectory!$M$1:$M$6216=InCubedMembers[[#This Row],[email lower]],0),0))","v":{"$error":"#N/A"}}]
["Martin Suess","Martin.Suess@esa.int","TO","​MW payloads\n","Item","departments/EOP-8/EOP-8L/Lists/Members TO",false,{"$f":"LOWER(InCubedMembers[[#This Row],[Member is SP]])","v":"martin.suess@esa.int"},{"$f":"INDEX(ESADirectory!$B$1:$B$6216,MATCH(TRUE,INDEX(ESADirectory!$M$1:$M$6216=InCubedMembers[[#This Row],[email lower]],0),0))","v":{"$error":"#N/A"}},{"$f":"INDEX(ESADirectory!$O$1:$O$6216,MATCH(TRUE,INDEX(ESADirectory!$M$1:$M$6216=InCubedMembers[[#This Row],[email lower]],0),0))","v":{"$error":"#N/A"}},{"$f":"INDEX(ESADirectory!$N$1:$N$6216,MATCH(TRUE,INDEX(ESADirectory!$M$1:$M$6216=InCubedMembers[[#This Row],[email lower]],0),0))","v":{"$error":"#N/A"}},{"$f":"INDEX(ESADirectory!$P$1:$P$6216,MATCH(TRUE,INDEX(ESADirectory!$M$1:$M$6216=InCubedMembers[[#This Row],[email lower]],0),0))","v":{"$error":"#N/A"}},{"$f":"INDEX(ESADirectory!$C$1:$C$6216,MATCH(TRUE,INDEX(ESADirectory!$M$1:$M$6216=InCubedMembers[[#This Row],[email lower]],0),0))","v":{"$error":"#N/A"}}]
["Flavio Mariani","Flavio.Mariani@esa.int","TO","​Optical Instruments\n","Item","departments/EOP-8/EOP-8L/Lists/Members TO",true,{"$f":"LOWER(InCubedMembers[[#This Row],[Member is SP]])","v":"flavio.mariani@esa.int"},{"$f":"INDEX(ESADirectory!$B$1:$B$6216,MATCH(TRUE,INDEX(ESADirectory!$M$1:$M$6216=InCubedMembers[[#This Row],[email lower]],0),0))","v":{"$error":"#N/A"}},{"$f":"INDEX(ESADirectory!$O$1:$O$6216,MATCH(TRUE,INDEX(ESADirectory!$M$1:$M$6216=InCubedMembers[[#This Row],[email lower]],0),0))","v":{"$error":"#N/A"}},{"$f":"INDEX(ESADirectory!$N$1:$N$6216,MATCH(TRUE,INDEX(ESADirectory!$M$1:$M$6216=InCubedMembers[[#This Row],[email lower]],0),0))","v":{"$error":"#N/A"}},{"$f":"INDEX(ESADirectory!$P$1:$P$6216,MATCH(TRUE,INDEX(ESADirectory!$M$1:$M$6216=InCubedMembers[[#This Row],[email lower]],0),0))","v":{"$error":"#N/A"}},{"$f":"INDEX(ESADirectory!$C$1:$C$6216,MATCH(TRUE,INDEX(ESADirectory!$M$1:$M$6216=InCubedMembers[[#This Row],[email lower]],0),0))","v":{"$error":"#N/A"}}]
["Arnaud Heliere","Arnaud.Heliere@esa.int","TO","​Optical Instruments\n","Item","departments/EOP-8/EOP-8L/Lists/Members TO",false,{"$f":"LOWER(InCubedMembers[[#This Row],[Member is SP]])","v":"arnaud.heliere@esa.int"},{"$f":"INDEX(ESADirectory!$B$1:$B$6216,MATCH(TRUE,INDEX(ESADirectory!$M$1:$M$6216=InCubedMembers[[#This Row],[email lower]],0),0))","v":{"$error":"#N/A"}},{"$f":"INDEX(ESADirectory!$O$1:$O$6216,MATCH(TRUE,INDEX(ESADirectory!$M$1:$M$6216=InCubedMembers[[#This Row],[email lower]],0),0))","v":{"$error":"#N/A"}},{"$f":"INDEX(ESADirectory!$N$1:$N$6216,MATCH(TRUE,INDEX(ESADirectory!$M$1:$M$6216=InCubedMembers[[#This Row],[email lower]],0),0))","v":{"$error":"#N/A"}},{"$f":"INDEX(ESADirectory!$P$1:$P$6216,MATCH(TRUE,INDEX(ESADirectory!$M$1:$M$6216=InCubedMembers[[#This Row],[email lower]],0),0))","v":{"$error":"#N/A"}},{"$f":"INDEX(ESADirectory!$C$1:$C$6216,MATCH(TRUE,INDEX(ESADirectory!$M$1:$M$6216=InCubedMembers[[#This Row],[email lower]],0),0))","v":{"$error":"#N/A"}}]
["Maximilian Garre","Maximilian.Garre@esa.int","CO",null,"Item","departments/EOP-8/EOP-8L/Lists/Members TO",false,{"$f":"LOWER(InCubedMembers[[#This Row],[Member is SP]])","v":"maximilian.garre@esa.int"},{"$f":"INDEX(ESADirectory!$B$1:$B$6216,MATCH(TRUE,INDEX(ESADirectory!$M$1:$M$6216=InCubedMembers[[#This Row],[email lower]],0),0))","v":{"$error":"#N/A"}},{"$f":"INDEX(ESADirectory!$O$1:$O$6216,MATCH(TRUE,INDEX(ESADirectory!$M$1:$M$6216=InCubedMembers[[#This Row],[email lower]],0),0))","v":{"$error":"#N/A"}},{"$f":"INDEX(ESADirectory!$N$1:$N$6216,MATCH(TRUE,INDEX(ESADirectory!$M$1:$M$6216=InCubedMembers[[#This Row],[email lower]],0),0))","v":{"$error":"#N/A"}},{"$f":"INDEX(ESADirectory!$P$1:$P$6216,MATCH(TRUE,INDEX(ESADirectory!$M$1:$M$6216=InCubedMembers[[#This Row],[email lower]],0),0))","v":{"$error":"#N/A"}},{"$f":"INDEX(ESADirectory!$C$1:$C$6216,MATCH(TRUE,INDEX(ESADirectory!$M$1:$M$6216=InCubedMembers[[#This Row],[email lower]],0),0))","v":{"$error":"#N/A"}}]
["Roman Karpov","Roman.Karpov@ext.esa.int","CO",null,"Item","departments/EOP-8/EOP-8L/Lists/Members TO",false,{"$f":"LOWER(InCubedMembers[[#This Row],[Member is SP]])","v":"roman.karpov@ext.esa.int"},{"$f":"INDEX(ESADirectory!$B$1:$B$6216,MATCH(TRUE,INDEX(ESADirectory!$M$1:$M$6216=InCubedMembers[[#This Row],[email lower]],0),0))","v":{"$error":"#N/A"}},{"$f":"INDEX(ESADirectory!$O$1:$O$6216,MATCH(TRUE,INDEX(ESADirectory!$M$1:$M$6216=InCubedMembers[[#This Row],[email lower]],0),0))","v":{"$error":"#N/A"}},{"$f":"INDEX(ESADirectory!$N$1:$N$6216,MATCH(TRUE,INDEX(ESADirectory!$M$1:$M$6216=InCubedMembers[[#This Row],[email lower]],0),0))","v":{"$error":"#N/A"}},{"$f":"INDEX(ESADirectory!$P$1:$P$6216,MATCH(TRUE,INDEX(ESADirectory!$M$1:$M$6216=InCubedMembers[[#This Row],[email lower]],0),0))","v":{"$error":"#N/A"}},{"$f":"INDEX(ESADirectory!$C$1:$C$6216,MATCH(TRUE,INDEX(ESADirectory!$M$1:$M$6216=InCubedMembers[[#This Row],[email lower]],0),0))","v":{"$error":"#N/A"}}]
["Helena Morais","Helena.Morais@ext.esa.int","CO",null,"Item","departments/EOP-8/EOP-8L/Lists/Members TO",null,{"$f":"LOWER(InCubedMembers[[#This Row],[Member is SP]])","v":"helena.morais@ext.esa.int"},{"$f":"INDEX(ESADirectory!$B$1:$B$6216,MATCH(TRUE,INDEX(ESADirectory!$M$1:$M$6216=InCubedMembers[[#This Row],[email lower]],0),0))","v":{"$error":"#N/A"}},{"$f":"INDEX(ESADirectory!$O$1:$O$6216,MATCH(TRUE,INDEX(ESADirectory!$M$1:$M$6216=InCubedMembers[[#This Row],[email lower]],0),0))","v":{"$error":"#N/A"}},{"$f":"INDEX(ESADirectory!$N$1:$N$6216,MATCH(TRUE,INDEX(ESADirectory!$M$1:$M$6216=InCubedMembers[[#This Row],[email lower]],0),0))","v":{"$error":"#N/A"}},{"$f":"INDEX(ESADirectory!$P$1:$P$6216,MATCH(TRUE,INDEX(ESADirectory!$M$1:$M$6216=InCubedMembers[[#This Row],[email lower]],0),0))","v":{"$error":"#N/A"}},{"$f":"INDEX(ESADirectory!$C$1:$C$6216,MATCH(TRUE,INDEX(ESADirectory!$M$1:$M$6216=InCubedMembers[[#This Row],[email lower]],0),0))","v":{"$error":"#N/A"}}]
["Antonia Cavedon","Antonia.Cavedon@esa.int","CO",null,"Item","departments/EOP-8/EOP-8L/Lists/Members TO",null,{"$f":"LOWER(InCubedMembers[[#This Row],[Member is SP]])","v":"antonia.cavedon@esa.int"},{"$f":"INDEX(ESADirectory!$B$1:$B$6216,MATCH(TRUE,INDEX(ESADirectory!$M$1:$M$6216=InCubedMembers[[#This Row],[email lower]],0),0))","v":{"$error":"#N/A"}},{"$f":"INDEX(ESADirectory!$O$1:$O$6216,MATCH(TRUE,INDEX(ESADirectory!$M$1:$M$6216=InCubedMembers[[#This Row],[email lower]],0),0))","v":{"$error":"#N/A"}},{"$f":"INDEX(ESADirectory!$N$1:$N$6216,MATCH(TRUE,INDEX(ESADirectory!$M$1:$M$6216=InCubedMembers[[#This Row],[email lower]],0),0))","v":{"$error":"#N/A"}},{"$f":"INDEX(ESADirectory!$P$1:$P$6216,MATCH(TRUE,INDEX(ESADirectory!$M$1:$M$6216=InCubedMembers[[#This Row],[email lower]],0),0))","v":{"$error":"#N/A"}},{"$f":"INDEX(ESADirectory!$C$1:$C$6216,MATCH(TRUE,INDEX(ESADirectory!$M$1:$M$6216=InCubedMembers[[#This Row],[email lower]],0),0))","v":{"$error":"#N/A"}}]
["Katarina De Jonge","Katarina.De.Jonge@ext.esa.int","CO",null,"Item","departments/EOP-8/EOP-8L/Lists/Members TO",null,{"$f":"LOWER(InCubedMembers[[#This Row],[Member is SP]])","v":"katarina.de.jonge@ext.esa.int"},{"$f":"INDEX(ESADirectory!$B$1:$B$6216,MATCH(TRUE,INDEX(ESADirectory!$M$1:$M$6216=InCubedMembers[[#This Row],[email lower]],0),0))","v":{"$error":"#N/A"}},{"$f":"INDEX(ESADirectory!$O$1:$O$6216,MATCH(TRUE,INDEX(ESADirectory!$M$1:$M$6216=InCubedMembers[[#This Row],[email lower]],0),0))","v":{"$error":"#N/A"}},{"$f":"INDEX(ESADirectory!$N$1:$N$6216,MATCH(TRUE,INDEX(ESADirectory!$M$1:$M$6216=InCubedMembers[[#This Row],[email lower]],0),0))","v":{"$error":"#N/A"}},{"$f":"INDEX(ESADirectory!$P$1:$P$6216,MATCH(TRUE,INDEX(ESADirectory!$M$1:$M$6216=InCubedMembers[[#This Row],[email lower]],0),0))","v":{"$error":"#N/A"}},{"$f":"INDEX(ESADirectory!$C$1:$C$6216,MATCH(TRUE,INDEX(ESADirectory!$M$1:$M$6216=InCubedMembers[[#This Row],[email lower]],0),0))","v":{"$error":"#N/A"}}]
["Carlos Urbina Ortega","Carlos.Urbina.Ortega@esa.int","TO","​On board data processing\n","Item","departments/EOP-8/EOP-8L/Lists/Members TO",true,{"$f":"LOWER(InCubedMembers[[#This Row],[Member is SP]])","v":"carlos.urbina.ortega@esa.int"},{"$f":"INDEX(ESADirectory!$B$1:$B$6216,MATCH(TRUE,INDEX(ESADirectory!$M$1:$M$6216=InCubedMembers[[#This Row],[email lower]],0),0))","v":{"$error":"#N/A"}},{"$f":"INDEX(ESADirectory!$O$1:$O$6216,MATCH(TRUE,INDEX(ESADirectory!$M$1:$M$6216=InCubedMembers[[#This Row],[email lower]],0),0))","v":{"$error":"#N/A"}},{"$f":"INDEX(ESADirectory!$N$1:$N$6216,MATCH(TRUE,INDEX(ESADirectory!$M$1:$M$6216=InCubedMembers[[#This Row],[email lower]],0),0))","v":{"$error":"#N/A"}},{"$f":"INDEX(ESADirectory!$P$1:$P$6216,MATCH(TRUE,INDEX(ESADirectory!$M$1:$M$6216=InCubedMembers[[#This Row],[email lower]],0),0))","v":{"$error":"#N/A"}},{"$f":"INDEX(ESADirectory!$C$1:$C$6216,MATCH(TRUE,INDEX(ESADirectory!$M$1:$M$6216=InCubedMembers[[#This Row],[email lower]],0),0))","v":{"$error":"#N/A"}}]
["Ville Meskus","Ville.Meskus@esa.int","TO","​InCubed YGT\n","Item","departments/EOP-8/EOP-8L/Lists/Members TO",null,{"$f":"LOWER(InCubedMembers[[#This Row],[Member is SP]])","v":"ville.meskus@esa.int"},{"$f":"INDEX(ESADirectory!$B$1:$B$6216,MATCH(TRUE,INDEX(ESADirectory!$M$1:$M$6216=InCubedMembers[[#This Row],[email lower]],0),0))","v":{"$error":"#N/A"}},{"$f":"INDEX(ESADirectory!$O$1:$O$6216,MATCH(TRUE,INDEX(ESADirectory!$M$1:$M$6216=InCubedMembers[[#This Row],[email lower]],0),0))","v":{"$error":"#N/A"}},{"$f":"INDEX(ESADirectory!$N$1:$N$6216,MATCH(TRUE,INDEX(ESADirectory!$M$1:$M$6216=InCubedMembers[[#This Row],[email lower]],0),0))","v":{"$error":"#N/A"}},{"$f":"INDEX(ESADirectory!$P$1:$P$6216,MATCH(TRUE,INDEX(ESADirectory!$M$1:$M$6216=InCubedMembers[[#This Row],[email lower]],0),0))","v":{"$error":"#N/A"}},{"$f":"INDEX(ESADirectory!$C$1:$C$6216,MATCH(TRUE,INDEX(ESADirectory!$M$1:$M$6216=InCubedMembers[[#This Row],[email lower]],0),0))","v":{"$error":"#N/A"}}]
["Gianluca Furano","Gianluca.Furano@esa.int","TO",null,"Item","departments/EOP-8/EOP-8L/Lists/Members TO",false,{"$f":"LOWER(InCubedMembers[[#This Row],[Member is SP]])","v":"gianluca.furano@esa.int"},{"$f":"INDEX(ESADirectory!$B$1:$B$6216,MATCH(TRUE,INDEX(ESADirectory!$M$1:$M$6216=InCubedMembers[[#This Row],[email lower]],0),0))","v":{"$error":"#N/A"}},{"$f":"INDEX(ESADirectory!$O$1:$O$6216,MATCH(TRUE,INDEX(ESADirectory!$M$1:$M$6216=InCubedMembers[[#This Row],[email lower]],0),0))","v":{"$error":"#N/A"}},{"$f":"INDEX(ESADirectory!$N$1:$N$6216,MATCH(TRUE,INDEX(ESADirectory!$M$1:$M$6216=InCubedMembers[[#This Row],[email lower]],0),0))","v":{"$error":"#N/A"}},{"$f":"INDEX(ESADirectory!$P$1:$P$6216,MATCH(TRUE,INDEX(ESADirectory!$M$1:$M$6216=InCubedMembers[[#This Row],[email lower]],0),0))","v":{"$error":"#N/A"}},{"$f":"INDEX(ESADirectory!$C$1:$C$6216,MATCH(TRUE,INDEX(ESADirectory!$M$1:$M$6216=InCubedMembers[[#This Row],[email lower]],0),0))","v":{"$error":"#N/A"}}]
["Bart Gheysens","Bart.Gheysens@ext.esa.int","CO",null,"Item","departments/EOP-8/EOP-8L/Lists/Members TO",null,{"$f":"LOWER(InCubedMembers[[#This Row],[Member is SP]])","v":"bart.gheysens@ext.esa.int"},{"$f":"INDEX(ESADirectory!$B$1:$B$6216,MATCH(TRUE,INDEX(ESADirectory!$M$1:$M$6216=InCubedMembers[[#This Row],[email lower]],0),0))","v":{"$error":"#N/A"}},{"$f":"INDEX(ESADirectory!$O$1:$O$6216,MATCH(TRUE,INDEX(ESADirectory!$M$1:$M$6216=InCubedMembers[[#This Row],[email lower]],0),0))","v":{"$error":"#N/A"}},{"$f":"INDEX(ESADirectory!$N$1:$N$6216,MATCH(TRUE,INDEX(ESADirectory!$M$1:$M$6216=InCubedMembers[[#This Row],[email lower]],0),0))","v":{"$error":"#N/A"}},{"$f":"INDEX(ESADirectory!$P$1:$P$6216,MATCH(TRUE,INDEX(ESADirectory!$M$1:$M$6216=InCubedMembers[[#This Row],[email lower]],0),0))","v":{"$error":"#N/A"}},{"$f":"INDEX(ESADirectory!$C$1:$C$6216,MATCH(TRUE,INDEX(ESADirectory!$M$1:$M$6216=InCubedMembers[[#This Row],[email lower]],0),0))","v":{"$error":"#N/A"}}]
["Piera Di Vito","Piera.di.Vito@esa.int","TO","​InCubed team\n","Item","departments/EOP-8/EOP-8L/Lists/Members TO",false,{"$f":"LOWER(InCubedMembers[[#This Row],[Member is SP]])","v":"piera.di.vito@esa.int"},{"$f":"INDEX(ESADirectory!$B$1:$B$6216,MATCH(TRUE,INDEX(ESADirectory!$M$1:$M$6216=InCubedMembers[[#This Row],[email lower]],0),0))","v":{"$error":"#N/A"}},{"$f":"INDEX(ESADirectory!$O$1:$O$6216,MATCH(TRUE,INDEX(ESADirectory!$M$1:$M$6216=InCubedMembers[[#This Row],[email lower]],0),0))","v":{"$error":"#N/A"}},{"$f":"INDEX(ESADirectory!$N$1:$N$6216,MATCH(TRUE,INDEX(ESADirectory!$M$1:$M$6216=InCubedMembers[[#This Row],[email lower]],0),0))","v":{"$error":"#N/A"}},{"$f":"INDEX(ESADirectory!$P$1:$P$6216,MATCH(TRUE,INDEX(ESADirectory!$M$1:$M$6216=InCubedMembers[[#This Row],[email lower]],0),0))","v":{"$error":"#N/A"}},{"$f":"INDEX(ESADirectory!$C$1:$C$6216,MATCH(TRUE,INDEX(ESADirectory!$M$1:$M$6216=InCubedMembers[[#This Row],[email lower]],0),0))","v":{"$error":"#N/A"}}]
["Nicolas Longepe","Nicolas.Longepe@esa.int","TO",null,"Item","departments/EOP-8/EOP-8L/Lists/Members TO",false,{"$f":"LOWER(InCubedMembers[[#This Row],[Member is SP]])","v":"nicolas.longepe@esa.int"},{"$f":"INDEX(ESADirectory!$B$1:$B$6216,MATCH(TRUE,INDEX(ESADirectory!$M$1:$M$6216=InCubedMembers[[#This Row],[email lower]],0),0))","v":{"$error":"#N/A"}},{"$f":"INDEX(ESADirectory!$O$1:$O$6216,MATCH(TRUE,INDEX(ESADirectory!$M$1:$M$6216=InCubedMembers[[#This Row],[email lower]],0),0))","v":{"$error":"#N/A"}},{"$f":"INDEX(ESADirectory!$N$1:$N$6216,MATCH(TRUE,INDEX(ESADirectory!$M$1:$M$6216=InCubedMembers[[#This Row],[email lower]],0),0))","v":{"$error":"#N/A"}},{"$f":"INDEX(ESADirectory!$P$1:$P$6216,MATCH(TRUE,INDEX(ESADirectory!$M$1:$M$6216=InCubedMembers[[#This Row],[email lower]],0),0))","v":{"$error":"#N/A"}},{"$f":"INDEX(ESADirectory!$C$1:$C$6216,MATCH(TRUE,INDEX(ESADirectory!$M$1:$M$6216=InCubedMembers[[#This Row],[email lower]],0),0))","v":{"$error":"#N/A"}}]
["Paolo Crosta","Paolo.Crosta@esa.int","TO",null,"Item","departments/EOP-8/EOP-8L/Lists/Members TO",false,{"$f":"LOWER(InCubedMembers[[#This Row],[Member is SP]])","v":"paolo.crosta@esa.int"},{"$f":"INDEX(ESADirectory!$B$1:$B$6216,MATCH(TRUE,INDEX(ESADirectory!$M$1:$M$6216=InCubedMembers[[#This Row],[email lower]],0),0))","v":{"$error":"#N/A"}},{"$f":"INDEX(ESADirectory!$O$1:$O$6216,MATCH(TRUE,INDEX(ESADirectory!$M$1:$M$6216=InCubedMembers[[#This Row],[email lower]],0),0))","v":{"$error":"#N/A"}},{"$f":"INDEX(ESADirectory!$N$1:$N$6216,MATCH(TRUE,INDEX(ESADirectory!$M$1:$M$6216=InCubedMembers[[#This Row],[email lower]],0),0))","v":{"$error":"#N/A"}},{"$f":"INDEX(ESADirectory!$P$1:$P$6216,MATCH(TRUE,INDEX(ESADirectory!$M$1:$M$6216=InCubedMembers[[#This Row],[email lower]],0),0))","v":{"$error":"#N/A"}},{"$f":"INDEX(ESADirectory!$C$1:$C$6216,MATCH(TRUE,INDEX(ESADirectory!$M$1:$M$6216=InCubedMembers[[#This Row],[email lower]],0),0))","v":{"$error":"#N/A"}}]
["Iain Davies","Iain.Davies@esa.int","TO",null,"Item","departments/EOP-8/EOP-8L/Lists/Members TO",false,{"$f":"LOWER(InCubedMembers[[#This Row],[Member is SP]])","v":"iain.davies@esa.int"},{"$f":"INDEX(ESADirectory!$B$1:$B$6216,MATCH(TRUE,INDEX(ESADirectory!$M$1:$M$6216=InCubedMembers[[#This Row],[email lower]],0),0))","v":{"$error":"#N/A"}},{"$f":"INDEX(ESADirectory!$O$1:$O$6216,MATCH(TRUE,INDEX(ESADirectory!$M$1:$M$6216=InCubedMembers[[#This Row],[email lower]],0),0))","v":{"$error":"#N/A"}},{"$f":"INDEX(ESADirectory!$N$1:$N$6216,MATCH(TRUE,INDEX(ESADirectory!$M$1:$M$6216=InCubedMembers[[#This Row],[email lower]],0),0))","v":{"$error":"#N/A"}},{"$f":"INDEX(ESADirectory!$P$1:$P$6216,MATCH(TRUE,INDEX(ESADirectory!$M$1:$M$6216=InCubedMembers[[#This Row],[email lower]],0),0))","v":{"$error":"#N/A"}},{"$f":"INDEX(ESADirectory!$C$1:$C$6216,MATCH(TRUE,INDEX(ESADirectory!$M$1:$M$6216=InCubedMembers[[#This Row],[email lower]],0),0))","v":{"$error":"#N/A"}}]
["Petronilo Martin Iglesias","Petronilo.Martin.Iglesias@esa.int","TO",null,"Item","departments/EOP-8/EOP-8L/Lists/Members TO",false,{"$f":"LOWER(InCubedMembers[[#This Row],[Member is SP]])","v":"petronilo.martin.iglesias@esa.int"},{"$f":"INDEX(ESADirectory!$B$1:$B$6216,MATCH(TRUE,INDEX(ESADirectory!$M$1:$M$6216=InCubedMembers[[#This Row],[email lower]],0),0))","v":{"$error":"#N/A"}},{"$f":"INDEX(ESADirectory!$O$1:$O$6216,MATCH(TRUE,INDEX(ESADirectory!$M$1:$M$6216=InCubedMembers[[#This Row],[email lower]],0),0))","v":{"$error":"#N/A"}},{"$f":"INDEX(ESADirectory!$N$1:$N$6216,MATCH(TRUE,INDEX(ESADirectory!$M$1:$M$6216=InCubedMembers[[#This Row],[email lower]],0),0))","v":{"$error":"#N/A"}},{"$f":"INDEX(ESADirectory!$P$1:$P$6216,MATCH(TRUE,INDEX(ESADirectory!$M$1:$M$6216=InCubedMembers[[#This Row],[email lower]],0),0))","v":{"$error":"#N/A"}},{"$f":"INDEX(ESADirectory!$C$1:$C$6216,MATCH(TRUE,INDEX(ESADirectory!$M$1:$M$6216=InCubedMembers[[#This Row],[email lower]],0),0))","v":{"$error":"#N/A"}}]
["Tania Casal","tania.casal@esa.int","TO","​EO Campaign Manager","Item","departments/EOP-8/EOP-8L/Lists/Members TO",false,{"$f":"LOWER(InCubedMembers[[#This Row],[Member is SP]])","v":"tania.casal@esa.int"},{"$f":"INDEX(ESADirectory!$B$1:$B$6216,MATCH(TRUE,INDEX(ESADirectory!$M$1:$M$6216=InCubedMembers[[#This Row],[email lower]],0),0))","v":{"$error":"#N/A"}},{"$f":"INDEX(ESADirectory!$O$1:$O$6216,MATCH(TRUE,INDEX(ESADirectory!$M$1:$M$6216=InCubedMembers[[#This Row],[email lower]],0),0))","v":{"$error":"#N/A"}},{"$f":"INDEX(ESADirectory!$N$1:$N$6216,MATCH(TRUE,INDEX(ESADirectory!$M$1:$M$6216=InCubedMembers[[#This Row],[email lower]],0),0))","v":{"$error":"#N/A"}},{"$f":"INDEX(ESADirectory!$P$1:$P$6216,MATCH(TRUE,INDEX(ESADirectory!$M$1:$M$6216=InCubedMembers[[#This Row],[email lower]],0),0))","v":{"$error":"#N/A"}},{"$f":"INDEX(ESADirectory!$C$1:$C$6216,MATCH(TRUE,INDEX(ESADirectory!$M$1:$M$6216=InCubedMembers[[#This Row],[email lower]],0),0))","v":{"$error":"#N/A"}}]
["Helene Strese","Helene.Strese@esa.int","TO","​Optical Payloads design\n","Item","departments/EOP-8/EOP-8L/Lists/Members TO",false,{"$f":"LOWER(InCubedMembers[[#This Row],[Member is SP]])","v":"helene.strese@esa.int"},{"$f":"INDEX(ESADirectory!$B$1:$B$6216,MATCH(TRUE,INDEX(ESADirectory!$M$1:$M$6216=InCubedMembers[[#This Row],[email lower]],0),0))","v":{"$error":"#N/A"}},{"$f":"INDEX(ESADirectory!$O$1:$O$6216,MATCH(TRUE,INDEX(ESADirectory!$M$1:$M$6216=InCubedMembers[[#This Row],[email lower]],0),0))","v":{"$error":"#N/A"}},{"$f":"INDEX(ESADirectory!$N$1:$N$6216,MATCH(TRUE,INDEX(ESADirectory!$M$1:$M$6216=InCubedMembers[[#This Row],[email lower]],0),0))","v":{"$error":"#N/A"}},{"$f":"INDEX(ESADirectory!$P$1:$P$6216,MATCH(TRUE,INDEX(ESADirectory!$M$1:$M$6216=InCubedMembers[[#This Row],[email lower]],0),0))","v":{"$error":"#N/A"}},{"$f":"INDEX(ESADirectory!$C$1:$C$6216,MATCH(TRUE,INDEX(ESADirectory!$M$1:$M$6216=InCubedMembers[[#This Row],[email lower]],0),0))","v":{"$error":"#N/A"}}]
["Hayret Abdula","Hayret.Abdula@esa.int","TO",null,"Item","departments/EOP-8/EOP-8L/Lists/Members TO",false,{"$f":"LOWER(InCubedMembers[[#This Row],[Member is SP]])","v":"hayret.abdula@esa.int"},{"$f":"INDEX(ESADirectory!$B$1:$B$6216,MATCH(TRUE,INDEX(ESADirectory!$M$1:$M$6216=InCubedMembers[[#This Row],[email lower]],0),0))","v":{"$error":"#N/A"}},{"$f":"INDEX(ESADirectory!$O$1:$O$6216,MATCH(TRUE,INDEX(ESADirectory!$M$1:$M$6216=InCubedMembers[[#This Row],[email lower]],0),0))","v":{"$error":"#N/A"}},{"$f":"INDEX(ESADirectory!$N$1:$N$6216,MATCH(TRUE,INDEX(ESADirectory!$M$1:$M$6216=InCubedMembers[[#This Row],[email lower]],0),0))","v":{"$error":"#N/A"}},{"$f":"INDEX(ESADirectory!$P$1:$P$6216,MATCH(TRUE,INDEX(ESADirectory!$M$1:$M$6216=InCubedMembers[[#This Row],[email lower]],0),0))","v":{"$error":"#N/A"}},{"$f":"INDEX(ESADirectory!$C$1:$C$6216,MATCH(TRUE,INDEX(ESADirectory!$M$1:$M$6216=InCubedMembers[[#This Row],[email lower]],0),0))","v":{"$error":"#N/A"}}]
["Alizee Malavart","alizee.malavart@esa.int","TO",null,"Item","departments/EOP-8/EOP-8L/Lists/Members TO",false,{"$f":"LOWER(InCubedMembers[[#This Row],[Member is SP]])","v":"alizee.malavart@esa.int"},{"$f":"INDEX(ESADirectory!$B$1:$B$6216,MATCH(TRUE,INDEX(ESADirectory!$M$1:$M$6216=InCubedMembers[[#This Row],[email lower]],0),0))","v":{"$error":"#N/A"}},{"$f":"INDEX(ESADirectory!$O$1:$O$6216,MATCH(TRUE,INDEX(ESADirectory!$M$1:$M$6216=InCubedMembers[[#This Row],[email lower]],0),0))","v":{"$error":"#N/A"}},{"$f":"INDEX(ESADirectory!$N$1:$N$6216,MATCH(TRUE,INDEX(ESADirectory!$M$1:$M$6216=InCubedMembers[[#This Row],[email lower]],0),0))","v":{"$error":"#N/A"}},{"$f":"INDEX(ESADirectory!$P$1:$P$6216,MATCH(TRUE,INDEX(ESADirectory!$M$1:$M$6216=InCubedMembers[[#This Row],[email lower]],0),0))","v":{"$error":"#N/A"}},{"$f":"INDEX(ESADirectory!$C$1:$C$6216,MATCH(TRUE,INDEX(ESADirectory!$M$1:$M$6216=InCubedMembers[[#This Row],[email lower]],0),0))","v":{"$error":"#N/A"}}]
["Alan Le Priellec","alan.le.priellec@esa.int","TO",null,"Item","departments/EOP-8/EOP-8L/Lists/Members TO",false,{"$f":"LOWER(InCubedMembers[[#This Row],[Member is SP]])","v":"alan.le.priellec@esa.int"},{"$f":"INDEX(ESADirectory!$B$1:$B$6216,MATCH(TRUE,INDEX(ESADirectory!$M$1:$M$6216=InCubedMembers[[#This Row],[email lower]],0),0))","v":{"$error":"#N/A"}},{"$f":"INDEX(ESADirectory!$O$1:$O$6216,MATCH(TRUE,INDEX(ESADirectory!$M$1:$M$6216=InCubedMembers[[#This Row],[email lower]],0),0))","v":{"$error":"#N/A"}},{"$f":"INDEX(ESADirectory!$N$1:$N$6216,MATCH(TRUE,INDEX(ESADirectory!$M$1:$M$6216=InCubedMembers[[#This Row],[email lower]],0),0))","v":{"$error":"#N/A"}},{"$f":"INDEX(ESADirectory!$P$1:$P$6216,MATCH(TRUE,INDEX(ESADirectory!$M$1:$M$6216=InCubedMembers[[#This Row],[email lower]],0),0))","v":{"$error":"#N/A"}},{"$f":"INDEX(ESADirectory!$C$1:$C$6216,MATCH(TRUE,INDEX(ESADirectory!$M$1:$M$6216=InCubedMembers[[#This Row],[email lower]],0),0))","v":{"$error":"#N/A"}}]
["Andrea Modenini","Andrea.Modenini@esa.int","TO",null,"Item","departments/EOP-8/EOP-8L/Lists/Members TO",true,{"$f":"LOWER(InCubedMembers[[#This Row],[Member is SP]])","v":"andrea.modenini@esa.int"},{"$f":"INDEX(ESADirectory!$B$1:$B$6216,MATCH(TRUE,INDEX(ESADirectory!$M$1:$M$6216=InCubedMembers[[#This Row],[email lower]],0),0))","v":{"$error":"#N/A"}},{"$f":"INDEX(ESADirectory!$O$1:$O$6216,MATCH(TRUE,INDEX(ESADirectory!$M$1:$M$6216=InCubedMembers[[#This Row],[email lower]],0),0))","v":{"$error":"#N/A"}},{"$f":"INDEX(ESADirectory!$N$1:$N$6216,MATCH(TRUE,INDEX(ESADirectory!$M$1:$M$6216=InCubedMembers[[#This Row],[email lower]],0),0))","v":{"$error":"#N/A"}},{"$f":"INDEX(ESADirectory!$P$1:$P$6216,MATCH(TRUE,INDEX(ESADirectory!$M$1:$M$6216=InCubedMembers[[#This Row],[email lower]],0),0))","v":{"$error":"#N/A"}},{"$f":"INDEX(ESADirectory!$C$1:$C$6216,MATCH(TRUE,INDEX(ESADirectory!$M$1:$M$6216=InCubedMembers[[#This Row],[email lower]],0),0))","v":{"$error":"#N/A"}}]
["Richard Morgan-Owen","Richard.Morgan-Owen@esa.int","TO",null,"Item","departments/EOP-8/EOP-8L/Lists/Members TO",false,{"$f":"LOWER(InCubedMembers[[#This Row],[Member is SP]])","v":"richard.morgan-owen@esa.int"},{"$f":"INDEX(ESADirectory!$B$1:$B$6216,MATCH(TRUE,INDEX(ESADirectory!$M$1:$M$6216=InCubedMembers[[#This Row],[email lower]],0),0))","v":{"$error":"#N/A"}},{"$f":"INDEX(ESADirectory!$O$1:$O$6216,MATCH(TRUE,INDEX(ESADirectory!$M$1:$M$6216=InCubedMembers[[#This Row],[email lower]],0),0))","v":{"$error":"#N/A"}},{"$f":"INDEX(ESADirectory!$N$1:$N$6216,MATCH(TRUE,INDEX(ESADirectory!$M$1:$M$6216=InCubedMembers[[#This Row],[email lower]],0),0))","v":{"$error":"#N/A"}},{"$f":"INDEX(ESADirectory!$P$1:$P$6216,MATCH(TRUE,INDEX(ESADirectory!$M$1:$M$6216=InCubedMembers[[#This Row],[email lower]],0),0))","v":{"$error":"#N/A"}},{"$f":"INDEX(ESADirectory!$C$1:$C$6216,MATCH(TRUE,INDEX(ESADirectory!$M$1:$M$6216=InCubedMembers[[#This Row],[email lower]],0),0))","v":{"$error":"#N/A"}}]
["Thomas Burger","Thomas.Burger@esa.int","TO","​Polarimetric radio occultation\n","Item","departments/EOP-8/EOP-8L/Lists/Members TO",false,{"$f":"LOWER(InCubedMembers[[#This Row],[Member is SP]])","v":"thomas.burger@esa.int"},{"$f":"INDEX(ESADirectory!$B$1:$B$6216,MATCH(TRUE,INDEX(ESADirectory!$M$1:$M$6216=InCubedMembers[[#This Row],[email lower]],0),0))","v":{"$error":"#N/A"}},{"$f":"INDEX(ESADirectory!$O$1:$O$6216,MATCH(TRUE,INDEX(ESADirectory!$M$1:$M$6216=InCubedMembers[[#This Row],[email lower]],0),0))","v":{"$error":"#N/A"}},{"$f":"INDEX(ESADirectory!$N$1:$N$6216,MATCH(TRUE,INDEX(ESADirectory!$M$1:$M$6216=InCubedMembers[[#This Row],[email lower]],0),0))","v":{"$error":"#N/A"}},{"$f":"INDEX(ESADirectory!$P$1:$P$6216,MATCH(TRUE,INDEX(ESADirectory!$M$1:$M$6216=InCubedMembers[[#This Row],[email lower]],0),0))","v":{"$error":"#N/A"}},{"$f":"INDEX(ESADirectory!$C$1:$C$6216,MATCH(TRUE,INDEX(ESADirectory!$M$1:$M$6216=InCubedMembers[[#This Row],[email lower]],0),0))","v":{"$error":"#N/A"}}]
["Davide Coppola","Davide.Coppola@esa.int","TO",null,"Item","departments/EOP-8/EOP-8L/Lists/Members TO",false,{"$f":"LOWER(InCubedMembers[[#This Row],[Member is SP]])","v":"davide.coppola@esa.int"},{"$f":"INDEX(ESADirectory!$B$1:$B$6216,MATCH(TRUE,INDEX(ESADirectory!$M$1:$M$6216=InCubedMembers[[#This Row],[email lower]],0),0))","v":{"$error":"#N/A"}},{"$f":"INDEX(ESADirectory!$O$1:$O$6216,MATCH(TRUE,INDEX(ESADirectory!$M$1:$M$6216=InCubedMembers[[#This Row],[email lower]],0),0))","v":{"$error":"#N/A"}},{"$f":"INDEX(ESADirectory!$N$1:$N$6216,MATCH(TRUE,INDEX(ESADirectory!$M$1:$M$6216=InCubedMembers[[#This Row],[email lower]],0),0))","v":{"$error":"#N/A"}},{"$f":"INDEX(ESADirectory!$P$1:$P$6216,MATCH(TRUE,INDEX(ESADirectory!$M$1:$M$6216=InCubedMembers[[#This Row],[email lower]],0),0))","v":{"$error":"#N/A"}},{"$f":"INDEX(ESADirectory!$C$1:$C$6216,MATCH(TRUE,INDEX(ESADirectory!$M$1:$M$6216=InCubedMembers[[#This Row],[email lower]],0),0))","v":{"$error":"#N/A"}}]
["Artur Palowski","Artur.Palowski@esa.int","TO",null,"Item","departments/EOP-8/EOP-8L/Lists/Members TO",false,{"$f":"LOWER(InCubedMembers[[#This Row],[Member is SP]])","v":"artur.palowski@esa.int"},{"$f":"INDEX(ESADirectory!$B$1:$B$6216,MATCH(TRUE,INDEX(ESADirectory!$M$1:$M$6216=InCubedMembers[[#This Row],[email lower]],0),0))","v":{"$error":"#N/A"}},{"$f":"INDEX(ESADirectory!$O$1:$O$6216,MATCH(TRUE,INDEX(ESADirectory!$M$1:$M$6216=InCubedMembers[[#This Row],[email lower]],0),0))","v":{"$error":"#N/A"}},{"$f":"INDEX(ESADirectory!$N$1:$N$6216,MATCH(TRUE,INDEX(ESADirectory!$M$1:$M$6216=InCubedMembers[[#This Row],[email lower]],0),0))","v":{"$error":"#N/A"}},{"$f":"INDEX(ESADirectory!$P$1:$P$6216,MATCH(TRUE,INDEX(ESADirectory!$M$1:$M$6216=InCubedMembers[[#This Row],[email lower]],0),0))","v":{"$error":"#N/A"}},{"$f":"INDEX(ESADirectory!$C$1:$C$6216,MATCH(TRUE,INDEX(ESADirectory!$M$1:$M$6216=InCubedMembers[[#This Row],[email lower]],0),0))","v":{"$error":"#N/A"}}]
["Elias Taylor","Elias.Taylor@esa.int","TO",null,"Item","departments/EOP-8/EOP-8L/Lists/Members TO",false,{"$f":"LOWER(InCubedMembers[[#This Row],[Member is SP]])","v":"elias.taylor@esa.int"},{"$f":"INDEX(ESADirectory!$B$1:$B$6216,MATCH(TRUE,INDEX(ESADirectory!$M$1:$M$6216=InCubedMembers[[#This Row],[email lower]],0),0))","v":{"$error":"#N/A"}},{"$f":"INDEX(ESADirectory!$O$1:$O$6216,MATCH(TRUE,INDEX(ESADirectory!$M$1:$M$6216=InCubedMembers[[#This Row],[email lower]],0),0))","v":{"$error":"#N/A"}},{"$f":"INDEX(ESADirectory!$N$1:$N$6216,MATCH(TRUE,INDEX(ESADirectory!$M$1:$M$6216=InCubedMembers[[#This Row],[email lower]],0),0))","v":{"$error":"#N/A"}},{"$f":"INDEX(ESADirectory!$P$1:$P$6216,MATCH(TRUE,INDEX(ESADirectory!$M$1:$M$6216=InCubedMembers[[#This Row],[email lower]],0),0))","v":{"$error":"#N/A"}},{"$f":"INDEX(ESADirectory!$C$1:$C$6216,MATCH(TRUE,INDEX(ESADirectory!$M$1:$M$6216=InCubedMembers[[#This Row],[email lower]],0),0))","v":{"$error":"#N/A"}}]
["Arnaud Pasquet","Arnaud.Pasquet@esa.int","TO",null,"Item","departments/EOP-8/EOP-8L/Lists/Members TO",false,{"$f":"LOWER(InCubedMembers[[#This Row],[Member is SP]])","v":"arnaud.pasquet@esa.int"},{"$f":"INDEX(ESADirectory!$B$1:$B$6216,MATCH(TRUE,INDEX(ESADirectory!$M$1:$M$6216=InCubedMembers[[#This Row],[email lower]],0),0))","v":{"$error":"#N/A"}},{"$f":"INDEX(ESADirectory!$O$1:$O$6216,MATCH(TRUE,INDEX(ESADirectory!$M$1:$M$6216=InCubedMembers[[#This Row],[email lower]],0),0))","v":{"$error":"#N/A"}},{"$f":"INDEX(ESADirectory!$N$1:$N$6216,MATCH(TRUE,INDEX(ESADirectory!$M$1:$M$6216=InCubedMembers[[#This Row],[email lower]],0),0))","v":{"$error":"#N/A"}},{"$f":"INDEX(ESADirectory!$P$1:$P$6216,MATCH(TRUE,INDEX(ESADirectory!$M$1:$M$6216=InCubedMembers[[#This Row],[email lower]],0),0))","v":{"$error":"#N/A"}},{"$f":"INDEX(ESADirectory!$C$1:$C$6216,MATCH(TRUE,INDEX(ESADirectory!$M$1:$M$6216=InCubedMembers[[#This Row],[email lower]],0),0))","v":{"$error":"#N/A"}}]
["Donatella Ponziani","Donatella.Ponziani@esa.int","TO",null,"Item","departments/EOP-8/EOP-8L/Lists/Members TO",false,{"$f":"LOWER(InCubedMembers[[#This Row],[Member is SP]])","v":"donatella.ponziani@esa.int"},{"$f":"INDEX(ESADirectory!$B$1:$B$6216,MATCH(TRUE,INDEX(ESADirectory!$M$1:$M$6216=InCubedMembers[[#This Row],[email lower]],0),0))","v":{"$error":"#N/A"}},{"$f":"INDEX(ESADirectory!$O$1:$O$6216,MATCH(TRUE,INDEX(ESADirectory!$M$1:$M$6216=InCubedMembers[[#This Row],[email lower]],0),0))","v":{"$error":"#N/A"}},{"$f":"INDEX(ESADirectory!$N$1:$N$6216,MATCH(TRUE,INDEX(ESADirectory!$M$1:$M$6216=InCubedMembers[[#This Row],[email lower]],0),0))","v":{"$error":"#N/A"}},{"$f":"INDEX(ESADirectory!$P$1:$P$6216,MATCH(TRUE,INDEX(ESADirectory!$M$1:$M$6216=InCubedMembers[[#This Row],[email lower]],0),0))","v":{"$error":"#N/A"}},{"$f":"INDEX(ESADirectory!$C$1:$C$6216,MATCH(TRUE,INDEX(ESADirectory!$M$1:$M$6216=InCubedMembers[[#This Row],[email lower]],0),0))","v":{"$error":"#N/A"}}]
["Michael marszalek","Michael.Marszalek@esa.int","TO",null,"Item","departments/EOP-8/EOP-8L/Lists/Members TO",false,{"$f":"LOWER(InCubedMembers[[#This Row],[Member is SP]])","v":"michael.marszalek@esa.int"},{"$f":"INDEX(ESADirectory!$B$1:$B$6216,MATCH(TRUE,INDEX(ESADirectory!$M$1:$M$6216=InCubedMembers[[#This Row],[email lower]],0),0))","v":{"$error":"#N/A"}},{"$f":"INDEX(ESADirectory!$O$1:$O$6216,MATCH(TRUE,INDEX(ESADirectory!$M$1:$M$6216=InCubedMembers[[#This Row],[email lower]],0),0))","v":{"$error":"#N/A"}},{"$f":"INDEX(ESADirectory!$N$1:$N$6216,MATCH(TRUE,INDEX(ESADirectory!$M$1:$M$6216=InCubedMembers[[#This Row],[email lower]],0),0))","v":{"$error":"#N/A"}},{"$f":"INDEX(ESADirectory!$P$1:$P$6216,MATCH(TRUE,INDEX(ESADirectory!$M$1:$M$6216=InCubedMembers[[#This Row],[email lower]],0),0))","v":{"$error":"#N/A"}},{"$f":"INDEX(ESADirectory!$C$1:$C$6216,MATCH(TRUE,INDEX(ESADirectory!$M$1:$M$6216=InCubedMembers[[#This Row],[email lower]],0),0))","v":{"$error":"#N/A"}}]
["Maria Grazia Abete","Maria-Grazia.Abete@esa.int",null,null,"Item","departments/EOP-8/EOP-8L/Lists/Members TO",false,{"$f":"LOWER(InCubedMembers[[#This Row],[Member is SP]])","v":"maria-grazia.abete@esa.int"},{"$f":"INDEX(ESADirectory!$B$1:$B$6216,MATCH(TRUE,INDEX(ESADirectory!$M$1:$M$6216=InCubedMembers[[#This Row],[email lower]],0),0))","v":{"$error":"#N/A"}},{"$f":"INDEX(ESADirectory!$O$1:$O$6216,MATCH(TRUE,INDEX(ESADirectory!$M$1:$M$6216=InCubedMembers[[#This Row],[email lower]],0),0))","v":{"$error":"#N/A"}},{"$f":"INDEX(ESADirectory!$N$1:$N$6216,MATCH(TRUE,INDEX(ESADirectory!$M$1:$M$6216=InCubedMembers[[#This Row],[email lower]],0),0))","v":{"$error":"#N/A"}},{"$f":"INDEX(ESADirectory!$P$1:$P$6216,MATCH(TRUE,INDEX(ESADirectory!$M$1:$M$6216=InCubedMembers[[#This Row],[email lower]],0),0))","v":{"$error":"#N/A"}},{"$f":"INDEX(ESADirectory!$C$1:$C$6216,MATCH(TRUE,INDEX(ESADirectory!$M$1:$M$6216=InCubedMembers[[#This Row],[email lower]],0),0))","v":{"$error":"#N/A"}}]
["Sergio Tabasco Vargas","Sergio.Terzo@esa.int","TO",null,"Item","departments/EOP-8/EOP-8L/Lists/Members TO",true,{"$f":"LOWER(InCubedMembers[[#This Row],[Member is SP]])","v":"sergio.terzo@esa.int"},{"$f":"INDEX(ESADirectory!$B$1:$B$6216,MATCH(TRUE,INDEX(ESADirectory!$M$1:$M$6216=InCubedMembers[[#This Row],[email lower]],0),0))","v":{"$error":"#N/A"}},{"$f":"INDEX(ESADirectory!$O$1:$O$6216,MATCH(TRUE,INDEX(ESADirectory!$M$1:$M$6216=InCubedMembers[[#This Row],[email lower]],0),0))","v":{"$error":"#N/A"}},{"$f":"INDEX(ESADirectory!$N$1:$N$6216,MATCH(TRUE,INDEX(ESADirectory!$M$1:$M$6216=InCubedMembers[[#This Row],[email lower]],0),0))","v":{"$error":"#N/A"}},{"$f":"INDEX(ESADirectory!$P$1:$P$6216,MATCH(TRUE,INDEX(ESADirectory!$M$1:$M$6216=InCubedMembers[[#This Row],[email lower]],0),0))","v":{"$error":"#N/A"}},{"$f":"INDEX(ESADirectory!$C$1:$C$6216,MATCH(TRUE,INDEX(ESADirectory!$M$1:$M$6216=InCubedMembers[[#This Row],[email lower]],0),0))","v":{"$error":"#N/A"}}]
["Zoltan Bartalis","Zoltan.Bartalis@esa.int","TO",null,"Item","departments/EOP-8/EOP-8L/Lists/Members TO",false,{"$f":"LOWER(InCubedMembers[[#This Row],[Member is SP]])","v":"zoltan.bartalis@esa.int"},{"$f":"INDEX(ESADirectory!$B$1:$B$6216,MATCH(TRUE,INDEX(ESADirectory!$M$1:$M$6216=InCubedMembers[[#This Row],[email lower]],0),0))","v":{"$error":"#N/A"}},{"$f":"INDEX(ESADirectory!$O$1:$O$6216,MATCH(TRUE,INDEX(ESADirectory!$M$1:$M$6216=InCubedMembers[[#This Row],[email lower]],0),0))","v":{"$error":"#N/A"}},{"$f":"INDEX(ESADirectory!$N$1:$N$6216,MATCH(TRUE,INDEX(ESADirectory!$M$1:$M$6216=InCubedMembers[[#This Row],[email lower]],0),0))","v":{"$error":"#N/A"}},{"$f":"INDEX(ESADirectory!$P$1:$P$6216,MATCH(TRUE,INDEX(ESADirectory!$M$1:$M$6216=InCubedMembers[[#This Row],[email lower]],0),0))","v":{"$error":"#N/A"}},{"$f":"INDEX(ESADirectory!$C$1:$C$6216,MATCH(TRUE,INDEX(ESADirectory!$M$1:$M$6216=InCubedMembers[[#This Row],[email lower]],0),0))","v":{"$error":"#N/A"}}]
["Marc Paganini","Marc.Paganini@esa.int","TO","​Urban TEP\n","Item","departments/EOP-8/EOP-8L/Lists/Members TO",false,{"$f":"LOWER(InCubedMembers[[#This Row],[Member is SP]])","v":"marc.paganini@esa.int"},{"$f":"INDEX(ESADirectory!$B$1:$B$6216,MATCH(TRUE,INDEX(ESADirectory!$M$1:$M$6216=InCubedMembers[[#This Row],[email lower]],0),0))","v":{"$error":"#N/A"}},{"$f":"INDEX(ESADirectory!$O$1:$O$6216,MATCH(TRUE,INDEX(ESADirectory!$M$1:$M$6216=InCubedMembers[[#This Row],[email lower]],0),0))","v":{"$error":"#N/A"}},{"$f":"INDEX(ESADirectory!$N$1:$N$6216,MATCH(TRUE,INDEX(ESADirectory!$M$1:$M$6216=InCubedMembers[[#This Row],[email lower]],0),0))","v":{"$error":"#N/A"}},{"$f":"INDEX(ESADirectory!$P$1:$P$6216,MATCH(TRUE,INDEX(ESADirectory!$M$1:$M$6216=InCubedMembers[[#This Row],[email lower]],0),0))","v":{"$error":"#N/A"}},{"$f":"INDEX(ESADirectory!$C$1:$C$6216,MATCH(TRUE,INDEX(ESADirectory!$M$1:$M$6216=InCubedMembers[[#This Row],[email lower]],0),0))","v":{"$error":"#N/A"}}]
["Christoph Voland","Christoph.Voland@esa.int","TO",null,"Item","departments/EOP-8/EOP-8L/Lists/Members TO",false,{"$f":"LOWER(InCubedMembers[[#This Row],[Member is SP]])","v":"christoph.voland@esa.int"},{"$f":"INDEX(ESADirectory!$B$1:$B$6216,MATCH(TRUE,INDEX(ESADirectory!$M$1:$M$6216=InCubedMembers[[#This Row],[email lower]],0),0))","v":{"$error":"#N/A"}},{"$f":"INDEX(ESADirectory!$O$1:$O$6216,MATCH(TRUE,INDEX(ESADirectory!$M$1:$M$6216=InCubedMembers[[#This Row],[email lower]],0),0))","v":{"$error":"#N/A"}},{"$f":"INDEX(ESADirectory!$N$1:$N$6216,MATCH(TRUE,INDEX(ESADirectory!$M$1:$M$6216=InCubedMembers[[#This Row],[email lower]],0),0))","v":{"$error":"#N/A"}},{"$f":"INDEX(ESADirectory!$P$1:$P$6216,MATCH(TRUE,INDEX(ESADirectory!$M$1:$M$6216=InCubedMembers[[#This Row],[email lower]],0),0))","v":{"$error":"#N/A"}},{"$f":"INDEX(ESADirectory!$C$1:$C$6216,MATCH(TRUE,INDEX(ESADirectory!$M$1:$M$6216=InCubedMembers[[#This Row],[email lower]],0),0))","v":{"$error":"#N/A"}}]
["itziar Barat","Itziar.Barat@esa.int","TO",null,"Item","departments/EOP-8/EOP-8L/Lists/Members TO",false,{"$f":"LOWER(InCubedMembers[[#This Row],[Member is SP]])","v":"itziar.barat@esa.int"},{"$f":"INDEX(ESADirectory!$B$1:$B$6216,MATCH(TRUE,INDEX(ESADirectory!$M$1:$M$6216=InCubedMembers[[#This Row],[email lower]],0),0))","v":{"$error":"#N/A"}},{"$f":"INDEX(ESADirectory!$O$1:$O$6216,MATCH(TRUE,INDEX(ESADirectory!$M$1:$M$6216=InCubedMembers[[#This Row],[email lower]],0),0))","v":{"$error":"#N/A"}},{"$f":"INDEX(ESADirectory!$N$1:$N$6216,MATCH(TRUE,INDEX(ESADirectory!$M$1:$M$6216=InCubedMembers[[#This Row],[email lower]],0),0))","v":{"$error":"#N/A"}},{"$f":"INDEX(ESADirectory!$P$1:$P$6216,MATCH(TRUE,INDEX(ESADirectory!$M$1:$M$6216=InCubedMembers[[#This Row],[email lower]],0),0))","v":{"$error":"#N/A"}},{"$f":"INDEX(ESADirectory!$C$1:$C$6216,MATCH(TRUE,INDEX(ESADirectory!$M$1:$M$6216=InCubedMembers[[#This Row],[email lower]],0),0))","v":{"$error":"#N/A"}}]
["Itziar Alonso","itziar.alonso@solenix.ch","TO",null,"Item","departments/EOP-8/EOP-8L/Lists/Members TO",true,{"$f":"LOWER(InCubedMembers[[#This Row],[Member is SP]])","v":"itziar.alonso@solenix.ch"},{"$f":"INDEX(ESADirectory!$B$1:$B$6216,MATCH(TRUE,INDEX(ESADirectory!$M$1:$M$6216=InCubedMembers[[#This Row],[email lower]],0),0))","v":{"$error":"#N/A"}},{"$f":"INDEX(ESADirectory!$O$1:$O$6216,MATCH(TRUE,INDEX(ESADirectory!$M$1:$M$6216=InCubedMembers[[#This Row],[email lower]],0),0))","v":{"$error":"#N/A"}},{"$f":"INDEX(ESADirectory!$N$1:$N$6216,MATCH(TRUE,INDEX(ESADirectory!$M$1:$M$6216=InCubedMembers[[#This Row],[email lower]],0),0))","v":{"$error":"#N/A"}},{"$f":"INDEX(ESADirectory!$P$1:$P$6216,MATCH(TRUE,INDEX(ESADirectory!$M$1:$M$6216=InCubedMembers[[#This Row],[email lower]],0),0))","v":{"$error":"#N/A"}},{"$f":"INDEX(ESADirectory!$C$1:$C$6216,MATCH(TRUE,INDEX(ESADirectory!$M$1:$M$6216=InCubedMembers[[#This Row],[email lower]],0),0))","v":{"$error":"#N/A"}}]
["Ruediger Weiler","Ruediger.Weiler@esa.int","TO",null,"Item","departments/EOP-8/EOP-8L/Lists/Members TO",false,{"$f":"LOWER(InCubedMembers[[#This Row],[Member is SP]])","v":"ruediger.weiler@esa.int"},{"$f":"INDEX(ESADirectory!$B$1:$B$6216,MATCH(TRUE,INDEX(ESADirectory!$M$1:$M$6216=InCubedMembers[[#This Row],[email lower]],0),0))","v":{"$error":"#N/A"}},{"$f":"INDEX(ESADirectory!$O$1:$O$6216,MATCH(TRUE,INDEX(ESADirectory!$M$1:$M$6216=InCubedMembers[[#This Row],[email lower]],0),0))","v":{"$error":"#N/A"}},{"$f":"INDEX(ESADirectory!$N$1:$N$6216,MATCH(TRUE,INDEX(ESADirectory!$M$1:$M$6216=InCubedMembers[[#This Row],[email lower]],0),0))","v":{"$error":"#N/A"}},{"$f":"INDEX(ESADirectory!$P$1:$P$6216,MATCH(TRUE,INDEX(ESADirectory!$M$1:$M$6216=InCubedMembers[[#This Row],[email lower]],0),0))","v":{"$error":"#N/A"}},{"$f":"INDEX(ESADirectory!$C$1:$C$6216,MATCH(TRUE,INDEX(ESADirectory!$M$1:$M$6216=InCubedMembers[[#This Row],[email lower]],0),0))","v":{"$error":"#N/A"}}]
["Clemens Heese","Clemens.Heese@esa.int","TO",null,"Item","departments/EOP-8/EOP-8L/Lists/Members TO",false,{"$f":"LOWER(InCubedMembers[[#This Row],[Member is SP]])","v":"clemens.heese@esa.int"},{"$f":"INDEX(ESADirectory!$B$1:$B$6216,MATCH(TRUE,INDEX(ESADirectory!$M$1:$M$6216=InCubedMembers[[#This Row],[email lower]],0),0))","v":{"$error":"#N/A"}},{"$f":"INDEX(ESADirectory!$O$1:$O$6216,MATCH(TRUE,INDEX(ESADirectory!$M$1:$M$6216=InCubedMembers[[#This Row],[email lower]],0),0))","v":{"$error":"#N/A"}},{"$f":"INDEX(ESADirectory!$N$1:$N$6216,MATCH(TRUE,INDEX(ESADirectory!$M$1:$M$6216=InCubedMembers[[#This Row],[email lower]],0),0))","v":{"$error":"#N/A"}},{"$f":"INDEX(ESADirectory!$P$1:$P$6216,MATCH(TRUE,INDEX(ESADirectory!$M$1:$M$6216=InCubedMembers[[#This Row],[email lower]],0),0))","v":{"$error":"#N/A"}},{"$f":"INDEX(ESADirectory!$C$1:$C$6216,MATCH(TRUE,INDEX(ESADirectory!$M$1:$M$6216=InCubedMembers[[#This Row],[email lower]],0),0))","v":{"$error":"#N/A"}}]

{"sheet":"template","index":18,"n_rows":9,"n_cols":2,"rows_kept":9,"cut":false,"hidden":true,"merged":[]}
[{"$f":"TODAY()","v":"2022-03-28"},{"$f":"TEXT(A1,\"yymmdd\")","v":"220328"}]
[]
[]
[]
[]
[]
[]
["Smart Contract version 3.3"]
["2022-03-28"]